{"text_format":"1","workbook":"xlsx","n_sheets":15,"sheets":["WNIOSEK CZĘŚĆ I","WNIOSEK CZĘŚĆ II","DANE DO UMOWY","WYCIĄG Z WNIOSKU_2024","WYCIAG Z WNIOSKU_2025","WYCIĄG Z WNIOSKU_2026","WYCIĄG Z WNIOSKU_2027","WYCIĄG Z WNIOSKU_2028","WYCIĄG Z WNIOSKU_2029","WYCIĄG Z WNIOSKU_2030","WYCIĄG Z WNIOSKU_2031","WYCIĄG Z WNIOSKU_2032","WYCIĄG Z WNIOSKU_2033","Arkusz2","Arkusz3"],"not_rendered":{"charts":0,"images":0,"macros":1,"external_links":0,"defined_names":1,"comments":0,"pivot_tables":0},"unopened":[],"bounds":{"document_bytes":16777216,"sheet_cells":100000,"rows_first":2000,"rows_last":500,"rows_between":2000,"halvings":0,"cell_chars":16384,"cell_head_chars":4096},"cells_cut":0,"cells_raw":0,"read":"whole","date_system":"1900"}

{"sheet":"WNIOSEK CZĘŚĆ I","index":0,"n_rows":57,"n_cols":15,"rows_kept":57,"cut":false,"hidden":false,"merged":[[52,0,52,11],[32,0,32,1],[50,0,50,11],[42,0,42,1],[33,0,33,1],[49,0,49,11],[47,0,48,0],[46,0,46,1],[46,2,46,11],[36,0,37,0],[34,0,35,0],[41,0,41,1],[39,0,39,1],[39,2,39,11],[54,0,54,11],[56,0,56,11],[0,0,0,11],[2,0,2,11],[3,1,3,11],[25,0,25,1],[29,0,29,1],[24,0,24,1],[30,0,30,1],[9,0,9,11],[13,0,13,11],[43,0,43,1],[44,0,44,1],[53,0,53,11],[55,0,55,11],[51,0,51,11],[20,7,20,11],[20,0,20,6],[4,8,4,11],[5,8,5,11],[6,8,6,11],[7,8,7,11],[4,4,4,7],[5,4,5,7],[6,4,6,7],[7,4,7,7],[18,0,18,11],[19,0,19,11],[14,2,14,6],[14,7,14,11],[15,2,15,6],[16,2,16,6],[17,2,17,6],[15,7,15,11],[16,7,16,11],[17,7,17,11],[11,4,11,7],[10,8,10,11],[11,8,11,11],[10,1,10,3],[11,1,11,3],[4,1,4,3],[5,1,5,3],[6,1,6,3],[7,1,7,3],[10,4,10,7],[21,0,21,11],[31,0,31,1],[22,0,22,1],[22,2,22,11],[27,0,27,1],[27,2,27,11],[26,0,26,1]]}
["WNIOSEK O OBJĘCIE DOPŁATĄ Z FUNDUSZU ROZWOJU PRZEWOZÓW AUTOBUSOWYCH O CHARAKTERZE UŻYTECZNOŚCI PUBLICZNEJ \nW LATACH 2024-2033"]
[]
["INFORMACJE SZCZEGÓŁOWE ORGANIZATORA"]
["NIP ORGANIZATORA"]
["Pełna nazwa Organizatora \n(dane uzupełnione automatycznie)",{"$f":"IFERROR(VLOOKUP($B$4,Arkusz2!$A$2:$K$203,2,0),\"\")","v":""},null,null,"Rodzaj Organizatora \n(dane uzupełnione automatycznie)",null,null,null,{"$f":"IFERROR(VLOOKUP($B$4,Arkusz2!$A$2:$K$203,11,0),\"\")","v":""}]
["Adres \n(dane uzupełnione automatycznie)",{"$f":"IFERROR(IF(B9=0,I7,B9),\"\")","v":""},null,null,"Nr budynku \n(dane uzupełnione automatycznie)",null,null,null,{"$f":"IFERROR(VLOOKUP($B$4,Arkusz2!$A$2:$K$203,10,0),\"\")","v":""}]
["Kod pocztowy \n(dane uzupełnione automatycznie)",{"$f":"IFERROR(VLOOKUP(B$4,Arkusz2!$A$2:$K$203,6,0),\"\")","v":""},null,null,"Miejscowość  \n(dane uzupełnione automatycznie)",null,null,null,{"$f":"IFERROR(VLOOKUP($B$4,Arkusz2!$A$2:$K$203,8,0),\"\")","v":""}]
["Telefon ",null,null,null,"Adres e-mail"]
[null,{"$f":"VLOOKUP(B$4,Arkusz2!$A$2:$K$203,9,0)","v":{"$error":"#N/A"}}]
["Dane osoby wskazanej do kontaktowania się w sprawie wniosku "]
["Imię i Nazwisko",null,null,null,"Komórka organizacyjna"]
["Adres e-mail",null,null,null,"Telefon"]
[]
["Dane osób upoważnionych do podpisania umowy o dopłatę"]
["Imię","Nazwisko","Funkcja",null,null,null,null,"Adres email"]
[]
[]
[]
[]
["NUMER WYODRĘBNIONEGO RACHUNKU BANKOWEGO DO DOPŁATY"]
["",null,null,null,null,null,null,{"$f":"IF(O21,\"\",\"SPRAWDŹ POPRAWNOŚĆ NUMERU RACHUNKU BANKOWEGO\")","v":"SPRAWDŹ POPRAWNOŚĆ NUMERU RACHUNKU BANKOWEGO"},null,null,null,null,null,{"$f":"wbank(A21)","v":{"$error":"#NAME?"}},{"$f":"CzyNRBOk(A21,\"PL\")","v":false}]
[""]
["CZĘŚĆ A",null,"INFORMACJE OGÓLNE"]
["Powierzchnia obszaru właściwości organizatora w km2 (dane uzupełnione automatycznie)",null,{"$f":"IFERROR(VLOOKUP(B$4,Arkusz2!A:Q,15,0),\"\")","v":""}]
["Liczba mieszkańców obszaru właściwości organizatora (dane uzupełnione automatycznie)",null,{"$f":"IFERROR(VLOOKUP(B$4,Arkusz2!A:Q,16,0),\"\")","v":""}]
["Gęstość zaludnienia  os./km2 (dane uzupełnione automatycznie)",null,{"$f":"IFERROR(VLOOKUP(B$4,Arkusz2!A:Q,17,0),\"\")","v":""}]
["Wskaźnik dochodów podatkowych na jednego mieszkańca, o którym mowa w przepisach ustawy z dnia 13 listopada 2003 r. o dochodach jednostek samorządu terytorialnego (Dz.U. z 2021 r.poz.38), jednostki samorządu terytorialnego będącej organizatorem, a w przypadku związku tych jednostek - średnią arytmetyczną dochodu jednostek wchodzących w skład związku - zgodnie z danymi Ministerstwa Finansów (dane uzupełnione automatycznie)",null,{"$f":"IFERROR(VLOOKUP(B$4,Arkusz2!A:R,18,0),\"\")","v":""}]
["CZĘŚĆ B",null,"DANE SZCZEGÓŁOWE "]
[null,null,2024,2025,2026,2027,2028,2029,2030,2031,2032,2033]
["Liczba linii komunikacyjnych w przewozach autobusowych o charakterze użyteczności publicznej, które nie funkcjonowały co najmniej 3 miesiące przed dniem wejścia w życie ustawy (dane uzupełnione automatycznie)",null,{"$f":"'WNIOSEK CZĘŚĆ II'!B3","v":0},{"$f":"'WNIOSEK CZĘŚĆ II'!B5","v":0},{"$f":"'WNIOSEK CZĘŚĆ II'!B7","v":0},{"$f":"'WNIOSEK CZĘŚĆ II'!B9","v":0},{"$f":"'WNIOSEK CZĘŚĆ II'!B11","v":0},{"$f":"'WNIOSEK CZĘŚĆ II'!B13","v":0},{"$f":"'WNIOSEK CZĘŚĆ II'!B15","v":0},{"$f":"'WNIOSEK CZĘŚĆ II'!B17","v":0},{"$f":"'WNIOSEK CZĘŚĆ II'!B19","v":0},{"$f":"'WNIOSEK CZĘŚĆ II'!B21","v":0}]
["Łączna długość linii komunikacyjnych w przewozach autobusowych o charakterze użyteczności publicznej, które nie funkcjonowały co najmniej 3 miesiące przed dniem wejścia w życie ustawy  (dane uzupełnione automatycznie)",null,{"$f":"'WNIOSEK CZĘŚĆ II'!B23","v":0},{"$f":"'WNIOSEK CZĘŚĆ II'!B25","v":0},{"$f":"'WNIOSEK CZĘŚĆ II'!B27","v":0},{"$f":"'WNIOSEK CZĘŚĆ II'!B29","v":0},{"$f":"'WNIOSEK CZĘŚĆ II'!B31","v":0},{"$f":"'WNIOSEK CZĘŚĆ II'!B33","v":0},{"$f":"'WNIOSEK CZĘŚĆ II'!B35","v":0},{"$f":"'WNIOSEK CZĘŚĆ II'!B37","v":0},{"$f":"'WNIOSEK CZĘŚĆ II'!B39","v":0},{"$f":"'WNIOSEK CZĘŚĆ II'!B41","v":0}]
["Łączna liczba zatrzymań autobusów na przystankach komunikacyjnych na liniach komunikacyjnych w przewozach autobusowych o charakterze użyteczności publicznej,  które nie funkcjonowały co najmniej 3 miesiące przed dniem wejścia w życie ustawy \n(dane uzupełnione automatycznie)",null,{"$f":"'WNIOSEK CZĘŚĆ II'!B43","v":0},{"$f":"'WNIOSEK CZĘŚĆ II'!B45","v":0},{"$f":"'WNIOSEK CZĘŚĆ II'!B47","v":0},{"$f":"'WNIOSEK CZĘŚĆ II'!B49","v":0},{"$f":"'WNIOSEK CZĘŚĆ II'!B51","v":0},{"$f":"'WNIOSEK CZĘŚĆ II'!B53","v":0},{"$f":"'WNIOSEK CZĘŚĆ II'!B55","v":0},{"$f":"'WNIOSEK CZĘŚĆ II'!B57","v":0},{"$f":"'WNIOSEK CZĘŚĆ II'!B59","v":0},{"$f":"'WNIOSEK CZĘŚĆ II'!B61","v":0}]
["Łączna planowana wielkość pracy eksplotacyjnej wykonywanej na liniach objętych wnioskiem w wozokilometrach \n(dane uzupełnione automatycznie)",null,{"$f":"'WNIOSEK CZĘŚĆ II'!B63","v":0},{"$f":"'WNIOSEK CZĘŚĆ II'!B65","v":0},{"$f":"'WNIOSEK CZĘŚĆ II'!B67","v":0},{"$f":"'WNIOSEK CZĘŚĆ II'!B69","v":0},{"$f":"'WNIOSEK CZĘŚĆ II'!B71","v":0},{"$f":"'WNIOSEK CZĘŚĆ II'!B73","v":0},{"$f":"'WNIOSEK CZĘŚĆ II'!B75","v":0},{"$f":"'WNIOSEK CZĘŚĆ II'!B77","v":0},{"$f":"'WNIOSEK CZĘŚĆ II'!B79","v":0},{"$f":"'WNIOSEK CZĘŚĆ II'!B81","v":0}]
["Łączna planowana liczba przejazdów \n(dane uzupełnione automatycznie)",null,{"$f":"'WNIOSEK CZĘŚĆ II'!B123","v":0},{"$f":"'WNIOSEK CZĘŚĆ II'!B125","v":0},{"$f":"'WNIOSEK CZĘŚĆ II'!B127","v":0},{"$f":"'WNIOSEK CZĘŚĆ II'!B129","v":0},{"$f":"'WNIOSEK CZĘŚĆ II'!B131","v":0},{"$f":"'WNIOSEK CZĘŚĆ II'!B133","v":0},{"$f":"'WNIOSEK CZĘŚĆ II'!B135","v":0},{"$f":"'WNIOSEK CZĘŚĆ II'!B137","v":0},{"$f":"'WNIOSEK CZĘŚĆ II'!B139","v":0},{"$f":"'WNIOSEK CZĘŚĆ II'!B141","v":0}]
["Dostosowanie przystanków komunikacyjnych i dworców, które zostały uwzględnione w rozkładzie jazdy  linii komunikacyjnych w przewozach autobusowych o charakterze użyteczności publicznej (ilość przystanków)","LICZBA PRZYSTANKÓW DOSTOSOWANYCH                                          (dane uzupełnione automatycznie)",{"$f":"'WNIOSEK CZĘŚĆ II'!B83","v":0},{"$f":"'WNIOSEK CZĘŚĆ II'!B85","v":0},{"$f":"'WNIOSEK CZĘŚĆ II'!B87","v":0},{"$f":"'WNIOSEK CZĘŚĆ II'!B89","v":0},{"$f":"'WNIOSEK CZĘŚĆ II'!B91","v":0},{"$f":"'WNIOSEK CZĘŚĆ II'!B93","v":0},{"$f":"'WNIOSEK CZĘŚĆ II'!B95","v":0},{"$f":"'WNIOSEK CZĘŚĆ II'!B97","v":0},{"$f":"'WNIOSEK CZĘŚĆ II'!B99","v":0},{"$f":"'WNIOSEK CZĘŚĆ II'!B101","v":0}]
[null,"ŁĄCZNA LICZBA PRZYSTANKÓW     \n(dane uzupełnione automatycznie)",{"$f":"'WNIOSEK CZĘŚĆ II'!B103","v":0},{"$f":"'WNIOSEK CZĘŚĆ II'!B105","v":0},{"$f":"'WNIOSEK CZĘŚĆ II'!B107","v":0},{"$f":"'WNIOSEK CZĘŚĆ II'!B109","v":0},{"$f":"'WNIOSEK CZĘŚĆ II'!B111","v":0},{"$f":"'WNIOSEK CZĘŚĆ II'!B113","v":0},{"$f":"'WNIOSEK CZĘŚĆ II'!B115","v":0},{"$f":"'WNIOSEK CZĘŚĆ II'!B117","v":0},{"$f":"'WNIOSEK CZĘŚĆ II'!B119","v":0},{"$f":"'WNIOSEK CZĘŚĆ II'!B121","v":0}]
["Zapewnienie dostępności komunikacyjnej terenów objętych przedsięwzięciami lub inwestycjami powiązanymi z przedsięwzięciem infrastrukturalnym, o którym mowa w art.. 5c ust. 1 ustawy z dnia 8 grudnia 2006 r. o finansowym wsparciu niektórych przedsięwzięć mieszkaniowych (Dz.U z 2022 r. poz. 377 z późn. zm.)","LICZBA PRZYSTANKÓW ZLOKALIZOWANYCH W ODLEGŁOŚCI NIE WIĘKSZEJ NIŻ 500 M                                                   (dane uzupełnione automatycznie)",{"$f":"'WNIOSEK CZĘŚĆ II'!B143","v":0},{"$f":"'WNIOSEK CZĘŚĆ II'!B145","v":0},{"$f":"'WNIOSEK CZĘŚĆ II'!B147","v":0},{"$f":"'WNIOSEK CZĘŚĆ II'!B149","v":0},{"$f":"'WNIOSEK CZĘŚĆ II'!B151","v":0},{"$f":"'WNIOSEK CZĘŚĆ II'!B153","v":0},{"$f":"'WNIOSEK CZĘŚĆ II'!B155","v":0},{"$f":"'WNIOSEK CZĘŚĆ II'!B157","v":0},{"$f":"'WNIOSEK CZĘŚĆ II'!B159","v":0},{"$f":"'WNIOSEK CZĘŚĆ II'!B161","v":0}]
[null,"ŁĄCZNA LICZBA PRZYSTANKÓW     \n(dane uzupełnione automatycznie)",{"$f":"C36","v":0},{"$f":"D36","v":0},0,0,0,0,0,0,0,0]
[null,null,null,null,null,null,null,null,null,null,{"$f":"K33*3","v":0}]
["CZĘŚĆ C",null,"DANE FINANSOWE"]
[null,null,2024,2025,2026,2027,2028,2029,2030,2031,2032,2033]
["Łączna planowana kwota deficytu wszystkich linii komunikacyjnych  w danym roku budżetowym",null,{"$f":"'WNIOSEK CZĘŚĆ II'!B164","v":0},{"$f":"'WNIOSEK CZĘŚĆ II'!B166","v":0},{"$f":"'WNIOSEK CZĘŚĆ II'!B168","v":0},{"$f":"'WNIOSEK CZĘŚĆ II'!B170","v":0},{"$f":"'WNIOSEK CZĘŚĆ II'!B172","v":0},{"$f":"'WNIOSEK CZĘŚĆ II'!B174","v":0},{"$f":"'WNIOSEK CZĘŚĆ II'!B176","v":0},{"$f":"'WNIOSEK CZĘŚĆ II'!B178","v":0},{"$f":"'WNIOSEK CZĘŚĆ II'!B180","v":0},{"$f":"'WNIOSEK CZĘŚĆ II'!B182","v":0}]
["Środki własne organizatora finansujące część deficytu wszystkich linii komunikacyjnych w wysokości nie mniejszej niż 10% w danym roku budżetowym",null,{"$f":"'WNIOSEK CZĘŚĆ II'!B184","v":0},{"$f":"'WNIOSEK CZĘŚĆ II'!B186","v":0},{"$f":"'WNIOSEK CZĘŚĆ II'!B188","v":0},{"$f":"'WNIOSEK CZĘŚĆ II'!B190","v":0},{"$f":"'WNIOSEK CZĘŚĆ II'!B192","v":0},{"$f":"'WNIOSEK CZĘŚĆ II'!B194","v":0},{"$f":"'WNIOSEK CZĘŚĆ II'!B196","v":0},{"$f":"'WNIOSEK CZĘŚĆ II'!B198","v":0},{"$f":"'WNIOSEK CZĘŚĆ II'!B200","v":0},{"$f":"'WNIOSEK CZĘŚĆ II'!B202","v":0}]
["Planowana łączna kwota dopłaty w danym roku budżetowym",null,{"$f":"'WNIOSEK CZĘŚĆ II'!B204","v":0},{"$f":"'WNIOSEK CZĘŚĆ II'!B206","v":0},{"$f":"'WNIOSEK CZĘŚĆ II'!B208","v":0},{"$f":"'WNIOSEK CZĘŚĆ II'!B210","v":0},{"$f":"'WNIOSEK CZĘŚĆ II'!B212","v":0},{"$f":"'WNIOSEK CZĘŚĆ II'!B214","v":0},{"$f":"'WNIOSEK CZĘŚĆ II'!B216","v":0},{"$f":"'WNIOSEK CZĘŚĆ II'!B218","v":0},{"$f":"'WNIOSEK CZĘŚĆ II'!B220","v":0},{"$f":"'WNIOSEK CZĘŚĆ II'!B222","v":0}]
["Suma środków własnych organizatora finansujących część ceny usługi w wysokości nie mniejszej niż 10% oraz planowana łączna kwota dopłaty w danym roku budżetowym",null,{"$f":"C43+C44","v":0},{"$f":"D43+D44","v":0},0,0,0,0,0,0,{"$f":"K43+K44","v":0},{"$f":"L43+L44","v":0}]
[]
["CZĘŚĆ D",null,"WNIOSKOWANA KWOTA DOPŁATY W DANYM ROKU"]
["Suma kwoty dopłaty we wszystkich latach",null,2024,2025,2026,2027,2028,2029,2030,2031,2032,2033]
[null,{"$f":"SUM(C49:L49)","v":0},{"$f":"IF('WNIOSEK CZĘŚĆ II'!D257=\"\",'WNIOSEK CZĘŚĆ I'!C44,0)","v":0},{"$f":"IF('WNIOSEK CZĘŚĆ II'!E257=\"\",'WNIOSEK CZĘŚĆ I'!D44,0)","v":0},{"$f":"IF('WNIOSEK CZĘŚĆ II'!F257=\"\",'WNIOSEK CZĘŚĆ I'!E44,0)","v":0},{"$f":"IF('WNIOSEK CZĘŚĆ II'!G257=\"\",'WNIOSEK CZĘŚĆ I'!F44,0)","v":0},{"$f":"IF('WNIOSEK CZĘŚĆ II'!H257=\"\",'WNIOSEK CZĘŚĆ I'!G44,0)","v":0},{"$f":"IF('WNIOSEK CZĘŚĆ II'!I257=\"\",'WNIOSEK CZĘŚĆ I'!H44,0)","v":0},{"$f":"IF('WNIOSEK CZĘŚĆ II'!J257=\"\",'WNIOSEK CZĘŚĆ I'!I44,0)","v":0},{"$f":"IF('WNIOSEK CZĘŚĆ II'!N257=\"\",'WNIOSEK CZĘŚĆ I'!J44,0)","v":0},{"$f":"IF('WNIOSEK CZĘŚĆ II'!O257=\"\",'WNIOSEK CZĘŚĆ I'!K44,0)","v":0},{"$f":"IF('WNIOSEK CZĘŚĆ II'!P257=\"\",'WNIOSEK CZĘŚĆ I'!L44,0)","v":0}]
[]
["OŚWIADCZENIA"]
["1. OŚWIADCZAM, ŻE ZAPOZNAŁEM SIĘ Z PRZEPISAMI USTAWY Z DNIA 16 MAJA 2019 R. O FUNDUSZU ROZWOJU PRZEWOZÓW AUTOBUSOWYCH O CHARAKTERZE UŻYTECZNOŚCI PUBLICZNEJ (t.j. DZ. U Z 2022 R. POZ. 2464 ze zm.) ORAZ AKTAMI WYKONAWCZYMI DO USTAWY I BĘDĘ STOSOWAŁ SIĘ DO WARUNKÓW Z NICH    WYNIKAJĄCYCH;"]
["2. OŚWIADCZAM, ŻE ORGANIZATOR UZYSKA ZGODĘ SWOJEGO ORGANU STANOWIĄCEGO NA ZAWARCIE UMOWY O ŚWIADCZENIE USŁUG W ZAKRESIE PUBLICZNEGO TRANSPORTU ZBIOROWEGO;"]
["3. OŚWIADCZAM, ŻE ZE ŚRODKÓW WŁASNYCH ORGANIZATORA ZOSTANIE SFINANSOWANA CZĘŚĆ DEFICYTU KAŻDEJ LINII KOMUNIKACYJNEJ W WYSOKOŚCI NIE MNIEJSZEJ NIŻ 10%;"]
["4. OŚWIADCZAM, ŻE WNIOSEK OBEJMUJE WYŁĄCZNIE LINIE KOMUNIKACYJNE O CHARAKTERZE UŻYTECZNOŚCI PUBLICZNEJNIEFUNKCJONUJACE CO NAJMNIEJ 3 MIESIACE PRZED DNIE WEJSCIA W ZYCIE USTAWY Z DNIA 16 MAJA 2019 R. O FUNDUSZU ROZWOJU PRZEWOZÓW AUTOBUSOWYCH O CHARAKTERZE UŻYTECZNOŚCI PUBLICZNEJ;"]
["5. OŚWIADCZAM, ŻE LINIE KOMUNIKACYJNE O CHARAKTERZE UZYTECZNOSCI PUBLICZNEJ OBJĘTE WNIOSKIEM NIE STANOWIĄ KOMUNIKACJI MIEJSKIEJ W ROZUMIENIU USTAWY Z DNIA 16 GRUDNIA 2010 R. O PUBLICZNYM TRANSPORCIE ZBIOROWYM;"]
["6. OŚWIADCZAM, ŻE WSZYSTKIE PRZEDSTAWIONE WE WNIOSKU DANE SĄ RZETELNE I ZGODNE ZE STANEM FAKTYCZNYM;"]

{"sheet":"WNIOSEK CZĘŚĆ II","index":1,"n_rows":2235,"n_cols":800,"rows_kept":69,"cut":true,"hidden":false,"merged":[[223,535,223,543],[223,551,223,559],[223,567,223,575],[223,583,223,591],[223,599,223,607],[223,615,223,623],[223,631,223,639],[223,647,223,655],[223,663,223,671],[223,679,223,687],[223,695,223,703],[223,711,223,719],[223,727,223,735],[223,743,223,751],[223,759,223,767],[223,775,223,783],[223,791,223,799],[223,7,223,15],[223,23,223,31],[223,39,223,47],[223,55,223,63],[223,71,223,79],[223,87,223,95],[223,103,223,111],[223,119,223,127],[223,135,223,143],[223,151,223,159],[223,167,223,175],[223,183,223,191],[223,199,223,207],[223,215,223,223],[223,231,223,239],[223,247,223,255],[223,263,223,271],[223,279,223,287],[223,295,223,303],[223,311,223,319],[223,327,223,335],[223,343,223,351],[223,359,223,367],[223,375,223,383],[223,391,223,399],[223,407,223,415],[223,423,223,431],[223,439,223,447],[223,455,223,463],[223,471,223,479],[223,487,223,495],[223,503,223,511],[223,519,223,527],[2229,317,2229,319],[2230,317,2230,319],[2231,317,2231,319],[2232,317,2232,319],[2233,317,2233,319],[2234,317,2234,319],[2235,317,2235,319],[2236,317,2236,319],[2237,317,2237,319],[2238,317,2238,319],[2223,307,2223,309],[2223,311,2223,313],[2223,317,2223,319],[2224,307,2224,309],[2224,311,2224,313],[2224,317,2224,319],[2225,307,2225,309],[2225,311,2225,313],[2225,317,2225,319],[2226,307,2226,309],[2226,311,2226,313],[2226,317,2226,319],[2227,307,2227,309],[2227,311,2227,313],[2227,317,2227,319],[2228,307,2228,309],[2228,311,2228,313],[2228,317,2228,319],[2217,307,2217,309],[2217,311,2217,313],[2217,317,2217,319],[2218,307,2218,309],[2218,311,2218,313],[2218,317,2218,319],[2219,307,2219,309],[2219,311,2219,313],[2219,317,2219,319],[2220,307,2220,309],[2220,311,2220,313],[2220,317,2220,319],[2221,307,2221,309],[2221,311,2221,313],[2221,317,2221,319],[2222,307,2222,309],[2222,311,2222,313],[2222,317,2222,319],[2211,307,2211,309],[2211,311,2211,313],[2211,317,2211,319],[2212,307,2212,309],[2212,311,2212,313],[2212,317,2212,319],[2213,307,2213,309],[2213,311,2213,313],[2213,317,2213,319],[2214,307,2214,309],[2214,311,2214,313],[2214,317,2214,319],[2215,307,2215,309],[2215,311,2215,313],[2215,317,2215,319],[2216,307,2216,309],[2216,311,2216,313],[2216,317,2216,319],[2205,307,2205,309],[2205,311,2205,313],[2205,317,2205,319],[2206,307,2206,309],[2206,311,2206,313],[2206,317,2206,319],[2207,307,2207,309],[2207,311,2207,313],[2207,317,2207,319],[2208,307,2208,309],[2208,311,2208,313],[2208,317,2208,319],[2209,307,2209,309],[2209,311,2209,313],[2209,317,2209,319],[2210,307,2210,309],[2210,311,2210,313],[2210,317,2210,319],[2199,307,2199,309],[2199,311,2199,313],[2199,317,2199,319],[2200,307,2200,309],[2200,311,2200,313],[2200,317,2200,319],[2201,307,2201,309],[2201,311,2201,313],[2201,317,2201,319],[2202,307,2202,309],[2202,311,2202,313],[2202,317,2202,319],[2203,307,2203,309],[2203,311,2203,313],[2203,317,2203,319],[2204,307,2204,309],[2204,311,2204,313],[2204,317,2204,319],[2193,307,2193,309],[2193,311,2193,313],[2193,317,2193,319],[2194,307,2194,309],[2194,311,2194,313],[2194,317,2194,319],[2195,307,2195,309],[2195,311,2195,313],[2195,317,2195,319],[2196,307,2196,309],[2196,311,2196,313],[2196,317,2196,319],[2197,307,2197,309],[2197,311,2197,313],[2197,317,2197,319],[2198,307,2198,309],[2198,311,2198,313],[2198,317,2198,319],[2187,307,2187,309],[2187,311,2187,313],[2187,317,2187,319],[2188,307,2188,309],[2188,311,2188,313],[2188,317,2188,319],[2189,307,2189,309],[2189,311,2189,313],[2189,317,2189,319],[2190,307,2190,309],[2190,311,2190,313],[2190,317,2190,319],[2191,307,2191,309],[2191,311,2191,313],[2191,317,2191,319],[2192,307,2192,309],[2192,311,2192,313],[2192,317,2192,319],[2181,307,2181,309],[2181,311,2181,313],[2181,317,2181,319],[2182,307,2182,309],[2182,311,2182,313],[2182,317,2182,319],[2183,307,2183,309],[2183,311,2183,313],[2183,317,2183,319],[2184,307,2184,309],[2184,311,2184,313],[2184,317,2184,319],[2185,307,2185,309],[2185,311,2185,313],[2185,317,2185,319],[2186,307,2186,309],[2186,311,2186,313],[2186,317,2186,319],[2175,307,2175,309],[2175,311,2175,313],[2175,317,2175,319],[2176,307,2176,309],[2176,311,2176,313],[2176,317,2176,319],[2177,307,2177,309],[2177,311,2177,313],[2177,317,2177,319],[2178,307,2178,309],[2178,311,2178,313],[2178,317,2178,319],[2179,307,2179,309],[2179,311,2179,313],[2179,317,2179,319],[2180,307,2180,309],[2180,311,2180,313],[2180,317,2180,319],[2169,307,2169,309],[2169,311,2169,313],[2169,317,2169,319],[2170,307,2170,309],[2170,311,2170,313],[2170,317,2170,319],[2171,307,2171,309],[2171,311,2171,313],[2171,317,2171,319],[2172,307,2172,309],[2172,311,2172,313],[2172,317,2172,319],[2173,307,2173,309],[2173,311,2173,313],[2173,317,2173,319],[2174,307,2174,309],[2174,311,2174,313],[2174,317,2174,319],[2163,307,2163,309],[2163,311,2163,313],[2163,317,2163,319],[2164,307,2164,309],[2164,311,2164,313],[2164,317,2164,319],[2165,307,2165,309],[2165,311,2165,313],[2165,317,2165,319],[2166,307,2166,309],[2166,311,2166,313],[2166,317,2166,319],[2167,307,2167,309],[2167,311,2167,313],[2167,317,2167,319],[2168,307,2168,309],[2168,311,2168,313],[2168,317,2168,319],[2157,307,2157,309],[2157,311,2157,313],[2157,317,2157,319],[2158,307,2158,309],[2158,311,2158,313],[2158,317,2158,319],[2159,307,2159,309],[2159,311,2159,313],[2159,317,2159,319],[2160,307,2160,309],[2160,311,2160,313],[2160,317,2160,319],[2161,307,2161,309],[2161,311,2161,313],[2161,317,2161,319],[2162,307,2162,309],[2162,311,2162,313],[2162,317,2162,319],[2151,307,2151,309],[2151,311,2151,313],[2151,317,2151,319],[2152,307,2152,309],[2152,311,2152,313],[2152,317,2152,319],[2153,307,2153,309],[2153,311,2153,313],[2153,317,2153,319],[2154,307,2154,309],[2154,311,2154,313],[2154,317,2154,319],[2155,307,2155,309],[2155,311,2155,313],[2155,317,2155,319],[2156,307,2156,309],[2156,311,2156,313],[2156,317,2156,319],[2145,307,2145,309],[2145,311,2145,313],[2145,317,2145,319],[2146,307,2146,309],[2146,311,2146,313],[2146,317,2146,319],[2147,307,2147,309],[2147,311,2147,313],[2147,317,2147,319],[2148,307,2148,309],[2148,311,2148,313],[2148,317,2148,319],[2149,307,2149,309],[2149,311,2149,313],[2149,317,2149,319],[2150,307,2150,309],[2150,311,2150,313],[2150,317,2150,319],[2139,307,2139,309],[2139,311,2139,313],[2139,317,2139,319],[2140,307,2140,309],[2140,311,2140,313],[2140,317,2140,319],[2141,307,2141,309],[2141,311,2141,313],[2141,317,2141,319],[2142,307,2142,309],[2142,311,2142,313],[2142,317,2142,319],[2143,307,2143,309],[2143,311,2143,313],[2143,317,2143,319],[2144,307,2144,309],[2144,311,2144,313],[2144,317,2144,319],[2133,307,2133,309],[2133,311,2133,313],[2133,317,2133,319],[2134,307,2134,309],[2134,311,2134,313],[2134,317,2134,319],[2135,307,2135,309],[2135,311,2135,313],[2135,317,2135,319],[2136,307,2136,309],[2136,311,2136,313],[2136,317,2136,319],[2137,307,2137,309],[2137,311,2137,313],[2137,317,2137,319],[2138,307,2138,309],[2138,311,2138,313],[2138,317,2138,319],[2127,307,2127,309],[2127,311,2127,313],[2127,317,2127,319],[2128,307,2128,309],[2128,311,2128,313],[2128,317,2128,319],[2129,307,2129,309],[2129,311,2129,313],[2129,317,2129,319],[2130,307,2130,309],[2130,311,2130,313],[2130,317,2130,319],[2131,307,2131,309],[2131,311,2131,313],[2131,317,2131,319],[2132,307,2132,309],[2132,311,2132,313],[2132,317,2132,319],[2121,307,2121,309],[2121,311,2121,313],[2121,317,2121,319],[2122,307,2122,309],[2122,311,2122,313],[2122,317,2122,319],[2123,307,2123,309],[2123,311,2123,313],[2123,317,2123,319],[2124,307,2124,309],[2124,311,2124,313],[2124,317,2124,319],[2125,307,2125,309],[2125,311,2125,313],[2125,317,2125,319],[2126,307,2126,309],[2126,311,2126,313],[2126,317,2126,319],[2115,307,2115,309],[2115,311,2115,313],[2115,317,2115,319],[2116,307,2116,309],[2116,311,2116,313],[2116,317,2116,319],[2117,307,2117,309],[2117,311,2117,313],[2117,317,2117,319],[2118,307,2118,309],[2118,311,2118,313],[2118,317,2118,319],[2119,307,2119,309],[2119,311,2119,313],[2119,317,2119,319],[2120,307,2120,309],[2120,311,2120,313],[2120,317,2120,319],[2109,307,2109,309],[2109,311,2109,313],[2109,317,2109,319],[2110,307,2110,309],[2110,311,2110,313],[2110,317,2110,319],[2111,307,2111,309],[2111,311,2111,313],[2111,317,2111,319],[2112,307,2112,309],[2112,311,2112,313],[2112,317,2112,319],[2113,307,2113,309],[2113,311,2113,313],[2113,317,2113,319],[2114,307,2114,309],[2114,311,2114,313],[2114,317,2114,319],[2103,307,2103,309],[2103,311,2103,313],[2103,317,2103,319],[2104,307,2104,309],[2104,311,2104,313],[2104,317,2104,319],[2105,307,2105,309],[2105,311,2105,313],[2105,317,2105,319],[2106,307,2106,309],[2106,311,2106,313],[2106,317,2106,319],[2107,307,2107,309],[2107,311,2107,313],[2107,317,2107,319],[2108,307,2108,309],[2108,311,2108,313],[2108,317,2108,319],[2097,307,2097,309],[2097,311,2097,313],[2097,317,2097,319],[2098,307,2098,309],[2098,311,2098,313],[2098,317,2098,319],[2099,307,2099,309],[2099,311,2099,313],[2099,317,2099,319],[2100,307,2100,309],[2100,311,2100,313],[2100,317,2100,319],[2101,307,2101,309],[2101,311,2101,313],[2101,317,2101,319],[2102,307,2102,309],[2102,311,2102,313],[2102,317,2102,319],[2091,307,2091,309],[2091,311,2091,313],[2091,317,2091,319],[2092,307,2092,309],[2092,311,2092,313],[2092,317,2092,319],[2093,307,2093,309],[2093,311,2093,313],[2093,317,2093,319],[2094,307,2094,309],[2094,311,2094,313],[2094,317,2094,319],[2095,307,2095,309],[2095,311,2095,313],[2095,317,2095,319],[2096,307,2096,309],[2096,311,2096,313],[2096,317,2096,319],[2085,307,2085,309],[2085,311,2085,313],[2085,317,2085,319],[2086,307,2086,309],[2086,311,2086,313],[2086,317,2086,319],[2087,307,2087,309],[2087,311,2087,313],[2087,317,2087,319],[2088,307,2088,309],[2088,311,2088,313],[2088,317,2088,319],[2089,307,2089,309],[2089,311,2089,313],[2089,317,2089,319],[2090,307,2090,309],[2090,311,2090,313],[2090,317,2090,319],[2079,307,2079,309],[2079,311,2079,313],[2079,317,2079,319],[2080,307,2080,309],[2080,311,2080,313],[2080,317,2080,319],[2081,307,2081,309],[2081,311,2081,313],[2081,317,2081,319],[2082,307,2082,309],[2082,311,2082,313],[2082,317,2082,319],[2083,307,2083,309],[2083,311,2083,313],[2083,317,2083,319],[2084,307,2084,309],[2084,311,2084,313],[2084,317,2084,319],[2073,307,2073,309],[2073,311,2073,313],[2073,317,2073,319],[2074,307,2074,309],[2074,311,2074,313],[2074,317,2074,319],[2075,307,2075,309],[2075,311,2075,313],[2075,317,2075,319],[2076,307,2076,309],[2076,311,2076,313],[2076,317,2076,319],[2077,307,2077,309],[2077,311,2077,313],[2077,317,2077,319],[2078,307,2078,309],[2078,311,2078,313],[2078,317,2078,319],[2067,307,2067,309],[2067,311,2067,313],[2067,317,2067,319],[2068,307,2068,309],[2068,311,2068,313],[2068,317,2068,319],[2069,307,2069,309],[2069,311,2069,313],[2069,317,2069,319],[2070,307,2070,309],[2070,311,2070,313],[2070,317,2070,319],[2071,307,2071,309],[2071,311,2071,313],[2071,317,2071,319],[2072,307,2072,309],[2072,311,2072,313],[2072,317,2072,319],[2061,307,2061,309],[2061,311,2061,313],[2061,317,2061,319],[2062,307,2062,309],[2062,311,2062,313],[2062,317,2062,319],[2063,307,2063,309],[2063,311,2063,313],[2063,317,2063,319],[2064,307,2064,309],[2064,311,2064,313],[2064,317,2064,319],[2065,307,2065,309],[2065,311,2065,313],[2065,317,2065,319],[2066,307,2066,309],[2066,311,2066,313],[2066,317,2066,319],[2055,307,2055,309],[2055,311,2055,313],[2055,317,2055,319],[2056,307,2056,309],[2056,311,2056,313],[2056,317,2056,319],[2057,307,2057,309],[2057,311,2057,313],[2057,317,2057,319],[2058,307,2058,309],[2058,311,2058,313],[2058,317,2058,319],[2059,307,2059,309],[2059,311,2059,313],[2059,317,2059,319],[2060,307,2060,309],[2060,311,2060,313],[2060,317,2060,319],[2049,307,2049,309],[2049,311,2049,313],[2049,317,2049,319],[2050,307,2050,309],[2050,311,2050,313],[2050,317,2050,319],[2051,307,2051,309],[2051,311,2051,313],[2051,317,2051,319],[2052,307,2052,309],[2052,311,2052,313],[2052,317,2052,319],[2053,307,2053,309],[2053,311,2053,313],[2053,317,2053,319],[2054,307,2054,309],[2054,311,2054,313],[2054,317,2054,319],[2043,307,2043,309],[2043,311,2043,313],[2043,317,2043,319],[2044,307,2044,309],[2044,311,2044,313],[2044,317,2044,319],[2045,307,2045,309],[2045,311,2045,313],[2045,317,2045,319],[2046,307,2046,309],[2046,311,2046,313],[2046,317,2046,319],[2047,307,2047,309],[2047,311,2047,313],[2047,317,2047,319],[2048,307,2048,309],[2048,311,2048,313],[2048,317,2048,319],[2037,307,2037,309],[2037,311,2037,313],[2037,317,2037,319],[2038,307,2038,309],[2038,311,2038,313],[2038,317,2038,319],[2039,307,2039,309],[2039,311,2039,313],[2039,317,2039,319],[2040,307,2040,309],[2040,311,2040,313],[2040,317,2040,319],[2041,307,2041,309],[2041,311,2041,313],[2041,317,2041,319],[2042,307,2042,309],[2042,311,2042,313],[2042,317,2042,319],[2031,307,2031,309],[2031,311,2031,313],[2031,317,2031,319],[2032,307,2032,309],[2032,311,2032,313],[2032,317,2032,319],[2033,307,2033,309],[2033,311,2033,313],[2033,317,2033,319],[2034,307,2034,309],[2034,311,2034,313],[2034,317,2034,319],[2035,307,2035,309],[2035,311,2035,313],[2035,317,2035,319],[2036,307,2036,309],[2036,311,2036,313],[2036,317,2036,319],[2025,307,2025,309],[2025,311,2025,313],[2025,317,2025,319],[2026,307,2026,309],[2026,311,2026,313],[2026,317,2026,319],[2027,307,2027,309],[2027,311,2027,313],[2027,317,2027,319],[2028,307,2028,309],[2028,311,2028,313],[2028,317,2028,319],[2029,307,2029,309],[2029,311,2029,313],[2029,317,2029,319],[2030,307,2030,309],[2030,311,2030,313],[2030,317,2030,319],[2019,307,2019,309],[2019,311,2019,313],[2019,317,2019,319],[2020,307,2020,309],[2020,311,2020,313],[2020,317,2020,319],[2021,307,2021,309],[2021,311,2021,313],[2021,317,2021,319],[2022,307,2022,309],[2022,311,2022,313],[2022,317,2022,319],[2023,307,2023,309],[2023,311,2023,313],[2023,317,2023,319],[2024,307,2024,309],[2024,311,2024,313],[2024,317,2024,319],[2013,307,2013,309],[2013,311,2013,313],[2013,317,2013,319],[2014,307,2014,309],[2014,311,2014,313],[2014,317,2014,319],[2015,307,2015,309],[2015,311,2015,313],[2015,317,2015,319],[2016,307,2016,309],[2016,311,2016,313],[2016,317,2016,319],[2017,307,2017,309],[2017,311,2017,313],[2017,317,2017,319],[2018,307,2018,309],[2018,311,2018,313],[2018,317,2018,319],[2007,307,2007,309],[2007,311,2007,313],[2007,317,2007,319],[2008,307,2008,309],[2008,311,2008,313],[2008,317,2008,319],[2009,307,2009,309],[2009,311,2009,313],[2009,317,2009,319],[2010,307,2010,309],[2010,311,2010,313],[2010,317,2010,319],[2011,307,2011,309],[2011,311,2011,313],[2011,317,2011,319],[2012,307,2012,309],[2012,311,2012,313],[2012,317,2012,319],[2001,307,2001,309],[2001,311,2001,313],[2001,317,2001,319],[2002,307,2002,309],[2002,311,2002,313],[2002,317,2002,319],[2003,307,2003,309],[2003,311,2003,313],[2003,317,2003,319],[2004,307,2004,309],[2004,311,2004,313],[2004,317,2004,319],[2005,307,2005,309],[2005,311,2005,313],[2005,317,2005,319],[2006,307,2006,309],[2006,311,2006,313],[2006,317,2006,319],[1995,307,1995,309],[1995,311,1995,313],[1995,317,1995,319],[1996,307,1996,309],[1996,311,1996,313],[1996,317,1996,319],[1997,307,1997,309],[1997,311,1997,313],[1997,317,1997,319],[1998,307,1998,309],[1998,311,1998,313],[1998,317,1998,319],[1999,307,1999,309],[1999,311,1999,313],[1999,317,1999,319],[2000,307,2000,309],[2000,311,2000,313],[2000,317,2000,319],[1989,307,1989,309],[1989,311,1989,313],[1989,317,1989,319],[1990,307,1990,309],[1990,311,1990,313],[1990,317,1990,319],[1991,307,1991,309],[1991,311,1991,313],[1991,317,1991,319],[1992,307,1992,309],[1992,311,1992,313],[1992,317,1992,319],[1993,307,1993,309],[1993,311,1993,313],[1993,317,1993,319],[1994,307,1994,309],[1994,311,1994,313],[1994,317,1994,319],[1983,307,1983,309],[1983,311,1983,313],[1983,317,1983,319],[1984,307,1984,309],[1984,311,1984,313],[1984,317,1984,319],[1985,307,1985,309],[1985,311,1985,313],[1985,317,1985,319],[1986,307,1986,309],[1986,311,1986,313],[1986,317,1986,319],[1987,307,1987,309],[1987,311,1987,313],[1987,317,1987,319],[1988,307,1988,309],[1988,311,1988,313],[1988,317,1988,319],[1977,307,1977,309],[1977,311,1977,313],[1977,317,1977,319],[1978,307,1978,309],[1978,311,1978,313],[1978,317,1978,319],[1979,307,1979,309],[1979,311,1979,313],[1979,317,1979,319],[1980,307,1980,309],[1980,311,1980,313],[1980,317,1980,319],[1981,307,1981,309],[1981,311,1981,313],[1981,317,1981,319],[1982,307,1982,309],[1982,311,1982,313],[1982,317,1982,319],[1971,307,1971,309],[1971,311,1971,313],[1971,317,1971,319],[1972,307,1972,309],[1972,311,1972,313],[1972,317,1972,319],[1973,307,1973,309],[1973,311,1973,313],[1973,317,1973,319],[1974,307,1974,309],[1974,311,1974,313],[1974,317,1974,319],[1975,307,1975,309],[1975,311,1975,313],[1975,317,1975,319],[1976,307,1976,309],[1976,311,1976,313],[1976,317,1976,319],[1965,307,1965,309],[1965,311,1965,313],[1965,317,1965,319],[1966,307,1966,309],[1966,311,1966,313],[1966,317,1966,319],[1967,307,1967,309],[1967,311,1967,313],[1967,317,1967,319],[1968,307,1968,309],[1968,311,1968,313],[1968,317,1968,319],[1969,307,1969,309],[1969,311,1969,313],[1969,317,1969,319],[1970,307,1970,309],[1970,311,1970,313],[1970,317,1970,319],[1959,307,1959,309],[1959,311,1959,313],[1959,317,1959,319],[1960,307,1960,309],[1960,311,1960,313],[1960,317,1960,319],[1961,307,1961,309],[1961,311,1961,313],[1961,317,1961,319],[1962,307,1962,309],[1962,311,1962,313],[1962,317,1962,319],[1963,307,1963,309],[1963,311,1963,313],[1963,317,1963,319],[1964,307,1964,309],[1964,311,1964,313],[1964,317,1964,319],[1953,307,1953,309],[1953,311,1953,313],[1953,317,1953,319],[1954,307,1954,309],[1954,311,1954,313],[1954,317,1954,319],[1955,307,1955,309],[1955,311,1955,313],[1955,317,1955,319],[1956,307,1956,309],[1956,311,1956,313],[1956,317,1956,319],[1957,307,1957,309],[1957,311,1957,313],[1957,317,1957,319],[1958,307,1958,309],[1958,311,1958,313],[1958,317,1958,319],[1947,307,1947,309],[1947,311,1947,313],[1947,317,1947,319],[1948,307,1948,309],[1948,311,1948,313],[1948,317,1948,319],[1949,307,1949,309],[1949,311,1949,313],[1949,317,1949,319],[1950,307,1950,309],[1950,311,1950,313],[1950,317,1950,319],[1951,307,1951,309],[1951,311,1951,313],[1951,317,1951,319],[1952,307,1952,309],[1952,311,1952,313],[1952,317,1952,319],[1941,307,1941,309],[1941,311,1941,313],[1941,317,1941,319],[1942,307,1942,309],[1942,311,1942,313],[1942,317,1942,319],[1943,307,1943,309],[1943,311,1943,313],[1943,317,1943,319],[1944,307,1944,309],[1944,311,1944,313],[1944,317,1944,319],[1945,307,1945,309],[1945,311,1945,313],[1945,317,1945,319],[1946,307,1946,309],[1946,311,1946,313],[1946,317,1946,319],[1935,307,1935,309],[1935,311,1935,313],[1935,317,1935,319],[1936,307,1936,309],[1936,311,1936,313],[1936,317,1936,319],[1937,307,1937,309],[1937,311,1937,313],[1937,317,1937,319],[1938,307,1938,309],[1938,311,1938,313],[1938,317,1938,319],[1939,307,1939,309],[1939,311,1939,313],[1939,317,1939,319],[1940,307,1940,309],[1940,311,1940,313],[1940,317,1940,319],[1929,307,1929,309],[1929,311,1929,313],[1929,317,1929,319],[1930,307,1930,309],[1930,311,1930,313],[1930,317,1930,319],[1931,307,1931,309],[1931,311,1931,313],[1931,317,1931,319],[1932,307,1932,309],[1932,311,1932,313],[1932,317,1932,319],[1933,307,1933,309],[1933,311,1933,313],[1933,317,1933,319],[1934,307,1934,309],[1934,311,1934,313],[1934,317,1934,319],[1923,307,1923,309],[1923,311,1923,313],[1923,317,1923,319],[1924,307,1924,309],[1924,311,1924,313],[1924,317,1924,319],[1925,307,1925,309],[1925,311,1925,313],[1925,317,1925,319],[1926,307,1926,309],[1926,311,1926,313],[1926,317,1926,319],[1927,307,1927,309],[1927,311,1927,313],[1927,317,1927,319],[1928,307,1928,309],[1928,311,1928,313],[1928,317,1928,319],[1917,307,1917,309],[1917,311,1917,313],[1917,317,1917,319],[1918,307,1918,309],[1918,311,1918,313],[1918,317,1918,319],[1919,307,1919,309],[1919,311,1919,313],[1919,317,1919,319],[1920,307,1920,309],[1920,311,1920,313],[1920,317,1920,319],[1921,307,1921,309],[1921,311,1921,313],[1921,317,1921,319],[1922,307,1922,309],[1922,311,1922,313],[1922,317,1922,319],[1911,307,1911,309],[1911,311,1911,313],[1911,317,1911,319],[1912,307,1912,309]],"bounds":{"rows_first":31,"rows_last":7,"rows_between":31,"halvings":6},"merged_total":296500,"flags":["merged_cut"]}
[null,"WYKAZ LINII",null,null,null,null,null,null,null,null,null,null,null,null,null,null,null,"WYKAZ LINII",null,null,null,null,null,null,null,null,null,null,null,null,null,null,null,"WYKAZ LINII",null,null,null,null,null,null,null,null,null,null,null,null,null,null,null,"WYKAZ LINII",null,null,null,null,null,null,null,null,null,null,null,null,null,null,null,"WYKAZ LINII",null,null,null,null,null,null,null,null,null,null,null,null,null,null,null,"WYKAZ LINII",null,null,null,null,null,null,null,null,null,null,null,null,null,null,null,"WYKAZ LINII",null,null,null,null,null,null,null,null,null,null,null,null,null,null,null,"WYKAZ LINII",null,null,null,null,null,null,null,null,null,null,null,null,null,null,null,"WYKAZ LINII",null,null,null,null,null,null,null,null,null,null,null,null,null,null,null,"WYKAZ LINII",null,null,null,null,null,null,null,null,null,null,null,null,null,null,null,"WYKAZ LINII",null,null,null,null,null,null,null,null,null,null,null,null,null,null,null,"WYKAZ LINII",null,null,null,null,null,null,null,null,null,null,null,null,null,null,null,"WYKAZ LINII",null,null,null,null,null,null,null,null,null,null,null,null,null,null,null,"WYKAZ LINII",null,null,null,null,null,null,null,null,null,null,null,null,null,null,null,"WYKAZ LINII",null,null,null,null,null,null,null,null,null,null,null,null,null,null,null,"WYKAZ LINII",null,null,null,null,null,null,null,null,null,null,null,null,null,null,null,"WYKAZ LINII",null,null,null,null,null,null,null,null,null,null,null,null,null,null,null,"WYKAZ LINII",null,null,null,null,null,null,null,null,null,null,null,null,null,null,null,"WYKAZ LINII",null,null,null,null,null,null,null,null,null,null,null,null,null,null,null,"WYKAZ LINII",null,null,null,null,null,null,null,null,null,null,null,null,null,null,null,"WYKAZ LINII",null,null,null,null,null,null,null,null,null,null,null,null,null,null,null,"WYKAZ LINII",null,null,null,null,null,null,null,null,null,null,null,null,null,null,null,"WYKAZ LINII",null,null,null,null,null,null,null,null,null,null,null,null,null,null,null,"WYKAZ LINII",null,null,null,null,null,null,null,null,null,null,null,null,null,null,null,"WYKAZ LINII",null,null,null,null,null,null,null,null,null,null,null,null,null,null,null,"WYKAZ LINII",null,null,null,null,null,null,null,null,null,null,null,null,null,null,null,"WYKAZ LINII",null,null,null,null,null,null,null,null,null,null,null,null,null,null,null,"WYKAZ LINII",null,null,null,null,null,null,null,null,null,null,null,null,null,null,null,"WYKAZ LINII",null,null,null,null,null,null,null,null,null,null,null,null,null,null,null,"WYKAZ LINII",null,null,null,null,null,null,null,null,null,null,null,null,null,null,null,"WYKAZ LINII",null,null,null,null,null,null,null,null,null,null,null,null,null,null,null,"WYKAZ LINII",null,null,null,null,null,null,null,null,null,null,null,null,null,null,null,"WYKAZ LINII",null,null,null,null,null,null,null,null,null,null,null,null,null,null,null,"WYKAZ LINII",null,null,null,null,null,null,null,null,null,null,null,null,null,null,null,"WYKAZ LINII",null,null,null,null,null,null,null,null,null,null,null,null,null,null,null,"WYKAZ LINII",null,null,null,null,null,null,null,null,null,null,null,null,null,null,null,"WYKAZ LINII",null,null,null,null,null,null,null,null,null,null,null,null,null,null,null,"WYKAZ LINII",null,null,null,null,null,null,null,null,null,null,null,null,null,null,null,"WYKAZ LINII",null,null,null,null,null,null,null,null,null,null,null,null,null,null,null,"WYKAZ LINII",null,null,null,null,null,null,null,null,null,null,null,null,null,null,null,"WYKAZ LINII",null,null,null,null,null,null,null,null,null,null,null,null,null,null,null,"WYKAZ LINII",null,null,null,null,null,null,null,null,null,null,null,null,null,null,null,"WYKAZ LINII",null,null,null,null,null,null,null,null,null,null,null,null,null,null,null,"WYKAZ LINII",null,null,null,null,null,null,null,null,null,null,null,null,null,null,null,"WYKAZ LINII",null,null,null,null,null,null,null,null,null,null,null,null,null,null,null,"WYKAZ LINII",null,null,null,null,null,null,null,null,null,null,null,null,null,null,null,"WYKAZ LINII",null,null,null,null,null,null,null,null,null,null,null,null,null,null,null,"WYKAZ LINII",null,null,null,null,null,null,null,null,null,null,null,null,null,null,null,"WYKAZ LINII",null,null,null,null,null,null,null,null,null,null,null,null,null,null,null,"WYKAZ LINII"]
[null,"SUMA W DANYM ROKU",null,2024,2025,2026,2027,2028,2029,2030,null,null,null,2031,2032,2033,null,"SUMA W DANYM ROKU",null,2024,2025,2026,2027,2028,2029,2030,null,null,null,2031,2032,2033,null,"SUMA W DANYM ROKU",null,2024,2025,2026,2027,2028,2029,2030,null,null,null,2031,2032,2033,null,"SUMA W DANYM ROKU",null,2024,2025,2026,2027,2028,2029,2030,null,null,null,2031,2032,2033,null,"SUMA W DANYM ROKU",null,2024,2025,2026,2027,2028,2029,2030,null,null,null,2031,2032,2033,null,"SUMA W DANYM ROKU",null,2024,2025,2026,2027,2028,2029,2030,null,null,null,2031,2032,2033,null,"SUMA W DANYM ROKU",null,2024,2025,2026,2027,2028,2029,2030,null,null,null,2031,2032,2033,null,"SUMA W DANYM ROKU",null,2024,2025,2026,2027,2028,2029,2030,null,null,null,2031,2032,2033,null,"SUMA W DANYM ROKU",null,2024,2025,2026,2027,2028,2029,2030,null,null,null,2031,2032,2033,null,"SUMA W DANYM ROKU",null,2024,2025,2026,2027,2028,2029,2030,null,null,null,2031,2032,2033,null,"SUMA W DANYM ROKU",null,2024,2025,2026,2027,2028,2029,2030,null,null,null,2031,2032,2033,null,"SUMA W DANYM ROKU",null,2024,2025,2026,2027,2028,2029,2030,null,null,null,2031,2032,2033,null,"SUMA W DANYM ROKU",null,2024,2025,2026,2027,2028,2029,2030,null,null,null,2031,2032,2033,null,"SUMA W DANYM ROKU",null,2024,2025,2026,2027,2028,2029,2030,null,null,null,2031,2032,2033,null,"SUMA W DANYM ROKU",null,2024,2025,2026,2027,2028,2029,2030,null,null,null,2031,2032,2033,null,"SUMA W DANYM ROKU",null,2024,2025,2026,2027,2028,2029,2030,null,null,null,2031,2032,2033,null,"SUMA W DANYM ROKU",null,2024,2025,2026,2027,2028,2029,2030,null,null,null,2031,2032,2033,null,"SUMA W DANYM ROKU",null,2024,2025,2026,2027,2028,2029,2030,null,null,null,2031,2032,2033,null,"SUMA W DANYM ROKU",null,2024,2025,2026,2027,2028,2029,2030,null,null,null,2031,2032,2033,null,"SUMA W DANYM ROKU",null,2024,2025,2026,2027,2028,2029,2030,null,null,null,2031,2032,2033,null,"SUMA W DANYM ROKU",null,2024,2025,2026,2027,2028,2029,2030,null,null,null,2031,2032,2033,null,"SUMA W DANYM ROKU",null,2024,2025,2026,2027,2028,2029,2030,null,null,null,2031,2032,2033,null,"SUMA W DANYM ROKU",null,2024,2025,2026,2027,2028,2029,2030,null,null,null,2031,2032,2033,null,"SUMA W DANYM ROKU",null,2024,2025,2026,2027,2028,2029,2030,null,null,null,2031,2032,2033,null,"SUMA W DANYM ROKU",null,2024,2025,2026,2027,2028,2029,2030,null,null,null,2031,2032,2033,null,"SUMA W DANYM ROKU",null,2024,2025,2026,2027,2028,2029,2030,null,null,null,2031,2032,2033,null,"SUMA W DANYM ROKU",null,2024,2025,2026,2027,2028,2029,2030,null,null,null,2031,2032,2033,null,"SUMA W DANYM ROKU",null,2024,2025,2026,2027,2028,2029,2030,null,null,null,2031,2032,2033,null,"SUMA W DANYM ROKU",null,2024,2025,2026,2027,2028,2029,2030,null,null,null,2031,2032,2033,null,"SUMA W DANYM ROKU",null,2024,2025,2026,2027,2028,2029,2030,null,null,null,2031,2032,2033,null,"SUMA W DANYM ROKU",null,2024,2025,2026,2027,2028,2029,2030,null,null,null,2031,2032,2033,null,"SUMA W DANYM ROKU",null,2024,2025,2026,2027,2028,2029,2030,null,null,null,2031,2032,2033,null,"SUMA W DANYM ROKU",null,2024,2025,2026,2027,2028,2029,2030,null,null,null,2031,2032,2033,null,"SUMA W DANYM ROKU",null,2024,2025,2026,2027,2028,2029,2030,null,null,null,2031,2032,2033,null,"SUMA W DANYM ROKU",null,2024,2025,2026,2027,2028,2029,2030,null,null,null,2031,2032,2033,null,"SUMA W DANYM ROKU",null,2024,2025,2026,2027,2028,2029,2030,null,null,null,2031,2032,2033,null,"SUMA W DANYM ROKU",null,2024,2025,2026,2027,2028,2029,2030,null,null,null,2031,2032,2033,null,"SUMA W DANYM ROKU",null,2024,2025,2026,2027,2028,2029,2030,null,null,null,2031,2032,2033,null,"SUMA W DANYM ROKU",null,2024,2025,2026,2027,2028,2029,2030,null,null,null,2031,2032,2033,null,"SUMA W DANYM ROKU",null,2024,2025,2026,2027,2028,2029,2030,null,null,null,2031,2032,2033,null,"SUMA W DANYM ROKU",null,2024,2025,2026,2027,2028,2029,2030,null,null,null,2031,2032,2033,null,"SUMA W DANYM ROKU",null,2024,2025,2026,2027,2028,2029,2030,null,null,null,2031,2032,2033,null,"SUMA W DANYM ROKU",null,2024,2025,2026,2027,2028,2029,2030,null,null,null,2031,2032,2033,null,"SUMA W DANYM ROKU",null,2024,2025,2026,2027,2028,2029,2030,null,null,null,2031,2032,2033,null,"SUMA W DANYM ROKU",null,2024,2025,2026,2027,2028,2029,2030,null,null,null,2031,2032,2033,null,"SUMA W DANYM ROKU",null,2024,2025,2026,2027,2028,2029,2030,null,null,null,2031,2032,2033,null,"SUMA W DANYM ROKU",null,2024,2025,2026,2027,2028,2029,2030,null,null,null,2031,2032,2033,null,"SUMA W DANYM ROKU",null,2024,2025,2026,2027,2028,2029,2030,null,null,null,2031,2032,2033,null,"SUMA W DANYM ROKU",null,2024,2025,2026,2027,2028,2029,2030,null,null,null,2031,2032,2033,null,"SUMA W DANYM ROKU",null,2024,2025,2026,2027,2028,2029,2030,null,null,null,2031,2032,2033]
[2024,{"$f":"SUM(4:4)","v":0},"LICZBA LINII",null,null,null,null,null,null,null,null,null,null,null,null,null,2024,{"$f":"SUM(4:4)","v":0},"LICZBA LINII",null,null,null,null,null,null,null,null,null,null,null,null,null,2024,{"$f":"SUM(4:4)","v":0},"LICZBA LINII",null,null,null,null,null,null,null,null,null,null,null,null,null,2024,{"$f":"SUM(4:4)","v":0},"LICZBA LINII",null,null,null,null,null,null,null,null,null,null,null,null,null,2024,{"$f":"SUM(4:4)","v":0},"LICZBA LINII",null,null,null,null,null,null,null,null,null,null,null,null,null,2024,{"$f":"SUM(4:4)","v":0},"LICZBA LINII",null,null,null,null,null,null,null,null,null,null,null,null,null,2024,{"$f":"SUM(4:4)","v":0},"LICZBA LINII",null,null,null,null,null,null,null,null,null,null,null,null,null,2024,{"$f":"SUM(4:4)","v":0},"LICZBA LINII",null,null,null,null,null,null,null,null,null,null,null,null,null,2024,{"$f":"SUM(4:4)","v":0},"LICZBA LINII",null,null,null,null,null,null,null,null,null,null,null,null,null,2024,{"$f":"SUM(4:4)","v":0},"LICZBA LINII",null,null,null,null,null,null,null,null,null,null,null,null,null,2024,{"$f":"SUM(4:4)","v":0},"LICZBA LINII",null,null,null,null,null,null,null,null,null,null,null,null,null,2024,{"$f":"SUM(4:4)","v":0},"LICZBA LINII",null,null,null,null,null,null,null,null,null,null,null,null,null,2024,{"$f":"SUM(4:4)","v":0},"LICZBA LINII",null,null,null,null,null,null,null,null,null,null,null,null,null,2024,{"$f":"SUM(4:4)","v":0},"LICZBA LINII",null,null,null,null,null,null,null,null,null,null,null,null,null,2024,{"$f":"SUM(4:4)","v":0},"LICZBA LINII",null,null,null,null,null,null,null,null,null,null,null,null,null,2024,{"$f":"SUM(4:4)","v":0},"LICZBA LINII",null,null,null,null,null,null,null,null,null,null,null,null,null,2024,{"$f":"SUM(4:4)","v":0},"LICZBA LINII",null,null,null,null,null,null,null,null,null,null,null,null,null,2024,{"$f":"SUM(4:4)","v":0},"LICZBA LINII",null,null,null,null,null,null,null,null,null,null,null,null,null,2024,{"$f":"SUM(4:4)","v":0},"LICZBA LINII",null,null,null,null,null,null,null,null,null,null,null,null,null,2024,{"$f":"SUM(4:4)","v":0},"LICZBA LINII",null,null,null,null,null,null,null,null,null,null,null,null,null,2024,{"$f":"SUM(4:4)","v":0},"LICZBA LINII",null,null,null,null,null,null,null,null,null,null,null,null,null,2024,{"$f":"SUM(4:4)","v":0},"LICZBA LINII",null,null,null,null,null,null,null,null,null,null,null,null,null,2024,{"$f":"SUM(4:4)","v":0},"LICZBA LINII",null,null,null,null,null,null,null,null,null,null,null,null,null,2024,{"$f":"SUM(4:4)","v":0},"LICZBA LINII",null,null,null,null,null,null,null,null,null,null,null,null,null,2024,{"$f":"SUM(4:4)","v":0},"LICZBA LINII",null,null,null,null,null,null,null,null,null,null,null,null,null,2024,{"$f":"SUM(4:4)","v":0},"LICZBA LINII",null,null,null,null,null,null,null,null,null,null,null,null,null,2024,{"$f":"SUM(4:4)","v":0},"LICZBA LINII",null,null,null,null,null,null,null,null,null,null,null,null,null,2024,{"$f":"SUM(4:4)","v":0},"LICZBA LINII",null,null,null,null,null,null,null,null,null,null,null,null,null,2024,{"$f":"SUM(4:4)","v":0},"LICZBA LINII",null,null,null,null,null,null,null,null,null,null,null,null,null,2024,{"$f":"SUM(4:4)","v":0},"LICZBA LINII",null,null,null,null,null,null,null,null,null,null,null,null,null,2024,{"$f":"SUM(4:4)","v":0},"LICZBA LINII",null,null,null,null,null,null,null,null,null,null,null,null,null,2024,{"$f":"SUM(4:4)","v":0},"LICZBA LINII",null,null,null,null,null,null,null,null,null,null,null,null,null,2024,{"$f":"SUM(4:4)","v":0},"LICZBA LINII",null,null,null,null,null,null,null,null,null,null,null,null,null,2024,{"$f":"SUM(4:4)","v":0},"LICZBA LINII",null,null,null,null,null,null,null,null,null,null,null,null,null,2024,{"$f":"SUM(4:4)","v":0},"LICZBA LINII",null,null,null,null,null,null,null,null,null,null,null,null,null,2024,{"$f":"SUM(4:4)","v":0},"LICZBA LINII",null,null,null,null,null,null,null,null,null,null,null,null,null,2024,{"$f":"SUM(4:4)","v":0},"LICZBA LINII",null,null,null,null,null,null,null,null,null,null,null,null,null,2024,{"$f":"SUM(4:4)","v":0},"LICZBA LINII",null,null,null,null,null,null,null,null,null,null,null,null,null,2024,{"$f":"SUM(4:4)","v":0},"LICZBA LINII",null,null,null,null,null,null,null,null,null,null,null,null,null,2024,{"$f":"SUM(4:4)","v":0},"LICZBA LINII",null,null,null,null,null,null,null,null,null,null,null,null,null,2024,{"$f":"SUM(4:4)","v":0},"LICZBA LINII",null,null,null,null,null,null,null,null,null,null,null,null,null,2024,{"$f":"SUM(4:4)","v":0},"LICZBA LINII",null,null,null,null,null,null,null,null,null,null,null,null,null,2024,{"$f":"SUM(4:4)","v":0},"LICZBA LINII",null,null,null,null,null,null,null,null,null,null,null,null,null,2024,{"$f":"SUM(4:4)","v":0},"LICZBA LINII",null,null,null,null,null,null,null,null,null,null,null,null,null,2024,{"$f":"SUM(4:4)","v":0},"LICZBA LINII",null,null,null,null,null,null,null,null,null,null,null,null,null,2024,{"$f":"SUM(4:4)","v":0},"LICZBA LINII",null,null,null,null,null,null,null,null,null,null,null,null,null,2024,{"$f":"SUM(4:4)","v":0},"LICZBA LINII",null,null,null,null,null,null,null,null,null,null,null,null,null,2024,{"$f":"SUM(4:4)","v":0},"LICZBA LINII",null,null,null,null,null,null,null,null,null,null,null,null,null,2024,{"$f":"SUM(4:4)","v":0},"LICZBA LINII",null,null,null,null,null,null,null,null,null,null,null,null,null,2024,{"$f":"SUM(4:4)","v":0},"LICZBA LINII"]
[null,null,null,{"$f":"IF($C$224=\"\",0,1)*D$227","v":0},null,null,null,null,null,null,null,null,null,null,null,null,null,null,null,{"$f":"IF($C$224=\"\",0,1)*T$227","v":0},null,null,null,null,null,null,null,null,null,null,null,null,null,null,null,{"$f":"IF($C$224=\"\",0,1)*AJ$227","v":0},null,null,null,null,null,null,null,null,null,null,null,null,null,null,null,{"$f":"IF($C$224=\"\",0,1)*AZ$227","v":0},null,null,null,null,null,null,null,null,null,null,null,null,null,null,null,{"$f":"IF($C$224=\"\",0,1)*BP$227","v":0},null,null,null,null,null,null,null,null,null,null,null,null,null,null,null,{"$f":"IF($C$224=\"\",0,1)*CF$227","v":0},null,null,null,null,null,null,null,null,null,null,null,null,null,null,null,{"$f":"IF($C$224=\"\",0,1)*CV$227","v":0},null,null,null,null,null,null,null,null,null,null,null,null,null,null,null,{"$f":"IF($C$224=\"\",0,1)*DL$227","v":0},null,null,null,null,null,null,null,null,null,null,null,null,null,null,null,{"$f":"IF($C$224=\"\",0,1)*EB$227","v":0},null,null,null,null,null,null,null,null,null,null,null,null,null,null,null,{"$f":"IF($C$224=\"\",0,1)*ER$227","v":0},null,null,null,null,null,null,null,null,null,null,null,null,null,null,null,{"$f":"IF($C$224=\"\",0,1)*FH$227","v":0},null,null,null,null,null,null,null,null,null,null,null,null,null,null,null,{"$f":"IF($C$224=\"\",0,1)*FX$227","v":0},null,null,null,null,null,null,null,null,null,null,null,null,null,null,null,{"$f":"IF($C$224=\"\",0,1)*GN$227","v":0},null,null,null,null,null,null,null,null,null,null,null,null,null,null,null,{"$f":"IF($C$224=\"\",0,1)*HD$227","v":0},null,null,null,null,null,null,null,null,null,null,null,null,null,null,null,{"$f":"IF($C$224=\"\",0,1)*HT$227","v":0},null,null,null,null,null,null,null,null,null,null,null,null,null,null,null,{"$f":"IF($C$224=\"\",0,1)*IJ$227","v":0},null,null,null,null,null,null,null,null,null,null,null,null,null,null,null,{"$f":"IF($C$224=\"\",0,1)*IZ$227","v":0},null,null,null,null,null,null,null,null,null,null,null,null,null,null,null,{"$f":"IF($C$224=\"\",0,1)*JP$227","v":0},null,null,null,null,null,null,null,null,null,null,null,null,null,null,null,{"$f":"IF($C$224=\"\",0,1)*KF$227","v":0},null,null,null,null,null,null,null,null,null,null,null,null,null,null,null,{"$f":"IF($C$224=\"\",0,1)*KV$227","v":0},null,null,null,null,null,null,null,null,null,null,null,null,null,null,null,{"$f":"IF($C$224=\"\",0,1)*LL$227","v":0},null,null,null,null,null,null,null,null,null,null,null,null,null,null,null,{"$f":"IF($C$224=\"\",0,1)*MB$227","v":0},null,null,null,null,null,null,null,null,null,null,null,null,null,null,null,{"$f":"IF($C$224=\"\",0,1)*MR$227","v":0},null,null,null,null,null,null,null,null,null,null,null,null,null,null,null,{"$f":"IF($C$224=\"\",0,1)*NH$227","v":0},null,null,null,null,null,null,null,null,null,null,null,null,null,null,null,{"$f":"IF($C$224=\"\",0,1)*NX$227","v":0},null,null,null,null,null,null,null,null,null,null,null,null,null,null,null,{"$f":"IF($C$224=\"\",0,1)*ON$227","v":0},null,null,null,null,null,null,null,null,null,null,null,null,null,null,null,{"$f":"IF($C$224=\"\",0,1)*PD$227","v":0},null,null,null,null,null,null,null,null,null,null,null,null,null,null,null,{"$f":"IF($C$224=\"\",0,1)*PT$227","v":0},null,null,null,null,null,null,null,null,null,null,null,null,null,null,null,{"$f":"IF($C$224=\"\",0,1)*QJ$227","v":0},null,null,null,null,null,null,null,null,null,null,null,null,null,null,null,{"$f":"IF($C$224=\"\",0,1)*QZ$227","v":0},null,null,null,null,null,null,null,null,null,null,null,null,null,null,null,{"$f":"IF($C$224=\"\",0,1)*RP$227","v":0},null,null,null,null,null,null,null,null,null,null,null,null,null,null,null,{"$f":"IF($C$224=\"\",0,1)*SF$227","v":0},null,null,null,null,null,null,null,null,null,null,null,null,null,null,null,{"$f":"IF($C$224=\"\",0,1)*SV$227","v":0},null,null,null,null,null,null,null,null,null,null,null,null,null,null,null,{"$f":"IF($C$224=\"\",0,1)*TL$227","v":0},null,null,null,null,null,null,null,null,null,null,null,null,null,null,null,{"$f":"IF($C$224=\"\",0,1)*UB$227","v":0},null,null,null,null,null,null,null,null,null,null,null,null,null,null,null,{"$f":"IF($C$224=\"\",0,1)*UR$227","v":0},null,null,null,null,null,null,null,null,null,null,null,null,null,null,null,{"$f":"IF($C$224=\"\",0,1)*VH$227","v":0},null,null,null,null,null,null,null,null,null,null,null,null,null,null,null,{"$f":"IF($C$224=\"\",0,1)*VX$227","v":0},null,null,null,null,null,null,null,null,null,null,null,null,null,null,null,{"$f":"IF($C$224=\"\",0,1)*WN$227","v":0},null,null,null,null,null,null,null,null,null,null,null,null,null,null,null,{"$f":"IF($C$224=\"\",0,1)*XD$227","v":0},null,null,null,null,null,null,null,null,null,null,null,null,null,null,null,{"$f":"IF($C$224=\"\",0,1)*XT$227","v":0},null,null,null,null,null,null,null,null,null,null,null,null,null,null,null,{"$f":"IF($C$224=\"\",0,1)*YJ$227","v":0},null,null,null,null,null,null,null,null,null,null,null,null,null,null,null,{"$f":"IF($C$224=\"\",0,1)*YZ$227","v":0},null,null,null,null,null,null,null,null,null,null,null,null,null,null,null,{"$f":"IF($C$224=\"\",0,1)*ZP$227","v":0},null,null,null,null,null,null,null,null,null,null,null,null,null,null,null,{"$f":"IF($C$224=\"\",0,1)*AAF$227","v":0},null,null,null,null,null,null,null,null,null,null,null,null,null,null,null,{"$f":"IF($C$224=\"\",0,1)*AAV$227","v":0},null,null,null,null,null,null,null,null,null,null,null,null,null,null,null,{"$f":"IF($C$224=\"\",0,1)*ABL$227","v":0},null,null,null,null,null,null,null,null,null,null,null,null,null,null,null,{"$f":"IF($C$224=\"\",0,1)*ACB$227","v":0},null,null,null,null,null,null,null,null,null,null,null,null,null,null,null,{"$f":"IF($C$224=\"\",0,1)*ACR$227","v":0},null,null,null,null,null,null,null,null,null,null,null,null,null,null,null,{"$f":"IF($C$224=\"\",0,1)*ADH$227","v":0}]
[2025,{"$f":"SUM(6:6)","v":0},null,null,null,null,null,null,null,null,null,null,null,null,null,null,2025,{"$f":"SUM(6:6)","v":0},null,null,null,null,null,null,null,null,null,null,null,null,null,null,2025,{"$f":"SUM(6:6)","v":0},null,null,null,null,null,null,null,null,null,null,null,null,null,null,2025,{"$f":"SUM(6:6)","v":0},null,null,null,null,null,null,null,null,null,null,null,null,null,null,2025,{"$f":"SUM(6:6)","v":0},null,null,null,null,null,null,null,null,null,null,null,null,null,null,2025,{"$f":"SUM(6:6)","v":0},null,null,null,null,null,null,null,null,null,null,null,null,null,null,2025,{"$f":"SUM(6:6)","v":0},null,null,null,null,null,null,null,null,null,null,null,null,null,null,2025,{"$f":"SUM(6:6)","v":0},null,null,null,null,null,null,null,null,null,null,null,null,null,null,2025,{"$f":"SUM(6:6)","v":0},null,null,null,null,null,null,null,null,null,null,null,null,null,null,2025,{"$f":"SUM(6:6)","v":0},null,null,null,null,null,null,null,null,null,null,null,null,null,null,2025,{"$f":"SUM(6:6)","v":0},null,null,null,null,null,null,null,null,null,null,null,null,null,null,2025,{"$f":"SUM(6:6)","v":0},null,null,null,null,null,null,null,null,null,null,null,null,null,null,2025,{"$f":"SUM(6:6)","v":0},null,null,null,null,null,null,null,null,null,null,null,null,null,null,2025,{"$f":"SUM(6:6)","v":0},null,null,null,null,null,null,null,null,null,null,null,null,null,null,2025,{"$f":"SUM(6:6)","v":0},null,null,null,null,null,null,null,null,null,null,null,null,null,null,2025,{"$f":"SUM(6:6)","v":0},null,null,null,null,null,null,null,null,null,null,null,null,null,null,2025,{"$f":"SUM(6:6)","v":0},null,null,null,null,null,null,null,null,null,null,null,null,null,null,2025,{"$f":"SUM(6:6)","v":0},null,null,null,null,null,null,null,null,null,null,null,null,null,null,2025,{"$f":"SUM(6:6)","v":0},null,null,null,null,null,null,null,null,null,null,null,null,null,null,2025,{"$f":"SUM(6:6)","v":0},null,null,null,null,null,null,null,null,null,null,null,null,null,null,2025,{"$f":"SUM(6:6)","v":0},null,null,null,null,null,null,null,null,null,null,null,null,null,null,2025,{"$f":"SUM(6:6)","v":0},null,null,null,null,null,null,null,null,null,null,null,null,null,null,2025,{"$f":"SUM(6:6)","v":0},null,null,null,null,null,null,null,null,null,null,null,null,null,null,2025,{"$f":"SUM(6:6)","v":0},null,null,null,null,null,null,null,null,null,null,null,null,null,null,2025,{"$f":"SUM(6:6)","v":0},null,null,null,null,null,null,null,null,null,null,null,null,null,null,2025,{"$f":"SUM(6:6)","v":0},null,null,null,null,null,null,null,null,null,null,null,null,null,null,2025,{"$f":"SUM(6:6)","v":0},null,null,null,null,null,null,null,null,null,null,null,null,null,null,2025,{"$f":"SUM(6:6)","v":0},null,null,null,null,null,null,null,null,null,null,null,null,null,null,2025,{"$f":"SUM(6:6)","v":0},null,null,null,null,null,null,null,null,null,null,null,null,null,null,2025,{"$f":"SUM(6:6)","v":0},null,null,null,null,null,null,null,null,null,null,null,null,null,null,2025,{"$f":"SUM(6:6)","v":0},null,null,null,null,null,null,null,null,null,null,null,null,null,null,2025,{"$f":"SUM(6:6)","v":0},null,null,null,null,null,null,null,null,null,null,null,null,null,null,2025,{"$f":"SUM(6:6)","v":0},null,null,null,null,null,null,null,null,null,null,null,null,null,null,2025,{"$f":"SUM(6:6)","v":0},null,null,null,null,null,null,null,null,null,null,null,null,null,null,2025,{"$f":"SUM(6:6)","v":0},null,null,null,null,null,null,null,null,null,null,null,null,null,null,2025,{"$f":"SUM(6:6)","v":0},null,null,null,null,null,null,null,null,null,null,null,null,null,null,2025,{"$f":"SUM(6:6)","v":0},null,null,null,null,null,null,null,null,null,null,null,null,null,null,2025,{"$f":"SUM(6:6)","v":0},null,null,null,null,null,null,null,null,null,null,null,null,null,null,2025,{"$f":"SUM(6:6)","v":0},null,null,null,null,null,null,null,null,null,null,null,null,null,null,2025,{"$f":"SUM(6:6)","v":0},null,null,null,null,null,null,null,null,null,null,null,null,null,null,2025,{"$f":"SUM(6:6)","v":0},null,null,null,null,null,null,null,null,null,null,null,null,null,null,2025,{"$f":"SUM(6:6)","v":0},null,null,null,null,null,null,null,null,null,null,null,null,null,null,2025,{"$f":"SUM(6:6)","v":0},null,null,null,null,null,null,null,null,null,null,null,null,null,null,2025,{"$f":"SUM(6:6)","v":0},null,null,null,null,null,null,null,null,null,null,null,null,null,null,2025,{"$f":"SUM(6:6)","v":0},null,null,null,null,null,null,null,null,null,null,null,null,null,null,2025,{"$f":"SUM(6:6)","v":0},null,null,null,null,null,null,null,null,null,null,null,null,null,null,2025,{"$f":"SUM(6:6)","v":0},null,null,null,null,null,null,null,null,null,null,null,null,null,null,2025,{"$f":"SUM(6:6)","v":0},null,null,null,null,null,null,null,null,null,null,null,null,null,null,2025,{"$f":"SUM(6:6)","v":0},null,null,null,null,null,null,null,null,null,null,null,null,null,null,2025,{"$f":"SUM(6:6)","v":0}]
[null,null,null,null,{"$f":"IF($C$224=\"\",0,1)*E$227","v":0},null,null,null,null,null,null,null,null,null,null,null,null,null,null,null,{"$f":"IF($C$224=\"\",0,1)*U$227","v":0},null,null,null,null,null,null,null,null,null,null,null,null,null,null,null,{"$f":"IF($C$224=\"\",0,1)*AK$227","v":0},null,null,null,null,null,null,null,null,null,null,null,null,null,null,null,{"$f":"IF($C$224=\"\",0,1)*BA$227","v":0},null,null,null,null,null,null,null,null,null,null,null,null,null,null,null,{"$f":"IF($C$224=\"\",0,1)*BQ$227","v":0},null,null,null,null,null,null,null,null,null,null,null,null,null,null,null,{"$f":"IF($C$224=\"\",0,1)*CG$227","v":0},null,null,null,null,null,null,null,null,null,null,null,null,null,null,null,{"$f":"IF($C$224=\"\",0,1)*CW$227","v":0},null,null,null,null,null,null,null,null,null,null,null,null,null,null,null,{"$f":"IF($C$224=\"\",0,1)*DM$227","v":0},null,null,null,null,null,null,null,null,null,null,null,null,null,null,null,{"$f":"IF($C$224=\"\",0,1)*EC$227","v":0},null,null,null,null,null,null,null,null,null,null,null,null,null,null,null,{"$f":"IF($C$224=\"\",0,1)*ES$227","v":0},null,null,null,null,null,null,null,null,null,null,null,null,null,null,null,{"$f":"IF($C$224=\"\",0,1)*FI$227","v":0},null,null,null,null,null,null,null,null,null,null,null,null,null,null,null,{"$f":"IF($C$224=\"\",0,1)*FY$227","v":0},null,null,null,null,null,null,null,null,null,null,null,null,null,null,null,{"$f":"IF($C$224=\"\",0,1)*GO$227","v":0},null,null,null,null,null,null,null,null,null,null,null,null,null,null,null,{"$f":"IF($C$224=\"\",0,1)*HE$227","v":0},null,null,null,null,null,null,null,null,null,null,null,null,null,null,null,{"$f":"IF($C$224=\"\",0,1)*HU$227","v":0},null,null,null,null,null,null,null,null,null,null,null,null,null,null,null,{"$f":"IF($C$224=\"\",0,1)*IK$227","v":0},null,null,null,null,null,null,null,null,null,null,null,null,null,null,null,{"$f":"IF($C$224=\"\",0,1)*JA$227","v":0},null,null,null,null,null,null,null,null,null,null,null,null,null,null,null,{"$f":"IF($C$224=\"\",0,1)*JQ$227","v":0},null,null,null,null,null,null,null,null,null,null,null,null,null,null,null,{"$f":"IF($C$224=\"\",0,1)*KG$227","v":0},null,null,null,null,null,null,null,null,null,null,null,null,null,null,null,{"$f":"IF($C$224=\"\",0,1)*KW$227","v":0},null,null,null,null,null,null,null,null,null,null,null,null,null,null,null,{"$f":"IF($C$224=\"\",0,1)*LM$227","v":0},null,null,null,null,null,null,null,null,null,null,null,null,null,null,null,{"$f":"IF($C$224=\"\",0,1)*MC$227","v":0},null,null,null,null,null,null,null,null,null,null,null,null,null,null,null,{"$f":"IF($C$224=\"\",0,1)*MS$227","v":0},null,null,null,null,null,null,null,null,null,null,null,null,null,null,null,{"$f":"IF($C$224=\"\",0,1)*NI$227","v":0},null,null,null,null,null,null,null,null,null,null,null,null,null,null,null,{"$f":"IF($C$224=\"\",0,1)*NY$227","v":0},null,null,null,null,null,null,null,null,null,null,null,null,null,null,null,{"$f":"IF($C$224=\"\",0,1)*OO$227","v":0},null,null,null,null,null,null,null,null,null,null,null,null,null,null,null,{"$f":"IF($C$224=\"\",0,1)*PE$227","v":0},null,null,null,null,null,null,null,null,null,null,null,null,null,null,null,{"$f":"IF($C$224=\"\",0,1)*PU$227","v":0},null,null,null,null,null,null,null,null,null,null,null,null,null,null,null,{"$f":"IF($C$224=\"\",0,1)*QK$227","v":0},null,null,null,null,null,null,null,null,null,null,null,null,null,null,null,{"$f":"IF($C$224=\"\",0,1)*RA$227","v":0},null,null,null,null,null,null,null,null,null,null,null,null,null,null,null,{"$f":"IF($C$224=\"\",0,1)*RQ$227","v":0},null,null,null,null,null,null,null,null,null,null,null,null,null,null,null,{"$f":"IF($C$224=\"\",0,1)*SG$227","v":0},null,null,null,null,null,null,null,null,null,null,null,null,null,null,null,{"$f":"IF($C$224=\"\",0,1)*SW$227","v":0},null,null,null,null,null,null,null,null,null,null,null,null,null,null,null,{"$f":"IF($C$224=\"\",0,1)*TM$227","v":0},null,null,null,null,null,null,null,null,null,null,null,null,null,null,null,{"$f":"IF($C$224=\"\",0,1)*UC$227","v":0},null,null,null,null,null,null,null,null,null,null,null,null,null,null,null,{"$f":"IF($C$224=\"\",0,1)*US$227","v":0},null,null,null,null,null,null,null,null,null,null,null,null,null,null,null,{"$f":"IF($C$224=\"\",0,1)*VI$227","v":0},null,null,null,null,null,null,null,null,null,null,null,null,null,null,null,{"$f":"IF($C$224=\"\",0,1)*VY$227","v":0},null,null,null,null,null,null,null,null,null,null,null,null,null,null,null,{"$f":"IF($C$224=\"\",0,1)*WO$227","v":0},null,null,null,null,null,null,null,null,null,null,null,null,null,null,null,{"$f":"IF($C$224=\"\",0,1)*XE$227","v":0},null,null,null,null,null,null,null,null,null,null,null,null,null,null,null,{"$f":"IF($C$224=\"\",0,1)*XU$227","v":0},null,null,null,null,null,null,null,null,null,null,null,null,null,null,null,{"$f":"IF($C$224=\"\",0,1)*YK$227","v":0},null,null,null,null,null,null,null,null,null,null,null,null,null,null,null,{"$f":"IF($C$224=\"\",0,1)*ZA$227","v":0},null,null,null,null,null,null,null,null,null,null,null,null,null,null,null,{"$f":"IF($C$224=\"\",0,1)*ZQ$227","v":0},null,null,null,null,null,null,null,null,null,null,null,null,null,null,null,{"$f":"IF($C$224=\"\",0,1)*AAG$227","v":0},null,null,null,null,null,null,null,null,null,null,null,null,null,null,null,{"$f":"IF($C$224=\"\",0,1)*AAW$227","v":0},null,null,null,null,null,null,null,null,null,null,null,null,null,null,null,{"$f":"IF($C$224=\"\",0,1)*ABM$227","v":0},null,null,null,null,null,null,null,null,null,null,null,null,null,null,null,{"$f":"IF($C$224=\"\",0,1)*ACC$227","v":0},null,null,null,null,null,null,null,null,null,null,null,null,null,null,null,{"$f":"IF($C$224=\"\",0,1)*ACS$227","v":0},null,null,null,null,null,null,null,null,null,null,null,null,null,null,null,{"$f":"IF($C$224=\"\",0,1)*ADI$227","v":0}]
[2026,{"$f":"SUM(8:8)","v":0},null,null,null,null,null,null,null,null,null,null,null,null,null,null,2026,{"$f":"SUM(8:8)","v":0},null,null,null,null,null,null,null,null,null,null,null,null,null,null,2026,{"$f":"SUM(8:8)","v":0},null,null,null,null,null,null,null,null,null,null,null,null,null,null,2026,{"$f":"SUM(8:8)","v":0},null,null,null,null,null,null,null,null,null,null,null,null,null,null,2026,{"$f":"SUM(8:8)","v":0},null,null,null,null,null,null,null,null,null,null,null,null,null,null,2026,{"$f":"SUM(8:8)","v":0},null,null,null,null,null,null,null,null,null,null,null,null,null,null,2026,{"$f":"SUM(8:8)","v":0},null,null,null,null,null,null,null,null,null,null,null,null,null,null,2026,{"$f":"SUM(8:8)","v":0},null,null,null,null,null,null,null,null,null,null,null,null,null,null,2026,{"$f":"SUM(8:8)","v":0},null,null,null,null,null,null,null,null,null,null,null,null,null,null,2026,{"$f":"SUM(8:8)","v":0},null,null,null,null,null,null,null,null,null,null,null,null,null,null,2026,{"$f":"SUM(8:8)","v":0},null,null,null,null,null,null,null,null,null,null,null,null,null,null,2026,{"$f":"SUM(8:8)","v":0},null,null,null,null,null,null,null,null,null,null,null,null,null,null,2026,{"$f":"SUM(8:8)","v":0},null,null,null,null,null,null,null,null,null,null,null,null,null,null,2026,{"$f":"SUM(8:8)","v":0},null,null,null,null,null,null,null,null,null,null,null,null,null,null,2026,{"$f":"SUM(8:8)","v":0},null,null,null,null,null,null,null,null,null,null,null,null,null,null,2026,{"$f":"SUM(8:8)","v":0},null,null,null,null,null,null,null,null,null,null,null,null,null,null,2026,{"$f":"SUM(8:8)","v":0},null,null,null,null,null,null,null,null,null,null,null,null,null,null,2026,{"$f":"SUM(8:8)","v":0},null,null,null,null,null,null,null,null,null,null,null,null,null,null,2026,{"$f":"SUM(8:8)","v":0},null,null,null,null,null,null,null,null,null,null,null,null,null,null,2026,{"$f":"SUM(8:8)","v":0},null,null,null,null,null,null,null,null,null,null,null,null,null,null,2026,{"$f":"SUM(8:8)","v":0},null,null,null,null,null,null,null,null,null,null,null,null,null,null,2026,{"$f":"SUM(8:8)","v":0},null,null,null,null,null,null,null,null,null,null,null,null,null,null,2026,{"$f":"SUM(8:8)","v":0},null,null,null,null,null,null,null,null,null,null,null,null,null,null,2026,{"$f":"SUM(8:8)","v":0},null,null,null,null,null,null,null,null,null,null,null,null,null,null,2026,{"$f":"SUM(8:8)","v":0},null,null,null,null,null,null,null,null,null,null,null,null,null,null,2026,{"$f":"SUM(8:8)","v":0},null,null,null,null,null,null,null,null,null,null,null,null,null,null,2026,{"$f":"SUM(8:8)","v":0},null,null,null,null,null,null,null,null,null,null,null,null,null,null,2026,{"$f":"SUM(8:8)","v":0},null,null,null,null,null,null,null,null,null,null,null,null,null,null,2026,{"$f":"SUM(8:8)","v":0},null,null,null,null,null,null,null,null,null,null,null,null,null,null,2026,{"$f":"SUM(8:8)","v":0},null,null,null,null,null,null,null,null,null,null,null,null,null,null,2026,{"$f":"SUM(8:8)","v":0},null,null,null,null,null,null,null,null,null,null,null,null,null,null,2026,{"$f":"SUM(8:8)","v":0},null,null,null,null,null,null,null,null,null,null,null,null,null,null,2026,{"$f":"SUM(8:8)","v":0},null,null,null,null,null,null,null,null,null,null,null,null,null,null,2026,{"$f":"SUM(8:8)","v":0},null,null,null,null,null,null,null,null,null,null,null,null,null,null,2026,{"$f":"SUM(8:8)","v":0},null,null,null,null,null,null,null,null,null,null,null,null,null,null,2026,{"$f":"SUM(8:8)","v":0},null,null,null,null,null,null,null,null,null,null,null,null,null,null,2026,{"$f":"SUM(8:8)","v":0},null,null,null,null,null,null,null,null,null,null,null,null,null,null,2026,{"$f":"SUM(8:8)","v":0},null,null,null,null,null,null,null,null,null,null,null,null,null,null,2026,{"$f":"SUM(8:8)","v":0},null,null,null,null,null,null,null,null,null,null,null,null,null,null,2026,{"$f":"SUM(8:8)","v":0},null,null,null,null,null,null,null,null,null,null,null,null,null,null,2026,{"$f":"SUM(8:8)","v":0},null,null,null,null,null,null,null,null,null,null,null,null,null,null,2026,{"$f":"SUM(8:8)","v":0},null,null,null,null,null,null,null,null,null,null,null,null,null,null,2026,{"$f":"SUM(8:8)","v":0},null,null,null,null,null,null,null,null,null,null,null,null,null,null,2026,{"$f":"SUM(8:8)","v":0},null,null,null,null,null,null,null,null,null,null,null,null,null,null,2026,{"$f":"SUM(8:8)","v":0},null,null,null,null,null,null,null,null,null,null,null,null,null,null,2026,{"$f":"SUM(8:8)","v":0},null,null,null,null,null,null,null,null,null,null,null,null,null,null,2026,{"$f":"SUM(8:8)","v":0},null,null,null,null,null,null,null,null,null,null,null,null,null,null,2026,{"$f":"SUM(8:8)","v":0},null,null,null,null,null,null,null,null,null,null,null,null,null,null,2026,{"$f":"SUM(8:8)","v":0},null,null,null,null,null,null,null,null,null,null,null,null,null,null,2026,{"$f":"SUM(8:8)","v":0}]
[null,null,null,null,null,{"$f":"IF($C$224=\"\",0,1)*F$227","v":0},null,null,null,null,null,null,null,null,null,null,null,null,null,null,null,{"$f":"IF($C$224=\"\",0,1)*V$227","v":0},null,null,null,null,null,null,null,null,null,null,null,null,null,null,null,{"$f":"IF($C$224=\"\",0,1)*AL$227","v":0},null,null,null,null,null,null,null,null,null,null,null,null,null,null,null,{"$f":"IF($C$224=\"\",0,1)*BB$227","v":0},null,null,null,null,null,null,null,null,null,null,null,null,null,null,null,{"$f":"IF($C$224=\"\",0,1)*BR$227","v":0},null,null,null,null,null,null,null,null,null,null,null,null,null,null,null,{"$f":"IF($C$224=\"\",0,1)*CH$227","v":0},null,null,null,null,null,null,null,null,null,null,null,null,null,null,null,{"$f":"IF($C$224=\"\",0,1)*CX$227","v":0},null,null,null,null,null,null,null,null,null,null,null,null,null,null,null,{"$f":"IF($C$224=\"\",0,1)*DN$227","v":0},null,null,null,null,null,null,null,null,null,null,null,null,null,null,null,{"$f":"IF($C$224=\"\",0,1)*ED$227","v":0},null,null,null,null,null,null,null,null,null,null,null,null,null,null,null,{"$f":"IF($C$224=\"\",0,1)*ET$227","v":0},null,null,null,null,null,null,null,null,null,null,null,null,null,null,null,{"$f":"IF($C$224=\"\",0,1)*FJ$227","v":0},null,null,null,null,null,null,null,null,null,null,null,null,null,null,null,{"$f":"IF($C$224=\"\",0,1)*FZ$227","v":0},null,null,null,null,null,null,null,null,null,null,null,null,null,null,null,{"$f":"IF($C$224=\"\",0,1)*GP$227","v":0},null,null,null,null,null,null,null,null,null,null,null,null,null,null,null,{"$f":"IF($C$224=\"\",0,1)*HF$227","v":0},null,null,null,null,null,null,null,null,null,null,null,null,null,null,null,{"$f":"IF($C$224=\"\",0,1)*HV$227","v":0},null,null,null,null,null,null,null,null,null,null,null,null,null,null,null,{"$f":"IF($C$224=\"\",0,1)*IL$227","v":0},null,null,null,null,null,null,null,null,null,null,null,null,null,null,null,{"$f":"IF($C$224=\"\",0,1)*JB$227","v":0},null,null,null,null,null,null,null,null,null,null,null,null,null,null,null,{"$f":"IF($C$224=\"\",0,1)*JR$227","v":0},null,null,null,null,null,null,null,null,null,null,null,null,null,null,null,{"$f":"IF($C$224=\"\",0,1)*KH$227","v":0},null,null,null,null,null,null,null,null,null,null,null,null,null,null,null,{"$f":"IF($C$224=\"\",0,1)*KX$227","v":0},null,null,null,null,null,null,null,null,null,null,null,null,null,null,null,{"$f":"IF($C$224=\"\",0,1)*LN$227","v":0},null,null,null,null,null,null,null,null,null,null,null,null,null,null,null,{"$f":"IF($C$224=\"\",0,1)*MD$227","v":0},null,null,null,null,null,null,null,null,null,null,null,null,null,null,null,{"$f":"IF($C$224=\"\",0,1)*MT$227","v":0},null,null,null,null,null,null,null,null,null,null,null,null,null,null,null,{"$f":"IF($C$224=\"\",0,1)*NJ$227","v":0},null,null,null,null,null,null,null,null,null,null,null,null,null,null,null,{"$f":"IF($C$224=\"\",0,1)*NZ$227","v":0},null,null,null,null,null,null,null,null,null,null,null,null,null,null,null,{"$f":"IF($C$224=\"\",0,1)*OP$227","v":0},null,null,null,null,null,null,null,null,null,null,null,null,null,null,null,{"$f":"IF($C$224=\"\",0,1)*PF$227","v":0},null,null,null,null,null,null,null,null,null,null,null,null,null,null,null,{"$f":"IF($C$224=\"\",0,1)*PV$227","v":0},null,null,null,null,null,null,null,null,null,null,null,null,null,null,null,{"$f":"IF($C$224=\"\",0,1)*QL$227","v":0},null,null,null,null,null,null,null,null,null,null,null,null,null,null,null,{"$f":"IF($C$224=\"\",0,1)*RB$227","v":0},null,null,null,null,null,null,null,null,null,null,null,null,null,null,null,{"$f":"IF($C$224=\"\",0,1)*RR$227","v":0},null,null,null,null,null,null,null,null,null,null,null,null,null,null,null,{"$f":"IF($C$224=\"\",0,1)*SH$227","v":0},null,null,null,null,null,null,null,null,null,null,null,null,null,null,null,{"$f":"IF($C$224=\"\",0,1)*SX$227","v":0},null,null,null,null,null,null,null,null,null,null,null,null,null,null,null,{"$f":"IF($C$224=\"\",0,1)*TN$227","v":0},null,null,null,null,null,null,null,null,null,null,null,null,null,null,null,{"$f":"IF($C$224=\"\",0,1)*UD$227","v":0},null,null,null,null,null,null,null,null,null,null,null,null,null,null,null,{"$f":"IF($C$224=\"\",0,1)*UT$227","v":0},null,null,null,null,null,null,null,null,null,null,null,null,null,null,null,{"$f":"IF($C$224=\"\",0,1)*VJ$227","v":0},null,null,null,null,null,null,null,null,null,null,null,null,null,null,null,{"$f":"IF($C$224=\"\",0,1)*VZ$227","v":0},null,null,null,null,null,null,null,null,null,null,null,null,null,null,null,{"$f":"IF($C$224=\"\",0,1)*WP$227","v":0},null,null,null,null,null,null,null,null,null,null,null,null,null,null,null,{"$f":"IF($C$224=\"\",0,1)*XF$227","v":0},null,null,null,null,null,null,null,null,null,null,null,null,null,null,null,{"$f":"IF($C$224=\"\",0,1)*XV$227","v":0},null,null,null,null,null,null,null,null,null,null,null,null,null,null,null,{"$f":"IF($C$224=\"\",0,1)*YL$227","v":0},null,null,null,null,null,null,null,null,null,null,null,null,null,null,null,{"$f":"IF($C$224=\"\",0,1)*ZB$227","v":0},null,null,null,null,null,null,null,null,null,null,null,null,null,null,null,{"$f":"IF($C$224=\"\",0,1)*ZR$227","v":0},null,null,null,null,null,null,null,null,null,null,null,null,null,null,null,{"$f":"IF($C$224=\"\",0,1)*AAH$227","v":0},null,null,null,null,null,null,null,null,null,null,null,null,null,null,null,{"$f":"IF($C$224=\"\",0,1)*AAX$227","v":0},null,null,null,null,null,null,null,null,null,null,null,null,null,null,null,{"$f":"IF($C$224=\"\",0,1)*ABN$227","v":0},null,null,null,null,null,null,null,null,null,null,null,null,null,null,null,{"$f":"IF($C$224=\"\",0,1)*ACD$227","v":0},null,null,null,null,null,null,null,null,null,null,null,null,null,null,null,{"$f":"IF($C$224=\"\",0,1)*ACT$227","v":0},null,null,null,null,null,null,null,null,null,null,null,null,null,null,null,{"$f":"IF($C$224=\"\",0,1)*ADJ$227","v":0}]
[2027,{"$f":"SUM(10:10)","v":0},null,null,null,null,null,null,null,null,null,null,null,null,null,null,2027,{"$f":"SUM(10:10)","v":0},null,null,null,null,null,null,null,null,null,null,null,null,null,null,2027,{"$f":"SUM(10:10)","v":0},null,null,null,null,null,null,null,null,null,null,null,null,null,null,2027,{"$f":"SUM(10:10)","v":0},null,null,null,null,null,null,null,null,null,null,null,null,null,null,2027,{"$f":"SUM(10:10)","v":0},null,null,null,null,null,null,null,null,null,null,null,null,null,null,2027,{"$f":"SUM(10:10)","v":0},null,null,null,null,null,null,null,null,null,null,null,null,null,null,2027,{"$f":"SUM(10:10)","v":0},null,null,null,null,null,null,null,null,null,null,null,null,null,null,2027,{"$f":"SUM(10:10)","v":0},null,null,null,null,null,null,null,null,null,null,null,null,null,null,2027,{"$f":"SUM(10:10)","v":0},null,null,null,null,null,null,null,null,null,null,null,null,null,null,2027,{"$f":"SUM(10:10)","v":0},null,null,null,null,null,null,null,null,null,null,null,null,null,null,2027,{"$f":"SUM(10:10)","v":0},null,null,null,null,null,null,null,null,null,null,null,null,null,null,2027,{"$f":"SUM(10:10)","v":0},null,null,null,null,null,null,null,null,null,null,null,null,null,null,2027,{"$f":"SUM(10:10)","v":0},null,null,null,null,null,null,null,null,null,null,null,null,null,null,2027,{"$f":"SUM(10:10)","v":0},null,null,null,null,null,null,null,null,null,null,null,null,null,null,2027,{"$f":"SUM(10:10)","v":0},null,null,null,null,null,null,null,null,null,null,null,null,null,null,2027,{"$f":"SUM(10:10)","v":0},null,null,null,null,null,null,null,null,null,null,null,null,null,null,2027,{"$f":"SUM(10:10)","v":0},null,null,null,null,null,null,null,null,null,null,null,null,null,null,2027,{"$f":"SUM(10:10)","v":0},null,null,null,null,null,null,null,null,null,null,null,null,null,null,2027,{"$f":"SUM(10:10)","v":0},null,null,null,null,null,null,null,null,null,null,null,null,null,null,2027,{"$f":"SUM(10:10)","v":0},null,null,null,null,null,null,null,null,null,null,null,null,null,null,2027,{"$f":"SUM(10:10)","v":0},null,null,null,null,null,null,null,null,null,null,null,null,null,null,2027,{"$f":"SUM(10:10)","v":0},null,null,null,null,null,null,null,null,null,null,null,null,null,null,2027,{"$f":"SUM(10:10)","v":0},null,null,null,null,null,null,null,null,null,null,null,null,null,null,2027,{"$f":"SUM(10:10)","v":0},null,null,null,null,null,null,null,null,null,null,null,null,null,null,2027,{"$f":"SUM(10:10)","v":0},null,null,null,null,null,null,null,null,null,null,null,null,null,null,2027,{"$f":"SUM(10:10)","v":0},null,null,null,null,null,null,null,null,null,null,null,null,null,null,2027,{"$f":"SUM(10:10)","v":0},null,null,null,null,null,null,null,null,null,null,null,null,null,null,2027,{"$f":"SUM(10:10)","v":0},null,null,null,null,null,null,null,null,null,null,null,null,null,null,2027,{"$f":"SUM(10:10)","v":0},null,null,null,null,null,null,null,null,null,null,null,null,null,null,2027,{"$f":"SUM(10:10)","v":0},null,null,null,null,null,null,null,null,null,null,null,null,null,null,2027,{"$f":"SUM(10:10)","v":0},null,null,null,null,null,null,null,null,null,null,null,null,null,null,2027,{"$f":"SUM(10:10)","v":0},null,null,null,null,null,null,null,null,null,null,null,null,null,null,2027,{"$f":"SUM(10:10)","v":0},null,null,null,null,null,null,null,null,null,null,null,null,null,null,2027,{"$f":"SUM(10:10)","v":0},null,null,null,null,null,null,null,null,null,null,null,null,null,null,2027,{"$f":"SUM(10:10)","v":0},null,null,null,null,null,null,null,null,null,null,null,null,null,null,2027,{"$f":"SUM(10:10)","v":0},null,null,null,null,null,null,null,null,null,null,null,null,null,null,2027,{"$f":"SUM(10:10)","v":0},null,null,null,null,null,null,null,null,null,null,null,null,null,null,2027,{"$f":"SUM(10:10)","v":0},null,null,null,null,null,null,null,null,null,null,null,null,null,null,2027,{"$f":"SUM(10:10)","v":0},null,null,null,null,null,null,null,null,null,null,null,null,null,null,2027,{"$f":"SUM(10:10)","v":0},null,null,null,null,null,null,null,null,null,null,null,null,null,null,2027,{"$f":"SUM(10:10)","v":0},null,null,null,null,null,null,null,null,null,null,null,null,null,null,2027,{"$f":"SUM(10:10)","v":0},null,null,null,null,null,null,null,null,null,null,null,null,null,null,2027,{"$f":"SUM(10:10)","v":0},null,null,null,null,null,null,null,null,null,null,null,null,null,null,2027,{"$f":"SUM(10:10)","v":0},null,null,null,null,null,null,null,null,null,null,null,null,null,null,2027,{"$f":"SUM(10:10)","v":0},null,null,null,null,null,null,null,null,null,null,null,null,null,null,2027,{"$f":"SUM(10:10)","v":0},null,null,null,null,null,null,null,null,null,null,null,null,null,null,2027,{"$f":"SUM(10:10)","v":0},null,null,null,null,null,null,null,null,null,null,null,null,null,null,2027,{"$f":"SUM(10:10)","v":0},null,null,null,null,null,null,null,null,null,null,null,null,null,null,2027,{"$f":"SUM(10:10)","v":0},null,null,null,null,null,null,null,null,null,null,null,null,null,null,2027,{"$f":"SUM(10:10)","v":0}]
[null,null,null,null,null,null,{"$f":"IF($C$224=\"\",0,1)*G$227","v":0},null,null,null,null,null,null,null,null,null,null,null,null,null,null,null,{"$f":"IF($C$224=\"\",0,1)*W$227","v":0},null,null,null,null,null,null,null,null,null,null,null,null,null,null,null,{"$f":"IF($C$224=\"\",0,1)*AM$227","v":0},null,null,null,null,null,null,null,null,null,null,null,null,null,null,null,{"$f":"IF($C$224=\"\",0,1)*BC$227","v":0},null,null,null,null,null,null,null,null,null,null,null,null,null,null,null,{"$f":"IF($C$224=\"\",0,1)*BS$227","v":0},null,null,null,null,null,null,null,null,null,null,null,null,null,null,null,{"$f":"IF($C$224=\"\",0,1)*CI$227","v":0},null,null,null,null,null,null,null,null,null,null,null,null,null,null,null,{"$f":"IF($C$224=\"\",0,1)*CY$227","v":0},null,null,null,null,null,null,null,null,null,null,null,null,null,null,null,{"$f":"IF($C$224=\"\",0,1)*DO$227","v":0},null,null,null,null,null,null,null,null,null,null,null,null,null,null,null,{"$f":"IF($C$224=\"\",0,1)*EE$227","v":0},null,null,null,null,null,null,null,null,null,null,null,null,null,null,null,{"$f":"IF($C$224=\"\",0,1)*EU$227","v":0},null,null,null,null,null,null,null,null,null,null,null,null,null,null,null,{"$f":"IF($C$224=\"\",0,1)*FK$227","v":0},null,null,null,null,null,null,null,null,null,null,null,null,null,null,null,{"$f":"IF($C$224=\"\",0,1)*GA$227","v":0},null,null,null,null,null,null,null,null,null,null,null,null,null,null,null,{"$f":"IF($C$224=\"\",0,1)*GQ$227","v":0},null,null,null,null,null,null,null,null,null,null,null,null,null,null,null,{"$f":"IF($C$224=\"\",0,1)*HG$227","v":0},null,null,null,null,null,null,null,null,null,null,null,null,null,null,null,{"$f":"IF($C$224=\"\",0,1)*HW$227","v":0},null,null,null,null,null,null,null,null,null,null,null,null,null,null,null,{"$f":"IF($C$224=\"\",0,1)*IM$227","v":0},null,null,null,null,null,null,null,null,null,null,null,null,null,null,null,{"$f":"IF($C$224=\"\",0,1)*JC$227","v":0},null,null,null,null,null,null,null,null,null,null,null,null,null,null,null,{"$f":"IF($C$224=\"\",0,1)*JS$227","v":0},null,null,null,null,null,null,null,null,null,null,null,null,null,null,null,{"$f":"IF($C$224=\"\",0,1)*KI$227","v":0},null,null,null,null,null,null,null,null,null,null,null,null,null,null,null,{"$f":"IF($C$224=\"\",0,1)*KY$227","v":0},null,null,null,null,null,null,null,null,null,null,null,null,null,null,null,{"$f":"IF($C$224=\"\",0,1)*LO$227","v":0},null,null,null,null,null,null,null,null,null,null,null,null,null,null,null,{"$f":"IF($C$224=\"\",0,1)*ME$227","v":0},null,null,null,null,null,null,null,null,null,null,null,null,null,null,null,{"$f":"IF($C$224=\"\",0,1)*MU$227","v":0},null,null,null,null,null,null,null,null,null,null,null,null,null,null,null,{"$f":"IF($C$224=\"\",0,1)*NK$227","v":0},null,null,null,null,null,null,null,null,null,null,null,null,null,null,null,{"$f":"IF($C$224=\"\",0,1)*OA$227","v":0},null,null,null,null,null,null,null,null,null,null,null,null,null,null,null,{"$f":"IF($C$224=\"\",0,1)*OQ$227","v":0},null,null,null,null,null,null,null,null,null,null,null,null,null,null,null,{"$f":"IF($C$224=\"\",0,1)*PG$227","v":0},null,null,null,null,null,null,null,null,null,null,null,null,null,null,null,{"$f":"IF($C$224=\"\",0,1)*PW$227","v":0},null,null,null,null,null,null,null,null,null,null,null,null,null,null,null,{"$f":"IF($C$224=\"\",0,1)*QM$227","v":0},null,null,null,null,null,null,null,null,null,null,null,null,null,null,null,{"$f":"IF($C$224=\"\",0,1)*RC$227","v":0},null,null,null,null,null,null,null,null,null,null,null,null,null,null,null,{"$f":"IF($C$224=\"\",0,1)*RS$227","v":0},null,null,null,null,null,null,null,null,null,null,null,null,null,null,null,{"$f":"IF($C$224=\"\",0,1)*SI$227","v":0},null,null,null,null,null,null,null,null,null,null,null,null,null,null,null,{"$f":"IF($C$224=\"\",0,1)*SY$227","v":0},null,null,null,null,null,null,null,null,null,null,null,null,null,null,null,{"$f":"IF($C$224=\"\",0,1)*TO$227","v":0},null,null,null,null,null,null,null,null,null,null,null,null,null,null,null,{"$f":"IF($C$224=\"\",0,1)*UE$227","v":0},null,null,null,null,null,null,null,null,null,null,null,null,null,null,null,{"$f":"IF($C$224=\"\",0,1)*UU$227","v":0},null,null,null,null,null,null,null,null,null,null,null,null,null,null,null,{"$f":"IF($C$224=\"\",0,1)*VK$227","v":0},null,null,null,null,null,null,null,null,null,null,null,null,null,null,null,{"$f":"IF($C$224=\"\",0,1)*WA$227","v":0},null,null,null,null,null,null,null,null,null,null,null,null,null,null,null,{"$f":"IF($C$224=\"\",0,1)*WQ$227","v":0},null,null,null,null,null,null,null,null,null,null,null,null,null,null,null,{"$f":"IF($C$224=\"\",0,1)*XG$227","v":0},null,null,null,null,null,null,null,null,null,null,null,null,null,null,null,{"$f":"IF($C$224=\"\",0,1)*XW$227","v":0},null,null,null,null,null,null,null,null,null,null,null,null,null,null,null,{"$f":"IF($C$224=\"\",0,1)*YM$227","v":0},null,null,null,null,null,null,null,null,null,null,null,null,null,null,null,{"$f":"IF($C$224=\"\",0,1)*ZC$227","v":0},null,null,null,null,null,null,null,null,null,null,null,null,null,null,null,{"$f":"IF($C$224=\"\",0,1)*ZS$227","v":0},null,null,null,null,null,null,null,null,null,null,null,null,null,null,null,{"$f":"IF($C$224=\"\",0,1)*AAI$227","v":0},null,null,null,null,null,null,null,null,null,null,null,null,null,null,null,{"$f":"IF($C$224=\"\",0,1)*AAY$227","v":0},null,null,null,null,null,null,null,null,null,null,null,null,null,null,null,{"$f":"IF($C$224=\"\",0,1)*ABO$227","v":0},null,null,null,null,null,null,null,null,null,null,null,null,null,null,null,{"$f":"IF($C$224=\"\",0,1)*ACE$227","v":0},null,null,null,null,null,null,null,null,null,null,null,null,null,null,null,{"$f":"IF($C$224=\"\",0,1)*ACU$227","v":0},null,null,null,null,null,null,null,null,null,null,null,null,null,null,null,{"$f":"IF($C$224=\"\",0,1)*ADK$227","v":0}]
[2028,{"$f":"SUM(12:12)","v":0},null,null,null,null,null,null,null,null,null,null,null,null,null,null,2028,{"$f":"SUM(12:12)","v":0},null,null,null,null,null,null,null,null,null,null,null,null,null,null,2028,{"$f":"SUM(12:12)","v":0},null,null,null,null,null,null,null,null,null,null,null,null,null,null,2028,{"$f":"SUM(12:12)","v":0},null,null,null,null,null,null,null,null,null,null,null,null,null,null,2028,{"$f":"SUM(12:12)","v":0},null,null,null,null,null,null,null,null,null,null,null,null,null,null,2028,{"$f":"SUM(12:12)","v":0},null,null,null,null,null,null,null,null,null,null,null,null,null,null,2028,{"$f":"SUM(12:12)","v":0},null,null,null,null,null,null,null,null,null,null,null,null,null,null,2028,{"$f":"SUM(12:12)","v":0},null,null,null,null,null,null,null,null,null,null,null,null,null,null,2028,{"$f":"SUM(12:12)","v":0},null,null,null,null,null,null,null,null,null,null,null,null,null,null,2028,{"$f":"SUM(12:12)","v":0},null,null,null,null,null,null,null,null,null,null,null,null,null,null,2028,{"$f":"SUM(12:12)","v":0},null,null,null,null,null,null,null,null,null,null,null,null,null,null,2028,{"$f":"SUM(12:12)","v":0},null,null,null,null,null,null,null,null,null,null,null,null,null,null,2028,{"$f":"SUM(12:12)","v":0},null,null,null,null,null,null,null,null,null,null,null,null,null,null,2028,{"$f":"SUM(12:12)","v":0},null,null,null,null,null,null,null,null,null,null,null,null,null,null,2028,{"$f":"SUM(12:12)","v":0},null,null,null,null,null,null,null,null,null,null,null,null,null,null,2028,{"$f":"SUM(12:12)","v":0},null,null,null,null,null,null,null,null,null,null,null,null,null,null,2028,{"$f":"SUM(12:12)","v":0},null,null,null,null,null,null,null,null,null,null,null,null,null,null,2028,{"$f":"SUM(12:12)","v":0},null,null,null,null,null,null,null,null,null,null,null,null,null,null,2028,{"$f":"SUM(12:12)","v":0},null,null,null,null,null,null,null,null,null,null,null,null,null,null,2028,{"$f":"SUM(12:12)","v":0},null,null,null,null,null,null,null,null,null,null,null,null,null,null,2028,{"$f":"SUM(12:12)","v":0},null,null,null,null,null,null,null,null,null,null,null,null,null,null,2028,{"$f":"SUM(12:12)","v":0},null,null,null,null,null,null,null,null,null,null,null,null,null,null,2028,{"$f":"SUM(12:12)","v":0},null,null,null,null,null,null,null,null,null,null,null,null,null,null,2028,{"$f":"SUM(12:12)","v":0},null,null,null,null,null,null,null,null,null,null,null,null,null,null,2028,{"$f":"SUM(12:12)","v":0},null,null,null,null,null,null,null,null,null,null,null,null,null,null,2028,{"$f":"SUM(12:12)","v":0},null,null,null,null,null,null,null,null,null,null,null,null,null,null,2028,{"$f":"SUM(12:12)","v":0},null,null,null,null,null,null,null,null,null,null,null,null,null,null,2028,{"$f":"SUM(12:12)","v":0},null,null,null,null,null,null,null,null,null,null,null,null,null,null,2028,{"$f":"SUM(12:12)","v":0},null,null,null,null,null,null,null,null,null,null,null,null,null,null,2028,{"$f":"SUM(12:12)","v":0},null,null,null,null,null,null,null,null,null,null,null,null,null,null,2028,{"$f":"SUM(12:12)","v":0},null,null,null,null,null,null,null,null,null,null,null,null,null,null,2028,{"$f":"SUM(12:12)","v":0},null,null,null,null,null,null,null,null,null,null,null,null,null,null,2028,{"$f":"SUM(12:12)","v":0},null,null,null,null,null,null,null,null,null,null,null,null,null,null,2028,{"$f":"SUM(12:12)","v":0},null,null,null,null,null,null,null,null,null,null,null,null,null,null,2028,{"$f":"SUM(12:12)","v":0},null,null,null,null,null,null,null,null,null,null,null,null,null,null,2028,{"$f":"SUM(12:12)","v":0},null,null,null,null,null,null,null,null,null,null,null,null,null,null,2028,{"$f":"SUM(12:12)","v":0},null,null,null,null,null,null,null,null,null,null,null,null,null,null,2028,{"$f":"SUM(12:12)","v":0},null,null,null,null,null,null,null,null,null,null,null,null,null,null,2028,{"$f":"SUM(12:12)","v":0},null,null,null,null,null,null,null,null,null,null,null,null,null,null,2028,{"$f":"SUM(12:12)","v":0},null,null,null,null,null,null,null,null,null,null,null,null,null,null,2028,{"$f":"SUM(12:12)","v":0},null,null,null,null,null,null,null,null,null,null,null,null,null,null,2028,{"$f":"SUM(12:12)","v":0},null,null,null,null,null,null,null,null,null,null,null,null,null,null,2028,{"$f":"SUM(12:12)","v":0},null,null,null,null,null,null,null,null,null,null,null,null,null,null,2028,{"$f":"SUM(12:12)","v":0},null,null,null,null,null,null,null,null,null,null,null,null,null,null,2028,{"$f":"SUM(12:12)","v":0},null,null,null,null,null,null,null,null,null,null,null,null,null,null,2028,{"$f":"SUM(12:12)","v":0},null,null,null,null,null,null,null,null,null,null,null,null,null,null,2028,{"$f":"SUM(12:12)","v":0},null,null,null,null,null,null,null,null,null,null,null,null,null,null,2028,{"$f":"SUM(12:12)","v":0},null,null,null,null,null,null,null,null,null,null,null,null,null,null,2028,{"$f":"SUM(12:12)","v":0},null,null,null,null,null,null,null,null,null,null,null,null,null,null,2028,{"$f":"SUM(12:12)","v":0}]
[null,null,null,null,null,null,null,{"$f":"IF($C$224=\"\",0,1)*H$227","v":0},null,null,null,null,null,null,null,null,null,null,null,null,null,null,null,{"$f":"IF($C$224=\"\",0,1)*X$227","v":0},null,null,null,null,null,null,null,null,null,null,null,null,null,null,null,{"$f":"IF($C$224=\"\",0,1)*AN$227","v":0},null,null,null,null,null,null,null,null,null,null,null,null,null,null,null,{"$f":"IF($C$224=\"\",0,1)*BD$227","v":0},null,null,null,null,null,null,null,null,null,null,null,null,null,null,null,{"$f":"IF($C$224=\"\",0,1)*BT$227","v":0},null,null,null,null,null,null,null,null,null,null,null,null,null,null,null,{"$f":"IF($C$224=\"\",0,1)*CJ$227","v":0},null,null,null,null,null,null,null,null,null,null,null,null,null,null,null,{"$f":"IF($C$224=\"\",0,1)*CZ$227","v":0},null,null,null,null,null,null,null,null,null,null,null,null,null,null,null,{"$f":"IF($C$224=\"\",0,1)*DP$227","v":0},null,null,null,null,null,null,null,null,null,null,null,null,null,null,null,{"$f":"IF($C$224=\"\",0,1)*EF$227","v":0},null,null,null,null,null,null,null,null,null,null,null,null,null,null,null,{"$f":"IF($C$224=\"\",0,1)*EV$227","v":0},null,null,null,null,null,null,null,null,null,null,null,null,null,null,null,{"$f":"IF($C$224=\"\",0,1)*FL$227","v":0},null,null,null,null,null,null,null,null,null,null,null,null,null,null,null,{"$f":"IF($C$224=\"\",0,1)*GB$227","v":0},null,null,null,null,null,null,null,null,null,null,null,null,null,null,null,{"$f":"IF($C$224=\"\",0,1)*GR$227","v":0},null,null,null,null,null,null,null,null,null,null,null,null,null,null,null,{"$f":"IF($C$224=\"\",0,1)*HH$227","v":0},null,null,null,null,null,null,null,null,null,null,null,null,null,null,null,{"$f":"IF($C$224=\"\",0,1)*HX$227","v":0},null,null,null,null,null,null,null,null,null,null,null,null,null,null,null,{"$f":"IF($C$224=\"\",0,1)*IN$227","v":0},null,null,null,null,null,null,null,null,null,null,null,null,null,null,null,{"$f":"IF($C$224=\"\",0,1)*JD$227","v":0},null,null,null,null,null,null,null,null,null,null,null,null,null,null,null,{"$f":"IF($C$224=\"\",0,1)*JT$227","v":0},null,null,null,null,null,null,null,null,null,null,null,null,null,null,null,{"$f":"IF($C$224=\"\",0,1)*KJ$227","v":0},null,null,null,null,null,null,null,null,null,null,null,null,null,null,null,{"$f":"IF($C$224=\"\",0,1)*KZ$227","v":0},null,null,null,null,null,null,null,null,null,null,null,null,null,null,null,{"$f":"IF($C$224=\"\",0,1)*LP$227","v":0},null,null,null,null,null,null,null,null,null,null,null,null,null,null,null,{"$f":"IF($C$224=\"\",0,1)*MF$227","v":0},null,null,null,null,null,null,null,null,null,null,null,null,null,null,null,{"$f":"IF($C$224=\"\",0,1)*MV$227","v":0},null,null,null,null,null,null,null,null,null,null,null,null,null,null,null,{"$f":"IF($C$224=\"\",0,1)*NL$227","v":0},null,null,null,null,null,null,null,null,null,null,null,null,null,null,null,{"$f":"IF($C$224=\"\",0,1)*OB$227","v":0},null,null,null,null,null,null,null,null,null,null,null,null,null,null,null,{"$f":"IF($C$224=\"\",0,1)*OR$227","v":0},null,null,null,null,null,null,null,null,null,null,null,null,null,null,null,{"$f":"IF($C$224=\"\",0,1)*PH$227","v":0},null,null,null,null,null,null,null,null,null,null,null,null,null,null,null,{"$f":"IF($C$224=\"\",0,1)*PX$227","v":0},null,null,null,null,null,null,null,null,null,null,null,null,null,null,null,{"$f":"IF($C$224=\"\",0,1)*QN$227","v":0},null,null,null,null,null,null,null,null,null,null,null,null,null,null,null,{"$f":"IF($C$224=\"\",0,1)*RD$227","v":0},null,null,null,null,null,null,null,null,null,null,null,null,null,null,null,{"$f":"IF($C$224=\"\",0,1)*RT$227","v":0},null,null,null,null,null,null,null,null,null,null,null,null,null,null,null,{"$f":"IF($C$224=\"\",0,1)*SJ$227","v":0},null,null,null,null,null,null,null,null,null,null,null,null,null,null,null,{"$f":"IF($C$224=\"\",0,1)*SZ$227","v":0},null,null,null,null,null,null,null,null,null,null,null,null,null,null,null,{"$f":"IF($C$224=\"\",0,1)*TP$227","v":0},null,null,null,null,null,null,null,null,null,null,null,null,null,null,null,{"$f":"IF($C$224=\"\",0,1)*UF$227","v":0},null,null,null,null,null,null,null,null,null,null,null,null,null,null,null,{"$f":"IF($C$224=\"\",0,1)*UV$227","v":0},null,null,null,null,null,null,null,null,null,null,null,null,null,null,null,{"$f":"IF($C$224=\"\",0,1)*VL$227","v":0},null,null,null,null,null,null,null,null,null,null,null,null,null,null,null,{"$f":"IF($C$224=\"\",0,1)*WB$227","v":0},null,null,null,null,null,null,null,null,null,null,null,null,null,null,null,{"$f":"IF($C$224=\"\",0,1)*WR$227","v":0},null,null,null,null,null,null,null,null,null,null,null,null,null,null,null,{"$f":"IF($C$224=\"\",0,1)*XH$227","v":0},null,null,null,null,null,null,null,null,null,null,null,null,null,null,null,{"$f":"IF($C$224=\"\",0,1)*XX$227","v":0},null,null,null,null,null,null,null,null,null,null,null,null,null,null,null,{"$f":"IF($C$224=\"\",0,1)*YN$227","v":0},null,null,null,null,null,null,null,null,null,null,null,null,null,null,null,{"$f":"IF($C$224=\"\",0,1)*ZD$227","v":0},null,null,null,null,null,null,null,null,null,null,null,null,null,null,null,{"$f":"IF($C$224=\"\",0,1)*ZT$227","v":0},null,null,null,null,null,null,null,null,null,null,null,null,null,null,null,{"$f":"IF($C$224=\"\",0,1)*AAJ$227","v":0},null,null,null,null,null,null,null,null,null,null,null,null,null,null,null,{"$f":"IF($C$224=\"\",0,1)*AAZ$227","v":0},null,null,null,null,null,null,null,null,null,null,null,null,null,null,null,{"$f":"IF($C$224=\"\",0,1)*ABP$227","v":0},null,null,null,null,null,null,null,null,null,null,null,null,null,null,null,{"$f":"IF($C$224=\"\",0,1)*ACF$227","v":0},null,null,null,null,null,null,null,null,null,null,null,null,null,null,null,{"$f":"IF($C$224=\"\",0,1)*ACV$227","v":0},null,null,null,null,null,null,null,null,null,null,null,null,null,null,null,{"$f":"IF($C$224=\"\",0,1)*ADL$227","v":0}]
[2029,{"$f":"SUM(14:14)","v":0},null,null,null,null,null,null,null,null,null,null,null,null,null,null,2029,{"$f":"SUM(14:14)","v":0},null,null,null,null,null,null,null,null,null,null,null,null,null,null,2029,{"$f":"SUM(14:14)","v":0},null,null,null,null,null,null,null,null,null,null,null,null,null,null,2029,{"$f":"SUM(14:14)","v":0},null,null,null,null,null,null,null,null,null,null,null,null,null,null,2029,{"$f":"SUM(14:14)","v":0},null,null,null,null,null,null,null,null,null,null,null,null,null,null,2029,{"$f":"SUM(14:14)","v":0},null,null,null,null,null,null,null,null,null,null,null,null,null,null,2029,{"$f":"SUM(14:14)","v":0},null,null,null,null,null,null,null,null,null,null,null,null,null,null,2029,{"$f":"SUM(14:14)","v":0},null,null,null,null,null,null,null,null,null,null,null,null,null,null,2029,{"$f":"SUM(14:14)","v":0},null,null,null,null,null,null,null,null,null,null,null,null,null,null,2029,{"$f":"SUM(14:14)","v":0},null,null,null,null,null,null,null,null,null,null,null,null,null,null,2029,{"$f":"SUM(14:14)","v":0},null,null,null,null,null,null,null,null,null,null,null,null,null,null,2029,{"$f":"SUM(14:14)","v":0},null,null,null,null,null,null,null,null,null,null,null,null,null,null,2029,{"$f":"SUM(14:14)","v":0},null,null,null,null,null,null,null,null,null,null,null,null,null,null,2029,{"$f":"SUM(14:14)","v":0},null,null,null,null,null,null,null,null,null,null,null,null,null,null,2029,{"$f":"SUM(14:14)","v":0},null,null,null,null,null,null,null,null,null,null,null,null,null,null,2029,{"$f":"SUM(14:14)","v":0},null,null,null,null,null,null,null,null,null,null,null,null,null,null,2029,{"$f":"SUM(14:14)","v":0},null,null,null,null,null,null,null,null,null,null,null,null,null,null,2029,{"$f":"SUM(14:14)","v":0},null,null,null,null,null,null,null,null,null,null,null,null,null,null,2029,{"$f":"SUM(14:14)","v":0},null,null,null,null,null,null,null,null,null,null,null,null,null,null,2029,{"$f":"SUM(14:14)","v":0},null,null,null,null,null,null,null,null,null,null,null,null,null,null,2029,{"$f":"SUM(14:14)","v":0},null,null,null,null,null,null,null,null,null,null,null,null,null,null,2029,{"$f":"SUM(14:14)","v":0},null,null,null,null,null,null,null,null,null,null,null,null,null,null,2029,{"$f":"SUM(14:14)","v":0},null,null,null,null,null,null,null,null,null,null,null,null,null,null,2029,{"$f":"SUM(14:14)","v":0},null,null,null,null,null,null,null,null,null,null,null,null,null,null,2029,{"$f":"SUM(14:14)","v":0},null,null,null,null,null,null,null,null,null,null,null,null,null,null,2029,{"$f":"SUM(14:14)","v":0},null,null,null,null,null,null,null,null,null,null,null,null,null,null,2029,{"$f":"SUM(14:14)","v":0},null,null,null,null,null,null,null,null,null,null,null,null,null,null,2029,{"$f":"SUM(14:14)","v":0},null,null,null,null,null,null,null,null,null,null,null,null,null,null,2029,{"$f":"SUM(14:14)","v":0},null,null,null,null,null,null,null,null,null,null,null,null,null,null,2029,{"$f":"SUM(14:14)","v":0},null,null,null,null,null,null,null,null,null,null,null,null,null,null,2029,{"$f":"SUM(14:14)","v":0},null,null,null,null,null,null,null,null,null,null,null,null,null,null,2029,{"$f":"SUM(14:14)","v":0},null,null,null,null,null,null,null,null,null,null,null,null,null,null,2029,{"$f":"SUM(14:14)","v":0},null,null,null,null,null,null,null,null,null,null,null,null,null,null,2029,{"$f":"SUM(14:14)","v":0},null,null,null,null,null,null,null,null,null,null,null,null,null,null,2029,{"$f":"SUM(14:14)","v":0},null,null,null,null,null,null,null,null,null,null,null,null,null,null,2029,{"$f":"SUM(14:14)","v":0},null,null,null,null,null,null,null,null,null,null,null,null,null,null,2029,{"$f":"SUM(14:14)","v":0},null,null,null,null,null,null,null,null,null,null,null,null,null,null,2029,{"$f":"SUM(14:14)","v":0},null,null,null,null,null,null,null,null,null,null,null,null,null,null,2029,{"$f":"SUM(14:14)","v":0},null,null,null,null,null,null,null,null,null,null,null,null,null,null,2029,{"$f":"SUM(14:14)","v":0},null,null,null,null,null,null,null,null,null,null,null,null,null,null,2029,{"$f":"SUM(14:14)","v":0},null,null,null,null,null,null,null,null,null,null,null,null,null,null,2029,{"$f":"SUM(14:14)","v":0},null,null,null,null,null,null,null,null,null,null,null,null,null,null,2029,{"$f":"SUM(14:14)","v":0},null,null,null,null,null,null,null,null,null,null,null,null,null,null,2029,{"$f":"SUM(14:14)","v":0},null,null,null,null,null,null,null,null,null,null,null,null,null,null,2029,{"$f":"SUM(14:14)","v":0},null,null,null,null,null,null,null,null,null,null,null,null,null,null,2029,{"$f":"SUM(14:14)","v":0},null,null,null,null,null,null,null,null,null,null,null,null,null,null,2029,{"$f":"SUM(14:14)","v":0},null,null,null,null,null,null,null,null,null,null,null,null,null,null,2029,{"$f":"SUM(14:14)","v":0},null,null,null,null,null,null,null,null,null,null,null,null,null,null,2029,{"$f":"SUM(14:14)","v":0},null,null,null,null,null,null,null,null,null,null,null,null,null,null,2029,{"$f":"SUM(14:14)","v":0}]
[null,null,null,null,null,null,null,null,{"$f":"IF($C$224=\"\",0,1)*I$227","v":0},null,null,null,null,null,null,null,null,null,null,null,null,null,null,null,{"$f":"IF($C$224=\"\",0,1)*Y$227","v":0},null,null,null,null,null,null,null,null,null,null,null,null,null,null,null,{"$f":"IF($C$224=\"\",0,1)*AO$227","v":0},null,null,null,null,null,null,null,null,null,null,null,null,null,null,null,{"$f":"IF($C$224=\"\",0,1)*BE$227","v":0},null,null,null,null,null,null,null,null,null,null,null,null,null,null,null,{"$f":"IF($C$224=\"\",0,1)*BU$227","v":0},null,null,null,null,null,null,null,null,null,null,null,null,null,null,null,{"$f":"IF($C$224=\"\",0,1)*CK$227","v":0},null,null,null,null,null,null,null,null,null,null,null,null,null,null,null,{"$f":"IF($C$224=\"\",0,1)*DA$227","v":0},null,null,null,null,null,null,null,null,null,null,null,null,null,null,null,{"$f":"IF($C$224=\"\",0,1)*DQ$227","v":0},null,null,null,null,null,null,null,null,null,null,null,null,null,null,null,{"$f":"IF($C$224=\"\",0,1)*EG$227","v":0},null,null,null,null,null,null,null,null,null,null,null,null,null,null,null,{"$f":"IF($C$224=\"\",0,1)*EW$227","v":0},null,null,null,null,null,null,null,null,null,null,null,null,null,null,null,{"$f":"IF($C$224=\"\",0,1)*FM$227","v":0},null,null,null,null,null,null,null,null,null,null,null,null,null,null,null,{"$f":"IF($C$224=\"\",0,1)*GC$227","v":0},null,null,null,null,null,null,null,null,null,null,null,null,null,null,null,{"$f":"IF($C$224=\"\",0,1)*GS$227","v":0},null,null,null,null,null,null,null,null,null,null,null,null,null,null,null,{"$f":"IF($C$224=\"\",0,1)*HI$227","v":0},null,null,null,null,null,null,null,null,null,null,null,null,null,null,null,{"$f":"IF($C$224=\"\",0,1)*HY$227","v":0},null,null,null,null,null,null,null,null,null,null,null,null,null,null,null,{"$f":"IF($C$224=\"\",0,1)*IO$227","v":0},null,null,null,null,null,null,null,null,null,null,null,null,null,null,null,{"$f":"IF($C$224=\"\",0,1)*JE$227","v":0},null,null,null,null,null,null,null,null,null,null,null,null,null,null,null,{"$f":"IF($C$224=\"\",0,1)*JU$227","v":0},null,null,null,null,null,null,null,null,null,null,null,null,null,null,null,{"$f":"IF($C$224=\"\",0,1)*KK$227","v":0},null,null,null,null,null,null,null,null,null,null,null,null,null,null,null,{"$f":"IF($C$224=\"\",0,1)*LA$227","v":0},null,null,null,null,null,null,null,null,null,null,null,null,null,null,null,{"$f":"IF($C$224=\"\",0,1)*LQ$227","v":0},null,null,null,null,null,null,null,null,null,null,null,null,null,null,null,{"$f":"IF($C$224=\"\",0,1)*MG$227","v":0},null,null,null,null,null,null,null,null,null,null,null,null,null,null,null,{"$f":"IF($C$224=\"\",0,1)*MW$227","v":0},null,null,null,null,null,null,null,null,null,null,null,null,null,null,null,{"$f":"IF($C$224=\"\",0,1)*NM$227","v":0},null,null,null,null,null,null,null,null,null,null,null,null,null,null,null,{"$f":"IF($C$224=\"\",0,1)*OC$227","v":0},null,null,null,null,null,null,null,null,null,null,null,null,null,null,null,{"$f":"IF($C$224=\"\",0,1)*OS$227","v":0},null,null,null,null,null,null,null,null,null,null,null,null,null,null,null,{"$f":"IF($C$224=\"\",0,1)*PI$227","v":0},null,null,null,null,null,null,null,null,null,null,null,null,null,null,null,{"$f":"IF($C$224=\"\",0,1)*PY$227","v":0},null,null,null,null,null,null,null,null,null,null,null,null,null,null,null,{"$f":"IF($C$224=\"\",0,1)*QO$227","v":0},null,null,null,null,null,null,null,null,null,null,null,null,null,null,null,{"$f":"IF($C$224=\"\",0,1)*RE$227","v":0},null,null,null,null,null,null,null,null,null,null,null,null,null,null,null,{"$f":"IF($C$224=\"\",0,1)*RU$227","v":0},null,null,null,null,null,null,null,null,null,null,null,null,null,null,null,{"$f":"IF($C$224=\"\",0,1)*SK$227","v":0},null,null,null,null,null,null,null,null,null,null,null,null,null,null,null,{"$f":"IF($C$224=\"\",0,1)*TA$227","v":0},null,null,null,null,null,null,null,null,null,null,null,null,null,null,null,{"$f":"IF($C$224=\"\",0,1)*TQ$227","v":0},null,null,null,null,null,null,null,null,null,null,null,null,null,null,null,{"$f":"IF($C$224=\"\",0,1)*UG$227","v":0},null,null,null,null,null,null,null,null,null,null,null,null,null,null,null,{"$f":"IF($C$224=\"\",0,1)*UW$227","v":0},null,null,null,null,null,null,null,null,null,null,null,null,null,null,null,{"$f":"IF($C$224=\"\",0,1)*VM$227","v":0},null,null,null,null,null,null,null,null,null,null,null,null,null,null,null,{"$f":"IF($C$224=\"\",0,1)*WC$227","v":0},null,null,null,null,null,null,null,null,null,null,null,null,null,null,null,{"$f":"IF($C$224=\"\",0,1)*WS$227","v":0},null,null,null,null,null,null,null,null,null,null,null,null,null,null,null,{"$f":"IF($C$224=\"\",0,1)*XI$227","v":0},null,null,null,null,null,null,null,null,null,null,null,null,null,null,null,{"$f":"IF($C$224=\"\",0,1)*XY$227","v":0},null,null,null,null,null,null,null,null,null,null,null,null,null,null,null,{"$f":"IF($C$224=\"\",0,1)*YO$227","v":0},null,null,null,null,null,null,null,null,null,null,null,null,null,null,null,{"$f":"IF($C$224=\"\",0,1)*ZE$227","v":0},null,null,null,null,null,null,null,null,null,null,null,null,null,null,null,{"$f":"IF($C$224=\"\",0,1)*ZU$227","v":0},null,null,null,null,null,null,null,null,null,null,null,null,null,null,null,{"$f":"IF($C$224=\"\",0,1)*AAK$227","v":0},null,null,null,null,null,null,null,null,null,null,null,null,null,null,null,{"$f":"IF($C$224=\"\",0,1)*ABA$227","v":0},null,null,null,null,null,null,null,null,null,null,null,null,null,null,null,{"$f":"IF($C$224=\"\",0,1)*ABQ$227","v":0},null,null,null,null,null,null,null,null,null,null,null,null,null,null,null,{"$f":"IF($C$224=\"\",0,1)*ACG$227","v":0},null,null,null,null,null,null,null,null,null,null,null,null,null,null,null,{"$f":"IF($C$224=\"\",0,1)*ACW$227","v":0},null,null,null,null,null,null,null,null,null,null,null,null,null,null,null,{"$f":"IF($C$224=\"\",0,1)*ADM$227","v":0}]
[2030,{"$f":"SUM(16:16)","v":0},null,null,null,null,null,null,null,null,null,null,null,null,null,null,2030,{"$f":"SUM(16:16)","v":0},null,null,null,null,null,null,null,null,null,null,null,null,null,null,2030,{"$f":"SUM(16:16)","v":0},null,null,null,null,null,null,null,null,null,null,null,null,null,null,2030,{"$f":"SUM(16:16)","v":0},null,null,null,null,null,null,null,null,null,null,null,null,null,null,2030,{"$f":"SUM(16:16)","v":0},null,null,null,null,null,null,null,null,null,null,null,null,null,null,2030,{"$f":"SUM(16:16)","v":0},null,null,null,null,null,null,null,null,null,null,null,null,null,null,2030,{"$f":"SUM(16:16)","v":0},null,null,null,null,null,null,null,null,null,null,null,null,null,null,2030,{"$f":"SUM(16:16)","v":0},null,null,null,null,null,null,null,null,null,null,null,null,null,null,2030,{"$f":"SUM(16:16)","v":0},null,null,null,null,null,null,null,null,null,null,null,null,null,null,2030,{"$f":"SUM(16:16)","v":0},null,null,null,null,null,null,null,null,null,null,null,null,null,null,2030,{"$f":"SUM(16:16)","v":0},null,null,null,null,null,null,null,null,null,null,null,null,null,null,2030,{"$f":"SUM(16:16)","v":0},null,null,null,null,null,null,null,null,null,null,null,null,null,null,2030,{"$f":"SUM(16:16)","v":0},null,null,null,null,null,null,null,null,null,null,null,null,null,null,2030,{"$f":"SUM(16:16)","v":0},null,null,null,null,null,null,null,null,null,null,null,null,null,null,2030,{"$f":"SUM(16:16)","v":0},null,null,null,null,null,null,null,null,null,null,null,null,null,null,2030,{"$f":"SUM(16:16)","v":0},null,null,null,null,null,null,null,null,null,null,null,null,null,null,2030,{"$f":"SUM(16:16)","v":0},null,null,null,null,null,null,null,null,null,null,null,null,null,null,2030,{"$f":"SUM(16:16)","v":0},null,null,null,null,null,null,null,null,null,null,null,null,null,null,2030,{"$f":"SUM(16:16)","v":0},null,null,null,null,null,null,null,null,null,null,null,null,null,null,2030,{"$f":"SUM(16:16)","v":0},null,null,null,null,null,null,null,null,null,null,null,null,null,null,2030,{"$f":"SUM(16:16)","v":0},null,null,null,null,null,null,null,null,null,null,null,null,null,null,2030,{"$f":"SUM(16:16)","v":0},null,null,null,null,null,null,null,null,null,null,null,null,null,null,2030,{"$f":"SUM(16:16)","v":0},null,null,null,null,null,null,null,null,null,null,null,null,null,null,2030,{"$f":"SUM(16:16)","v":0},null,null,null,null,null,null,null,null,null,null,null,null,null,null,2030,{"$f":"SUM(16:16)","v":0},null,null,null,null,null,null,null,null,null,null,null,null,null,null,2030,{"$f":"SUM(16:16)","v":0},null,null,null,null,null,null,null,null,null,null,null,null,null,null,2030,{"$f":"SUM(16:16)","v":0},null,null,null,null,null,null,null,null,null,null,null,null,null,null,2030,{"$f":"SUM(16:16)","v":0},null,null,null,null,null,null,null,null,null,null,null,null,null,null,2030,{"$f":"SUM(16:16)","v":0},null,null,null,null,null,null,null,null,null,null,null,null,null,null,2030,{"$f":"SUM(16:16)","v":0},null,null,null,null,null,null,null,null,null,null,null,null,null,null,2030,{"$f":"SUM(16:16)","v":0},null,null,null,null,null,null,null,null,null,null,null,null,null,null,2030,{"$f":"SUM(16:16)","v":0},null,null,null,null,null,null,null,null,null,null,null,null,null,null,2030,{"$f":"SUM(16:16)","v":0},null,null,null,null,null,null,null,null,null,null,null,null,null,null,2030,{"$f":"SUM(16:16)","v":0},null,null,null,null,null,null,null,null,null,null,null,null,null,null,2030,{"$f":"SUM(16:16)","v":0},null,null,null,null,null,null,null,null,null,null,null,null,null,null,2030,{"$f":"SUM(16:16)","v":0},null,null,null,null,null,null,null,null,null,null,null,null,null,null,2030,{"$f":"SUM(16:16)","v":0},null,null,null,null,null,null,null,null,null,null,null,null,null,null,2030,{"$f":"SUM(16:16)","v":0},null,null,null,null,null,null,null,null,null,null,null,null,null,null,2030,{"$f":"SUM(16:16)","v":0},null,null,null,null,null,null,null,null,null,null,null,null,null,null,2030,{"$f":"SUM(16:16)","v":0},null,null,null,null,null,null,null,null,null,null,null,null,null,null,2030,{"$f":"SUM(16:16)","v":0},null,null,null,null,null,null,null,null,null,null,null,null,null,null,2030,{"$f":"SUM(16:16)","v":0},null,null,null,null,null,null,null,null,null,null,null,null,null,null,2030,{"$f":"SUM(16:16)","v":0},null,null,null,null,null,null,null,null,null,null,null,null,null,null,2030,{"$f":"SUM(16:16)","v":0},null,null,null,null,null,null,null,null,null,null,null,null,null,null,2030,{"$f":"SUM(16:16)","v":0},null,null,null,null,null,null,null,null,null,null,null,null,null,null,2030,{"$f":"SUM(16:16)","v":0},null,null,null,null,null,null,null,null,null,null,null,null,null,null,2030,{"$f":"SUM(16:16)","v":0},null,null,null,null,null,null,null,null,null,null,null,null,null,null,2030,{"$f":"SUM(16:16)","v":0},null,null,null,null,null,null,null,null,null,null,null,null,null,null,2030,{"$f":"SUM(16:16)","v":0},null,null,null,null,null,null,null,null,null,null,null,null,null,null,2030,{"$f":"SUM(16:16)","v":0}]
[null,null,null,null,null,null,null,null,null,{"$f":"IF($C$224=\"\",0,1)*J$227","v":0},null,null,null,null,null,null,null,null,null,null,null,null,null,null,null,{"$f":"IF($C$224=\"\",0,1)*Z$227","v":0},null,null,null,null,null,null,null,null,null,null,null,null,null,null,null,{"$f":"IF($C$224=\"\",0,1)*AP$227","v":0},null,null,null,null,null,null,null,null,null,null,null,null,null,null,null,{"$f":"IF($C$224=\"\",0,1)*BF$227","v":0},null,null,null,null,null,null,null,null,null,null,null,null,null,null,null,{"$f":"IF($C$224=\"\",0,1)*BV$227","v":0},null,null,null,null,null,null,null,null,null,null,null,null,null,null,null,{"$f":"IF($C$224=\"\",0,1)*CL$227","v":0},null,null,null,null,null,null,null,null,null,null,null,null,null,null,null,{"$f":"IF($C$224=\"\",0,1)*DB$227","v":0},null,null,null,null,null,null,null,null,null,null,null,null,null,null,null,{"$f":"IF($C$224=\"\",0,1)*DR$227","v":0},null,null,null,null,null,null,null,null,null,null,null,null,null,null,null,{"$f":"IF($C$224=\"\",0,1)*EH$227","v":0},null,null,null,null,null,null,null,null,null,null,null,null,null,null,null,{"$f":"IF($C$224=\"\",0,1)*EX$227","v":0},null,null,null,null,null,null,null,null,null,null,null,null,null,null,null,{"$f":"IF($C$224=\"\",0,1)*FN$227","v":0},null,null,null,null,null,null,null,null,null,null,null,null,null,null,null,{"$f":"IF($C$224=\"\",0,1)*GD$227","v":0},null,null,null,null,null,null,null,null,null,null,null,null,null,null,null,{"$f":"IF($C$224=\"\",0,1)*GT$227","v":0},null,null,null,null,null,null,null,null,null,null,null,null,null,null,null,{"$f":"IF($C$224=\"\",0,1)*HJ$227","v":0},null,null,null,null,null,null,null,null,null,null,null,null,null,null,null,{"$f":"IF($C$224=\"\",0,1)*HZ$227","v":0},null,null,null,null,null,null,null,null,null,null,null,null,null,null,null,{"$f":"IF($C$224=\"\",0,1)*IP$227","v":0},null,null,null,null,null,null,null,null,null,null,null,null,null,null,null,{"$f":"IF($C$224=\"\",0,1)*JF$227","v":0},null,null,null,null,null,null,null,null,null,null,null,null,null,null,null,{"$f":"IF($C$224=\"\",0,1)*JV$227","v":0},null,null,null,null,null,null,null,null,null,null,null,null,null,null,null,{"$f":"IF($C$224=\"\",0,1)*KL$227","v":0},null,null,null,null,null,null,null,null,null,null,null,null,null,null,null,{"$f":"IF($C$224=\"\",0,1)*LB$227","v":0},null,null,null,null,null,null,null,null,null,null,null,null,null,null,null,{"$f":"IF($C$224=\"\",0,1)*LR$227","v":0},null,null,null,null,null,null,null,null,null,null,null,null,null,null,null,{"$f":"IF($C$224=\"\",0,1)*MH$227","v":0},null,null,null,null,null,null,null,null,null,null,null,null,null,null,null,{"$f":"IF($C$224=\"\",0,1)*MX$227","v":0},null,null,null,null,null,null,null,null,null,null,null,null,null,null,null,{"$f":"IF($C$224=\"\",0,1)*NN$227","v":0},null,null,null,null,null,null,null,null,null,null,null,null,null,null,null,{"$f":"IF($C$224=\"\",0,1)*OD$227","v":0},null,null,null,null,null,null,null,null,null,null,null,null,null,null,null,{"$f":"IF($C$224=\"\",0,1)*OT$227","v":0},null,null,null,null,null,null,null,null,null,null,null,null,null,null,null,{"$f":"IF($C$224=\"\",0,1)*PJ$227","v":0},null,null,null,null,null,null,null,null,null,null,null,null,null,null,null,{"$f":"IF($C$224=\"\",0,1)*PZ$227","v":0},null,null,null,null,null,null,null,null,null,null,null,null,null,null,null,{"$f":"IF($C$224=\"\",0,1)*QP$227","v":0},null,null,null,null,null,null,null,null,null,null,null,null,null,null,null,{"$f":"IF($C$224=\"\",0,1)*RF$227","v":0},null,null,null,null,null,null,null,null,null,null,null,null,null,null,null,{"$f":"IF($C$224=\"\",0,1)*RV$227","v":0},null,null,null,null,null,null,null,null,null,null,null,null,null,null,null,{"$f":"IF($C$224=\"\",0,1)*SL$227","v":0},null,null,null,null,null,null,null,null,null,null,null,null,null,null,null,{"$f":"IF($C$224=\"\",0,1)*TB$227","v":0},null,null,null,null,null,null,null,null,null,null,null,null,null,null,null,{"$f":"IF($C$224=\"\",0,1)*TR$227","v":0},null,null,null,null,null,null,null,null,null,null,null,null,null,null,null,{"$f":"IF($C$224=\"\",0,1)*UH$227","v":0},null,null,null,null,null,null,null,null,null,null,null,null,null,null,null,{"$f":"IF($C$224=\"\",0,1)*UX$227","v":0},null,null,null,null,null,null,null,null,null,null,null,null,null,null,null,{"$f":"IF($C$224=\"\",0,1)*VN$227","v":0},null,null,null,null,null,null,null,null,null,null,null,null,null,null,null,{"$f":"IF($C$224=\"\",0,1)*WD$227","v":0},null,null,null,null,null,null,null,null,null,null,null,null,null,null,null,{"$f":"IF($C$224=\"\",0,1)*WT$227","v":0},null,null,null,null,null,null,null,null,null,null,null,null,null,null,null,{"$f":"IF($C$224=\"\",0,1)*XJ$227","v":0},null,null,null,null,null,null,null,null,null,null,null,null,null,null,null,{"$f":"IF($C$224=\"\",0,1)*XZ$227","v":0},null,null,null,null,null,null,null,null,null,null,null,null,null,null,null,{"$f":"IF($C$224=\"\",0,1)*YP$227","v":0},null,null,null,null,null,null,null,null,null,null,null,null,null,null,null,{"$f":"IF($C$224=\"\",0,1)*ZF$227","v":0},null,null,null,null,null,null,null,null,null,null,null,null,null,null,null,{"$f":"IF($C$224=\"\",0,1)*ZV$227","v":0},null,null,null,null,null,null,null,null,null,null,null,null,null,null,null,{"$f":"IF($C$224=\"\",0,1)*AAL$227","v":0},null,null,null,null,null,null,null,null,null,null,null,null,null,null,null,{"$f":"IF($C$224=\"\",0,1)*ABB$227","v":0},null,null,null,null,null,null,null,null,null,null,null,null,null,null,null,{"$f":"IF($C$224=\"\",0,1)*ABR$227","v":0},null,null,null,null,null,null,null,null,null,null,null,null,null,null,null,{"$f":"IF($C$224=\"\",0,1)*ACH$227","v":0},null,null,null,null,null,null,null,null,null,null,null,null,null,null,null,{"$f":"IF($C$224=\"\",0,1)*ACX$227","v":0},null,null,null,null,null,null,null,null,null,null,null,null,null,null,null,{"$f":"IF($C$224=\"\",0,1)*ADN$227","v":0}]
[2031,{"$f":"SUM(18:18)","v":0},null,null,null,null,null,null,null,null,null,null,null,null,null,null,2031,{"$f":"SUM(18:18)","v":0},null,null,null,null,null,null,null,null,null,null,null,null,null,null,2031,{"$f":"SUM(18:18)","v":0},null,null,null,null,null,null,null,null,null,null,null,null,null,null,2031,{"$f":"SUM(18:18)","v":0},null,null,null,null,null,null,null,null,null,null,null,null,null,null,2031,{"$f":"SUM(18:18)","v":0},null,null,null,null,null,null,null,null,null,null,null,null,null,null,2031,{"$f":"SUM(18:18)","v":0},null,null,null,null,null,null,null,null,null,null,null,null,null,null,2031,{"$f":"SUM(18:18)","v":0},null,null,null,null,null,null,null,null,null,null,null,null,null,null,2031,{"$f":"SUM(18:18)","v":0},null,null,null,null,null,null,null,null,null,null,null,null,null,null,2031,{"$f":"SUM(18:18)","v":0},null,null,null,null,null,null,null,null,null,null,null,null,null,null,2031,{"$f":"SUM(18:18)","v":0},null,null,null,null,null,null,null,null,null,null,null,null,null,null,2031,{"$f":"SUM(18:18)","v":0},null,null,null,null,null,null,null,null,null,null,null,null,null,null,2031,{"$f":"SUM(18:18)","v":0},null,null,null,null,null,null,null,null,null,null,null,null,null,null,2031,{"$f":"SUM(18:18)","v":0},null,null,null,null,null,null,null,null,null,null,null,null,null,null,2031,{"$f":"SUM(18:18)","v":0},null,null,null,null,null,null,null,null,null,null,null,null,null,null,2031,{"$f":"SUM(18:18)","v":0},null,null,null,null,null,null,null,null,null,null,null,null,null,null,2031,{"$f":"SUM(18:18)","v":0},null,null,null,null,null,null,null,null,null,null,null,null,null,null,2031,{"$f":"SUM(18:18)","v":0},null,null,null,null,null,null,null,null,null,null,null,null,null,null,2031,{"$f":"SUM(18:18)","v":0},null,null,null,null,null,null,null,null,null,null,null,null,null,null,2031,{"$f":"SUM(18:18)","v":0},null,null,null,null,null,null,null,null,null,null,null,null,null,null,2031,{"$f":"SUM(18:18)","v":0},null,null,null,null,null,null,null,null,null,null,null,null,null,null,2031,{"$f":"SUM(18:18)","v":0},null,null,null,null,null,null,null,null,null,null,null,null,null,null,2031,{"$f":"SUM(18:18)","v":0},null,null,null,null,null,null,null,null,null,null,null,null,null,null,2031,{"$f":"SUM(18:18)","v":0},null,null,null,null,null,null,null,null,null,null,null,null,null,null,2031,{"$f":"SUM(18:18)","v":0},null,null,null,null,null,null,null,null,null,null,null,null,null,null,2031,{"$f":"SUM(18:18)","v":0},null,null,null,null,null,null,null,null,null,null,null,null,null,null,2031,{"$f":"SUM(18:18)","v":0},null,null,null,null,null,null,null,null,null,null,null,null,null,null,2031,{"$f":"SUM(18:18)","v":0},null,null,null,null,null,null,null,null,null,null,null,null,null,null,2031,{"$f":"SUM(18:18)","v":0},null,null,null,null,null,null,null,null,null,null,null,null,null,null,2031,{"$f":"SUM(18:18)","v":0},null,null,null,null,null,null,null,null,null,null,null,null,null,null,2031,{"$f":"SUM(18:18)","v":0},null,null,null,null,null,null,null,null,null,null,null,null,null,null,2031,{"$f":"SUM(18:18)","v":0},null,null,null,null,null,null,null,null,null,null,null,null,null,null,2031,{"$f":"SUM(18:18)","v":0},null,null,null,null,null,null,null,null,null,null,null,null,null,null,2031,{"$f":"SUM(18:18)","v":0},null,null,null,null,null,null,null,null,null,null,null,null,null,null,2031,{"$f":"SUM(18:18)","v":0},null,null,null,null,null,null,null,null,null,null,null,null,null,null,2031,{"$f":"SUM(18:18)","v":0},null,null,null,null,null,null,null,null,null,null,null,null,null,null,2031,{"$f":"SUM(18:18)","v":0},null,null,null,null,null,null,null,null,null,null,null,null,null,null,2031,{"$f":"SUM(18:18)","v":0},null,null,null,null,null,null,null,null,null,null,null,null,null,null,2031,{"$f":"SUM(18:18)","v":0},null,null,null,null,null,null,null,null,null,null,null,null,null,null,2031,{"$f":"SUM(18:18)","v":0},null,null,null,null,null,null,null,null,null,null,null,null,null,null,2031,{"$f":"SUM(18:18)","v":0},null,null,null,null,null,null,null,null,null,null,null,null,null,null,2031,{"$f":"SUM(18:18)","v":0},null,null,null,null,null,null,null,null,null,null,null,null,null,null,2031,{"$f":"SUM(18:18)","v":0},null,null,null,null,null,null,null,null,null,null,null,null,null,null,2031,{"$f":"SUM(18:18)","v":0},null,null,null,null,null,null,null,null,null,null,null,null,null,null,2031,{"$f":"SUM(18:18)","v":0},null,null,null,null,null,null,null,null,null,null,null,null,null,null,2031,{"$f":"SUM(18:18)","v":0},null,null,null,null,null,null,null,null,null,null,null,null,null,null,2031,{"$f":"SUM(18:18)","v":0},null,null,null,null,null,null,null,null,null,null,null,null,null,null,2031,{"$f":"SUM(18:18)","v":0},null,null,null,null,null,null,null,null,null,null,null,null,null,null,2031,{"$f":"SUM(18:18)","v":0},null,null,null,null,null,null,null,null,null,null,null,null,null,null,2031,{"$f":"SUM(18:18)","v":0},null,null,null,null,null,null,null,null,null,null,null,null,null,null,2031,{"$f":"SUM(18:18)","v":0}]
[null,null,null,null,null,null,null,null,null,null,null,null,null,{"$f":"IF($C$224=\"\",0,1)*N$227","v":0},null,null,null,null,null,null,null,null,null,null,null,null,null,null,null,{"$f":"IF($C$224=\"\",0,1)*AD$227","v":0},null,null,null,null,null,null,null,null,null,null,null,null,null,null,null,{"$f":"IF($C$224=\"\",0,1)*AT$227","v":0},null,null,null,null,null,null,null,null,null,null,null,null,null,null,null,{"$f":"IF($C$224=\"\",0,1)*BJ$227","v":0},null,null,null,null,null,null,null,null,null,null,null,null,null,null,null,{"$f":"IF($C$224=\"\",0,1)*BZ$227","v":0},null,null,null,null,null,null,null,null,null,null,null,null,null,null,null,{"$f":"IF($C$224=\"\",0,1)*CP$227","v":0},null,null,null,null,null,null,null,null,null,null,null,null,null,null,null,{"$f":"IF($C$224=\"\",0,1)*DF$227","v":0},null,null,null,null,null,null,null,null,null,null,null,null,null,null,null,{"$f":"IF($C$224=\"\",0,1)*DV$227","v":0},null,null,null,null,null,null,null,null,null,null,null,null,null,null,null,{"$f":"IF($C$224=\"\",0,1)*EL$227","v":0},null,null,null,null,null,null,null,null,null,null,null,null,null,null,null,{"$f":"IF($C$224=\"\",0,1)*FB$227","v":0},null,null,null,null,null,null,null,null,null,null,null,null,null,null,null,{"$f":"IF($C$224=\"\",0,1)*FR$227","v":0},null,null,null,null,null,null,null,null,null,null,null,null,null,null,null,{"$f":"IF($C$224=\"\",0,1)*GH$227","v":0},null,null,null,null,null,null,null,null,null,null,null,null,null,null,null,{"$f":"IF($C$224=\"\",0,1)*GX$227","v":0},null,null,null,null,null,null,null,null,null,null,null,null,null,null,null,{"$f":"IF($C$224=\"\",0,1)*HN$227","v":0},null,null,null,null,null,null,null,null,null,null,null,null,null,null,null,{"$f":"IF($C$224=\"\",0,1)*ID$227","v":0},null,null,null,null,null,null,null,null,null,null,null,null,null,null,null,{"$f":"IF($C$224=\"\",0,1)*IT$227","v":0},null,null,null,null,null,null,null,null,null,null,null,null,null,null,null,{"$f":"IF($C$224=\"\",0,1)*JJ$227","v":0},null,null,null,null,null,null,null,null,null,null,null,null,null,null,null,{"$f":"IF($C$224=\"\",0,1)*JZ$227","v":0},null,null,null,null,null,null,null,null,null,null,null,null,null,null,null,{"$f":"IF($C$224=\"\",0,1)*KP$227","v":0},null,null,null,null,null,null,null,null,null,null,null,null,null,null,null,{"$f":"IF($C$224=\"\",0,1)*LF$227","v":0},null,null,null,null,null,null,null,null,null,null,null,null,null,null,null,{"$f":"IF($C$224=\"\",0,1)*LV$227","v":0},null,null,null,null,null,null,null,null,null,null,null,null,null,null,null,{"$f":"IF($C$224=\"\",0,1)*ML$227","v":0},null,null,null,null,null,null,null,null,null,null,null,null,null,null,null,{"$f":"IF($C$224=\"\",0,1)*NB$227","v":0},null,null,null,null,null,null,null,null,null,null,null,null,null,null,null,{"$f":"IF($C$224=\"\",0,1)*NR$227","v":0},null,null,null,null,null,null,null,null,null,null,null,null,null,null,null,{"$f":"IF($C$224=\"\",0,1)*OH$227","v":0},null,null,null,null,null,null,null,null,null,null,null,null,null,null,null,{"$f":"IF($C$224=\"\",0,1)*OX$227","v":0},null,null,null,null,null,null,null,null,null,null,null,null,null,null,null,{"$f":"IF($C$224=\"\",0,1)*PN$227","v":0},null,null,null,null,null,null,null,null,null,null,null,null,null,null,null,{"$f":"IF($C$224=\"\",0,1)*QD$227","v":0},null,null,null,null,null,null,null,null,null,null,null,null,null,null,null,{"$f":"IF($C$224=\"\",0,1)*QT$227","v":0},null,null,null,null,null,null,null,null,null,null,null,null,null,null,null,{"$f":"IF($C$224=\"\",0,1)*RJ$227","v":0},null,null,null,null,null,null,null,null,null,null,null,null,null,null,null,{"$f":"IF($C$224=\"\",0,1)*RZ$227","v":0},null,null,null,null,null,null,null,null,null,null,null,null,null,null,null,{"$f":"IF($C$224=\"\",0,1)*SP$227","v":0},null,null,null,null,null,null,null,null,null,null,null,null,null,null,null,{"$f":"IF($C$224=\"\",0,1)*TF$227","v":0},null,null,null,null,null,null,null,null,null,null,null,null,null,null,null,{"$f":"IF($C$224=\"\",0,1)*TV$227","v":0},null,null,null,null,null,null,null,null,null,null,null,null,null,null,null,{"$f":"IF($C$224=\"\",0,1)*UL$227","v":0},null,null,null,null,null,null,null,null,null,null,null,null,null,null,null,{"$f":"IF($C$224=\"\",0,1)*VB$227","v":0},null,null,null,null,null,null,null,null,null,null,null,null,null,null,null,{"$f":"IF($C$224=\"\",0,1)*VR$227","v":0},null,null,null,null,null,null,null,null,null,null,null,null,null,null,null,{"$f":"IF($C$224=\"\",0,1)*WH$227","v":0},null,null,null,null,null,null,null,null,null,null,null,null,null,null,null,{"$f":"IF($C$224=\"\",0,1)*WX$227","v":0},null,null,null,null,null,null,null,null,null,null,null,null,null,null,null,{"$f":"IF($C$224=\"\",0,1)*XN$227","v":0},null,null,null,null,null,null,null,null,null,null,null,null,null,null,null,{"$f":"IF($C$224=\"\",0,1)*YD$227","v":0},null,null,null,null,null,null,null,null,null,null,null,null,null,null,null,{"$f":"IF($C$224=\"\",0,1)*YT$227","v":0},null,null,null,null,null,null,null,null,null,null,null,null,null,null,null,{"$f":"IF($C$224=\"\",0,1)*ZJ$227","v":0},null,null,null,null,null,null,null,null,null,null,null,null,null,null,null,{"$f":"IF($C$224=\"\",0,1)*ZZ$227","v":0},null,null,null,null,null,null,null,null,null,null,null,null,null,null,null,{"$f":"IF($C$224=\"\",0,1)*AAP$227","v":0},null,null,null,null,null,null,null,null,null,null,null,null,null,null,null,{"$f":"IF($C$224=\"\",0,1)*ABF$227","v":0},null,null,null,null,null,null,null,null,null,null,null,null,null,null,null,{"$f":"IF($C$224=\"\",0,1)*ABV$227","v":0},null,null,null,null,null,null,null,null,null,null,null,null,null,null,null,{"$f":"IF($C$224=\"\",0,1)*ACL$227","v":0},null,null,null,null,null,null,null,null,null,null,null,null,null,null,null,{"$f":"IF($C$224=\"\",0,1)*ADB$227","v":0},null,null,null,null,null,null,null,null,null,null,null,null,null,null,null,{"$f":"IF($C$224=\"\",0,1)*ADR$227","v":0}]
[2032,{"$f":"SUM(20:20)","v":0},null,null,null,null,null,null,null,null,null,null,null,null,null,null,2032,{"$f":"SUM(20:20)","v":0},null,null,null,null,null,null,null,null,null,null,null,null,null,null,2032,{"$f":"SUM(20:20)","v":0},null,null,null,null,null,null,null,null,null,null,null,null,null,null,2032,{"$f":"SUM(20:20)","v":0},null,null,null,null,null,null,null,null,null,null,null,null,null,null,2032,{"$f":"SUM(20:20)","v":0},null,null,null,null,null,null,null,null,null,null,null,null,null,null,2032,{"$f":"SUM(20:20)","v":0},null,null,null,null,null,null,null,null,null,null,null,null,null,null,2032,{"$f":"SUM(20:20)","v":0},null,null,null,null,null,null,null,null,null,null,null,null,null,null,2032,{"$f":"SUM(20:20)","v":0},null,null,null,null,null,null,null,null,null,null,null,null,null,null,2032,{"$f":"SUM(20:20)","v":0},null,null,null,null,null,null,null,null,null,null,null,null,null,null,2032,{"$f":"SUM(20:20)","v":0},null,null,null,null,null,null,null,null,null,null,null,null,null,null,2032,{"$f":"SUM(20:20)","v":0},null,null,null,null,null,null,null,null,null,null,null,null,null,null,2032,{"$f":"SUM(20:20)","v":0},null,null,null,null,null,null,null,null,null,null,null,null,null,null,2032,{"$f":"SUM(20:20)","v":0},null,null,null,null,null,null,null,null,null,null,null,null,null,null,2032,{"$f":"SUM(20:20)","v":0},null,null,null,null,null,null,null,null,null,null,null,null,null,null,2032,{"$f":"SUM(20:20)","v":0},null,null,null,null,null,null,null,null,null,null,null,null,null,null,2032,{"$f":"SUM(20:20)","v":0},null,null,null,null,null,null,null,null,null,null,null,null,null,null,2032,{"$f":"SUM(20:20)","v":0},null,null,null,null,null,null,null,null,null,null,null,null,null,null,2032,{"$f":"SUM(20:20)","v":0},null,null,null,null,null,null,null,null,null,null,null,null,null,null,2032,{"$f":"SUM(20:20)","v":0},null,null,null,null,null,null,null,null,null,null,null,null,null,null,2032,{"$f":"SUM(20:20)","v":0},null,null,null,null,null,null,null,null,null,null,null,null,null,null,2032,{"$f":"SUM(20:20)","v":0},null,null,null,null,null,null,null,null,null,null,null,null,null,null,2032,{"$f":"SUM(20:20)","v":0},null,null,null,null,null,null,null,null,null,null,null,null,null,null,2032,{"$f":"SUM(20:20)","v":0},null,null,null,null,null,null,null,null,null,null,null,null,null,null,2032,{"$f":"SUM(20:20)","v":0},null,null,null,null,null,null,null,null,null,null,null,null,null,null,2032,{"$f":"SUM(20:20)","v":0},null,null,null,null,null,null,null,null,null,null,null,null,null,null,2032,{"$f":"SUM(20:20)","v":0},null,null,null,null,null,null,null,null,null,null,null,null,null,null,2032,{"$f":"SUM(20:20)","v":0},null,null,null,null,null,null,null,null,null,null,null,null,null,null,2032,{"$f":"SUM(20:20)","v":0},null,null,null,null,null,null,null,null,null,null,null,null,null,null,2032,{"$f":"SUM(20:20)","v":0},null,null,null,null,null,null,null,null,null,null,null,null,null,null,2032,{"$f":"SUM(20:20)","v":0},null,null,null,null,null,null,null,null,null,null,null,null,null,null,2032,{"$f":"SUM(20:20)","v":0},null,null,null,null,null,null,null,null,null,null,null,null,null,null,2032,{"$f":"SUM(20:20)","v":0},null,null,null,null,null,null,null,null,null,null,null,null,null,null,2032,{"$f":"SUM(20:20)","v":0},null,null,null,null,null,null,null,null,null,null,null,null,null,null,2032,{"$f":"SUM(20:20)","v":0},null,null,null,null,null,null,null,null,null,null,null,null,null,null,2032,{"$f":"SUM(20:20)","v":0},null,null,null,null,null,null,null,null,null,null,null,null,null,null,2032,{"$f":"SUM(20:20)","v":0},null,null,null,null,null,null,null,null,null,null,null,null,null,null,2032,{"$f":"SUM(20:20)","v":0},null,null,null,null,null,null,null,null,null,null,null,null,null,null,2032,{"$f":"SUM(20:20)","v":0},null,null,null,null,null,null,null,null,null,null,null,null,null,null,2032,{"$f":"SUM(20:20)","v":0},null,null,null,null,null,null,null,null,null,null,null,null,null,null,2032,{"$f":"SUM(20:20)","v":0},null,null,null,null,null,null,null,null,null,null,null,null,null,null,2032,{"$f":"SUM(20:20)","v":0},null,null,null,null,null,null,null,null,null,null,null,null,null,null,2032,{"$f":"SUM(20:20)","v":0},null,null,null,null,null,null,null,null,null,null,null,null,null,null,2032,{"$f":"SUM(20:20)","v":0},null,null,null,null,null,null,null,null,null,null,null,null,null,null,2032,{"$f":"SUM(20:20)","v":0},null,null,null,null,null,null,null,null,null,null,null,null,null,null,2032,{"$f":"SUM(20:20)","v":0},null,null,null,null,null,null,null,null,null,null,null,null,null,null,2032,{"$f":"SUM(20:20)","v":0},null,null,null,null,null,null,null,null,null,null,null,null,null,null,2032,{"$f":"SUM(20:20)","v":0},null,null,null,null,null,null,null,null,null,null,null,null,null,null,2032,{"$f":"SUM(20:20)","v":0},null,null,null,null,null,null,null,null,null,null,null,null,null,null,2032,{"$f":"SUM(20:20)","v":0},null,null,null,null,null,null,null,null,null,null,null,null,null,null,2032,{"$f":"SUM(20:20)","v":0}]
[null,null,null,null,null,null,null,null,null,null,null,null,null,null,{"$f":"IF($C$224=\"\",0,1)*O$227","v":0},null,null,null,null,null,null,null,null,null,null,null,null,null,null,null,{"$f":"IF($C$224=\"\",0,1)*AE$227","v":0},null,null,null,null,null,null,null,null,null,null,null,null,null,null,null,{"$f":"IF($C$224=\"\",0,1)*AU$227","v":0},null,null,null,null,null,null,null,null,null,null,null,null,null,null,null,{"$f":"IF($C$224=\"\",0,1)*BK$227","v":0},null,null,null,null,null,null,null,null,null,null,null,null,null,null,null,{"$f":"IF($C$224=\"\",0,1)*CA$227","v":0},null,null,null,null,null,null,null,null,null,null,null,null,null,null,null,{"$f":"IF($C$224=\"\",0,1)*CQ$227","v":0},null,null,null,null,null,null,null,null,null,null,null,null,null,null,null,{"$f":"IF($C$224=\"\",0,1)*DG$227","v":0},null,null,null,null,null,null,null,null,null,null,null,null,null,null,null,{"$f":"IF($C$224=\"\",0,1)*DW$227","v":0},null,null,null,null,null,null,null,null,null,null,null,null,null,null,null,{"$f":"IF($C$224=\"\",0,1)*EM$227","v":0},null,null,null,null,null,null,null,null,null,null,null,null,null,null,null,{"$f":"IF($C$224=\"\",0,1)*FC$227","v":0},null,null,null,null,null,null,null,null,null,null,null,null,null,null,null,{"$f":"IF($C$224=\"\",0,1)*FS$227","v":0},null,null,null,null,null,null,null,null,null,null,null,null,null,null,null,{"$f":"IF($C$224=\"\",0,1)*GI$227","v":0},null,null,null,null,null,null,null,null,null,null,null,null,null,null,null,{"$f":"IF($C$224=\"\",0,1)*GY$227","v":0},null,null,null,null,null,null,null,null,null,null,null,null,null,null,null,{"$f":"IF($C$224=\"\",0,1)*HO$227","v":0},null,null,null,null,null,null,null,null,null,null,null,null,null,null,null,{"$f":"IF($C$224=\"\",0,1)*IE$227","v":0},null,null,null,null,null,null,null,null,null,null,null,null,null,null,null,{"$f":"IF($C$224=\"\",0,1)*IU$227","v":0},null,null,null,null,null,null,null,null,null,null,null,null,null,null,null,{"$f":"IF($C$224=\"\",0,1)*JK$227","v":0},null,null,null,null,null,null,null,null,null,null,null,null,null,null,null,{"$f":"IF($C$224=\"\",0,1)*KA$227","v":0},null,null,null,null,null,null,null,null,null,null,null,null,null,null,null,{"$f":"IF($C$224=\"\",0,1)*KQ$227","v":0},null,null,null,null,null,null,null,null,null,null,null,null,null,null,null,{"$f":"IF($C$224=\"\",0,1)*LG$227","v":0},null,null,null,null,null,null,null,null,null,null,null,null,null,null,null,{"$f":"IF($C$224=\"\",0,1)*LW$227","v":0},null,null,null,null,null,null,null,null,null,null,null,null,null,null,null,{"$f":"IF($C$224=\"\",0,1)*MM$227","v":0},null,null,null,null,null,null,null,null,null,null,null,null,null,null,null,{"$f":"IF($C$224=\"\",0,1)*NC$227","v":0},null,null,null,null,null,null,null,null,null,null,null,null,null,null,null,{"$f":"IF($C$224=\"\",0,1)*NS$227","v":0},null,null,null,null,null,null,null,null,null,null,null,null,null,null,null,{"$f":"IF($C$224=\"\",0,1)*OI$227","v":0},null,null,null,null,null,null,null,null,null,null,null,null,null,null,null,{"$f":"IF($C$224=\"\",0,1)*OY$227","v":0},null,null,null,null,null,null,null,null,null,null,null,null,null,null,null,{"$f":"IF($C$224=\"\",0,1)*PO$227","v":0},null,null,null,null,null,null,null,null,null,null,null,null,null,null,null,{"$f":"IF($C$224=\"\",0,1)*QE$227","v":0},null,null,null,null,null,null,null,null,null,null,null,null,null,null,null,{"$f":"IF($C$224=\"\",0,1)*QU$227","v":0},null,null,null,null,null,null,null,null,null,null,null,null,null,null,null,{"$f":"IF($C$224=\"\",0,1)*RK$227","v":0},null,null,null,null,null,null,null,null,null,null,null,null,null,null,null,{"$f":"IF($C$224=\"\",0,1)*SA$227","v":0},null,null,null,null,null,null,null,null,null,null,null,null,null,null,null,{"$f":"IF($C$224=\"\",0,1)*SQ$227","v":0},null,null,null,null,null,null,null,null,null,null,null,null,null,null,null,{"$f":"IF($C$224=\"\",0,1)*TG$227","v":0},null,null,null,null,null,null,null,null,null,null,null,null,null,null,null,{"$f":"IF($C$224=\"\",0,1)*TW$227","v":0},null,null,null,null,null,null,null,null,null,null,null,null,null,null,null,{"$f":"IF($C$224=\"\",0,1)*UM$227","v":0},null,null,null,null,null,null,null,null,null,null,null,null,null,null,null,{"$f":"IF($C$224=\"\",0,1)*VC$227","v":0},null,null,null,null,null,null,null,null,null,null,null,null,null,null,null,{"$f":"IF($C$224=\"\",0,1)*VS$227","v":0},null,null,null,null,null,null,null,null,null,null,null,null,null,null,null,{"$f":"IF($C$224=\"\",0,1)*WI$227","v":0},null,null,null,null,null,null,null,null,null,null,null,null,null,null,null,{"$f":"IF($C$224=\"\",0,1)*WY$227","v":0},null,null,null,null,null,null,null,null,null,null,null,null,null,null,null,{"$f":"IF($C$224=\"\",0,1)*XO$227","v":0},null,null,null,null,null,null,null,null,null,null,null,null,null,null,null,{"$f":"IF($C$224=\"\",0,1)*YE$227","v":0},null,null,null,null,null,null,null,null,null,null,null,null,null,null,null,{"$f":"IF($C$224=\"\",0,1)*YU$227","v":0},null,null,null,null,null,null,null,null,null,null,null,null,null,null,null,{"$f":"IF($C$224=\"\",0,1)*ZK$227","v":0},null,null,null,null,null,null,null,null,null,null,null,null,null,null,null,{"$f":"IF($C$224=\"\",0,1)*AAA$227","v":0},null,null,null,null,null,null,null,null,null,null,null,null,null,null,null,{"$f":"IF($C$224=\"\",0,1)*AAQ$227","v":0},null,null,null,null,null,null,null,null,null,null,null,null,null,null,null,{"$f":"IF($C$224=\"\",0,1)*ABG$227","v":0},null,null,null,null,null,null,null,null,null,null,null,null,null,null,null,{"$f":"IF($C$224=\"\",0,1)*ABW$227","v":0},null,null,null,null,null,null,null,null,null,null,null,null,null,null,null,{"$f":"IF($C$224=\"\",0,1)*ACM$227","v":0},null,null,null,null,null,null,null,null,null,null,null,null,null,null,null,{"$f":"IF($C$224=\"\",0,1)*ADC$227","v":0},null,null,null,null,null,null,null,null,null,null,null,null,null,null,null,{"$f":"IF($C$224=\"\",0,1)*ADS$227","v":0}]
[2033,{"$f":"SUM(22:22)","v":0},null,null,null,null,null,null,null,null,null,null,null,null,null,null,2033,{"$f":"SUM(22:22)","v":0},null,null,null,null,null,null,null,null,null,null,null,null,null,null,2033,{"$f":"SUM(22:22)","v":0},null,null,null,null,null,null,null,null,null,null,null,null,null,null,2033,{"$f":"SUM(22:22)","v":0},null,null,null,null,null,null,null,null,null,null,null,null,null,null,2033,{"$f":"SUM(22:22)","v":0},null,null,null,null,null,null,null,null,null,null,null,null,null,null,2033,{"$f":"SUM(22:22)","v":0},null,null,null,null,null,null,null,null,null,null,null,null,null,null,2033,{"$f":"SUM(22:22)","v":0},null,null,null,null,null,null,null,null,null,null,null,null,null,null,2033,{"$f":"SUM(22:22)","v":0},null,null,null,null,null,null,null,null,null,null,null,null,null,null,2033,{"$f":"SUM(22:22)","v":0},null,null,null,null,null,null,null,null,null,null,null,null,null,null,2033,{"$f":"SUM(22:22)","v":0},null,null,null,null,null,null,null,null,null,null,null,null,null,null,2033,{"$f":"SUM(22:22)","v":0},null,null,null,null,null,null,null,null,null,null,null,null,null,null,2033,{"$f":"SUM(22:22)","v":0},null,null,null,null,null,null,null,null,null,null,null,null,null,null,2033,{"$f":"SUM(22:22)","v":0},null,null,null,null,null,null,null,null,null,null,null,null,null,null,2033,{"$f":"SUM(22:22)","v":0},null,null,null,null,null,null,null,null,null,null,null,null,null,null,2033,{"$f":"SUM(22:22)","v":0},null,null,null,null,null,null,null,null,null,null,null,null,null,null,2033,{"$f":"SUM(22:22)","v":0},null,null,null,null,null,null,null,null,null,null,null,null,null,null,2033,{"$f":"SUM(22:22)","v":0},null,null,null,null,null,null,null,null,null,null,null,null,null,null,2033,{"$f":"SUM(22:22)","v":0},null,null,null,null,null,null,null,null,null,null,null,null,null,null,2033,{"$f":"SUM(22:22)","v":0},null,null,null,null,null,null,null,null,null,null,null,null,null,null,2033,{"$f":"SUM(22:22)","v":0},null,null,null,null,null,null,null,null,null,null,null,null,null,null,2033,{"$f":"SUM(22:22)","v":0},null,null,null,null,null,null,null,null,null,null,null,null,null,null,2033,{"$f":"SUM(22:22)","v":0},null,null,null,null,null,null,null,null,null,null,null,null,null,null,2033,{"$f":"SUM(22:22)","v":0},null,null,null,null,null,null,null,null,null,null,null,null,null,null,2033,{"$f":"SUM(22:22)","v":0},null,null,null,null,null,null,null,null,null,null,null,null,null,null,2033,{"$f":"SUM(22:22)","v":0},null,null,null,null,null,null,null,null,null,null,null,null,null,null,2033,{"$f":"SUM(22:22)","v":0},null,null,null,null,null,null,null,null,null,null,null,null,null,null,2033,{"$f":"SUM(22:22)","v":0},null,null,null,null,null,null,null,null,null,null,null,null,null,null,2033,{"$f":"SUM(22:22)","v":0},null,null,null,null,null,null,null,null,null,null,null,null,null,null,2033,{"$f":"SUM(22:22)","v":0},null,null,null,null,null,null,null,null,null,null,null,null,null,null,2033,{"$f":"SUM(22:22)","v":0},null,null,null,null,null,null,null,null,null,null,null,null,null,null,2033,{"$f":"SUM(22:22)","v":0},null,null,null,null,null,null,null,null,null,null,null,null,null,null,2033,{"$f":"SUM(22:22)","v":0},null,null,null,null,null,null,null,null,null,null,null,null,null,null,2033,{"$f":"SUM(22:22)","v":0},null,null,null,null,null,null,null,null,null,null,null,null,null,null,2033,{"$f":"SUM(22:22)","v":0},null,null,null,null,null,null,null,null,null,null,null,null,null,null,2033,{"$f":"SUM(22:22)","v":0},null,null,null,null,null,null,null,null,null,null,null,null,null,null,2033,{"$f":"SUM(22:22)","v":0},null,null,null,null,null,null,null,null,null,null,null,null,null,null,2033,{"$f":"SUM(22:22)","v":0},null,null,null,null,null,null,null,null,null,null,null,null,null,null,2033,{"$f":"SUM(22:22)","v":0},null,null,null,null,null,null,null,null,null,null,null,null,null,null,2033,{"$f":"SUM(22:22)","v":0},null,null,null,null,null,null,null,null,null,null,null,null,null,null,2033,{"$f":"SUM(22:22)","v":0},null,null,null,null,null,null,null,null,null,null,null,null,null,null,2033,{"$f":"SUM(22:22)","v":0},null,null,null,null,null,null,null,null,null,null,null,null,null,null,2033,{"$f":"SUM(22:22)","v":0},null,null,null,null,null,null,null,null,null,null,null,null,null,null,2033,{"$f":"SUM(22:22)","v":0},null,null,null,null,null,null,null,null,null,null,null,null,null,null,2033,{"$f":"SUM(22:22)","v":0},null,null,null,null,null,null,null,null,null,null,null,null,null,null,2033,{"$f":"SUM(22:22)","v":0},null,null,null,null,null,null,null,null,null,null,null,null,null,null,2033,{"$f":"SUM(22:22)","v":0},null,null,null,null,null,null,null,null,null,null,null,null,null,null,2033,{"$f":"SUM(22:22)","v":0},null,null,null,null,null,null,null,null,null,null,null,null,null,null,2033,{"$f":"SUM(22:22)","v":0},null,null,null,null,null,null,null,null,null,null,null,null,null,null,2033,{"$f":"SUM(22:22)","v":0},null,null,null,null,null,null,null,null,null,null,null,null,null,null,2033,{"$f":"SUM(22:22)","v":0}]
[null,null,null,null,null,null,null,null,null,null,null,null,null,null,null,{"$f":"IF($C$224=\"\",0,1)*P$227","v":0},null,null,null,null,null,null,null,null,null,null,null,null,null,null,null,{"$f":"IF($C$224=\"\",0,1)*AF$227","v":0},null,null,null,null,null,null,null,null,null,null,null,null,null,null,null,{"$f":"IF($C$224=\"\",0,1)*AV$227","v":0},null,null,null,null,null,null,null,null,null,null,null,null,null,null,null,{"$f":"IF($C$224=\"\",0,1)*BL$227","v":0},null,null,null,null,null,null,null,null,null,null,null,null,null,null,null,{"$f":"IF($C$224=\"\",0,1)*CB$227","v":0},null,null,null,null,null,null,null,null,null,null,null,null,null,null,null,{"$f":"IF($C$224=\"\",0,1)*CR$227","v":0},null,null,null,null,null,null,null,null,null,null,null,null,null,null,null,{"$f":"IF($C$224=\"\",0,1)*DH$227","v":0},null,null,null,null,null,null,null,null,null,null,null,null,null,null,null,{"$f":"IF($C$224=\"\",0,1)*DX$227","v":0},null,null,null,null,null,null,null,null,null,null,null,null,null,null,null,{"$f":"IF($C$224=\"\",0,1)*EN$227","v":0},null,null,null,null,null,null,null,null,null,null,null,null,null,null,null,{"$f":"IF($C$224=\"\",0,1)*FD$227","v":0},null,null,null,null,null,null,null,null,null,null,null,null,null,null,null,{"$f":"IF($C$224=\"\",0,1)*FT$227","v":0},null,null,null,null,null,null,null,null,null,null,null,null,null,null,null,{"$f":"IF($C$224=\"\",0,1)*GJ$227","v":0},null,null,null,null,null,null,null,null,null,null,null,null,null,null,null,{"$f":"IF($C$224=\"\",0,1)*GZ$227","v":0},null,null,null,null,null,null,null,null,null,null,null,null,null,null,null,{"$f":"IF($C$224=\"\",0,1)*HP$227","v":0},null,null,null,null,null,null,null,null,null,null,null,null,null,null,null,{"$f":"IF($C$224=\"\",0,1)*IF$227","v":0},null,null,null,null,null,null,null,null,null,null,null,null,null,null,null,{"$f":"IF($C$224=\"\",0,1)*IV$227","v":0},null,null,null,null,null,null,null,null,null,null,null,null,null,null,null,{"$f":"IF($C$224=\"\",0,1)*JL$227","v":0},null,null,null,null,null,null,null,null,null,null,null,null,null,null,null,{"$f":"IF($C$224=\"\",0,1)*KB$227","v":0},null,null,null,null,null,null,null,null,null,null,null,null,null,null,null,{"$f":"IF($C$224=\"\",0,1)*KR$227","v":0},null,null,null,null,null,null,null,null,null,null,null,null,null,null,null,{"$f":"IF($C$224=\"\",0,1)*LH$227","v":0},null,null,null,null,null,null,null,null,null,null,null,null,null,null,null,{"$f":"IF($C$224=\"\",0,1)*LX$227","v":0},null,null,null,null,null,null,null,null,null,null,null,null,null,null,null,{"$f":"IF($C$224=\"\",0,1)*MN$227","v":0},null,null,null,null,null,null,null,null,null,null,null,null,null,null,null,{"$f":"IF($C$224=\"\",0,1)*ND$227","v":0},null,null,null,null,null,null,null,null,null,null,null,null,null,null,null,{"$f":"IF($C$224=\"\",0,1)*NT$227","v":0},null,null,null,null,null,null,null,null,null,null,null,null,null,null,null,{"$f":"IF($C$224=\"\",0,1)*OJ$227","v":0},null,null,null,null,null,null,null,null,null,null,null,null,null,null,null,{"$f":"IF($C$224=\"\",0,1)*OZ$227","v":0},null,null,null,null,null,null,null,null,null,null,null,null,null,null,null,{"$f":"IF($C$224=\"\",0,1)*PP$227","v":0},null,null,null,null,null,null,null,null,null,null,null,null,null,null,null,{"$f":"IF($C$224=\"\",0,1)*QF$227","v":0},null,null,null,null,null,null,null,null,null,null,null,null,null,null,null,{"$f":"IF($C$224=\"\",0,1)*QV$227","v":0},null,null,null,null,null,null,null,null,null,null,null,null,null,null,null,{"$f":"IF($C$224=\"\",0,1)*RL$227","v":0},null,null,null,null,null,null,null,null,null,null,null,null,null,null,null,{"$f":"IF($C$224=\"\",0,1)*SB$227","v":0},null,null,null,null,null,null,null,null,null,null,null,null,null,null,null,{"$f":"IF($C$224=\"\",0,1)*SR$227","v":0},null,null,null,null,null,null,null,null,null,null,null,null,null,null,null,{"$f":"IF($C$224=\"\",0,1)*TH$227","v":0},null,null,null,null,null,null,null,null,null,null,null,null,null,null,null,{"$f":"IF($C$224=\"\",0,1)*TX$227","v":0},null,null,null,null,null,null,null,null,null,null,null,null,null,null,null,{"$f":"IF($C$224=\"\",0,1)*UN$227","v":0},null,null,null,null,null,null,null,null,null,null,null,null,null,null,null,{"$f":"IF($C$224=\"\",0,1)*VD$227","v":0},null,null,null,null,null,null,null,null,null,null,null,null,null,null,null,{"$f":"IF($C$224=\"\",0,1)*VT$227","v":0},null,null,null,null,null,null,null,null,null,null,null,null,null,null,null,{"$f":"IF($C$224=\"\",0,1)*WJ$227","v":0},null,null,null,null,null,null,null,null,null,null,null,null,null,null,null,{"$f":"IF($C$224=\"\",0,1)*WZ$227","v":0},null,null,null,null,null,null,null,null,null,null,null,null,null,null,null,{"$f":"IF($C$224=\"\",0,1)*XP$227","v":0},null,null,null,null,null,null,null,null,null,null,null,null,null,null,null,{"$f":"IF($C$224=\"\",0,1)*YF$227","v":0},null,null,null,null,null,null,null,null,null,null,null,null,null,null,null,{"$f":"IF($C$224=\"\",0,1)*YV$227","v":0},null,null,null,null,null,null,null,null,null,null,null,null,null,null,null,{"$f":"IF($C$224=\"\",0,1)*ZL$227","v":0},null,null,null,null,null,null,null,null,null,null,null,null,null,null,null,{"$f":"IF($C$224=\"\",0,1)*AAB$227","v":0},null,null,null,null,null,null,null,null,null,null,null,null,null,null,null,{"$f":"IF($C$224=\"\",0,1)*AAR$227","v":0},null,null,null,null,null,null,null,null,null,null,null,null,null,null,null,{"$f":"IF($C$224=\"\",0,1)*ABH$227","v":0},null,null,null,null,null,null,null,null,null,null,null,null,null,null,null,{"$f":"IF($C$224=\"\",0,1)*ABX$227","v":0},null,null,null,null,null,null,null,null,null,null,null,null,null,null,null,{"$f":"IF($C$224=\"\",0,1)*ACN$227","v":0},null,null,null,null,null,null,null,null,null,null,null,null,null,null,null,{"$f":"IF($C$224=\"\",0,1)*ADD$227","v":0},null,null,null,null,null,null,null,null,null,null,null,null,null,null,null,{"$f":"IF($C$224=\"\",0,1)*ADT$227","v":0}]
[2024,{"$f":"SUM(24:24)","v":0},"DŁUGOŚĆ LINII",null,null,null,null,null,null,null,null,null,null,null,null,null,2024,{"$f":"SUM(24:24)","v":0},"DŁUGOŚĆ LINII",null,null,null,null,null,null,null,null,null,null,null,null,null,2024,{"$f":"SUM(24:24)","v":0},"DŁUGOŚĆ LINII",null,null,null,null,null,null,null,null,null,null,null,null,null,2024,{"$f":"SUM(24:24)","v":0},"DŁUGOŚĆ LINII",null,null,null,null,null,null,null,null,null,null,null,null,null,2024,{"$f":"SUM(24:24)","v":0},"DŁUGOŚĆ LINII",null,null,null,null,null,null,null,null,null,null,null,null,null,2024,{"$f":"SUM(24:24)","v":0},"DŁUGOŚĆ LINII",null,null,null,null,null,null,null,null,null,null,null,null,null,2024,{"$f":"SUM(24:24)","v":0},"DŁUGOŚĆ LINII",null,null,null,null,null,null,null,null,null,null,null,null,null,2024,{"$f":"SUM(24:24)","v":0},"DŁUGOŚĆ LINII",null,null,null,null,null,null,null,null,null,null,null,null,null,2024,{"$f":"SUM(24:24)","v":0},"DŁUGOŚĆ LINII",null,null,null,null,null,null,null,null,null,null,null,null,null,2024,{"$f":"SUM(24:24)","v":0},"DŁUGOŚĆ LINII",null,null,null,null,null,null,null,null,null,null,null,null,null,2024,{"$f":"SUM(24:24)","v":0},"DŁUGOŚĆ LINII",null,null,null,null,null,null,null,null,null,null,null,null,null,2024,{"$f":"SUM(24:24)","v":0},"DŁUGOŚĆ LINII",null,null,null,null,null,null,null,null,null,null,null,null,null,2024,{"$f":"SUM(24:24)","v":0},"DŁUGOŚĆ LINII",null,null,null,null,null,null,null,null,null,null,null,null,null,2024,{"$f":"SUM(24:24)","v":0},"DŁUGOŚĆ LINII",null,null,null,null,null,null,null,null,null,null,null,null,null,2024,{"$f":"SUM(24:24)","v":0},"DŁUGOŚĆ LINII",null,null,null,null,null,null,null,null,null,null,null,null,null,2024,{"$f":"SUM(24:24)","v":0},"DŁUGOŚĆ LINII",null,null,null,null,null,null,null,null,null,null,null,null,null,2024,{"$f":"SUM(24:24)","v":0},"DŁUGOŚĆ LINII",null,null,null,null,null,null,null,null,null,null,null,null,null,2024,{"$f":"SUM(24:24)","v":0},"DŁUGOŚĆ LINII",null,null,null,null,null,null,null,null,null,null,null,null,null,2024,{"$f":"SUM(24:24)","v":0},"DŁUGOŚĆ LINII",null,null,null,null,null,null,null,null,null,null,null,null,null,2024,{"$f":"SUM(24:24)","v":0},"DŁUGOŚĆ LINII",null,null,null,null,null,null,null,null,null,null,null,null,null,2024,{"$f":"SUM(24:24)","v":0},"DŁUGOŚĆ LINII",null,null,null,null,null,null,null,null,null,null,null,null,null,2024,{"$f":"SUM(24:24)","v":0},"DŁUGOŚĆ LINII",null,null,null,null,null,null,null,null,null,null,null,null,null,2024,{"$f":"SUM(24:24)","v":0},"DŁUGOŚĆ LINII",null,null,null,null,null,null,null,null,null,null,null,null,null,2024,{"$f":"SUM(24:24)","v":0},"DŁUGOŚĆ LINII",null,null,null,null,null,null,null,null,null,null,null,null,null,2024,{"$f":"SUM(24:24)","v":0},"DŁUGOŚĆ LINII",null,null,null,null,null,null,null,null,null,null,null,null,null,2024,{"$f":"SUM(24:24)","v":0},"DŁUGOŚĆ LINII",null,null,null,null,null,null,null,null,null,null,null,null,null,2024,{"$f":"SUM(24:24)","v":0},"DŁUGOŚĆ LINII",null,null,null,null,null,null,null,null,null,null,null,null,null,2024,{"$f":"SUM(24:24)","v":0},"DŁUGOŚĆ LINII",null,null,null,null,null,null,null,null,null,null,null,null,null,2024,{"$f":"SUM(24:24)","v":0},"DŁUGOŚĆ LINII",null,null,null,null,null,null,null,null,null,null,null,null,null,2024,{"$f":"SUM(24:24)","v":0},"DŁUGOŚĆ LINII",null,null,null,null,null,null,null,null,null,null,null,null,null,2024,{"$f":"SUM(24:24)","v":0},"DŁUGOŚĆ LINII",null,null,null,null,null,null,null,null,null,null,null,null,null,2024,{"$f":"SUM(24:24)","v":0},"DŁUGOŚĆ LINII",null,null,null,null,null,null,null,null,null,null,null,null,null,2024,{"$f":"SUM(24:24)","v":0},"DŁUGOŚĆ LINII",null,null,null,null,null,null,null,null,null,null,null,null,null,2024,{"$f":"SUM(24:24)","v":0},"DŁUGOŚĆ LINII",null,null,null,null,null,null,null,null,null,null,null,null,null,2024,{"$f":"SUM(24:24)","v":0},"DŁUGOŚĆ LINII",null,null,null,null,null,null,null,null,null,null,null,null,null,2024,{"$f":"SUM(24:24)","v":0},"DŁUGOŚĆ LINII",null,null,null,null,null,null,null,null,null,null,null,null,null,2024,{"$f":"SUM(24:24)","v":0},"DŁUGOŚĆ LINII",null,null,null,null,null,null,null,null,null,null,null,null,null,2024,{"$f":"SUM(24:24)","v":0},"DŁUGOŚĆ LINII",null,null,null,null,null,null,null,null,null,null,null,null,null,2024,{"$f":"SUM(24:24)","v":0},"DŁUGOŚĆ LINII",null,null,null,null,null,null,null,null,null,null,null,null,null,2024,{"$f":"SUM(24:24)","v":0},"DŁUGOŚĆ LINII",null,null,null,null,null,null,null,null,null,null,null,null,null,2024,{"$f":"SUM(24:24)","v":0},"DŁUGOŚĆ LINII",null,null,null,null,null,null,null,null,null,null,null,null,null,2024,{"$f":"SUM(24:24)","v":0},"DŁUGOŚĆ LINII",null,null,null,null,null,null,null,null,null,null,null,null,null,2024,{"$f":"SUM(24:24)","v":0},"DŁUGOŚĆ LINII",null,null,null,null,null,null,null,null,null,null,null,null,null,2024,{"$f":"SUM(24:24)","v":0},"DŁUGOŚĆ LINII",null,null,null,null,null,null,null,null,null,null,null,null,null,2024,{"$f":"SUM(24:24)","v":0},"DŁUGOŚĆ LINII",null,null,null,null,null,null,null,null,null,null,null,null,null,2024,{"$f":"SUM(24:24)","v":0},"DŁUGOŚĆ LINII",null,null,null,null,null,null,null,null,null,null,null,null,null,2024,{"$f":"SUM(24:24)","v":0},"DŁUGOŚĆ LINII",null,null,null,null,null,null,null,null,null,null,null,null,null,2024,{"$f":"SUM(24:24)","v":0},"DŁUGOŚĆ LINII",null,null,null,null,null,null,null,null,null,null,null,null,null,2024,{"$f":"SUM(24:24)","v":0},"DŁUGOŚĆ LINII",null,null,null,null,null,null,null,null,null,null,null,null,null,2024,{"$f":"SUM(24:24)","v":0},"DŁUGOŚĆ LINII"]
[null,null,null,{"$f":"D$226*D$227","v":0},null,null,null,null,null,null,null,null,null,null,null,null,null,null,null,{"$f":"T$226*T$227","v":0},null,null,null,null,null,null,null,null,null,null,null,null,null,null,null,{"$f":"AJ$226*AJ$227","v":0},null,null,null,null,null,null,null,null,null,null,null,null,null,null,null,{"$f":"AZ$226*AZ$227","v":0},null,null,null,null,null,null,null,null,null,null,null,null,null,null,null,{"$f":"BP$226*BP$227","v":0},null,null,null,null,null,null,null,null,null,null,null,null,null,null,null,{"$f":"CF$226*CF$227","v":0},null,null,null,null,null,null,null,null,null,null,null,null,null,null,null,{"$f":"CV$226*CV$227","v":0},null,null,null,null,null,null,null,null,null,null,null,null,null,null,null,{"$f":"DL$226*DL$227","v":0},null,null,null,null,null,null,null,null,null,null,null,null,null,null,null,{"$f":"EB$226*EB$227","v":0},null,null,null,null,null,null,null,null,null,null,null,null,null,null,null,{"$f":"ER$226*ER$227","v":0},null,null,null,null,null,null,null,null,null,null,null,null,null,null,null,{"$f":"FH$226*FH$227","v":0},null,null,null,null,null,null,null,null,null,null,null,null,null,null,null,{"$f":"FX$226*FX$227","v":0},null,null,null,null,null,null,null,null,null,null,null,null,null,null,null,{"$f":"GN$226*GN$227","v":0},null,null,null,null,null,null,null,null,null,null,null,null,null,null,null,{"$f":"HD$226*HD$227","v":0},null,null,null,null,null,null,null,null,null,null,null,null,null,null,null,{"$f":"HT$226*HT$227","v":0},null,null,null,null,null,null,null,null,null,null,null,null,null,null,null,{"$f":"IJ$226*IJ$227","v":0},null,null,null,null,null,null,null,null,null,null,null,null,null,null,null,{"$f":"IZ$226*IZ$227","v":0},null,null,null,null,null,null,null,null,null,null,null,null,null,null,null,{"$f":"JP$226*JP$227","v":0},null,null,null,null,null,null,null,null,null,null,null,null,null,null,null,{"$f":"KF$226*KF$227","v":0},null,null,null,null,null,null,null,null,null,null,null,null,null,null,null,{"$f":"KV$226*KV$227","v":0},null,null,null,null,null,null,null,null,null,null,null,null,null,null,null,{"$f":"LL$226*LL$227","v":0},null,null,null,null,null,null,null,null,null,null,null,null,null,null,null,{"$f":"MB$226*MB$227","v":0},null,null,null,null,null,null,null,null,null,null,null,null,null,null,null,{"$f":"MR$226*MR$227","v":0},null,null,null,null,null,null,null,null,null,null,null,null,null,null,null,{"$f":"NH$226*NH$227","v":0},null,null,null,null,null,null,null,null,null,null,null,null,null,null,null,{"$f":"NX$226*NX$227","v":0},null,null,null,null,null,null,null,null,null,null,null,null,null,null,null,{"$f":"ON$226*ON$227","v":0},null,null,null,null,null,null,null,null,null,null,null,null,null,null,null,{"$f":"PD$226*PD$227","v":0},null,null,null,null,null,null,null,null,null,null,null,null,null,null,null,{"$f":"PT$226*PT$227","v":0},null,null,null,null,null,null,null,null,null,null,null,null,null,null,null,{"$f":"QJ$226*QJ$227","v":0},null,null,null,null,null,null,null,null,null,null,null,null,null,null,null,{"$f":"QZ$226*QZ$227","v":0},null,null,null,null,null,null,null,null,null,null,null,null,null,null,null,{"$f":"RP$226*RP$227","v":0},null,null,null,null,null,null,null,null,null,null,null,null,null,null,null,{"$f":"SF$226*SF$227","v":0},null,null,null,null,null,null,null,null,null,null,null,null,null,null,null,{"$f":"SV$226*SV$227","v":0},null,null,null,null,null,null,null,null,null,null,null,null,null,null,null,{"$f":"TL$226*TL$227","v":0},null,null,null,null,null,null,null,null,null,null,null,null,null,null,null,{"$f":"UB$226*UB$227","v":0},null,null,null,null,null,null,null,null,null,null,null,null,null,null,null,{"$f":"UR$226*UR$227","v":0},null,null,null,null,null,null,null,null,null,null,null,null,null,null,null,{"$f":"VH$226*VH$227","v":0},null,null,null,null,null,null,null,null,null,null,null,null,null,null,null,{"$f":"VX$226*VX$227","v":0},null,null,null,null,null,null,null,null,null,null,null,null,null,null,null,{"$f":"WN$226*WN$227","v":0},null,null,null,null,null,null,null,null,null,null,null,null,null,null,null,{"$f":"XD$226*XD$227","v":0},null,null,null,null,null,null,null,null,null,null,null,null,null,null,null,{"$f":"XT$226*XT$227","v":0},null,null,null,null,null,null,null,null,null,null,null,null,null,null,null,{"$f":"YJ$226*YJ$227","v":0},null,null,null,null,null,null,null,null,null,null,null,null,null,null,null,{"$f":"YZ$226*YZ$227","v":0},null,null,null,null,null,null,null,null,null,null,null,null,null,null,null,{"$f":"ZP$226*ZP$227","v":0},null,null,null,null,null,null,null,null,null,null,null,null,null,null,null,{"$f":"AAF$226*AAF$227","v":0},null,null,null,null,null,null,null,null,null,null,null,null,null,null,null,{"$f":"AAV$226*AAV$227","v":0},null,null,null,null,null,null,null,null,null,null,null,null,null,null,null,{"$f":"ABL$226*ABL$227","v":0},null,null,null,null,null,null,null,null,null,null,null,null,null,null,null,{"$f":"ACB$226*ACB$227","v":0},null,null,null,null,null,null,null,null,null,null,null,null,null,null,null,{"$f":"ACR$226*ACR$227","v":0},null,null,null,null,null,null,null,null,null,null,null,null,null,null,null,{"$f":"ADH$226*ADH$227","v":0}]
[2025,{"$f":"SUM(26:26)","v":0},null,null,null,null,null,null,null,null,null,null,null,null,null,null,2025,{"$f":"SUM(26:26)","v":0},null,null,null,null,null,null,null,null,null,null,null,null,null,null,2025,{"$f":"SUM(26:26)","v":0},null,null,null,null,null,null,null,null,null,null,null,null,null,null,2025,{"$f":"SUM(26:26)","v":0},null,null,null,null,null,null,null,null,null,null,null,null,null,null,2025,{"$f":"SUM(26:26)","v":0},null,null,null,null,null,null,null,null,null,null,null,null,null,null,2025,{"$f":"SUM(26:26)","v":0},null,null,null,null,null,null,null,null,null,null,null,null,null,null,2025,{"$f":"SUM(26:26)","v":0},null,null,null,null,null,null,null,null,null,null,null,null,null,null,2025,{"$f":"SUM(26:26)","v":0},null,null,null,null,null,null,null,null,null,null,null,null,null,null,2025,{"$f":"SUM(26:26)","v":0},null,null,null,null,null,null,null,null,null,null,null,null,null,null,2025,{"$f":"SUM(26:26)","v":0},null,null,null,null,null,null,null,null,null,null,null,null,null,null,2025,{"$f":"SUM(26:26)","v":0},null,null,null,null,null,null,null,null,null,null,null,null,null,null,2025,{"$f":"SUM(26:26)","v":0},null,null,null,null,null,null,null,null,null,null,null,null,null,null,2025,{"$f":"SUM(26:26)","v":0},null,null,null,null,null,null,null,null,null,null,null,null,null,null,2025,{"$f":"SUM(26:26)","v":0},null,null,null,null,null,null,null,null,null,null,null,null,null,null,2025,{"$f":"SUM(26:26)","v":0},null,null,null,null,null,null,null,null,null,null,null,null,null,null,2025,{"$f":"SUM(26:26)","v":0},null,null,null,null,null,null,null,null,null,null,null,null,null,null,2025,{"$f":"SUM(26:26)","v":0},null,null,null,null,null,null,null,null,null,null,null,null,null,null,2025,{"$f":"SUM(26:26)","v":0},null,null,null,null,null,null,null,null,null,null,null,null,null,null,2025,{"$f":"SUM(26:26)","v":0},null,null,null,null,null,null,null,null,null,null,null,null,null,null,2025,{"$f":"SUM(26:26)","v":0},null,null,null,null,null,null,null,null,null,null,null,null,null,null,2025,{"$f":"SUM(26:26)","v":0},null,null,null,null,null,null,null,null,null,null,null,null,null,null,2025,{"$f":"SUM(26:26)","v":0},null,null,null,null,null,null,null,null,null,null,null,null,null,null,2025,{"$f":"SUM(26:26)","v":0},null,null,null,null,null,null,null,null,null,null,null,null,null,null,2025,{"$f":"SUM(26:26)","v":0},null,null,null,null,null,null,null,null,null,null,null,null,null,null,2025,{"$f":"SUM(26:26)","v":0},null,null,null,null,null,null,null,null,null,null,null,null,null,null,2025,{"$f":"SUM(26:26)","v":0},null,null,null,null,null,null,null,null,null,null,null,null,null,null,2025,{"$f":"SUM(26:26)","v":0},null,null,null,null,null,null,null,null,null,null,null,null,null,null,2025,{"$f":"SUM(26:26)","v":0},null,null,null,null,null,null,null,null,null,null,null,null,null,null,2025,{"$f":"SUM(26:26)","v":0},null,null,null,null,null,null,null,null,null,null,null,null,null,null,2025,{"$f":"SUM(26:26)","v":0},null,null,null,null,null,null,null,null,null,null,null,null,null,null,2025,{"$f":"SUM(26:26)","v":0},null,null,null,null,null,null,null,null,null,null,null,null,null,null,2025,{"$f":"SUM(26:26)","v":0},null,null,null,null,null,null,null,null,null,null,null,null,null,null,2025,{"$f":"SUM(26:26)","v":0},null,null,null,null,null,null,null,null,null,null,null,null,null,null,2025,{"$f":"SUM(26:26)","v":0},null,null,null,null,null,null,null,null,null,null,null,null,null,null,2025,{"$f":"SUM(26:26)","v":0},null,null,null,null,null,null,null,null,null,null,null,null,null,null,2025,{"$f":"SUM(26:26)","v":0},null,null,null,null,null,null,null,null,null,null,null,null,null,null,2025,{"$f":"SUM(26:26)","v":0},null,null,null,null,null,null,null,null,null,null,null,null,null,null,2025,{"$f":"SUM(26:26)","v":0},null,null,null,null,null,null,null,null,null,null,null,null,null,null,2025,{"$f":"SUM(26:26)","v":0},null,null,null,null,null,null,null,null,null,null,null,null,null,null,2025,{"$f":"SUM(26:26)","v":0},null,null,null,null,null,null,null,null,null,null,null,null,null,null,2025,{"$f":"SUM(26:26)","v":0},null,null,null,null,null,null,null,null,null,null,null,null,null,null,2025,{"$f":"SUM(26:26)","v":0},null,null,null,null,null,null,null,null,null,null,null,null,null,null,2025,{"$f":"SUM(26:26)","v":0},null,null,null,null,null,null,null,null,null,null,null,null,null,null,2025,{"$f":"SUM(26:26)","v":0},null,null,null,null,null,null,null,null,null,null,null,null,null,null,2025,{"$f":"SUM(26:26)","v":0},null,null,null,null,null,null,null,null,null,null,null,null,null,null,2025,{"$f":"SUM(26:26)","v":0},null,null,null,null,null,null,null,null,null,null,null,null,null,null,2025,{"$f":"SUM(26:26)","v":0},null,null,null,null,null,null,null,null,null,null,null,null,null,null,2025,{"$f":"SUM(26:26)","v":0},null,null,null,null,null,null,null,null,null,null,null,null,null,null,2025,{"$f":"SUM(26:26)","v":0},null,null,null,null,null,null,null,null,null,null,null,null,null,null,2025,{"$f":"SUM(26:26)","v":0}]
[null,null,null,null,{"$f":"D$226*E$227","v":0},null,null,null,null,null,null,null,null,null,null,null,null,null,null,null,{"$f":"T$226*U$227","v":0},null,null,null,null,null,null,null,null,null,null,null,null,null,null,null,{"$f":"AJ$226*AK$227","v":0},null,null,null,null,null,null,null,null,null,null,null,null,null,null,null,{"$f":"AZ$226*BA$227","v":0},null,null,null,null,null,null,null,null,null,null,null,null,null,null,null,{"$f":"BP$226*BQ$227","v":0},null,null,null,null,null,null,null,null,null,null,null,null,null,null,null,{"$f":"CF$226*CG$227","v":0},null,null,null,null,null,null,null,null,null,null,null,null,null,null,null,{"$f":"CV$226*CW$227","v":0},null,null,null,null,null,null,null,null,null,null,null,null,null,null,null,{"$f":"DL$226*DM$227","v":0},null,null,null,null,null,null,null,null,null,null,null,null,null,null,null,{"$f":"EB$226*EC$227","v":0},null,null,null,null,null,null,null,null,null,null,null,null,null,null,null,{"$f":"ER$226*ES$227","v":0},null,null,null,null,null,null,null,null,null,null,null,null,null,null,null,{"$f":"FH$226*FI$227","v":0},null,null,null,null,null,null,null,null,null,null,null,null,null,null,null,{"$f":"FX$226*FY$227","v":0},null,null,null,null,null,null,null,null,null,null,null,null,null,null,null,{"$f":"GN$226*GO$227","v":0},null,null,null,null,null,null,null,null,null,null,null,null,null,null,null,{"$f":"HD$226*HE$227","v":0},null,null,null,null,null,null,null,null,null,null,null,null,null,null,null,{"$f":"HT$226*HU$227","v":0},null,null,null,null,null,null,null,null,null,null,null,null,null,null,null,{"$f":"IJ$226*IK$227","v":0},null,null,null,null,null,null,null,null,null,null,null,null,null,null,null,{"$f":"IZ$226*JA$227","v":0},null,null,null,null,null,null,null,null,null,null,null,null,null,null,null,{"$f":"JP$226*JQ$227","v":0},null,null,null,null,null,null,null,null,null,null,null,null,null,null,null,{"$f":"KF$226*KG$227","v":0},null,null,null,null,null,null,null,null,null,null,null,null,null,null,null,{"$f":"KV$226*KW$227","v":0},null,null,null,null,null,null,null,null,null,null,null,null,null,null,null,{"$f":"LL$226*LM$227","v":0},null,null,null,null,null,null,null,null,null,null,null,null,null,null,null,{"$f":"MB$226*MC$227","v":0},null,null,null,null,null,null,null,null,null,null,null,null,null,null,null,{"$f":"MR$226*MS$227","v":0},null,null,null,null,null,null,null,null,null,null,null,null,null,null,null,{"$f":"NH$226*NI$227","v":0},null,null,null,null,null,null,null,null,null,null,null,null,null,null,null,{"$f":"NX$226*NY$227","v":0},null,null,null,null,null,null,null,null,null,null,null,null,null,null,null,{"$f":"ON$226*OO$227","v":0},null,null,null,null,null,null,null,null,null,null,null,null,null,null,null,{"$f":"PD$226*PE$227","v":0},null,null,null,null,null,null,null,null,null,null,null,null,null,null,null,{"$f":"PT$226*PU$227","v":0},null,null,null,null,null,null,null,null,null,null,null,null,null,null,null,{"$f":"QJ$226*QK$227","v":0},null,null,null,null,null,null,null,null,null,null,null,null,null,null,null,{"$f":"QZ$226*RA$227","v":0},null,null,null,null,null,null,null,null,null,null,null,null,null,null,null,{"$f":"RP$226*RQ$227","v":0},null,null,null,null,null,null,null,null,null,null,null,null,null,null,null,{"$f":"SF$226*SG$227","v":0},null,null,null,null,null,null,null,null,null,null,null,null,null,null,null,{"$f":"SV$226*SW$227","v":0},null,null,null,null,null,null,null,null,null,null,null,null,null,null,null,{"$f":"TL$226*TM$227","v":0},null,null,null,null,null,null,null,null,null,null,null,null,null,null,null,{"$f":"UB$226*UC$227","v":0},null,null,null,null,null,null,null,null,null,null,null,null,null,null,null,{"$f":"UR$226*US$227","v":0},null,null,null,null,null,null,null,null,null,null,null,null,null,null,null,{"$f":"VH$226*VI$227","v":0},null,null,null,null,null,null,null,null,null,null,null,null,null,null,null,{"$f":"VX$226*VY$227","v":0},null,null,null,null,null,null,null,null,null,null,null,null,null,null,null,{"$f":"WN$226*WO$227","v":0},null,null,null,null,null,null,null,null,null,null,null,null,null,null,null,{"$f":"XD$226*XE$227","v":0},null,null,null,null,null,null,null,null,null,null,null,null,null,null,null,{"$f":"XT$226*XU$227","v":0},null,null,null,null,null,null,null,null,null,null,null,null,null,null,null,{"$f":"YJ$226*YK$227","v":0},null,null,null,null,null,null,null,null,null,null,null,null,null,null,null,{"$f":"YZ$226*ZA$227","v":0},null,null,null,null,null,null,null,null,null,null,null,null,null,null,null,{"$f":"ZP$226*ZQ$227","v":0},null,null,null,null,null,null,null,null,null,null,null,null,null,null,null,{"$f":"AAF$226*AAG$227","v":0},null,null,null,null,null,null,null,null,null,null,null,null,null,null,null,{"$f":"AAV$226*AAW$227","v":0},null,null,null,null,null,null,null,null,null,null,null,null,null,null,null,{"$f":"ABL$226*ABM$227","v":0},null,null,null,null,null,null,null,null,null,null,null,null,null,null,null,{"$f":"ACB$226*ACC$227","v":0},null,null,null,null,null,null,null,null,null,null,null,null,null,null,null,{"$f":"ACR$226*ACS$227","v":0},null,null,null,null,null,null,null,null,null,null,null,null,null,null,null,{"$f":"ADH$226*ADI$227","v":0}]
[2026,{"$f":"SUM(28:28)","v":0},null,null,null,null,null,null,null,null,null,null,null,null,null,null,2026,{"$f":"SUM(28:28)","v":0},null,null,null,null,null,null,null,null,null,null,null,null,null,null,2026,{"$f":"SUM(28:28)","v":0},null,null,null,null,null,null,null,null,null,null,null,null,null,null,2026,{"$f":"SUM(28:28)","v":0},null,null,null,null,null,null,null,null,null,null,null,null,null,null,2026,{"$f":"SUM(28:28)","v":0},null,null,null,null,null,null,null,null,null,null,null,null,null,null,2026,{"$f":"SUM(28:28)","v":0},null,null,null,null,null,null,null,null,null,null,null,null,null,null,2026,{"$f":"SUM(28:28)","v":0},null,null,null,null,null,null,null,null,null,null,null,null,null,null,2026,{"$f":"SUM(28:28)","v":0},null,null,null,null,null,null,null,null,null,null,null,null,null,null,2026,{"$f":"SUM(28:28)","v":0},null,null,null,null,null,null,null,null,null,null,null,null,null,null,2026,{"$f":"SUM(28:28)","v":0},null,null,null,null,null,null,null,null,null,null,null,null,null,null,2026,{"$f":"SUM(28:28)","v":0},null,null,null,null,null,null,null,null,null,null,null,null,null,null,2026,{"$f":"SUM(28:28)","v":0},null,null,null,null,null,null,null,null,null,null,null,null,null,null,2026,{"$f":"SUM(28:28)","v":0},null,null,null,null,null,null,null,null,null,null,null,null,null,null,2026,{"$f":"SUM(28:28)","v":0},null,null,null,null,null,null,null,null,null,null,null,null,null,null,2026,{"$f":"SUM(28:28)","v":0},null,null,null,null,null,null,null,null,null,null,null,null,null,null,2026,{"$f":"SUM(28:28)","v":0},null,null,null,null,null,null,null,null,null,null,null,null,null,null,2026,{"$f":"SUM(28:28)","v":0},null,null,null,null,null,null,null,null,null,null,null,null,null,null,2026,{"$f":"SUM(28:28)","v":0},null,null,null,null,null,null,null,null,null,null,null,null,null,null,2026,{"$f":"SUM(28:28)","v":0},null,null,null,null,null,null,null,null,null,null,null,null,null,null,2026,{"$f":"SUM(28:28)","v":0},null,null,null,null,null,null,null,null,null,null,null,null,null,null,2026,{"$f":"SUM(28:28)","v":0},null,null,null,null,null,null,null,null,null,null,null,null,null,null,2026,{"$f":"SUM(28:28)","v":0},null,null,null,null,null,null,null,null,null,null,null,null,null,null,2026,{"$f":"SUM(28:28)","v":0},null,null,null,null,null,null,null,null,null,null,null,null,null,null,2026,{"$f":"SUM(28:28)","v":0},null,null,null,null,null,null,null,null,null,null,null,null,null,null,2026,{"$f":"SUM(28:28)","v":0},null,null,null,null,null,null,null,null,null,null,null,null,null,null,2026,{"$f":"SUM(28:28)","v":0},null,null,null,null,null,null,null,null,null,null,null,null,null,null,2026,{"$f":"SUM(28:28)","v":0},null,null,null,null,null,null,null,null,null,null,null,null,null,null,2026,{"$f":"SUM(28:28)","v":0},null,null,null,null,null,null,null,null,null,null,null,null,null,null,2026,{"$f":"SUM(28:28)","v":0},null,null,null,null,null,null,null,null,null,null,null,null,null,null,2026,{"$f":"SUM(28:28)","v":0},null,null,null,null,null,null,null,null,null,null,null,null,null,null,2026,{"$f":"SUM(28:28)","v":0},null,null,null,null,null,null,null,null,null,null,null,null,null,null,2026,{"$f":"SUM(28:28)","v":0},null,null,null,null,null,null,null,null,null,null,null,null,null,null,2026,{"$f":"SUM(28:28)","v":0},null,null,null,null,null,null,null,null,null,null,null,null,null,null,2026,{"$f":"SUM(28:28)","v":0},null,null,null,null,null,null,null,null,null,null,null,null,null,null,2026,{"$f":"SUM(28:28)","v":0},null,null,null,null,null,null,null,null,null,null,null,null,null,null,2026,{"$f":"SUM(28:28)","v":0},null,null,null,null,null,null,null,null,null,null,null,null,null,null,2026,{"$f":"SUM(28:28)","v":0},null,null,null,null,null,null,null,null,null,null,null,null,null,null,2026,{"$f":"SUM(28:28)","v":0},null,null,null,null,null,null,null,null,null,null,null,null,null,null,2026,{"$f":"SUM(28:28)","v":0},null,null,null,null,null,null,null,null,null,null,null,null,null,null,2026,{"$f":"SUM(28:28)","v":0},null,null,null,null,null,null,null,null,null,null,null,null,null,null,2026,{"$f":"SUM(28:28)","v":0},null,null,null,null,null,null,null,null,null,null,null,null,null,null,2026,{"$f":"SUM(28:28)","v":0},null,null,null,null,null,null,null,null,null,null,null,null,null,null,2026,{"$f":"SUM(28:28)","v":0},null,null,null,null,null,null,null,null,null,null,null,null,null,null,2026,{"$f":"SUM(28:28)","v":0},null,null,null,null,null,null,null,null,null,null,null,null,null,null,2026,{"$f":"SUM(28:28)","v":0},null,null,null,null,null,null,null,null,null,null,null,null,null,null,2026,{"$f":"SUM(28:28)","v":0},null,null,null,null,null,null,null,null,null,null,null,null,null,null,2026,{"$f":"SUM(28:28)","v":0},null,null,null,null,null,null,null,null,null,null,null,null,null,null,2026,{"$f":"SUM(28:28)","v":0},null,null,null,null,null,null,null,null,null,null,null,null,null,null,2026,{"$f":"SUM(28:28)","v":0},null,null,null,null,null,null,null,null,null,null,null,null,null,null,2026,{"$f":"SUM(28:28)","v":0}]
[null,null,null,null,null,{"$f":"D$226*F$227","v":0},null,null,null,null,null,null,null,null,null,null,null,null,null,null,null,{"$f":"T$226*V$227","v":0},null,null,null,null,null,null,null,null,null,null,null,null,null,null,null,{"$f":"AJ$226*AL$227","v":0},null,null,null,null,null,null,null,null,null,null,null,null,null,null,null,{"$f":"AZ$226*BB$227","v":0},null,null,null,null,null,null,null,null,null,null,null,null,null,null,null,{"$f":"BP$226*BR$227","v":0},null,null,null,null,null,null,null,null,null,null,null,null,null,null,null,{"$f":"CF$226*CH$227","v":0},null,null,null,null,null,null,null,null,null,null,null,null,null,null,null,{"$f":"CV$226*CX$227","v":0},null,null,null,null,null,null,null,null,null,null,null,null,null,null,null,{"$f":"DL$226*DN$227","v":0},null,null,null,null,null,null,null,null,null,null,null,null,null,null,null,{"$f":"EB$226*ED$227","v":0},null,null,null,null,null,null,null,null,null,null,null,null,null,null,null,{"$f":"ER$226*ET$227","v":0},null,null,null,null,null,null,null,null,null,null,null,null,null,null,null,{"$f":"FH$226*FJ$227","v":0},null,null,null,null,null,null,null,null,null,null,null,null,null,null,null,{"$f":"FX$226*FZ$227","v":0},null,null,null,null,null,null,null,null,null,null,null,null,null,null,null,{"$f":"GN$226*GP$227","v":0},null,null,null,null,null,null,null,null,null,null,null,null,null,null,null,{"$f":"HD$226*HF$227","v":0},null,null,null,null,null,null,null,null,null,null,null,null,null,null,null,{"$f":"HT$226*HV$227","v":0},null,null,null,null,null,null,null,null,null,null,null,null,null,null,null,{"$f":"IJ$226*IL$227","v":0},null,null,null,null,null,null,null,null,null,null,null,null,null,null,null,{"$f":"IZ$226*JB$227","v":0},null,null,null,null,null,null,null,null,null,null,null,null,null,null,null,{"$f":"JP$226*JR$227","v":0},null,null,null,null,null,null,null,null,null,null,null,null,null,null,null,{"$f":"KF$226*KH$227","v":0},null,null,null,null,null,null,null,null,null,null,null,null,null,null,null,{"$f":"KV$226*KX$227","v":0},null,null,null,null,null,null,null,null,null,null,null,null,null,null,null,{"$f":"LL$226*LN$227","v":0},null,null,null,null,null,null,null,null,null,null,null,null,null,null,null,{"$f":"MB$226*MD$227","v":0},null,null,null,null,null,null,null,null,null,null,null,null,null,null,null,{"$f":"MR$226*MT$227","v":0},null,null,null,null,null,null,null,null,null,null,null,null,null,null,null,{"$f":"NH$226*NJ$227","v":0},null,null,null,null,null,null,null,null,null,null,null,null,null,null,null,{"$f":"NX$226*NZ$227","v":0},null,null,null,null,null,null,null,null,null,null,null,null,null,null,null,{"$f":"ON$226*OP$227","v":0},null,null,null,null,null,null,null,null,null,null,null,null,null,null,null,{"$f":"PD$226*PF$227","v":0},null,null,null,null,null,null,null,null,null,null,null,null,null,null,null,{"$f":"PT$226*PV$227","v":0},null,null,null,null,null,null,null,null,null,null,null,null,null,null,null,{"$f":"QJ$226*QL$227","v":0},null,null,null,null,null,null,null,null,null,null,null,null,null,null,null,{"$f":"QZ$226*RB$227","v":0},null,null,null,null,null,null,null,null,null,null,null,null,null,null,null,{"$f":"RP$226*RR$227","v":0},null,null,null,null,null,null,null,null,null,null,null,null,null,null,null,{"$f":"SF$226*SH$227","v":0},null,null,null,null,null,null,null,null,null,null,null,null,null,null,null,{"$f":"SV$226*SX$227","v":0},null,null,null,null,null,null,null,null,null,null,null,null,null,null,null,{"$f":"TL$226*TN$227","v":0},null,null,null,null,null,null,null,null,null,null,null,null,null,null,null,{"$f":"UB$226*UD$227","v":0},null,null,null,null,null,null,null,null,null,null,null,null,null,null,null,{"$f":"UR$226*UT$227","v":0},null,null,null,null,null,null,null,null,null,null,null,null,null,null,null,{"$f":"VH$226*VJ$227","v":0},null,null,null,null,null,null,null,null,null,null,null,null,null,null,null,{"$f":"VX$226*VZ$227","v":0},null,null,null,null,null,null,null,null,null,null,null,null,null,null,null,{"$f":"WN$226*WP$227","v":0},null,null,null,null,null,null,null,null,null,null,null,null,null,null,null,{"$f":"XD$226*XF$227","v":0},null,null,null,null,null,null,null,null,null,null,null,null,null,null,null,{"$f":"XT$226*XV$227","v":0},null,null,null,null,null,null,null,null,null,null,null,null,null,null,null,{"$f":"YJ$226*YL$227","v":0},null,null,null,null,null,null,null,null,null,null,null,null,null,null,null,{"$f":"YZ$226*ZB$227","v":0},null,null,null,null,null,null,null,null,null,null,null,null,null,null,null,{"$f":"ZP$226*ZR$227","v":0},null,null,null,null,null,null,null,null,null,null,null,null,null,null,null,{"$f":"AAF$226*AAH$227","v":0},null,null,null,null,null,null,null,null,null,null,null,null,null,null,null,{"$f":"AAV$226*AAX$227","v":0},null,null,null,null,null,null,null,null,null,null,null,null,null,null,null,{"$f":"ABL$226*ABN$227","v":0},null,null,null,null,null,null,null,null,null,null,null,null,null,null,null,{"$f":"ACB$226*ACD$227","v":0},null,null,null,null,null,null,null,null,null,null,null,null,null,null,null,{"$f":"ACR$226*ACT$227","v":0},null,null,null,null,null,null,null,null,null,null,null,null,null,null,null,{"$f":"ADH$226*ADJ$227","v":0}]
[2027,{"$f":"SUM(30:30)","v":0},null,null,null,null,null,null,null,null,null,null,null,null,null,null,2027,{"$f":"SUM(30:30)","v":0},null,null,null,null,null,null,null,null,null,null,null,null,null,null,2027,{"$f":"SUM(30:30)","v":0},null,null,null,null,null,null,null,null,null,null,null,null,null,null,2027,{"$f":"SUM(30:30)","v":0},null,null,null,null,null,null,null,null,null,null,null,null,null,null,2027,{"$f":"SUM(30:30)","v":0},null,null,null,null,null,null,null,null,null,null,null,null,null,null,2027,{"$f":"SUM(30:30)","v":0},null,null,null,null,null,null,null,null,null,null,null,null,null,null,2027,{"$f":"SUM(30:30)","v":0},null,null,null,null,null,null,null,null,null,null,null,null,null,null,2027,{"$f":"SUM(30:30)","v":0},null,null,null,null,null,null,null,null,null,null,null,null,null,null,2027,{"$f":"SUM(30:30)","v":0},null,null,null,null,null,null,null,null,null,null,null,null,null,null,2027,{"$f":"SUM(30:30)","v":0},null,null,null,null,null,null,null,null,null,null,null,null,null,null,2027,{"$f":"SUM(30:30)","v":0},null,null,null,null,null,null,null,null,null,null,null,null,null,null,2027,{"$f":"SUM(30:30)","v":0},null,null,null,null,null,null,null,null,null,null,null,null,null,null,2027,{"$f":"SUM(30:30)","v":0},null,null,null,null,null,null,null,null,null,null,null,null,null,null,2027,{"$f":"SUM(30:30)","v":0},null,null,null,null,null,null,null,null,null,null,null,null,null,null,2027,{"$f":"SUM(30:30)","v":0},null,null,null,null,null,null,null,null,null,null,null,null,null,null,2027,{"$f":"SUM(30:30)","v":0},null,null,null,null,null,null,null,null,null,null,null,null,null,null,2027,{"$f":"SUM(30:30)","v":0},null,null,null,null,null,null,null,null,null,null,null,null,null,null,2027,{"$f":"SUM(30:30)","v":0},null,null,null,null,null,null,null,null,null,null,null,null,null,null,2027,{"$f":"SUM(30:30)","v":0},null,null,null,null,null,null,null,null,null,null,null,null,null,null,2027,{"$f":"SUM(30:30)","v":0},null,null,null,null,null,null,null,null,null,null,null,null,null,null,2027,{"$f":"SUM(30:30)","v":0},null,null,null,null,null,null,null,null,null,null,null,null,null,null,2027,{"$f":"SUM(30:30)","v":0},null,null,null,null,null,null,null,null,null,null,null,null,null,null,2027,{"$f":"SUM(30:30)","v":0},null,null,null,null,null,null,null,null,null,null,null,null,null,null,2027,{"$f":"SUM(30:30)","v":0},null,null,null,null,null,null,null,null,null,null,null,null,null,null,2027,{"$f":"SUM(30:30)","v":0},null,null,null,null,null,null,null,null,null,null,null,null,null,null,2027,{"$f":"SUM(30:30)","v":0},null,null,null,null,null,null,null,null,null,null,null,null,null,null,2027,{"$f":"SUM(30:30)","v":0},null,null,null,null,null,null,null,null,null,null,null,null,null,null,2027,{"$f":"SUM(30:30)","v":0},null,null,null,null,null,null,null,null,null,null,null,null,null,null,2027,{"$f":"SUM(30:30)","v":0},null,null,null,null,null,null,null,null,null,null,null,null,null,null,2027,{"$f":"SUM(30:30)","v":0},null,null,null,null,null,null,null,null,null,null,null,null,null,null,2027,{"$f":"SUM(30:30)","v":0},null,null,null,null,null,null,null,null,null,null,null,null,null,null,2027,{"$f":"SUM(30:30)","v":0},null,null,null,null,null,null,null,null,null,null,null,null,null,null,2027,{"$f":"SUM(30:30)","v":0},null,null,null,null,null,null,null,null,null,null,null,null,null,null,2027,{"$f":"SUM(30:30)","v":0},null,null,null,null,null,null,null,null,null,null,null,null,null,null,2027,{"$f":"SUM(30:30)","v":0},null,null,null,null,null,null,null,null,null,null,null,null,null,null,2027,{"$f":"SUM(30:30)","v":0},null,null,null,null,null,null,null,null,null,null,null,null,null,null,2027,{"$f":"SUM(30:30)","v":0},null,null,null,null,null,null,null,null,null,null,null,null,null,null,2027,{"$f":"SUM(30:30)","v":0},null,null,null,null,null,null,null,null,null,null,null,null,null,null,2027,{"$f":"SUM(30:30)","v":0},null,null,null,null,null,null,null,null,null,null,null,null,null,null,2027,{"$f":"SUM(30:30)","v":0},null,null,null,null,null,null,null,null,null,null,null,null,null,null,2027,{"$f":"SUM(30:30)","v":0},null,null,null,null,null,null,null,null,null,null,null,null,null,null,2027,{"$f":"SUM(30:30)","v":0},null,null,null,null,null,null,null,null,null,null,null,null,null,null,2027,{"$f":"SUM(30:30)","v":0},null,null,null,null,null,null,null,null,null,null,null,null,null,null,2027,{"$f":"SUM(30:30)","v":0},null,null,null,null,null,null,null,null,null,null,null,null,null,null,2027,{"$f":"SUM(30:30)","v":0},null,null,null,null,null,null,null,null,null,null,null,null,null,null,2027,{"$f":"SUM(30:30)","v":0},null,null,null,null,null,null,null,null,null,null,null,null,null,null,2027,{"$f":"SUM(30:30)","v":0},null,null,null,null,null,null,null,null,null,null,null,null,null,null,2027,{"$f":"SUM(30:30)","v":0},null,null,null,null,null,null,null,null,null,null,null,null,null,null,2027,{"$f":"SUM(30:30)","v":0},null,null,null,null,null,null,null,null,null,null,null,null,null,null,2027,{"$f":"SUM(30:30)","v":0}]
[null,null,null,null,null,null,{"$f":"D$226*G$227","v":0},null,null,null,null,null,null,null,null,null,null,null,null,null,null,null,{"$f":"T$226*W$227","v":0},null,null,null,null,null,null,null,null,null,null,null,null,null,null,null,{"$f":"AJ$226*AM$227","v":0},null,null,null,null,null,null,null,null,null,null,null,null,null,null,null,{"$f":"AZ$226*BC$227","v":0},null,null,null,null,null,null,null,null,null,null,null,null,null,null,null,{"$f":"BP$226*BS$227","v":0},null,null,null,null,null,null,null,null,null,null,null,null,null,null,null,{"$f":"CF$226*CI$227","v":0},null,null,null,null,null,null,null,null,null,null,null,null,null,null,null,{"$f":"CV$226*CY$227","v":0},null,null,null,null,null,null,null,null,null,null,null,null,null,null,null,{"$f":"DL$226*DO$227","v":0},null,null,null,null,null,null,null,null,null,null,null,null,null,null,null,{"$f":"EB$226*EE$227","v":0},null,null,null,null,null,null,null,null,null,null,null,null,null,null,null,{"$f":"ER$226*EU$227","v":0},null,null,null,null,null,null,null,null,null,null,null,null,null,null,null,{"$f":"FH$226*FK$227","v":0},null,null,null,null,null,null,null,null,null,null,null,null,null,null,null,{"$f":"FX$226*GA$227","v":0},null,null,null,null,null,null,null,null,null,null,null,null,null,null,null,{"$f":"GN$226*GQ$227","v":0},null,null,null,null,null,null,null,null,null,null,null,null,null,null,null,{"$f":"HD$226*HG$227","v":0},null,null,null,null,null,null,null,null,null,null,null,null,null,null,null,{"$f":"HT$226*HW$227","v":0},null,null,null,null,null,null,null,null,null,null,null,null,null,null,null,{"$f":"IJ$226*IM$227","v":0},null,null,null,null,null,null,null,null,null,null,null,null,null,null,null,{"$f":"IZ$226*JC$227","v":0},null,null,null,null,null,null,null,null,null,null,null,null,null,null,null,{"$f":"JP$226*JS$227","v":0},null,null,null,null,null,null,null,null,null,null,null,null,null,null,null,{"$f":"KF$226*KI$227","v":0},null,null,null,null,null,null,null,null,null,null,null,null,null,null,null,{"$f":"KV$226*KY$227","v":0},null,null,null,null,null,null,null,null,null,null,null,null,null,null,null,{"$f":"LL$226*LO$227","v":0},null,null,null,null,null,null,null,null,null,null,null,null,null,null,null,{"$f":"MB$226*ME$227","v":0},null,null,null,null,null,null,null,null,null,null,null,null,null,null,null,{"$f":"MR$226*MU$227","v":0},null,null,null,null,null,null,null,null,null,null,null,null,null,null,null,{"$f":"NH$226*NK$227","v":0},null,null,null,null,null,null,null,null,null,null,null,null,null,null,null,{"$f":"NX$226*OA$227","v":0},null,null,null,null,null,null,null,null,null,null,null,null,null,null,null,{"$f":"ON$226*OQ$227","v":0},null,null,null,null,null,null,null,null,null,null,null,null,null,null,null,{"$f":"PD$226*PG$227","v":0},null,null,null,null,null,null,null,null,null,null,null,null,null,null,null,{"$f":"PT$226*PW$227","v":0},null,null,null,null,null,null,null,null,null,null,null,null,null,null,null,{"$f":"QJ$226*QM$227","v":0},null,null,null,null,null,null,null,null,null,null,null,null,null,null,null,{"$f":"QZ$226*RC$227","v":0},null,null,null,null,null,null,null,null,null,null,null,null,null,null,null,{"$f":"RP$226*RS$227","v":0},null,null,null,null,null,null,null,null,null,null,null,null,null,null,null,{"$f":"SF$226*SI$227","v":0},null,null,null,null,null,null,null,null,null,null,null,null,null,null,null,{"$f":"SV$226*SY$227","v":0},null,null,null,null,null,null,null,null,null,null,null,null,null,null,null,{"$f":"TL$226*TO$227","v":0},null,null,null,null,null,null,null,null,null,null,null,null,null,null,null,{"$f":"UB$226*UE$227","v":0},null,null,null,null,null,null,null,null,null,null,null,null,null,null,null,{"$f":"UR$226*UU$227","v":0},null,null,null,null,null,null,null,null,null,null,null,null,null,null,null,{"$f":"VH$226*VK$227","v":0},null,null,null,null,null,null,null,null,null,null,null,null,null,null,null,{"$f":"VX$226*WA$227","v":0},null,null,null,null,null,null,null,null,null,null,null,null,null,null,null,{"$f":"WN$226*WQ$227","v":0},null,null,null,null,null,null,null,null,null,null,null,null,null,null,null,{"$f":"XD$226*XG$227","v":0},null,null,null,null,null,null,null,null,null,null,null,null,null,null,null,{"$f":"XT$226*XW$227","v":0},null,null,null,null,null,null,null,null,null,null,null,null,null,null,null,{"$f":"YJ$226*YM$227","v":0},null,null,null,null,null,null,null,null,null,null,null,null,null,null,null,{"$f":"YZ$226*ZC$227","v":0},null,null,null,null,null,null,null,null,null,null,null,null,null,null,null,{"$f":"ZP$226*ZS$227","v":0},null,null,null,null,null,null,null,null,null,null,null,null,null,null,null,{"$f":"AAF$226*AAI$227","v":0},null,null,null,null,null,null,null,null,null,null,null,null,null,null,null,{"$f":"AAV$226*AAY$227","v":0},null,null,null,null,null,null,null,null,null,null,null,null,null,null,null,{"$f":"ABL$226*ABO$227","v":0},null,null,null,null,null,null,null,null,null,null,null,null,null,null,null,{"$f":"ACB$226*ACE$227","v":0},null,null,null,null,null,null,null,null,null,null,null,null,null,null,null,{"$f":"ACR$226*ACU$227","v":0},null,null,null,null,null,null,null,null,null,null,null,null,null,null,null,{"$f":"ADH$226*ADK$227","v":0}]
[2028,{"$f":"SUM(32:32)","v":0},null,null,null,null,null,null,null,null,null,null,null,null,null,null,2028,{"$f":"SUM(32:32)","v":0},null,null,null,null,null,null,null,null,null,null,null,null,null,null,2028,{"$f":"SUM(32:32)","v":0},null,null,null,null,null,null,null,null,null,null,null,null,null,null,2028,{"$f":"SUM(32:32)","v":0},null,null,null,null,null,null,null,null,null,null,null,null,null,null,2028,{"$f":"SUM(32:32)","v":0},null,null,null,null,null,null,null,null,null,null,null,null,null,null,2028,{"$f":"SUM(32:32)","v":0},null,null,null,null,null,null,null,null,null,null,null,null,null,null,2028,{"$f":"SUM(32:32)","v":0},null,null,null,null,null,null,null,null,null,null,null,null,null,null,2028,{"$f":"SUM(32:32)","v":0},null,null,null,null,null,null,null,null,null,null,null,null,null,null,2028,{"$f":"SUM(32:32)","v":0},null,null,null,null,null,null,null,null,null,null,null,null,null,null,2028,{"$f":"SUM(32:32)","v":0},null,null,null,null,null,null,null,null,null,null,null,null,null,null,2028,{"$f":"SUM(32:32)","v":0},null,null,null,null,null,null,null,null,null,null,null,null,null,null,2028,{"$f":"SUM(32:32)","v":0},null,null,null,null,null,null,null,null,null,null,null,null,null,null,2028,{"$f":"SUM(32:32)","v":0},null,null,null,null,null,null,null,null,null,null,null,null,null,null,2028,{"$f":"SUM(32:32)","v":0},null,null,null,null,null,null,null,null,null,null,null,null,null,null,2028,{"$f":"SUM(32:32)","v":0},null,null,null,null,null,null,null,null,null,null,null,null,null,null,2028,{"$f":"SUM(32:32)","v":0},null,null,null,null,null,null,null,null,null,null,null,null,null,null,2028,{"$f":"SUM(32:32)","v":0},null,null,null,null,null,null,null,null,null,null,null,null,null,null,2028,{"$f":"SUM(32:32)","v":0},null,null,null,null,null,null,null,null,null,null,null,null,null,null,2028,{"$f":"SUM(32:32)","v":0},null,null,null,null,null,null,null,null,null,null,null,null,null,null,2028,{"$f":"SUM(32:32)","v":0},null,null,null,null,null,null,null,null,null,null,null,null,null,null,2028,{"$f":"SUM(32:32)","v":0},null,null,null,null,null,null,null,null,null,null,null,null,null,null,2028,{"$f":"SUM(32:32)","v":0},null,null,null,null,null,null,null,null,null,null,null,null,null,null,2028,{"$f":"SUM(32:32)","v":0},null,null,null,null,null,null,null,null,null,null,null,null,null,null,2028,{"$f":"SUM(32:32)","v":0},null,null,null,null,null,null,null,null,null,null,null,null,null,null,2028,{"$f":"SUM(32:32)","v":0},null,null,null,null,null,null,null,null,null,null,null,null,null,null,2028,{"$f":"SUM(32:32)","v":0},null,null,null,null,null,null,null,null,null,null,null,null,null,null,2028,{"$f":"SUM(32:32)","v":0},null,null,null,null,null,null,null,null,null,null,null,null,null,null,2028,{"$f":"SUM(32:32)","v":0},null,null,null,null,null,null,null,null,null,null,null,null,null,null,2028,{"$f":"SUM(32:32)","v":0},null,null,null,null,null,null,null,null,null,null,null,null,null,null,2028,{"$f":"SUM(32:32)","v":0},null,null,null,null,null,null,null,null,null,null,null,null,null,null,2028,{"$f":"SUM(32:32)","v":0},null,null,null,null,null,null,null,null,null,null,null,null,null,null,2028,{"$f":"SUM(32:32)","v":0},null,null,null,null,null,null,null,null,null,null,null,null,null,null,2028,{"$f":"SUM(32:32)","v":0},null,null,null,null,null,null,null,null,null,null,null,null,null,null,2028,{"$f":"SUM(32:32)","v":0},null,null,null,null,null,null,null,null,null,null,null,null,null,null,2028,{"$f":"SUM(32:32)","v":0},null,null,null,null,null,null,null,null,null,null,null,null,null,null,2028,{"$f":"SUM(32:32)","v":0},null,null,null,null,null,null,null,null,null,null,null,null,null,null,2028,{"$f":"SUM(32:32)","v":0},null,null,null,null,null,null,null,null,null,null,null,null,null,null,2028,{"$f":"SUM(32:32)","v":0},null,null,null,null,null,null,null,null,null,null,null,null,null,null,2028,{"$f":"SUM(32:32)","v":0},null,null,null,null,null,null,null,null,null,null,null,null,null,null,2028,{"$f":"SUM(32:32)","v":0},null,null,null,null,null,null,null,null,null,null,null,null,null,null,2028,{"$f":"SUM(32:32)","v":0},null,null,null,null,null,null,null,null,null,null,null,null,null,null,2028,{"$f":"SUM(32:32)","v":0},null,null,null,null,null,null,null,null,null,null,null,null,null,null,2028,{"$f":"SUM(32:32)","v":0},null,null,null,null,null,null,null,null,null,null,null,null,null,null,2028,{"$f":"SUM(32:32)","v":0},null,null,null,null,null,null,null,null,null,null,null,null,null,null,2028,{"$f":"SUM(32:32)","v":0},null,null,null,null,null,null,null,null,null,null,null,null,null,null,2028,{"$f":"SUM(32:32)","v":0},null,null,null,null,null,null,null,null,null,null,null,null,null,null,2028,{"$f":"SUM(32:32)","v":0},null,null,null,null,null,null,null,null,null,null,null,null,null,null,2028,{"$f":"SUM(32:32)","v":0},null,null,null,null,null,null,null,null,null,null,null,null,null,null,2028,{"$f":"SUM(32:32)","v":0},null,null,null,null,null,null,null,null,null,null,null,null,null,null,2028,{"$f":"SUM(32:32)","v":0}]
[2031,{"$f":"SUM(58:58)","v":0},null,null,null,null,null,null,null,null,null,null,null,null,null,null,2031,{"$f":"SUM(58:58)","v":0},null,null,null,null,null,null,null,null,null,null,null,null,null,null,2031,{"$f":"SUM(58:58)","v":0},null,null,null,null,null,null,null,null,null,null,null,null,null,null,2031,{"$f":"SUM(58:58)","v":0},null,null,null,null,null,null,null,null,null,null,null,null,null,null,2031,{"$f":"SUM(58:58)","v":0},null,null,null,null,null,null,null,null,null,null,null,null,null,null,2031,{"$f":"SUM(58:58)","v":0},null,null,null,null,null,null,null,null,null,null,null,null,null,null,2031,{"$f":"SUM(58:58)","v":0},null,null,null,null,null,null,null,null,null,null,null,null,null,null,2031,{"$f":"SUM(58:58)","v":0},null,null,null,null,null,null,null,null,null,null,null,null,null,null,2031,{"$f":"SUM(58:58)","v":0},null,null,null,null,null,null,null,null,null,null,null,null,null,null,2031,{"$f":"SUM(58:58)","v":0},null,null,null,null,null,null,null,null,null,null,null,null,null,null,2031,{"$f":"SUM(58:58)","v":0},null,null,null,null,null,null,null,null,null,null,null,null,null,null,2031,{"$f":"SUM(58:58)","v":0},null,null,null,null,null,null,null,null,null,null,null,null,null,null,2031,{"$f":"SUM(58:58)","v":0},null,null,null,null,null,null,null,null,null,null,null,null,null,null,2031,{"$f":"SUM(58:58)","v":0},null,null,null,null,null,null,null,null,null,null,null,null,null,null,2031,{"$f":"SUM(58:58)","v":0},null,null,null,null,null,null,null,null,null,null,null,null,null,null,2031,{"$f":"SUM(58:58)","v":0},null,null,null,null,null,null,null,null,null,null,null,null,null,null,2031,{"$f":"SUM(58:58)","v":0},null,null,null,null,null,null,null,null,null,null,null,null,null,null,2031,{"$f":"SUM(58:58)","v":0},null,null,null,null,null,null,null,null,null,null,null,null,null,null,2031,{"$f":"SUM(58:58)","v":0},null,null,null,null,null,null,null,null,null,null,null,null,null,null,2031,{"$f":"SUM(58:58)","v":0},null,null,null,null,null,null,null,null,null,null,null,null,null,null,2031,{"$f":"SUM(58:58)","v":0},null,null,null,null,null,null,null,null,null,null,null,null,null,null,2031,{"$f":"SUM(58:58)","v":0},null,null,null,null,null,null,null,null,null,null,null,null,null,null,2031,{"$f":"SUM(58:58)","v":0},null,null,null,null,null,null,null,null,null,null,null,null,null,null,2031,{"$f":"SUM(58:58)","v":0},null,null,null,null,null,null,null,null,null,null,null,null,null,null,2031,{"$f":"SUM(58:58)","v":0},null,null,null,null,null,null,null,null,null,null,null,null,null,null,2031,{"$f":"SUM(58:58)","v":0},null,null,null,null,null,null,null,null,null,null,null,null,null,null,2031,{"$f":"SUM(58:58)","v":0},null,null,null,null,null,null,null,null,null,null,null,null,null,null,2031,{"$f":"SUM(58:58)","v":0},null,null,null,null,null,null,null,null,null,null,null,null,null,null,2031,{"$f":"SUM(58:58)","v":0},null,null,null,null,null,null,null,null,null,null,null,null,null,null,2031,{"$f":"SUM(58:58)","v":0},null,null,null,null,null,null,null,null,null,null,null,null,null,null,2031,{"$f":"SUM(58:58)","v":0},null,null,null,null,null,null,null,null,null,null,null,null,null,null,2031,{"$f":"SUM(58:58)","v":0},null,null,null,null,null,null,null,null,null,null,null,null,null,null,2031,{"$f":"SUM(58:58)","v":0},null,null,null,null,null,null,null,null,null,null,null,null,null,null,2031,{"$f":"SUM(58:58)","v":0},null,null,null,null,null,null,null,null,null,null,null,null,null,null,2031,{"$f":"SUM(58:58)","v":0},null,null,null,null,null,null,null,null,null,null,null,null,null,null,2031,{"$f":"SUM(58:58)","v":0},null,null,null,null,null,null,null,null,null,null,null,null,null,null,2031,{"$f":"SUM(58:58)","v":0},null,null,null,null,null,null,null,null,null,null,null,null,null,null,2031,{"$f":"SUM(58:58)","v":0},null,null,null,null,null,null,null,null,null,null,null,null,null,null,2031,{"$f":"SUM(58:58)","v":0},null,null,null,null,null,null,null,null,null,null,null,null,null,null,2031,{"$f":"SUM(58:58)","v":0},null,null,null,null,null,null,null,null,null,null,null,null,null,null,2031,{"$f":"SUM(58:58)","v":0},null,null,null,null,null,null,null,null,null,null,null,null,null,null,2031,{"$f":"SUM(58:58)","v":0},null,null,null,null,null,null,null,null,null,null,null,null,null,null,2031,{"$f":"SUM(58:58)","v":0},null,null,null,null,null,null,null,null,null,null,null,null,null,null,2031,{"$f":"SUM(58:58)","v":0},null,null,null,null,null,null,null,null,null,null,null,null,null,null,2031,{"$f":"SUM(58:58)","v":0},null,null,null,null,null,null,null,null,null,null,null,null,null,null,2031,{"$f":"SUM(58:58)","v":0},null,null,null,null,null,null,null,null,null,null,null,null,null,null,2031,{"$f":"SUM(58:58)","v":0},null,null,null,null,null,null,null,null,null,null,null,null,null,null,2031,{"$f":"SUM(58:58)","v":0},null,null,null,null,null,null,null,null,null,null,null,null,null,null,2031,{"$f":"SUM(58:58)","v":0},null,null,null,null,null,null,null,null,null,null,null,null,null,null,2031,{"$f":"SUM(58:58)","v":0}]
[2025,{"$f":"SUM(106:106)","v":0},null,null,null,null,null,null,null,null,null,null,null,null,null,null,2025,{"$f":"SUM(106:106)","v":0},null,null,null,null,null,null,null,null,null,null,null,null,null,null,2025,{"$f":"SUM(106:106)","v":0},null,null,null,null,null,null,null,null,null,null,null,null,null,null,2025,{"$f":"SUM(106:106)","v":0},null,null,null,null,null,null,null,null,null,null,null,null,null,null,2025,{"$f":"SUM(106:106)","v":0},null,null,null,null,null,null,null,null,null,null,null,null,null,null,2025,{"$f":"SUM(106:106)","v":0},null,null,null,null,null,null,null,null,null,null,null,null,null,null,2025,{"$f":"SUM(106:106)","v":0},null,null,null,null,null,null,null,null,null,null,null,null,null,null,2025,{"$f":"SUM(106:106)","v":0},null,null,null,null,null,null,null,null,null,null,null,null,null,null,2025,{"$f":"SUM(106:106)","v":0},null,null,null,null,null,null,null,null,null,null,null,null,null,null,2025,{"$f":"SUM(106:106)","v":0},null,null,null,null,null,null,null,null,null,null,null,null,null,null,2025,{"$f":"SUM(106:106)","v":0},null,null,null,null,null,null,null,null,null,null,null,null,null,null,2025,{"$f":"SUM(106:106)","v":0},null,null,null,null,null,null,null,null,null,null,null,null,null,null,2025,{"$f":"SUM(106:106)","v":0},null,null,null,null,null,null,null,null,null,null,null,null,null,null,2025,{"$f":"SUM(106:106)","v":0},null,null,null,null,null,null,null,null,null,null,null,null,null,null,2025,{"$f":"SUM(106:106)","v":0},null,null,null,null,null,null,null,null,null,null,null,null,null,null,2025,{"$f":"SUM(106:106)","v":0},null,null,null,null,null,null,null,null,null,null,null,null,null,null,2025,{"$f":"SUM(106:106)","v":0},null,null,null,null,null,null,null,null,null,null,null,null,null,null,2025,{"$f":"SUM(106:106)","v":0},null,null,null,null,null,null,null,null,null,null,null,null,null,null,2025,{"$f":"SUM(106:106)","v":0},null,null,null,null,null,null,null,null,null,null,null,null,null,null,2025,{"$f":"SUM(106:106)","v":0},null,null,null,null,null,null,null,null,null,null,null,null,null,null,2025,{"$f":"SUM(106:106)","v":0},null,null,null,null,null,null,null,null,null,null,null,null,null,null,2025,{"$f":"SUM(106:106)","v":0},null,null,null,null,null,null,null,null,null,null,null,null,null,null,2025,{"$f":"SUM(106:106)","v":0},null,null,null,null,null,null,null,null,null,null,null,null,null,null,2025,{"$f":"SUM(106:106)","v":0},null,null,null,null,null,null,null,null,null,null,null,null,null,null,2025,{"$f":"SUM(106:106)","v":0},null,null,null,null,null,null,null,null,null,null,null,null,null,null,2025,{"$f":"SUM(106:106)","v":0},null,null,null,null,null,null,null,null,null,null,null,null,null,null,2025,{"$f":"SUM(106:106)","v":0},null,null,null,null,null,null,null,null,null,null,null,null,null,null,2025,{"$f":"SUM(106:106)","v":0},null,null,null,null,null,null,null,null,null,null,null,null,null,null,2025,{"$f":"SUM(106:106)","v":0},null,null,null,null,null,null,null,null,null,null,null,null,null,null,2025,{"$f":"SUM(106:106)","v":0},null,null,null,null,null,null,null,null,null,null,null,null,null,null,2025,{"$f":"SUM(106:106)","v":0},null,null,null,null,null,null,null,null,null,null,null,null,null,null,2025,{"$f":"SUM(106:106)","v":0},null,null,null,null,null,null,null,null,null,null,null,null,null,null,2025,{"$f":"SUM(106:106)","v":0},null,null,null,null,null,null,null,null,null,null,null,null,null,null,2025,{"$f":"SUM(106:106)","v":0},null,null,null,null,null,null,null,null,null,null,null,null,null,null,2025,{"$f":"SUM(106:106)","v":0},null,null,null,null,null,null,null,null,null,null,null,null,null,null,2025,{"$f":"SUM(106:106)","v":0},null,null,null,null,null,null,null,null,null,null,null,null,null,null,2025,{"$f":"SUM(106:106)","v":0},null,null,null,null,null,null,null,null,null,null,null,null,null,null,2025,{"$f":"SUM(106:106)","v":0},null,null,null,null,null,null,null,null,null,null,null,null,null,null,2025,{"$f":"SUM(106:106)","v":0},null,null,null,null,null,null,null,null,null,null,null,null,null,null,2025,{"$f":"SUM(106:106)","v":0},null,null,null,null,null,null,null,null,null,null,null,null,null,null,2025,{"$f":"SUM(106:106)","v":0},null,null,null,null,null,null,null,null,null,null,null,null,null,null,2025,{"$f":"SUM(106:106)","v":0},null,null,null,null,null,null,null,null,null,null,null,null,null,null,2025,{"$f":"SUM(106:106)","v":0},null,null,null,null,null,null,null,null,null,null,null,null,null,null,2025,{"$f":"SUM(106:106)","v":0},null,null,null,null,null,null,null,null,null,null,null,null,null,null,2025,{"$f":"SUM(106:106)","v":0},null,null,null,null,null,null,null,null,null,null,null,null,null,null,2025,{"$f":"SUM(106:106)","v":0},null,null,null,null,null,null,null,null,null,null,null,null,null,null,2025,{"$f":"SUM(106:106)","v":0},null,null,null,null,null,null,null,null,null,null,null,null,null,null,2025,{"$f":"SUM(106:106)","v":0},null,null,null,null,null,null,null,null,null,null,null,null,null,null,2025,{"$f":"SUM(106:106)","v":0},null,null,null,null,null,null,null,null,null,null,null,null,null,null,2025,{"$f":"SUM(106:106)","v":0}]
[null,null,null,null,null,null,null,null,null,null,null,null,null,{"$f":"N$253*N$227","v":0},null,null,null,null,null,null,null,null,null,null,null,null,null,null,null,{"$f":"AD$253*AD$227","v":0},null,null,null,null,null,null,null,null,null,null,null,null,null,null,null,{"$f":"AT$253*AT$227","v":0},null,null,null,null,null,null,null,null,null,null,null,null,null,null,null,{"$f":"BJ$253*BJ$227","v":0},null,null,null,null,null,null,null,null,null,null,null,null,null,null,null,{"$f":"BZ$253*BZ$227","v":0},null,null,null,null,null,null,null,null,null,null,null,null,null,null,null,{"$f":"CP$253*CP$227","v":0},null,null,null,null,null,null,null,null,null,null,null,null,null,null,null,{"$f":"DF$253*DF$227","v":0},null,null,null,null,null,null,null,null,null,null,null,null,null,null,null,{"$f":"DV$253*DV$227","v":0},null,null,null,null,null,null,null,null,null,null,null,null,null,null,null,{"$f":"EL$253*EL$227","v":0},null,null,null,null,null,null,null,null,null,null,null,null,null,null,null,{"$f":"FB$253*FB$227","v":0},null,null,null,null,null,null,null,null,null,null,null,null,null,null,null,{"$f":"FR$253*FR$227","v":0},null,null,null,null,null,null,null,null,null,null,null,null,null,null,null,{"$f":"GH$253*GH$227","v":0},null,null,null,null,null,null,null,null,null,null,null,null,null,null,null,{"$f":"GX$253*GX$227","v":0},null,null,null,null,null,null,null,null,null,null,null,null,null,null,null,{"$f":"HN$253*HN$227","v":0},null,null,null,null,null,null,null,null,null,null,null,null,null,null,null,{"$f":"ID$253*ID$227","v":0},null,null,null,null,null,null,null,null,null,null,null,null,null,null,null,{"$f":"IT$253*IT$227","v":0},null,null,null,null,null,null,null,null,null,null,null,null,null,null,null,{"$f":"JJ$253*JJ$227","v":0},null,null,null,null,null,null,null,null,null,null,null,null,null,null,null,{"$f":"JZ$253*JZ$227","v":0},null,null,null,null,null,null,null,null,null,null,null,null,null,null,null,{"$f":"KP$253*KP$227","v":0},null,null,null,null,null,null,null,null,null,null,null,null,null,null,null,{"$f":"LF$253*LF$227","v":0},null,null,null,null,null,null,null,null,null,null,null,null,null,null,null,{"$f":"LV$253*LV$227","v":0},null,null,null,null,null,null,null,null,null,null,null,null,null,null,null,{"$f":"ML$253*ML$227","v":0},null,null,null,null,null,null,null,null,null,null,null,null,null,null,null,{"$f":"NB$253*NB$227","v":0},null,null,null,null,null,null,null,null,null,null,null,null,null,null,null,{"$f":"NR$253*NR$227","v":0},null,null,null,null,null,null,null,null,null,null,null,null,null,null,null,{"$f":"OH$253*OH$227","v":0},null,null,null,null,null,null,null,null,null,null,null,null,null,null,null,{"$f":"OX$253*OX$227","v":0},null,null,null,null,null,null,null,null,null,null,null,null,null,null,null,{"$f":"PN$253*PN$227","v":0},null,null,null,null,null,null,null,null,null,null,null,null,null,null,null,{"$f":"QD$253*QD$227","v":0},null,null,null,null,null,null,null,null,null,null,null,null,null,null,null,{"$f":"QT$253*QT$227","v":0},null,null,null,null,null,null,null,null,null,null,null,null,null,null,null,{"$f":"RJ$253*RJ$227","v":0},null,null,null,null,null,null,null,null,null,null,null,null,null,null,null,{"$f":"RZ$253*RZ$227","v":0},null,null,null,null,null,null,null,null,null,null,null,null,null,null,null,{"$f":"SP$253*SP$227","v":0},null,null,null,null,null,null,null,null,null,null,null,null,null,null,null,{"$f":"TF$253*TF$227","v":0},null,null,null,null,null,null,null,null,null,null,null,null,null,null,null,{"$f":"TV$253*TV$227","v":0},null,null,null,null,null,null,null,null,null,null,null,null,null,null,null,{"$f":"UL$253*UL$227","v":0},null,null,null,null,null,null,null,null,null,null,null,null,null,null,null,{"$f":"VB$253*VB$227","v":0},null,null,null,null,null,null,null,null,null,null,null,null,null,null,null,{"$f":"VR$253*VR$227","v":0},null,null,null,null,null,null,null,null,null,null,null,null,null,null,null,{"$f":"WH$253*WH$227","v":0},null,null,null,null,null,null,null,null,null,null,null,null,null,null,null,{"$f":"WX$253*WX$227","v":0},null,null,null,null,null,null,null,null,null,null,null,null,null,null,null,{"$f":"XN$253*XN$227","v":0},null,null,null,null,null,null,null,null,null,null,null,null,null,null,null,{"$f":"YD$253*YD$227","v":0},null,null,null,null,null,null,null,null,null,null,null,null,null,null,null,{"$f":"YT$253*YT$227","v":0},null,null,null,null,null,null,null,null,null,null,null,null,null,null,null,{"$f":"ZJ$253*ZJ$227","v":0},null,null,null,null,null,null,null,null,null,null,null,null,null,null,null,{"$f":"ZZ$253*ZZ$227","v":0},null,null,null,null,null,null,null,null,null,null,null,null,null,null,null,{"$f":"AAP$253*AAP$227","v":0},null,null,null,null,null,null,null,null,null,null,null,null,null,null,null,{"$f":"ABF$253*ABF$227","v":0},null,null,null,null,null,null,null,null,null,null,null,null,null,null,null,{"$f":"ABV$253*ABV$227","v":0},null,null,null,null,null,null,null,null,null,null,null,null,null,null,null,{"$f":"ACL$253*ACL$227","v":0},null,null,null,null,null,null,null,null,null,null,null,null,null,null,null,{"$f":"ADB$253*ADB$227","v":0},null,null,null,null,null,null,null,null,null,null,null,null,null,null,null,{"$f":"ADR$253*ADR$227","v":0}]
[null,"TRASA PRZEBIEGU LINII KOMUNIKACYJNEJ:",null,"LICZBA PRZYSTANKÓW",null,null,null,null,null,null,null,null,null,{"$f":"K263","v":0},{"$f":"L263","v":0},{"$f":"M263","v":0},null,"TRASA PRZEBIEGU LINII KOMUNIKACYJNEJ:",null,"LICZBA PRZYSTANKÓW",null,null,null,null,null,null,null,null,null,{"$f":"AA263","v":0},{"$f":"AB263","v":0},{"$f":"AC263","v":0},null,"TRASA PRZEBIEGU LINII KOMUNIKACYJNEJ:",null,"LICZBA PRZYSTANKÓW",null,null,null,null,null,null,null,null,null,{"$f":"AQ263","v":0},{"$f":"AR263","v":0},{"$f":"AS263","v":0},null,"TRASA PRZEBIEGU LINII KOMUNIKACYJNEJ:",null,"LICZBA PRZYSTANKÓW",null,null,null,null,null,null,null,null,null,{"$f":"BG263","v":0},{"$f":"BH263","v":0},{"$f":"BI263","v":0},null,"TRASA PRZEBIEGU LINII KOMUNIKACYJNEJ:",null,"LICZBA PRZYSTANKÓW",null,null,null,null,null,null,null,null,null,{"$f":"BW263","v":0},{"$f":"BX263","v":0},{"$f":"BY263","v":0},null,"TRASA PRZEBIEGU LINII KOMUNIKACYJNEJ:",null,"LICZBA PRZYSTANKÓW",null,null,null,null,null,null,null,null,null,{"$f":"CM263","v":0},{"$f":"CN263","v":0},{"$f":"CO263","v":0},null,"TRASA PRZEBIEGU LINII KOMUNIKACYJNEJ:",null,"LICZBA PRZYSTANKÓW",null,null,null,null,null,null,null,null,null,{"$f":"DC263","v":0},{"$f":"DD263","v":0},{"$f":"DE263","v":0},null,"TRASA PRZEBIEGU LINII KOMUNIKACYJNEJ:",null,"LICZBA PRZYSTANKÓW",null,null,null,null,null,null,null,null,null,{"$f":"DS263","v":0},{"$f":"DT263","v":0},{"$f":"DU263","v":0},null,"TRASA PRZEBIEGU LINII KOMUNIKACYJNEJ:",null,"LICZBA PRZYSTANKÓW",null,null,null,null,null,null,null,null,null,{"$f":"EI263","v":0},{"$f":"EJ263","v":0},{"$f":"EK263","v":0},null,"TRASA PRZEBIEGU LINII KOMUNIKACYJNEJ:",null,"LICZBA PRZYSTANKÓW",null,null,null,null,null,null,null,null,null,{"$f":"EY263","v":0},{"$f":"EZ263","v":0},{"$f":"FA263","v":0},null,"TRASA PRZEBIEGU LINII KOMUNIKACYJNEJ:",null,"LICZBA PRZYSTANKÓW",null,null,null,null,null,null,null,null,null,{"$f":"FO263","v":0},{"$f":"FP263","v":0},{"$f":"FQ263","v":0},null,"TRASA PRZEBIEGU LINII KOMUNIKACYJNEJ:",null,"LICZBA PRZYSTANKÓW",null,null,null,null,null,null,null,null,null,{"$f":"GE263","v":0},{"$f":"GF263","v":0},{"$f":"GG263","v":0},null,"TRASA PRZEBIEGU LINII KOMUNIKACYJNEJ:",null,"LICZBA PRZYSTANKÓW",null,null,null,null,null,null,null,null,null,{"$f":"GU263","v":0},{"$f":"GV263","v":0},{"$f":"GW263","v":0},null,"TRASA PRZEBIEGU LINII KOMUNIKACYJNEJ:",null,"LICZBA PRZYSTANKÓW",null,null,null,null,null,null,null,null,null,{"$f":"HK263","v":0},{"$f":"HL263","v":0},{"$f":"HM263","v":0},null,"TRASA PRZEBIEGU LINII KOMUNIKACYJNEJ:",null,"LICZBA PRZYSTANKÓW",null,null,null,null,null,null,null,null,null,{"$f":"IA263","v":0},{"$f":"IB263","v":0},{"$f":"IC263","v":0},null,"TRASA PRZEBIEGU LINII KOMUNIKACYJNEJ:",null,"LICZBA PRZYSTANKÓW",null,null,null,null,null,null,null,null,null,{"$f":"IQ263","v":0},{"$f":"IR263","v":0},{"$f":"IS263","v":0},null,"TRASA PRZEBIEGU LINII KOMUNIKACYJNEJ:",null,"LICZBA PRZYSTANKÓW",null,null,null,null,null,null,null,null,null,{"$f":"JG263","v":0},{"$f":"JH263","v":0},{"$f":"JI263","v":0},null,"TRASA PRZEBIEGU LINII KOMUNIKACYJNEJ:",null,"LICZBA PRZYSTANKÓW",null,null,null,null,null,null,null,null,null,{"$f":"JW263","v":0},{"$f":"JX263","v":0},{"$f":"JY263","v":0},null,"TRASA PRZEBIEGU LINII KOMUNIKACYJNEJ:",null,"LICZBA PRZYSTANKÓW",null,null,null,null,null,null,null,null,null,{"$f":"KM263","v":0},{"$f":"KN263","v":0},{"$f":"KO263","v":0},null,"TRASA PRZEBIEGU LINII KOMUNIKACYJNEJ:",null,"LICZBA PRZYSTANKÓW",null,null,null,null,null,null,null,null,null,{"$f":"LC263","v":0},{"$f":"LD263","v":0},{"$f":"LE263","v":0},null,"TRASA PRZEBIEGU LINII KOMUNIKACYJNEJ:",null,"LICZBA PRZYSTANKÓW",null,null,null,null,null,null,null,null,null,{"$f":"LS263","v":0},{"$f":"LT263","v":0},{"$f":"LU263","v":0},null,"TRASA PRZEBIEGU LINII KOMUNIKACYJNEJ:",null,"LICZBA PRZYSTANKÓW",null,null,null,null,null,null,null,null,null,{"$f":"MI263","v":0},{"$f":"MJ263","v":0},{"$f":"MK263","v":0},null,"TRASA PRZEBIEGU LINII KOMUNIKACYJNEJ:",null,"LICZBA PRZYSTANKÓW",null,null,null,null,null,null,null,null,null,{"$f":"MY263","v":0},{"$f":"MZ263","v":0},{"$f":"NA263","v":0},null,"TRASA PRZEBIEGU LINII KOMUNIKACYJNEJ:",null,"LICZBA PRZYSTANKÓW",null,null,null,null,null,null,null,null,null,{"$f":"NO263","v":0},{"$f":"NP263","v":0},{"$f":"NQ263","v":0},null,"TRASA PRZEBIEGU LINII KOMUNIKACYJNEJ:",null,"LICZBA PRZYSTANKÓW",null,null,null,null,null,null,null,null,null,{"$f":"OE263","v":0},{"$f":"OF263","v":0},{"$f":"OG263","v":0},null,"TRASA PRZEBIEGU LINII KOMUNIKACYJNEJ:",null,"LICZBA PRZYSTANKÓW",null,null,null,null,null,null,null,null,null,{"$f":"OU263","v":0},{"$f":"OV263","v":0},{"$f":"OW263","v":0},null,"TRASA PRZEBIEGU LINII KOMUNIKACYJNEJ:",null,"LICZBA PRZYSTANKÓW",null,null,null,null,null,null,null,null,null,{"$f":"PK263","v":0},{"$f":"PL263","v":0},{"$f":"PM263","v":0},null,"TRASA PRZEBIEGU LINII KOMUNIKACYJNEJ:",null,"LICZBA PRZYSTANKÓW",null,null,null,null,null,null,null,null,null,{"$f":"QA263","v":0},{"$f":"QB263","v":0},{"$f":"QC263","v":0},null,"TRASA PRZEBIEGU LINII KOMUNIKACYJNEJ:",null,"LICZBA PRZYSTANKÓW",null,null,null,null,null,null,null,null,null,{"$f":"QQ263","v":0},{"$f":"QR263","v":0},{"$f":"QS263","v":0},null,"TRASA PRZEBIEGU LINII KOMUNIKACYJNEJ:",null,"LICZBA PRZYSTANKÓW",null,null,null,null,null,null,null,null,null,{"$f":"RG263","v":0},{"$f":"RH263","v":0},{"$f":"RI263","v":0},null,"TRASA PRZEBIEGU LINII KOMUNIKACYJNEJ:",null,"LICZBA PRZYSTANKÓW",null,null,null,null,null,null,null,null,null,{"$f":"RW263","v":0},{"$f":"RX263","v":0},{"$f":"RY263","v":0},null,"TRASA PRZEBIEGU LINII KOMUNIKACYJNEJ:",null,"LICZBA PRZYSTANKÓW",null,null,null,null,null,null,null,null,null,{"$f":"SM263","v":0},{"$f":"SN263","v":0},{"$f":"SO263","v":0},null,"TRASA PRZEBIEGU LINII KOMUNIKACYJNEJ:",null,"LICZBA PRZYSTANKÓW",null,null,null,null,null,null,null,null,null,{"$f":"TC263","v":0},{"$f":"TD263","v":0},{"$f":"TE263","v":0},null,"TRASA PRZEBIEGU LINII KOMUNIKACYJNEJ:",null,"LICZBA PRZYSTANKÓW",null,null,null,null,null,null,null,null,null,{"$f":"TS263","v":0},{"$f":"TT263","v":0},{"$f":"TU263","v":0},null,"TRASA PRZEBIEGU LINII KOMUNIKACYJNEJ:",null,"LICZBA PRZYSTANKÓW",null,null,null,null,null,null,null,null,null,{"$f":"UI263","v":0},{"$f":"UJ263","v":0},{"$f":"UK263","v":0},null,"TRASA PRZEBIEGU LINII KOMUNIKACYJNEJ:",null,"LICZBA PRZYSTANKÓW",null,null,null,null,null,null,null,null,null,{"$f":"UY263","v":0},{"$f":"UZ263","v":0},{"$f":"VA263","v":0},null,"TRASA PRZEBIEGU LINII KOMUNIKACYJNEJ:",null,"LICZBA PRZYSTANKÓW",null,null,null,null,null,null,null,null,null,{"$f":"VO263","v":0},{"$f":"VP263","v":0},{"$f":"VQ263","v":0},null,"TRASA PRZEBIEGU LINII KOMUNIKACYJNEJ:",null,"LICZBA PRZYSTANKÓW",null,null,null,null,null,null,null,null,null,{"$f":"WE263","v":0},{"$f":"WF263","v":0},{"$f":"WG263","v":0},null,"TRASA PRZEBIEGU LINII KOMUNIKACYJNEJ:",null,"LICZBA PRZYSTANKÓW",null,null,null,null,null,null,null,null,null,{"$f":"WU263","v":0},{"$f":"WV263","v":0},{"$f":"WW263","v":0},null,"TRASA PRZEBIEGU LINII KOMUNIKACYJNEJ:",null,"LICZBA PRZYSTANKÓW",null,null,null,null,null,null,null,null,null,{"$f":"XK263","v":0},{"$f":"XL263","v":0},{"$f":"XM263","v":0},null,"TRASA PRZEBIEGU LINII KOMUNIKACYJNEJ:",null,"LICZBA PRZYSTANKÓW",null,null,null,null,null,null,null,null,null,{"$f":"YA263","v":0},{"$f":"YB263","v":0},{"$f":"YC263","v":0},null,"TRASA PRZEBIEGU LINII KOMUNIKACYJNEJ:",null,"LICZBA PRZYSTANKÓW",null,null,null,null,null,null,null,null,null,{"$f":"YQ263","v":0},{"$f":"YR263","v":0},{"$f":"YS263","v":0},null,"TRASA PRZEBIEGU LINII KOMUNIKACYJNEJ:",null,"LICZBA PRZYSTANKÓW",null,null,null,null,null,null,null,null,null,{"$f":"ZG263","v":0},{"$f":"ZH263","v":0},{"$f":"ZI263","v":0},null,"TRASA PRZEBIEGU LINII KOMUNIKACYJNEJ:",null,"LICZBA PRZYSTANKÓW",null,null,null,null,null,null,null,null,null,{"$f":"ZW263","v":0},{"$f":"ZX263","v":0},{"$f":"ZY263","v":0},null,"TRASA PRZEBIEGU LINII KOMUNIKACYJNEJ:",null,"LICZBA PRZYSTANKÓW",null,null,null,null,null,null,null,null,null,{"$f":"AAM263","v":0},{"$f":"AAN263","v":0},{"$f":"AAO263","v":0},null,"TRASA PRZEBIEGU LINII KOMUNIKACYJNEJ:",null,"LICZBA PRZYSTANKÓW",null,null,null,null,null,null,null,null,null,{"$f":"ABC263","v":0},{"$f":"ABD263","v":0},{"$f":"ABE263","v":0},null,"TRASA PRZEBIEGU LINII KOMUNIKACYJNEJ:",null,"LICZBA PRZYSTANKÓW",null,null,null,null,null,null,null,null,null,{"$f":"ABS263","v":0},{"$f":"ABT263","v":0},{"$f":"ABU263","v":0},null,"TRASA PRZEBIEGU LINII KOMUNIKACYJNEJ:",null,"LICZBA PRZYSTANKÓW",null,null,null,null,null,null,null,null,null,{"$f":"ACI263","v":0},{"$f":"ACJ263","v":0},{"$f":"ACK263","v":0},null,"TRASA PRZEBIEGU LINII KOMUNIKACYJNEJ:",null,"LICZBA PRZYSTANKÓW",null,null,null,null,null,null,null,null,null,{"$f":"ACY263","v":0},{"$f":"ACZ263","v":0},{"$f":"ADA263","v":0},null,"TRASA PRZEBIEGU LINII KOMUNIKACYJNEJ:",null,"LICZBA PRZYSTANKÓW",null,null,null,null,null,null,null,null,null,{"$f":"ADO263","v":0},{"$f":"ADP263","v":0},{"$f":"ADQ263","v":0}]
[null,null,null,null,null,null,null,null,null,null,0,0,0,null,null,null,null,null,null,null,null,null,null,null,null,null,0,0,0,null,null,null,null,null,null,null,null,null,null,null,null,null,0,0,0,null,null,null,null,null,null,null,null,null,null,null,null,null,0,0,0,null,null,null,null,null,null,null,null,null,null,null,null,null,0,0,0,null,null,null,null,null,null,null,null,null,null,null,null,null,0,0,0,null,null,null,null,null,null,null,null,null,null,null,null,null,0,0,0,null,null,null,null,null,null,null,null,null,null,null,null,null,0,0,0,null,null,null,null,null,null,null,null,null,null,null,null,null,0,0,0,null,null,null,null,null,null,null,null,null,null,null,null,null,0,0,0,null,null,null,null,null,null,null,null,null,null,null,null,null,0,0,0,null,null,null,null,null,null,null,null,null,null,null,null,null,0,0,0,null,null,null,null,null,null,null,null,null,null,null,null,null,0,0,0,null,null,null,null,null,null,null,null,null,null,null,null,null,0,0,0,null,null,null,null,null,null,null,null,null,null,null,null,null,0,0,0,null,null,null,null,null,null,null,null,null,null,null,null,null,0,0,0,null,null,null,null,null,null,null,null,null,null,null,null,null,0,0,0,null,null,null,null,null,null,null,null,null,null,null,null,null,0,0,0,null,null,null,null,null,null,null,null,null,null,null,null,null,0,0,0,null,null,null,null,null,null,null,null,null,null,null,null,null,0,0,0,null,null,null,null,null,null,null,null,null,null,null,null,null,0,0,0,null,null,null,null,null,null,null,null,null,null,null,null,null,0,0,0,null,null,null,null,null,null,null,null,null,null,null,null,null,0,0,0,null,null,null,null,null,null,null,null,null,null,null,null,null,0,0,0,null,null,null,null,null,null,null,null,null,null,null,null,null,0,0,0,null,null,null,null,null,null,null,null,null,null,null,null,null,0,0,0,null,null,null,null,null,null,null,null,null,null,null,null,null,0,0,0,null,null,null,null,null,null,null,null,null,null,null,null,null,0,0,0,null,null,null,null,null,null,null,null,null,null,null,null,null,0,0,0,null,null,null,null,null,null,null,null,null,null,null,null,null,0,0,0,null,null,null,null,null,null,null,null,null,null,null,null,null,0,0,0,null,null,null,null,null,null,null,null,null,null,null,null,null,0,0,0,null,null,null,null,null,null,null,null,null,null,null,null,null,0,0,0,null,null,null,null,null,null,null,null,null,null,null,null,null,0,0,0,null,null,null,null,null,null,null,null,null,null,null,null,null,0,0,0,null,null,null,null,null,null,null,null,null,null,null,null,null,0,0,0,null,null,null,null,null,null,null,null,null,null,null,null,null,0,0,0,null,null,null,null,null,null,null,null,null,null,null,null,null,0,0,0,null,null,null,null,null,null,null,null,null,null,null,null,null,0,0,0,null,null,null,null,null,null,null,null,null,null,null,null,null,0,0,0,null,null,null,null,null,null,null,null,null,null,null,null,null,0,0,0,null,null,null,null,null,null,null,null,null,null,null,null,null,0,0,0,null,null,null,null,null,null,null,null,null,null,null,null,null,0,0,0,null,null,null,null,null,null,null,null,null,null,null,null,null,0,0,0,null,null,null,null,null,null,null,null,null,null,null,null,null,0,0,0,null,null,null,null,null,null,null,null,null,null,null,null,null,0,0,0,null,null,null,null,null,null,null,null,null,null,null,null,null,0,0,0,null,null,null,null,null,null,null,null,null,null,null,null,null,0,0,0,null,null,null,null,null,null,null,null,null,null,null,null,null,0,0,0,null,null,null,null,null,null,null,null,null,null,null,null,null,0,0,0]
[null,null,null,null,null,null,null,null,null,null,0,0,0,null,null,null,null,null,null,null,null,null,null,null,null,null,0,0,0,null,null,null,null,null,null,null,null,null,null,null,null,null,0,0,0,null,null,null,null,null,null,null,null,null,null,null,null,null,0,0,0,null,null,null,null,null,null,null,null,null,null,null,null,null,0,0,0,null,null,null,null,null,null,null,null,null,null,null,null,null,0,0,0,null,null,null,null,null,null,null,null,null,null,null,null,null,0,0,0,null,null,null,null,null,null,null,null,null,null,null,null,null,0,0,0,null,null,null,null,null,null,null,null,null,null,null,null,null,0,0,0,null,null,null,null,null,null,null,null,null,null,null,null,null,0,0,0,null,null,null,null,null,null,null,null,null,null,null,null,null,0,0,0,null,null,null,null,null,null,null,null,null,null,null,null,null,0,0,0,null,null,null,null,null,null,null,null,null,null,null,null,null,0,0,0,null,null,null,null,null,null,null,null,null,null,null,null,null,0,0,0,null,null,null,null,null,null,null,null,null,null,null,null,null,0,0,0,null,null,null,null,null,null,null,null,null,null,null,null,null,0,0,0,null,null,null,null,null,null,null,null,null,null,null,null,null,0,0,0,null,null,null,null,null,null,null,null,null,null,null,null,null,0,0,0,null,null,null,null,null,null,null,null,null,null,null,null,null,0,0,0,null,null,null,null,null,null,null,null,null,null,null,null,null,0,0,0,null,null,null,null,null,null,null,null,null,null,null,null,null,0,0,0,null,null,null,null,null,null,null,null,null,null,null,null,null,0,0,0,null,null,null,null,null,null,null,null,null,null,null,null,null,0,0,0,null,null,null,null,null,null,null,null,null,null,null,null,null,0,0,0,null,null,null,null,null,null,null,null,null,null,null,null,null,0,0,0,null,null,null,null,null,null,null,null,null,null,null,null,null,0,0,0,null,null,null,null,null,null,null,null,null,null,null,null,null,0,0,0,null,null,null,null,null,null,null,null,null,null,null,null,null,0,0,0,null,null,null,null,null,null,null,null,null,null,null,null,null,0,0,0,null,null,null,null,null,null,null,null,null,null,null,null,null,0,0,0,null,null,null,null,null,null,null,null,null,null,null,null,null,0,0,0,null,null,null,null,null,null,null,null,null,null,null,null,null,0,0,0,null,null,null,null,null,null,null,null,null,null,null,null,null,0,0,0,null,null,null,null,null,null,null,null,null,null,null,null,null,0,0,0,null,null,null,null,null,null,null,null,null,null,null,null,null,0,0,0,null,null,null,null,null,null,null,null,null,null,null,null,null,0,0,0,null,null,null,null,null,null,null,null,null,null,null,null,null,0,0,0,null,null,null,null,null,null,null,null,null,null,null,null,null,0,0,0,null,null,null,null,null,null,null,null,null,null,null,null,null,0,0,0,null,null,null,null,null,null,null,null,null,null,null,null,null,0,0,0,null,null,null,null,null,null,null,null,null,null,null,null,null,0,0,0,null,null,null,null,null,null,null,null,null,null,null,null,null,0,0,0,null,null,null,null,null,null,null,null,null,null,null,null,null,0,0,0,null,null,null,null,null,null,null,null,null,null,null,null,null,0,0,0,null,null,null,null,null,null,null,null,null,null,null,null,null,0,0,0,null,null,null,null,null,null,null,null,null,null,null,null,null,0,0,0,null,null,null,null,null,null,null,null,null,null,null,null,null,0,0,0,null,null,null,null,null,null,null,null,null,null,null,null,null,0,0,0,null,null,null,null,null,null,null,null,null,null,null,null,null,0,0,0,null,null,null,null,null,null,null,null,null,null,null,null,null,0,0,0]
[null,null,null,null,null,null,null,null,null,null,0,0,0,null,null,null,null,null,null,null,null,null,null,null,null,null,0,0,0,null,null,null,null,null,null,null,null,null,null,null,null,null,0,0,0,null,null,null,null,null,null,null,null,null,null,null,null,null,0,0,0,null,null,null,null,null,null,null,null,null,null,null,null,null,0,0,0,null,null,null,null,null,null,null,null,null,null,null,null,null,0,0,0,null,null,null,null,null,null,null,null,null,null,null,null,null,0,0,0,null,null,null,null,null,null,null,null,null,null,null,null,null,0,0,0,null,null,null,null,null,null,null,null,null,null,null,null,null,0,0,0,null,null,null,null,null,null,null,null,null,null,null,null,null,0,0,0,null,null,null,null,null,null,null,null,null,null,null,null,null,0,0,0,null,null,null,null,null,null,null,null,null,null,null,null,null,0,0,0,null,null,null,null,null,null,null,null,null,null,null,null,null,0,0,0,null,null,null,null,null,null,null,null,null,null,null,null,null,0,0,0,null,null,null,null,null,null,null,null,null,null,null,null,null,0,0,0,null,null,null,null,null,null,null,null,null,null,null,null,null,0,0,0,null,null,null,null,null,null,null,null,null,null,null,null,null,0,0,0,null,null,null,null,null,null,null,null,null,null,null,null,null,0,0,0,null,null,null,null,null,null,null,null,null,null,null,null,null,0,0,0,null,null,null,null,null,null,null,null,null,null,null,null,null,0,0,0,null,null,null,null,null,null,null,null,null,null,null,null,null,0,0,0,null,null,null,null,null,null,null,null,null,null,null,null,null,0,0,0,null,null,null,null,null,null,null,null,null,null,null,null,null,0,0,0,null,null,null,null,null,null,null,null,null,null,null,null,null,0,0,0,null,null,null,null,null,null,null,null,null,null,null,null,null,0,0,0,null,null,null,null,null,null,null,null,null,null,null,null,null,0,0,0,null,null,null,null,null,null,null,null,null,null,null,null,null,0,0,0,null,null,null,null,null,null,null,null,null,null,null,null,null,0,0,0,null,null,null,null,null,null,null,null,null,null,null,null,null,0,0,0,null,null,null,null,null,null,null,null,null,null,null,null,null,0,0,0,null,null,null,null,null,null,null,null,null,null,null,null,null,0,0,0,null,null,null,null,null,null,null,null,null,null,null,null,null,0,0,0,null,null,null,null,null,null,null,null,null,null,null,null,null,0,0,0,null,null,null,null,null,null,null,null,null,null,null,null,null,0,0,0,null,null,null,null,null,null,null,null,null,null,null,null,null,0,0,0,null,null,null,null,null,null,null,null,null,null,null,null,null,0,0,0,null,null,null,null,null,null,null,null,null,null,null,null,null,0,0,0,null,null,null,null,null,null,null,null,null,null,null,null,null,0,0,0,null,null,null,null,null,null,null,null,null,null,null,null,null,0,0,0,null,null,null,null,null,null,null,null,null,null,null,null,null,0,0,0,null,null,null,null,null,null,null,null,null,null,null,null,null,0,0,0,null,null,null,null,null,null,null,null,null,null,null,null,null,0,0,0,null,null,null,null,null,null,null,null,null,null,null,null,null,0,0,0,null,null,null,null,null,null,null,null,null,null,null,null,null,0,0,0,null,null,null,null,null,null,null,null,null,null,null,null,null,0,0,0,null,null,null,null,null,null,null,null,null,null,null,null,null,0,0,0,null,null,null,null,null,null,null,null,null,null,null,null,null,0,0,0,null,null,null,null,null,null,null,null,null,null,null,null,null,0,0,0,null,null,null,null,null,null,null,null,null,null,null,null,null,0,0,0,null,null,null,null,null,null,null,null,null,null,null,null,null,0,0,0]
[null,null,null,null,null,null,null,null,null,null,0,0,0,null,null,null,null,null,null,null,null,null,null,null,null,null,0,0,0,null,null,null,null,null,null,null,null,null,null,null,null,null,0,0,0,null,null,null,null,null,null,null,null,null,null,null,null,null,0,0,0,null,null,null,null,null,null,null,null,null,null,null,null,null,0,0,0,null,null,null,null,null,null,null,null,null,null,null,null,null,0,0,0,null,null,null,null,null,null,null,null,null,null,null,null,null,0,0,0,null,null,null,null,null,null,null,null,null,null,null,null,null,0,0,0,null,null,null,null,null,null,null,null,null,null,null,null,null,0,0,0,null,null,null,null,null,null,null,null,null,null,null,null,null,0,0,0,null,null,null,null,null,null,null,null,null,null,null,null,null,0,0,0,null,null,null,null,null,null,null,null,null,null,null,null,null,0,0,0,null,null,null,null,null,null,null,null,null,null,null,null,null,0,0,0,null,null,null,null,null,null,null,null,null,null,null,null,null,0,0,0,null,null,null,null,null,null,null,null,null,null,null,null,null,0,0,0,null,null,null,null,null,null,null,null,null,null,null,null,null,0,0,0,null,null,null,null,null,null,null,null,null,null,null,null,null,0,0,0,null,null,null,null,null,null,null,null,null,null,null,null,null,0,0,0,null,null,null,null,null,null,null,null,null,null,null,null,null,0,0,0,null,null,null,null,null,null,null,null,null,null,null,null,null,0,0,0,null,null,null,null,null,null,null,null,null,null,null,null,null,0,0,0,null,null,null,null,null,null,null,null,null,null,null,null,null,0,0,0,null,null,null,null,null,null,null,null,null,null,null,null,null,0,0,0,null,null,null,null,null,null,null,null,null,null,null,null,null,0,0,0,null,null,null,null,null,null,null,null,null,null,null,null,null,0,0,0,null,null,null,null,null,null,null,null,null,null,null,null,null,0,0,0,null,null,null,null,null,null,null,null,null,null,null,null,null,0,0,0,null,null,null,null,null,null,null,null,null,null,null,null,null,0,0,0,null,null,null,null,null,null,null,null,null,null,null,null,null,0,0,0,null,null,null,null,null,null,null,null,null,null,null,null,null,0,0,0,null,null,null,null,null,null,null,null,null,null,null,null,null,0,0,0,null,null,null,null,null,null,null,null,null,null,null,null,null,0,0,0,null,null,null,null,null,null,null,null,null,null,null,null,null,0,0,0,null,null,null,null,null,null,null,null,null,null,null,null,null,0,0,0,null,null,null,null,null,null,null,null,null,null,null,null,null,0,0,0,null,null,null,null,null,null,null,null,null,null,null,null,null,0,0,0,null,null,null,null,null,null,null,null,null,null,null,null,null,0,0,0,null,null,null,null,null,null,null,null,null,null,null,null,null,0,0,0,null,null,null,null,null,null,null,null,null,null,null,null,null,0,0,0,null,null,null,null,null,null,null,null,null,null,null,null,null,0,0,0,null,null,null,null,null,null,null,null,null,null,null,null,null,0,0,0,null,null,null,null,null,null,null,null,null,null,null,null,null,0,0,0,null,null,null,null,null,null,null,null,null,null,null,null,null,0,0,0,null,null,null,null,null,null,null,null,null,null,null,null,null,0,0,0,null,null,null,null,null,null,null,null,null,null,null,null,null,0,0,0,null,null,null,null,null,null,null,null,null,null,null,null,null,0,0,0,null,null,null,null,null,null,null,null,null,null,null,null,null,0,0,0,null,null,null,null,null,null,null,null,null,null,null,null,null,0,0,0,null,null,null,null,null,null,null,null,null,null,null,null,null,0,0,0,null,null,null,null,null,null,null,null,null,null,null,null,null,0,0,0]
[null,null,null,null,null,null,null,null,null,null,0,{"$f":"IF(H649=\"TAK\",1,0)","v":0},{"$f":"IF(N649=\"TAK\",1,0)","v":0},null,null,null,null,null,null,null,null,null,null,null,null,null,0,{"$f":"IF(X649=\"TAK\",1,0)","v":0},{"$f":"IF(AD649=\"TAK\",1,0)","v":0},null,null,null,null,null,null,null,null,null,null,null,null,null,0,{"$f":"IF(AN649=\"TAK\",1,0)","v":0},{"$f":"IF(AT649=\"TAK\",1,0)","v":0},null,null,null,null,null,null,null,null,null,null,null,null,null,0,{"$f":"IF(BD649=\"TAK\",1,0)","v":0},{"$f":"IF(BJ649=\"TAK\",1,0)","v":0},null,null,null,null,null,null,null,null,null,null,null,null,null,0,{"$f":"IF(BT649=\"TAK\",1,0)","v":0},{"$f":"IF(BZ649=\"TAK\",1,0)","v":0},null,null,null,null,null,null,null,null,null,null,null,null,null,0,{"$f":"IF(CJ649=\"TAK\",1,0)","v":0},{"$f":"IF(CP649=\"TAK\",1,0)","v":0},null,null,null,null,null,null,null,null,null,null,null,null,null,0,{"$f":"IF(CZ649=\"TAK\",1,0)","v":0},{"$f":"IF(DF649=\"TAK\",1,0)","v":0},null,null,null,null,null,null,null,null,null,null,null,null,null,0,{"$f":"IF(DP649=\"TAK\",1,0)","v":0},{"$f":"IF(DV649=\"TAK\",1,0)","v":0},null,null,null,null,null,null,null,null,null,null,null,null,null,0,{"$f":"IF(EF649=\"TAK\",1,0)","v":0},{"$f":"IF(EL649=\"TAK\",1,0)","v":0},null,null,null,null,null,null,null,null,null,null,null,null,null,0,{"$f":"IF(EV649=\"TAK\",1,0)","v":0},{"$f":"IF(FB649=\"TAK\",1,0)","v":0},null,null,null,null,null,null,null,null,null,null,null,null,null,0,{"$f":"IF(FL649=\"TAK\",1,0)","v":0},{"$f":"IF(FR649=\"TAK\",1,0)","v":0},null,null,null,null,null,null,null,null,null,null,null,null,null,0,{"$f":"IF(GB649=\"TAK\",1,0)","v":0},{"$f":"IF(GH649=\"TAK\",1,0)","v":0},null,null,null,null,null,null,null,null,null,null,null,null,null,0,{"$f":"IF(GR649=\"TAK\",1,0)","v":0},{"$f":"IF(GX649=\"TAK\",1,0)","v":0},null,null,null,null,null,null,null,null,null,null,null,null,null,0,{"$f":"IF(HH649=\"TAK\",1,0)","v":0},{"$f":"IF(HN649=\"TAK\",1,0)","v":0},null,null,null,null,null,null,null,null,null,null,null,null,null,0,{"$f":"IF(HX649=\"TAK\",1,0)","v":0},{"$f":"IF(ID649=\"TAK\",1,0)","v":0},null,null,null,null,null,null,null,null,null,null,null,null,null,0,{"$f":"IF(IN649=\"TAK\",1,0)","v":0},{"$f":"IF(IT649=\"TAK\",1,0)","v":0},null,null,null,null,null,null,null,null,null,null,null,null,null,0,{"$f":"IF(JD649=\"TAK\",1,0)","v":0},{"$f":"IF(JJ649=\"TAK\",1,0)","v":0},null,null,null,null,null,null,null,null,null,null,null,null,null,0,{"$f":"IF(JT649=\"TAK\",1,0)","v":0},{"$f":"IF(JZ649=\"TAK\",1,0)","v":0},null,null,null,null,null,null,null,null,null,null,null,null,null,0,{"$f":"IF(KJ649=\"TAK\",1,0)","v":0},{"$f":"IF(KP649=\"TAK\",1,0)","v":0},null,null,null,null,null,null,null,null,null,null,null,null,null,0,{"$f":"IF(KZ649=\"TAK\",1,0)","v":0},{"$f":"IF(LF649=\"TAK\",1,0)","v":0},null,null,null,null,null,null,null,null,null,null,null,null,null,0,{"$f":"IF(LP649=\"TAK\",1,0)","v":0},{"$f":"IF(LV649=\"TAK\",1,0)","v":0},null,null,null,null,null,null,null,null,null,null,null,null,null,0,{"$f":"IF(MF649=\"TAK\",1,0)","v":0},{"$f":"IF(ML649=\"TAK\",1,0)","v":0},null,null,null,null,null,null,null,null,null,null,null,null,null,0,{"$f":"IF(MV649=\"TAK\",1,0)","v":0},{"$f":"IF(NB649=\"TAK\",1,0)","v":0},null,null,null,null,null,null,null,null,null,null,null,null,null,0,{"$f":"IF(NL649=\"TAK\",1,0)","v":0},{"$f":"IF(NR649=\"TAK\",1,0)","v":0},null,null,null,null,null,null,null,null,null,null,null,null,null,0,{"$f":"IF(OB649=\"TAK\",1,0)","v":0},{"$f":"IF(OH649=\"TAK\",1,0)","v":0},null,null,null,null,null,null,null,null,null,null,null,null,null,0,{"$f":"IF(OR649=\"TAK\",1,0)","v":0},{"$f":"IF(OX649=\"TAK\",1,0)","v":0},null,null,null,null,null,null,null,null,null,null,null,null,null,0,{"$f":"IF(PH649=\"TAK\",1,0)","v":0},{"$f":"IF(PN649=\"TAK\",1,0)","v":0},null,null,null,null,null,null,null,null,null,null,null,null,null,0,{"$f":"IF(PX649=\"TAK\",1,0)","v":0},{"$f":"IF(QD649=\"TAK\",1,0)","v":0},null,null,null,null,null,null,null,null,null,null,null,null,null,0,{"$f":"IF(QN649=\"TAK\",1,0)","v":0},{"$f":"IF(QT649=\"TAK\",1,0)","v":0},null,null,null,null,null,null,null,null,null,null,null,null,null,0,{"$f":"IF(RD649=\"TAK\",1,0)","v":0},{"$f":"IF(RJ649=\"TAK\",1,0)","v":0},null,null,null,null,null,null,null,null,null,null,null,null,null,0,{"$f":"IF(RT649=\"TAK\",1,0)","v":0},{"$f":"IF(RZ649=\"TAK\",1,0)","v":0},null,null,null,null,null,null,null,null,null,null,null,null,null,0,{"$f":"IF(SJ649=\"TAK\",1,0)","v":0},{"$f":"IF(SP649=\"TAK\",1,0)","v":0},null,null,null,null,null,null,null,null,null,null,null,null,null,0,{"$f":"IF(SZ649=\"TAK\",1,0)","v":0},{"$f":"IF(TF649=\"TAK\",1,0)","v":0},null,null,null,null,null,null,null,null,null,null,null,null,null,0,{"$f":"IF(TP649=\"TAK\",1,0)","v":0},{"$f":"IF(TV649=\"TAK\",1,0)","v":0},null,null,null,null,null,null,null,null,null,null,null,null,null,0,{"$f":"IF(UF649=\"TAK\",1,0)","v":0},{"$f":"IF(UL649=\"TAK\",1,0)","v":0},null,null,null,null,null,null,null,null,null,null,null,null,null,0,{"$f":"IF(UV649=\"TAK\",1,0)","v":0},{"$f":"IF(VB649=\"TAK\",1,0)","v":0},null,null,null,null,null,null,null,null,null,null,null,null,null,0,{"$f":"IF(VL649=\"TAK\",1,0)","v":0},{"$f":"IF(VR649=\"TAK\",1,0)","v":0},null,null,null,null,null,null,null,null,null,null,null,null,null,0,{"$f":"IF(WB649=\"TAK\",1,0)","v":0},{"$f":"IF(WH649=\"TAK\",1,0)","v":0},null,null,null,null,null,null,null,null,null,null,null,null,null,0,{"$f":"IF(WR649=\"TAK\",1,0)","v":0},{"$f":"IF(WX649=\"TAK\",1,0)","v":0},null,null,null,null,null,null,null,null,null,null,null,null,null,0,{"$f":"IF(XH649=\"TAK\",1,0)","v":0},{"$f":"IF(XN649=\"TAK\",1,0)","v":0},null,null,null,null,null,null,null,null,null,null,null,null,null,0,{"$f":"IF(XX649=\"TAK\",1,0)","v":0},{"$f":"IF(YD649=\"TAK\",1,0)","v":0},null,null,null,null,null,null,null,null,null,null,null,null,null,0,{"$f":"IF(YN649=\"TAK\",1,0)","v":0},{"$f":"IF(YT649=\"TAK\",1,0)","v":0},null,null,null,null,null,null,null,null,null,null,null,null,null,0,{"$f":"IF(ZD649=\"TAK\",1,0)","v":0},{"$f":"IF(ZJ649=\"TAK\",1,0)","v":0},null,null,null,null,null,null,null,null,null,null,null,null,null,0,{"$f":"IF(ZT649=\"TAK\",1,0)","v":0},{"$f":"IF(ZZ649=\"TAK\",1,0)","v":0},null,null,null,null,null,null,null,null,null,null,null,null,null,0,{"$f":"IF(AAJ649=\"TAK\",1,0)","v":0},{"$f":"IF(AAP649=\"TAK\",1,0)","v":0},null,null,null,null,null,null,null,null,null,null,null,null,null,0,{"$f":"IF(AAZ649=\"TAK\",1,0)","v":0},{"$f":"IF(ABF649=\"TAK\",1,0)","v":0},null,null,null,null,null,null,null,null,null,null,null,null,null,0,{"$f":"IF(ABP649=\"TAK\",1,0)","v":0},{"$f":"IF(ABV649=\"TAK\",1,0)","v":0},null,null,null,null,null,null,null,null,null,null,null,null,null,0,{"$f":"IF(ACF649=\"TAK\",1,0)","v":0},{"$f":"IF(ACL649=\"TAK\",1,0)","v":0},null,null,null,null,null,null,null,null,null,null,null,null,null,0,{"$f":"IF(ACV649=\"TAK\",1,0)","v":0},{"$f":"IF(ADB649=\"TAK\",1,0)","v":0},null,null,null,null,null,null,null,null,null,null,null,null,null,0,{"$f":"IF(ADL649=\"TAK\",1,0)","v":0},{"$f":"IF(ADR649=\"TAK\",1,0)","v":0}]
[null,null,null,null,null,null,null,null,null,null,0,0,0,null,null,null,null,null,null,null,null,null,null,null,null,null,0,0,0,null,null,null,null,null,null,null,null,null,null,null,null,null,0,0,0,null,null,null,null,null,null,null,null,null,null,null,null,null,0,0,0,null,null,null,null,null,null,null,null,null,null,null,null,null,0,0,0,null,null,null,null,null,null,null,null,null,null,null,null,null,0,0,0,null,null,null,null,null,null,null,null,null,null,null,null,null,0,0,0,null,null,null,null,null,null,null,null,null,null,null,null,null,0,0,0,null,null,null,null,null,null,null,null,null,null,null,null,null,0,0,0,null,null,null,null,null,null,null,null,null,null,null,null,null,0,0,0,null,null,null,null,null,null,null,null,null,null,null,null,null,0,0,0,null,null,null,null,null,null,null,null,null,null,null,null,null,0,0,0,null,null,null,null,null,null,null,null,null,null,null,null,null,0,0,0,null,null,null,null,null,null,null,null,null,null,null,null,null,0,0,0,null,null,null,null,null,null,null,null,null,null,null,null,null,0,0,0,null,null,null,null,null,null,null,null,null,null,null,null,null,0,0,0,null,null,null,null,null,null,null,null,null,null,null,null,null,0,0,0,null,null,null,null,null,null,null,null,null,null,null,null,null,0,0,0,null,null,null,null,null,null,null,null,null,null,null,null,null,0,0,0,null,null,null,null,null,null,null,null,null,null,null,null,null,0,0,0,null,null,null,null,null,null,null,null,null,null,null,null,null,0,0,0,null,null,null,null,null,null,null,null,null,null,null,null,null,0,0,0,null,null,null,null,null,null,null,null,null,null,null,null,null,0,0,0,null,null,null,null,null,null,null,null,null,null,null,null,null,0,0,0,null,null,null,null,null,null,null,null,null,null,null,null,null,0,0,0,null,null,null,null,null,null,null,null,null,null,null,null,null,0,0,0,null,null,null,null,null,null,null,null,null,null,null,null,null,0,0,0,null,null,null,null,null,null,null,null,null,null,null,null,null,0,0,0,null,null,null,null,null,null,null,null,null,null,null,null,null,0,0,0,null,null,null,null,null,null,null,null,null,null,null,null,null,0,0,0,null,null,null,null,null,null,null,null,null,null,null,null,null,0,0,0,null,null,null,null,null,null,null,null,null,null,null,null,null,0,0,0,null,null,null,null,null,null,null,null,null,null,null,null,null,0,0,0,null,null,null,null,null,null,null,null,null,null,null,null,null,0,0,0,null,null,null,null,null,null,null,null,null,null,null,null,null,0,0,0,null,null,null,null,null,null,null,null,null,null,null,null,null,0,0,0,null,null,null,null,null,null,null,null,null,null,null,null,null,0,0,0,null,null,null,null,null,null,null,null,null,null,null,null,null,0,0,0,null,null,null,null,null,null,null,null,null,null,null,null,null,0,0,0,null,null,null,null,null,null,null,null,null,null,null,null,null,0,0,0,null,null,null,null,null,null,null,null,null,null,null,null,null,0,0,0,null,null,null,null,null,null,null,null,null,null,null,null,null,0,0,0,null,null,null,null,null,null,null,null,null,null,null,null,null,0,0,0,null,null,null,null,null,null,null,null,null,null,null,null,null,0,0,0,null,null,null,null,null,null,null,null,null,null,null,null,null,0,0,0,null,null,null,null,null,null,null,null,null,null,null,null,null,0,0,0,null,null,null,null,null,null,null,null,null,null,null,null,null,0,0,0,null,null,null,null,null,null,null,null,null,null,null,null,null,0,0,0,null,null,null,null,null,null,null,null,null,null,null,null,null,0,0,0,null,null,null,null,null,null,null,null,null,null,null,null,null,0,0,0]
[null,null,null,null,null,null,null,null,null,null,0,0,0,null,null,null,null,null,null,null,null,null,null,null,null,null,0,0,0,null,null,null,null,null,null,null,null,null,null,null,null,null,0,0,0,null,null,null,null,null,null,null,null,null,null,null,null,null,0,0,0,null,null,null,null,null,null,null,null,null,null,null,null,null,0,0,0,null,null,null,null,null,null,null,null,null,null,null,null,null,0,0,0,null,null,null,null,null,null,null,null,null,null,null,null,null,0,0,0,null,null,null,null,null,null,null,null,null,null,null,null,null,0,0,0,null,null,null,null,null,null,null,null,null,null,null,null,null,0,0,0,null,null,null,null,null,null,null,null,null,null,null,null,null,0,0,0,null,null,null,null,null,null,null,null,null,null,null,null,null,0,0,0,null,null,null,null,null,null,null,null,null,null,null,null,null,0,0,0,null,null,null,null,null,null,null,null,null,null,null,null,null,0,0,0,null,null,null,null,null,null,null,null,null,null,null,null,null,0,0,0,null,null,null,null,null,null,null,null,null,null,null,null,null,0,0,0,null,null,null,null,null,null,null,null,null,null,null,null,null,0,0,0,null,null,null,null,null,null,null,null,null,null,null,null,null,0,0,0,null,null,null,null,null,null,null,null,null,null,null,null,null,0,0,0,null,null,null,null,null,null,null,null,null,null,null,null,null,0,0,0,null,null,null,null,null,null,null,null,null,null,null,null,null,0,0,0,null,null,null,null,null,null,null,null,null,null,null,null,null,0,0,0,null,null,null,null,null,null,null,null,null,null,null,null,null,0,0,0,null,null,null,null,null,null,null,null,null,null,null,null,null,0,0,0,null,null,null,null,null,null,null,null,null,null,null,null,null,0,0,0,null,null,null,null,null,null,null,null,null,null,null,null,null,0,0,0,null,null,null,null,null,null,null,null,null,null,null,null,null,0,0,0,null,null,null,null,null,null,null,null,null,null,null,null,null,0,0,0,null,null,null,null,null,null,null,null,null,null,null,null,null,0,0,0,null,null,null,null,null,null,null,null,null,null,null,null,null,0,0,0,null,null,null,null,null,null,null,null,null,null,null,null,null,0,0,0,null,null,null,null,null,null,null,null,null,null,null,null,null,0,0,0,null,null,null,null,null,null,null,null,null,null,null,null,null,0,0,0,null,null,null,null,null,null,null,null,null,null,null,null,null,0,0,0,null,null,null,null,null,null,null,null,null,null,null,null,null,0,0,0,null,null,null,null,null,null,null,null,null,null,null,null,null,0,0,0,null,null,null,null,null,null,null,null,null,null,null,null,null,0,0,0,null,null,null,null,null,null,null,null,null,null,null,null,null,0,0,0,null,null,null,null,null,null,null,null,null,null,null,null,null,0,0,0,null,null,null,null,null,null,null,null,null,null,null,null,null,0,0,0,null,null,null,null,null,null,null,null,null,null,null,null,null,0,0,0,null,null,null,null,null,null,null,null,null,null,null,null,null,0,0,0,null,null,null,null,null,null,null,null,null,null,null,null,null,0,0,0,null,null,null,null,null,null,null,null,null,null,null,null,null,0,0,0,null,null,null,null,null,null,null,null,null,null,null,null,null,0,0,0,null,null,null,null,null,null,null,null,null,null,null,null,null,0,0,0,null,null,null,null,null,null,null,null,null,null,null,null,null,0,0,0,null,null,null,null,null,null,null,null,null,null,null,null,null,0,0,0,null,null,null,null,null,null,null,null,null,null,null,null,null,0,0,0,null,null,null,null,null,null,null,null,null,null,null,null,null,0,0,0,null,null,null,null,null,null,null,null,null,null,null,null,null,0,0,0]
[null,null,null,null,null,null,null,null,null,null,0,0,0,null,null,null,null,null,null,null,null,null,null,null,null,null,0,0,0,null,null,null,null,null,null,null,null,null,null,null,null,null,0,0,0,null,null,null,null,null,null,null,null,null,null,null,null,null,0,0,0,null,null,null,null,null,null,null,null,null,null,null,null,null,0,0,0,null,null,null,null,null,null,null,null,null,null,null,null,null,0,0,0,null,null,null,null,null,null,null,null,null,null,null,null,null,0,0,0,null,null,null,null,null,null,null,null,null,null,null,null,null,0,0,0,null,null,null,null,null,null,null,null,null,null,null,null,null,0,0,0,null,null,null,null,null,null,null,null,null,null,null,null,null,0,0,0,null,null,null,null,null,null,null,null,null,null,null,null,null,0,0,0,null,null,null,null,null,null,null,null,null,null,null,null,null,0,0,0,null,null,null,null,null,null,null,null,null,null,null,null,null,0,0,0,null,null,null,null,null,null,null,null,null,null,null,null,null,0,0,0,null,null,null,null,null,null,null,null,null,null,null,null,null,0,0,0,null,null,null,null,null,null,null,null,null,null,null,null,null,0,0,0,null,null,null,null,null,null,null,null,null,null,null,null,null,0,0,0,null,null,null,null,null,null,null,null,null,null,null,null,null,0,0,0,null,null,null,null,null,null,null,null,null,null,null,null,null,0,0,0,null,null,null,null,null,null,null,null,null,null,null,null,null,0,0,0,null,null,null,null,null,null,null,null,null,null,null,null,null,0,0,0,null,null,null,null,null,null,null,null,null,null,null,null,null,0,0,0,null,null,null,null,null,null,null,null,null,null,null,null,null,0,0,0,null,null,null,null,null,null,null,null,null,null,null,null,null,0,0,0,null,null,null,null,null,null,null,null,null,null,null,null,null,0,0,0,null,null,null,null,null,null,null,null,null,null,null,null,null,0,0,0,null,null,null,null,null,null,null,null,null,null,null,null,null,0,0,0,null,null,null,null,null,null,null,null,null,null,null,null,null,0,0,0,null,null,null,null,null,null,null,null,null,null,null,null,null,0,0,0,null,null,null,null,null,null,null,null,null,null,null,null,null,0,0,0,null,null,null,null,null,null,null,null,null,null,null,null,null,0,0,0,null,null,null,null,null,null,null,null,null,null,null,null,null,0,0,0,null,null,null,null,null,null,null,null,null,null,null,null,null,0,0,0,null,null,null,null,null,null,null,null,null,null,null,null,null,0,0,0,null,null,null,null,null,null,null,null,null,null,null,null,null,0,0,0,null,null,null,null,null,null,null,null,null,null,null,null,null,0,0,0,null,null,null,null,null,null,null,null,null,null,null,null,null,0,0,0,null,null,null,null,null,null,null,null,null,null,null,null,null,0,0,0,null,null,null,null,null,null,null,null,null,null,null,null,null,0,0,0,null,null,null,null,null,null,null,null,null,null,null,null,null,0,0,0,null,null,null,null,null,null,null,null,null,null,null,null,null,0,0,0,null,null,null,null,null,null,null,null,null,null,null,null,null,0,0,0,null,null,null,null,null,null,null,null,null,null,null,null,null,0,0,0,null,null,null,null,null,null,null,null,null,null,null,null,null,0,0,0,null,null,null,null,null,null,null,null,null,null,null,null,null,0,0,0,null,null,null,null,null,null,null,null,null,null,null,null,null,0,0,0,null,null,null,null,null,null,null,null,null,null,null,null,null,0,0,0,null,null,null,null,null,null,null,null,null,null,null,null,null,0,0,0,null,null,null,null,null,null,null,null,null,null,null,null,null,0,0,0,null,null,null,null,null,null,null,null,null,null,null,null,null,0,0,0]
[null,null,null,null,null,null,null,null,null,null,0,0,0,null,null,null,null,null,null,null,null,null,null,null,null,null,0,0,0,null,null,null,null,null,null,null,null,null,null,null,null,null,0,0,0,null,null,null,null,null,null,null,null,null,null,null,null,null,0,0,0,null,null,null,null,null,null,null,null,null,null,null,null,null,0,0,0,null,null,null,null,null,null,null,null,null,null,null,null,null,0,0,0,null,null,null,null,null,null,null,null,null,null,null,null,null,0,0,0,null,null,null,null,null,null,null,null,null,null,null,null,null,0,0,0,null,null,null,null,null,null,null,null,null,null,null,null,null,0,0,0,null,null,null,null,null,null,null,null,null,null,null,null,null,0,0,0,null,null,null,null,null,null,null,null,null,null,null,null,null,0,0,0,null,null,null,null,null,null,null,null,null,null,null,null,null,0,0,0,null,null,null,null,null,null,null,null,null,null,null,null,null,0,0,0,null,null,null,null,null,null,null,null,null,null,null,null,null,0,0,0,null,null,null,null,null,null,null,null,null,null,null,null,null,0,0,0,null,null,null,null,null,null,null,null,null,null,null,null,null,0,0,0,null,null,null,null,null,null,null,null,null,null,null,null,null,0,0,0,null,null,null,null,null,null,null,null,null,null,null,null,null,0,0,0,null,null,null,null,null,null,null,null,null,null,null,null,null,0,0,0,null,null,null,null,null,null,null,null,null,null,null,null,null,0,0,0,null,null,null,null,null,null,null,null,null,null,null,null,null,0,0,0,null,null,null,null,null,null,null,null,null,null,null,null,null,0,0,0,null,null,null,null,null,null,null,null,null,null,null,null,null,0,0,0,null,null,null,null,null,null,null,null,null,null,null,null,null,0,0,0,null,null,null,null,null,null,null,null,null,null,null,null,null,0,0,0,null,null,null,null,null,null,null,null,null,null,null,null,null,0,0,0,null,null,null,null,null,null,null,null,null,null,null,null,null,0,0,0,null,null,null,null,null,null,null,null,null,null,null,null,null,0,0,0,null,null,null,null,null,null,null,null,null,null,null,null,null,0,0,0,null,null,null,null,null,null,null,null,null,null,null,null,null,0,0,0,null,null,null,null,null,null,null,null,null,null,null,null,null,0,0,0,null,null,null,null,null,null,null,null,null,null,null,null,null,0,0,0,null,null,null,null,null,null,null,null,null,null,null,null,null,0,0,0,null,null,null,null,null,null,null,null,null,null,null,null,null,0,0,0,null,null,null,null,null,null,null,null,null,null,null,null,null,0,0,0,null,null,null,null,null,null,null,null,null,null,null,null,null,0,0,0,null,null,null,null,null,null,null,null,null,null,null,null,null,0,0,0,null,null,null,null,null,null,null,null,null,null,null,null,null,0,0,0,null,null,null,null,null,null,null,null,null,null,null,null,null,0,0,0,null,null,null,null,null,null,null,null,null,null,null,null,null,0,0,0,null,null,null,null,null,null,null,null,null,null,null,null,null,0,0,0,null,null,null,null,null,null,null,null,null,null,null,null,null,0,0,0,null,null,null,null,null,null,null,null,null,null,null,null,null,0,0,0,null,null,null,null,null,null,null,null,null,null,null,null,null,0,0,0,null,null,null,null,null,null,null,null,null,null,null,null,null,0,0,0,null,null,null,null,null,null,null,null,null,null,null,null,null,0,0,0,null,null,null,null,null,null,null,null,null,null,null,null,null,0,0,0,null,null,null,null,null,null,null,null,null,null,null,null,null,0,0,0,null,null,null,null,null,null,null,null,null,null,null,null,null,0,0,0,null,null,null,null,null,null,null,null,null,null,null,null,null,0,0,0]
[null,null,null,null,null,null,null,null,null,null,0,0,0,null,null,null,null,null,null,null,null,null,null,null,null,null,0,0,0,null,null,null,null,null,null,null,null,null,null,null,null,null,0,0,0,null,null,null,null,null,null,null,null,null,null,null,null,null,0,0,0,null,null,null,null,null,null,null,null,null,null,null,null,null,0,0,0,null,null,null,null,null,null,null,null,null,null,null,null,null,0,0,0,null,null,null,null,null,null,null,null,null,null,null,null,null,0,0,0,null,null,null,null,null,null,null,null,null,null,null,null,null,0,0,0,null,null,null,null,null,null,null,null,null,null,null,null,null,0,0,0,null,null,null,null,null,null,null,null,null,null,null,null,null,0,0,0,null,null,null,null,null,null,null,null,null,null,null,null,null,0,0,0,null,null,null,null,null,null,null,null,null,null,null,null,null,0,0,0,null,null,null,null,null,null,null,null,null,null,null,null,null,0,0,0,null,null,null,null,null,null,null,null,null,null,null,null,null,0,0,0,null,null,null,null,null,null,null,null,null,null,null,null,null,0,0,0,null,null,null,null,null,null,null,null,null,null,null,null,null,0,0,0,null,null,null,null,null,null,null,null,null,null,null,null,null,0,0,0,null,null,null,null,null,null,null,null,null,null,null,null,null,0,0,0,null,null,null,null,null,null,null,null,null,null,null,null,null,0,0,0,null,null,null,null,null,null,null,null,null,null,null,null,null,0,0,0,null,null,null,null,null,null,null,null,null,null,null,null,null,0,0,0,null,null,null,null,null,null,null,null,null,null,null,null,null,0,0,0,null,null,null,null,null,null,null,null,null,null,null,null,null,0,0,0,null,null,null,null,null,null,null,null,null,null,null,null,null,0,0,0,null,null,null,null,null,null,null,null,null,null,null,null,null,0,0,0,null,null,null,null,null,null,null,null,null,null,null,null,null,0,0,0,null,null,null,null,null,null,null,null,null,null,null,null,null,0,0,0,null,null,null,null,null,null,null,null,null,null,null,null,null,0,0,0,null,null,null,null,null,null,null,null,null,null,null,null,null,0,0,0,null,null,null,null,null,null,null,null,null,null,null,null,null,0,0,0,null,null,null,null,null,null,null,null,null,null,null,null,null,0,0,0,null,null,null,null,null,null,null,null,null,null,null,null,null,0,0,0,null,null,null,null,null,null,null,null,null,null,null,null,null,0,0,0,null,null,null,null,null,null,null,null,null,null,null,null,null,0,0,0,null,null,null,null,null,null,null,null,null,null,null,null,null,0,0,0,null,null,null,null,null,null,null,null,null,null,null,null,null,0,0,0,null,null,null,null,null,null,null,null,null,null,null,null,null,0,0,0,null,null,null,null,null,null,null,null,null,null,null,null,null,0,0,0,null,null,null,null,null,null,null,null,null,null,null,null,null,0,0,0,null,null,null,null,null,null,null,null,null,null,null,null,null,0,0,0,null,null,null,null,null,null,null,null,null,null,null,null,null,0,0,0,null,null,null,null,null,null,null,null,null,null,null,null,null,0,0,0,null,null,null,null,null,null,null,null,null,null,null,null,null,0,0,0,null,null,null,null,null,null,null,null,null,null,null,null,null,0,0,0,null,null,null,null,null,null,null,null,null,null,null,null,null,0,0,0,null,null,null,null,null,null,null,null,null,null,null,null,null,0,0,0,null,null,null,null,null,null,null,null,null,null,null,null,null,0,0,0,null,null,null,null,null,null,null,null,null,null,null,null,null,0,0,0,null,null,null,null,null,null,null,null,null,null,null,null,null,0,0,0,null,null,null,null,null,null,null,null,null,null,null,null,null,0,0,0]
[null,null,null,null,null,null,null,null,null,null,0,0,0,null,null,null,null,null,null,null,null,null,null,null,null,null,0,0,0,null,null,null,null,null,null,null,null,null,null,null,null,null,0,0,0,null,null,null,null,null,null,null,null,null,null,null,null,null,0,0,0,null,null,null,null,null,null,null,null,null,null,null,null,null,0,0,0,null,null,null,null,null,null,null,null,null,null,null,null,null,0,0,0,null,null,null,null,null,null,null,null,null,null,null,null,null,0,0,0,null,null,null,null,null,null,null,null,null,null,null,null,null,0,0,0,null,null,null,null,null,null,null,null,null,null,null,null,null,0,0,0,null,null,null,null,null,null,null,null,null,null,null,null,null,0,0,0,null,null,null,null,null,null,null,null,null,null,null,null,null,0,0,0,null,null,null,null,null,null,null,null,null,null,null,null,null,0,0,0,null,null,null,null,null,null,null,null,null,null,null,null,null,0,0,0,null,null,null,null,null,null,null,null,null,null,null,null,null,0,0,0,null,null,null,null,null,null,null,null,null,null,null,null,null,0,0,0,null,null,null,null,null,null,null,null,null,null,null,null,null,0,0,0,null,null,null,null,null,null,null,null,null,null,null,null,null,0,0,0,null,null,null,null,null,null,null,null,null,null,null,null,null,0,0,0,null,null,null,null,null,null,null,null,null,null,null,null,null,0,0,0,null,null,null,null,null,null,null,null,null,null,null,null,null,0,0,0,null,null,null,null,null,null,null,null,null,null,null,null,null,0,0,0,null,null,null,null,null,null,null,null,null,null,null,null,null,0,0,0,null,null,null,null,null,null,null,null,null,null,null,null,null,0,0,0,null,null,null,null,null,null,null,null,null,null,null,null,null,0,0,0,null,null,null,null,null,null,null,null,null,null,null,null,null,0,0,0,null,null,null,null,null,null,null,null,null,null,null,null,null,0,0,0,null,null,null,null,null,null,null,null,null,null,null,null,null,0,0,0,null,null,null,null,null,null,null,null,null,null,null,null,null,0,0,0,null,null,null,null,null,null,null,null,null,null,null,null,null,0,0,0,null,null,null,null,null,null,null,null,null,null,null,null,null,0,0,0,null,null,null,null,null,null,null,null,null,null,null,null,null,0,0,0,null,null,null,null,null,null,null,null,null,null,null,null,null,0,0,0,null,null,null,null,null,null,null,null,null,null,null,null,null,0,0,0,null,null,null,null,null,null,null,null,null,null,null,null,null,0,0,0,null,null,null,null,null,null,null,null,null,null,null,null,null,0,0,0,null,null,null,null,null,null,null,null,null,null,null,null,null,0,0,0,null,null,null,null,null,null,null,null,null,null,null,null,null,0,0,0,null,null,null,null,null,null,null,null,null,null,null,null,null,0,0,0,null,null,null,null,null,null,null,null,null,null,null,null,null,0,0,0,null,null,null,null,null,null,null,null,null,null,null,null,null,0,0,0,null,null,null,null,null,null,null,null,null,null,null,null,null,0,0,0,null,null,null,null,null,null,null,null,null,null,null,null,null,0,0,0,null,null,null,null,null,null,null,null,null,null,null,null,null,0,0,0,null,null,null,null,null,null,null,null,null,null,null,null,null,0,0,0,null,null,null,null,null,null,null,null,null,null,null,null,null,0,0,0,null,null,null,null,null,null,null,null,null,null,null,null,null,0,0,0,null,null,null,null,null,null,null,null,null,null,null,null,null,0,0,0,null,null,null,null,null,null,null,null,null,null,null,null,null,0,0,0,null,null,null,null,null,null,null,null,null,null,null,null,null,0,0,0,null,null,null,null,null,null,null,null,null,null,null,null,null,0,0,0]
[null,null,null,null,null,null,null,null,null,null,0,0,0,null,null,null,null,null,null,null,null,null,null,null,null,null,0,0,0,null,null,null,null,null,null,null,null,null,null,null,null,null,0,0,0,null,null,null,null,null,null,null,null,null,null,null,null,null,0,0,0,null,null,null,null,null,null,null,null,null,null,null,null,null,0,0,0,null,null,null,null,null,null,null,null,null,null,null,null,null,0,0,0,null,null,null,null,null,null,null,null,null,null,null,null,null,0,0,0,null,null,null,null,null,null,null,null,null,null,null,null,null,0,0,0,null,null,null,null,null,null,null,null,null,null,null,null,null,0,0,0,null,null,null,null,null,null,null,null,null,null,null,null,null,0,0,0,null,null,null,null,null,null,null,null,null,null,null,null,null,0,0,0,null,null,null,null,null,null,null,null,null,null,null,null,null,0,0,0,null,null,null,null,null,null,null,null,null,null,null,null,null,0,0,0,null,null,null,null,null,null,null,null,null,null,null,null,null,0,0,0,null,null,null,null,null,null,null,null,null,null,null,null,null,0,0,0,null,null,null,null,null,null,null,null,null,null,null,null,null,0,0,0,null,null,null,null,null,null,null,null,null,null,null,null,null,0,0,0,null,null,null,null,null,null,null,null,null,null,null,null,null,0,0,0,null,null,null,null,null,null,null,null,null,null,null,null,null,0,0,0,null,null,null,null,null,null,null,null,null,null,null,null,null,0,0,0,null,null,null,null,null,null,null,null,null,null,null,null,null,0,0,0,null,null,null,null,null,null,null,null,null,null,null,null,null,0,0,0,null,null,null,null,null,null,null,null,null,null,null,null,null,0,0,0,null,null,null,null,null,null,null,null,null,null,null,null,null,0,0,0,null,null,null,null,null,null,null,null,null,null,null,null,null,0,0,0,null,null,null,null,null,null,null,null,null,null,null,null,null,0,0,0,null,null,null,null,null,null,null,null,null,null,null,null,null,0,0,0,null,null,null,null,null,null,null,null,null,null,null,null,null,0,0,0,null,null,null,null,null,null,null,null,null,null,null,null,null,0,0,0,null,null,null,null,null,null,null,null,null,null,null,null,null,0,0,0,null,null,null,null,null,null,null,null,null,null,null,null,null,0,0,0,null,null,null,null,null,null,null,null,null,null,null,null,null,0,0,0,null,null,null,null,null,null,null,null,null,null,null,null,null,0,0,0,null,null,null,null,null,null,null,null,null,null,null,null,null,0,0,0,null,null,null,null,null,null,null,null,null,null,null,null,null,0,0,0,null,null,null,null,null,null,null,null,null,null,null,null,null,0,0,0,null,null,null,null,null,null,null,null,null,null,null,null,null,0,0,0,null,null,null,null,null,null,null,null,null,null,null,null,null,0,0,0,null,null,null,null,null,null,null,null,null,null,null,null,null,0,0,0,null,null,null,null,null,null,null,null,null,null,null,null,null,0,0,0,null,null,null,null,null,null,null,null,null,null,null,null,null,0,0,0,null,null,null,null,null,null,null,null,null,null,null,null,null,0,0,0,null,null,null,null,null,null,null,null,null,null,null,null,null,0,0,0,null,null,null,null,null,null,null,null,null,null,null,null,null,0,0,0,null,null,null,null,null,null,null,null,null,null,null,null,null,0,0,0,null,null,null,null,null,null,null,null,null,null,null,null,null,0,0,0,null,null,null,null,null,null,null,null,null,null,null,null,null,0,0,0,null,null,null,null,null,null,null,null,null,null,null,null,null,0,0,0,null,null,null,null,null,null,null,null,null,null,null,null,null,0,0,0,null,null,null,null,null,null,null,null,null,null,null,null,null,0,0,0]
[null,null,null,null,null,null,null,null,null,null,0,0,0,null,null,null,null,null,null,null,null,null,null,null,null,null,0,0,0,null,null,null,null,null,null,null,null,null,null,null,null,null,0,0,0,null,null,null,null,null,null,null,null,null,null,null,null,null,0,0,0,null,null,null,null,null,null,null,null,null,null,null,null,null,0,0,0,null,null,null,null,null,null,null,null,null,null,null,null,null,0,0,0,null,null,null,null,null,null,null,null,null,null,null,null,null,0,0,0,null,null,null,null,null,null,null,null,null,null,null,null,null,0,0,0,null,null,null,null,null,null,null,null,null,null,null,null,null,0,0,0,null,null,null,null,null,null,null,null,null,null,null,null,null,0,0,0,null,null,null,null,null,null,null,null,null,null,null,null,null,0,0,0,null,null,null,null,null,null,null,null,null,null,null,null,null,0,0,0,null,null,null,null,null,null,null,null,null,null,null,null,null,0,0,0,null,null,null,null,null,null,null,null,null,null,null,null,null,0,0,0,null,null,null,null,null,null,null,null,null,null,null,null,null,0,0,0,null,null,null,null,null,null,null,null,null,null,null,null,null,0,0,0,null,null,null,null,null,null,null,null,null,null,null,null,null,0,0,0,null,null,null,null,null,null,null,null,null,null,null,null,null,0,0,0,null,null,null,null,null,null,null,null,null,null,null,null,null,0,0,0,null,null,null,null,null,null,null,null,null,null,null,null,null,0,0,0,null,null,null,null,null,null,null,null,null,null,null,null,null,0,0,0,null,null,null,null,null,null,null,null,null,null,null,null,null,0,0,0,null,null,null,null,null,null,null,null,null,null,null,null,null,0,0,0,null,null,null,null,null,null,null,null,null,null,null,null,null,0,0,0,null,null,null,null,null,null,null,null,null,null,null,null,null,0,0,0,null,null,null,null,null,null,null,null,null,null,null,null,null,0,0,0,null,null,null,null,null,null,null,null,null,null,null,null,null,0,0,0,null,null,null,null,null,null,null,null,null,null,null,null,null,0,0,0,null,null,null,null,null,null,null,null,null,null,null,null,null,0,0,0,null,null,null,null,null,null,null,null,null,null,null,null,null,0,0,0,null,null,null,null,null,null,null,null,null,null,null,null,null,0,0,0,null,null,null,null,null,null,null,null,null,null,null,null,null,0,0,0,null,null,null,null,null,null,null,null,null,null,null,null,null,0,0,0,null,null,null,null,null,null,null,null,null,null,null,null,null,0,0,0,null,null,null,null,null,null,null,null,null,null,null,null,null,0,0,0,null,null,null,null,null,null,null,null,null,null,null,null,null,0,0,0,null,null,null,null,null,null,null,null,null,null,null,null,null,0,0,0,null,null,null,null,null,null,null,null,null,null,null,null,null,0,0,0,null,null,null,null,null,null,null,null,null,null,null,null,null,0,0,0,null,null,null,null,null,null,null,null,null,null,null,null,null,0,0,0,null,null,null,null,null,null,null,null,null,null,null,null,null,0,0,0,null,null,null,null,null,null,null,null,null,null,null,null,null,0,0,0,null,null,null,null,null,null,null,null,null,null,null,null,null,0,0,0,null,null,null,null,null,null,null,null,null,null,null,null,null,0,0,0,null,null,null,null,null,null,null,null,null,null,null,null,null,0,0,0,null,null,null,null,null,null,null,null,null,null,null,null,null,0,0,0,null,null,null,null,null,null,null,null,null,null,null,null,null,0,0,0,null,null,null,null,null,null,null,null,null,null,null,null,null,0,0,0,null,null,null,null,null,null,null,null,null,null,null,null,null,0,0,0,null,null,null,null,null,null,null,null,null,null,null,null,null,0,0,0]
[null,null,null,null,null,null,null,null,null,null,0,0,0,null,null,null,null,null,null,null,null,null,null,null,null,null,0,0,0,null,null,null,null,null,null,null,null,null,null,null,null,null,0,0,0,null,null,null,null,null,null,null,null,null,null,null,null,null,0,0,0,null,null,null,null,null,null,null,null,null,null,null,null,null,0,0,0,null,null,null,null,null,null,null,null,null,null,null,null,null,0,0,0,null,null,null,null,null,null,null,null,null,null,null,null,null,0,0,0,null,null,null,null,null,null,null,null,null,null,null,null,null,0,0,0,null,null,null,null,null,null,null,null,null,null,null,null,null,0,0,0,null,null,null,null,null,null,null,null,null,null,null,null,null,0,0,0,null,null,null,null,null,null,null,null,null,null,null,null,null,0,0,0,null,null,null,null,null,null,null,null,null,null,null,null,null,0,0,0,null,null,null,null,null,null,null,null,null,null,null,null,null,0,0,0,null,null,null,null,null,null,null,null,null,null,null,null,null,0,0,0,null,null,null,null,null,null,null,null,null,null,null,null,null,0,0,0,null,null,null,null,null,null,null,null,null,null,null,null,null,0,0,0,null,null,null,null,null,null,null,null,null,null,null,null,null,0,0,0,null,null,null,null,null,null,null,null,null,null,null,null,null,0,0,0,null,null,null,null,null,null,null,null,null,null,null,null,null,0,0,0,null,null,null,null,null,null,null,null,null,null,null,null,null,0,0,0,null,null,null,null,null,null,null,null,null,null,null,null,null,0,0,0,null,null,null,null,null,null,null,null,null,null,null,null,null,0,0,0,null,null,null,null,null,null,null,null,null,null,null,null,null,0,0,0,null,null,null,null,null,null,null,null,null,null,null,null,null,0,0,0,null,null,null,null,null,null,null,null,null,null,null,null,null,0,0,0,null,null,null,null,null,null,null,null,null,null,null,null,null,0,0,0,null,null,null,null,null,null,null,null,null,null,null,null,null,0,0,0,null,null,null,null,null,null,null,null,null,null,null,null,null,0,0,0,null,null,null,null,null,null,null,null,null,null,null,null,null,0,0,0,null,null,null,null,null,null,null,null,null,null,null,null,null,0,0,0,null,null,null,null,null,null,null,null,null,null,null,null,null,0,0,0,null,null,null,null,null,null,null,null,null,null,null,null,null,0,0,0,null,null,null,null,null,null,null,null,null,null,null,null,null,0,0,0,null,null,null,null,null,null,null,null,null,null,null,null,null,0,0,0,null,null,null,null,null,null,null,null,null,null,null,null,null,0,0,0,null,null,null,null,null,null,null,null,null,null,null,null,null,0,0,0,null,null,null,null,null,null,null,null,null,null,null,null,null,0,0,0,null,null,null,null,null,null,null,null,null,null,null,null,null,0,0,0,null,null,null,null,null,null,null,null,null,null,null,null,null,0,0,0,null,null,null,null,null,null,null,null,null,null,null,null,null,0,0,0,null,null,null,null,null,null,null,null,null,null,null,null,null,0,0,0,null,null,null,null,null,null,null,null,null,null,null,null,null,0,0,0,null,null,null,null,null,null,null,null,null,null,null,null,null,0,0,0,null,null,null,null,null,null,null,null,null,null,null,null,null,0,0,0,null,null,null,null,null,null,null,null,null,null,null,null,null,0,0,0,null,null,null,null,null,null,null,null,null,null,null,null,null,0,0,0,null,null,null,null,null,null,null,null,null,null,null,null,null,0,0,0,null,null,null,null,null,null,null,null,null,null,null,null,null,0,0,0,null,null,null,null,null,null,null,null,null,null,null,null,null,0,0,0,null,null,null,null,null,null,null,null,null,null,null,null,null,0,0,0]
[null,null,null,null,null,null,null,null,null,null,0,0,0,null,null,null,null,null,null,null,null,null,null,null,null,null,0,0,0,null,null,null,null,null,null,null,null,null,null,null,null,null,0,0,0,null,null,null,null,null,null,null,null,null,null,null,null,null,0,0,0,null,null,null,null,null,null,null,null,null,null,null,null,null,0,0,0,null,null,null,null,null,null,null,null,null,null,null,null,null,0,0,0,null,null,null,null,null,null,null,null,null,null,null,null,null,0,0,0,null,null,null,null,null,null,null,null,null,null,null,null,null,0,0,0,null,null,null,null,null,null,null,null,null,null,null,null,null,0,0,0,null,null,null,null,null,null,null,null,null,null,null,null,null,0,0,0,null,null,null,null,null,null,null,null,null,null,null,null,null,0,0,0,null,null,null,null,null,null,null,null,null,null,null,null,null,0,0,0,null,null,null,null,null,null,null,null,null,null,null,null,null,0,0,0,null,null,null,null,null,null,null,null,null,null,null,null,null,0,0,0,null,null,null,null,null,null,null,null,null,null,null,null,null,0,0,0,null,null,null,null,null,null,null,null,null,null,null,null,null,0,0,0,null,null,null,null,null,null,null,null,null,null,null,null,null,0,0,0,null,null,null,null,null,null,null,null,null,null,null,null,null,0,0,0,null,null,null,null,null,null,null,null,null,null,null,null,null,0,0,0,null,null,null,null,null,null,null,null,null,null,null,null,null,0,0,0,null,null,null,null,null,null,null,null,null,null,null,null,null,0,0,0,null,null,null,null,null,null,null,null,null,null,null,null,null,0,0,0,null,null,null,null,null,null,null,null,null,null,null,null,null,0,0,0,null,null,null,null,null,null,null,null,null,null,null,null,null,0,0,0,null,null,null,null,null,null,null,null,null,null,null,null,null,0,0,0,null,null,null,null,null,null,null,null,null,null,null,null,null,0,0,0,null,null,null,null,null,null,null,null,null,null,null,null,null,0,0,0,null,null,null,null,null,null,null,null,null,null,null,null,null,0,0,0,null,null,null,null,null,null,null,null,null,null,null,null,null,0,0,0,null,null,null,null,null,null,null,null,null,null,null,null,null,0,0,0,null,null,null,null,null,null,null,null,null,null,null,null,null,0,0,0,null,null,null,null,null,null,null,null,null,null,null,null,null,0,0,0,null,null,null,null,null,null,null,null,null,null,null,null,null,0,0,0,null,null,null,null,null,null,null,null,null,null,null,null,null,0,0,0,null,null,null,null,null,null,null,null,null,null,null,null,null,0,0,0,null,null,null,null,null,null,null,null,null,null,null,null,null,0,0,0,null,null,null,null,null,null,null,null,null,null,null,null,null,0,0,0,null,null,null,null,null,null,null,null,null,null,null,null,null,0,0,0,null,null,null,null,null,null,null,null,null,null,null,null,null,0,0,0,null,null,null,null,null,null,null,null,null,null,null,null,null,0,0,0,null,null,null,null,null,null,null,null,null,null,null,null,null,0,0,0,null,null,null,null,null,null,null,null,null,null,null,null,null,0,0,0,null,null,null,null,null,null,null,null,null,null,null,null,null,0,0,0,null,null,null,null,null,null,null,null,null,null,null,null,null,0,0,0,null,null,null,null,null,null,null,null,null,null,null,null,null,0,0,0,null,null,null,null,null,null,null,null,null,null,null,null,null,0,0,0,null,null,null,null,null,null,null,null,null,null,null,null,null,0,0,0,null,null,null,null,null,null,null,null,null,null,null,null,null,0,0,0,null,null,null,null,null,null,null,null,null,null,null,null,null,0,0,0,null,null,null,null,null,null,null,null,null,null,null,null,null,0,0,0]
[null,null,null,null,null,null,null,null,null,null,0,0,0,null,null,null,null,null,null,null,null,null,null,null,null,null,0,0,0,null,null,null,null,null,null,null,null,null,null,null,null,null,0,0,0,null,null,null,null,null,null,null,null,null,null,null,null,null,0,0,0,null,null,null,null,null,null,null,null,null,null,null,null,null,0,0,0,null,null,null,null,null,null,null,null,null,null,null,null,null,0,0,0,null,null,null,null,null,null,null,null,null,null,null,null,null,0,0,0,null,null,null,null,null,null,null,null,null,null,null,null,null,0,0,0,null,null,null,null,null,null,null,null,null,null,null,null,null,0,0,0,null,null,null,null,null,null,null,null,null,null,null,null,null,0,0,0,null,null,null,null,null,null,null,null,null,null,null,null,null,0,0,0,null,null,null,null,null,null,null,null,null,null,null,null,null,0,0,0,null,null,null,null,null,null,null,null,null,null,null,null,null,0,0,0,null,null,null,null,null,null,null,null,null,null,null,null,null,0,0,0,null,null,null,null,null,null,null,null,null,null,null,null,null,0,0,0,null,null,null,null,null,null,null,null,null,null,null,null,null,0,0,0,null,null,null,null,null,null,null,null,null,null,null,null,null,0,0,0,null,null,null,null,null,null,null,null,null,null,null,null,null,0,0,0,null,null,null,null,null,null,null,null,null,null,null,null,null,0,0,0,null,null,null,null,null,null,null,null,null,null,null,null,null,0,0,0,null,null,null,null,null,null,null,null,null,null,null,null,null,0,0,0,null,null,null,null,null,null,null,null,null,null,null,null,null,0,0,0,null,null,null,null,null,null,null,null,null,null,null,null,null,0,0,0,null,null,null,null,null,null,null,null,null,null,null,null,null,0,0,0,null,null,null,null,null,null,null,null,null,null,null,null,null,0,0,0,null,null,null,null,null,null,null,null,null,null,null,null,null,0,0,0,null,null,null,null,null,null,null,null,null,null,null,null,null,0,0,0,null,null,null,null,null,null,null,null,null,null,null,null,null,0,0,0,null,null,null,null,null,null,null,null,null,null,null,null,null,0,0,0,null,null,null,null,null,null,null,null,null,null,null,null,null,0,0,0,null,null,null,null,null,null,null,null,null,null,null,null,null,0,0,0,null,null,null,null,null,null,null,null,null,null,null,null,null,0,0,0,null,null,null,null,null,null,null,null,null,null,null,null,null,0,0,0,null,null,null,null,null,null,null,null,null,null,null,null,null,0,0,0,null,null,null,null,null,null,null,null,null,null,null,null,null,0,0,0,null,null,null,null,null,null,null,null,null,null,null,null,null,0,0,0,null,null,null,null,null,null,null,null,null,null,null,null,null,0,0,0,null,null,null,null,null,null,null,null,null,null,null,null,null,0,0,0,null,null,null,null,null,null,null,null,null,null,null,null,null,0,0,0,null,null,null,null,null,null,null,null,null,null,null,null,null,0,0,0,null,null,null,null,null,null,null,null,null,null,null,null,null,0,0,0,null,null,null,null,null,null,null,null,null,null,null,null,null,0,0,0,null,null,null,null,null,null,null,null,null,null,null,null,null,0,0,0,null,null,null,null,null,null,null,null,null,null,null,null,null,0,0,0,null,null,null,null,null,null,null,null,null,null,null,null,null,0,0,0,null,null,null,null,null,null,null,null,null,null,null,null,null,0,0,0,null,null,null,null,null,null,null,null,null,null,null,null,null,0,0,0,null,null,null,null,null,null,null,null,null,null,null,null,null,0,0,0,null,null,null,null,null,null,null,null,null,null,null,null,null,0,0,0,null,null,null,null,null,null,null,null,null,null,null,null,null,0,0,0]
[null,null,null,null,null,null,null,null,null,null,0,0,0,null,null,null,null,null,null,null,null,null,null,null,null,null,0,0,0,null,null,null,null,null,null,null,null,null,null,null,null,null,0,0,0,null,null,null,null,null,null,null,null,null,null,null,null,null,0,0,0,null,null,null,null,null,null,null,null,null,null,null,null,null,0,0,0,null,null,null,null,null,null,null,null,null,null,null,null,null,0,0,0,null,null,null,null,null,null,null,null,null,null,null,null,null,0,0,0,null,null,null,null,null,null,null,null,null,null,null,null,null,0,0,0,null,null,null,null,null,null,null,null,null,null,null,null,null,0,0,0,null,null,null,null,null,null,null,null,null,null,null,null,null,0,0,0,null,null,null,null,null,null,null,null,null,null,null,null,null,0,0,0,null,null,null,null,null,null,null,null,null,null,null,null,null,0,0,0,null,null,null,null,null,null,null,null,null,null,null,null,null,0,0,0,null,null,null,null,null,null,null,null,null,null,null,null,null,0,0,0,null,null,null,null,null,null,null,null,null,null,null,null,null,0,0,0,null,null,null,null,null,null,null,null,null,null,null,null,null,0,0,0,null,null,null,null,null,null,null,null,null,null,null,null,null,0,0,0,null,null,null,null,null,null,null,null,null,null,null,null,null,0,0,0,null,null,null,null,null,null,null,null,null,null,null,null,null,0,0,0,null,null,null,null,null,null,null,null,null,null,null,null,null,0,0,0,null,null,null,null,null,null,null,null,null,null,null,null,null,0,0,0,null,null,null,null,null,null,null,null,null,null,null,null,null,0,0,0,null,null,null,null,null,null,null,null,null,null,null,null,null,0,0,0,null,null,null,null,null,null,null,null,null,null,null,null,null,0,0,0,null,null,null,null,null,null,null,null,null,null,null,null,null,0,0,0,null,null,null,null,null,null,null,null,null,null,null,null,null,0,0,0,null,null,null,null,null,null,null,null,null,null,null,null,null,0,0,0,null,null,null,null,null,null,null,null,null,null,null,null,null,0,0,0,null,null,null,null,null,null,null,null,null,null,null,null,null,0,0,0,null,null,null,null,null,null,null,null,null,null,null,null,null,0,0,0,null,null,null,null,null,null,null,null,null,null,null,null,null,0,0,0,null,null,null,null,null,null,null,null,null,null,null,null,null,0,0,0,null,null,null,null,null,null,null,null,null,null,null,null,null,0,0,0,null,null,null,null,null,null,null,null,null,null,null,null,null,0,0,0,null,null,null,null,null,null,null,null,null,null,null,null,null,0,0,0,null,null,null,null,null,null,null,null,null,null,null,null,null,0,0,0,null,null,null,null,null,null,null,null,null,null,null,null,null,0,0,0,null,null,null,null,null,null,null,null,null,null,null,null,null,0,0,0,null,null,null,null,null,null,null,null,null,null,null,null,null,0,0,0,null,null,null,null,null,null,null,null,null,null,null,null,null,0,0,0,null,null,null,null,null,null,null,null,null,null,null,null,null,0,0,0,null,null,null,null,null,null,null,null,null,null,null,null,null,0,0,0,null,null,null,null,null,null,null,null,null,null,null,null,null,0,0,0,null,null,null,null,null,null,null,null,null,null,null,null,null,0,0,0,null,null,null,null,null,null,null,null,null,null,null,null,null,0,0,0,null,null,null,null,null,null,null,null,null,null,null,null,null,0,0,0,null,null,null,null,null,null,null,null,null,null,null,null,null,0,0,0,null,null,null,null,null,null,null,null,null,null,null,null,null,0,0,0,null,null,null,null,null,null,null,null,null,null,null,null,null,0,0,0,null,null,null,null,null,null,null,null,null,null,null,null,null,0,0,0]
[null,null,null,null,null,null,null,null,null,null,0,0,0,null,null,null,null,null,null,null,null,null,null,null,null,null,0,0,0,null,null,null,null,null,null,null,null,null,null,null,null,null,0,0,0,null,null,null,null,null,null,null,null,null,null,null,null,null,0,0,0,null,null,null,null,null,null,null,null,null,null,null,null,null,0,0,0,null,null,null,null,null,null,null,null,null,null,null,null,null,0,0,0,null,null,null,null,null,null,null,null,null,null,null,null,null,0,0,0,null,null,null,null,null,null,null,null,null,null,null,null,null,0,0,0,null,null,null,null,null,null,null,null,null,null,null,null,null,0,0,0,null,null,null,null,null,null,null,null,null,null,null,null,null,0,0,0,null,null,null,null,null,null,null,null,null,null,null,null,null,0,0,0,null,null,null,null,null,null,null,null,null,null,null,null,null,0,0,0,null,null,null,null,null,null,null,null,null,null,null,null,null,0,0,0,null,null,null,null,null,null,null,null,null,null,null,null,null,0,0,0,null,null,null,null,null,null,null,null,null,null,null,null,null,0,0,0,null,null,null,null,null,null,null,null,null,null,null,null,null,0,0,0,null,null,null,null,null,null,null,null,null,null,null,null,null,0,0,0,null,null,null,null,null,null,null,null,null,null,null,null,null,0,0,0,null,null,null,null,null,null,null,null,null,null,null,null,null,0,0,0,null,null,null,null,null,null,null,null,null,null,null,null,null,0,0,0,null,null,null,null,null,null,null,null,null,null,null,null,null,0,0,0,null,null,null,null,null,null,null,null,null,null,null,null,null,0,0,0,null,null,null,null,null,null,null,null,null,null,null,null,null,0,0,0,null,null,null,null,null,null,null,null,null,null,null,null,null,0,0,0,null,null,null,null,null,null,null,null,null,null,null,null,null,0,0,0,null,null,null,null,null,null,null,null,null,null,null,null,null,0,0,0,null,null,null,null,null,null,null,null,null,null,null,null,null,0,0,0,null,null,null,null,null,null,null,null,null,null,null,null,null,0,0,0,null,null,null,null,null,null,null,null,null,null,null,null,null,0,0,0,null,null,null,null,null,null,null,null,null,null,null,null,null,0,0,0,null,null,null,null,null,null,null,null,null,null,null,null,null,0,0,0,null,null,null,null,null,null,null,null,null,null,null,null,null,0,0,0,null,null,null,null,null,null,null,null,null,null,null,null,null,0,0,0,null,null,null,null,null,null,null,null,null,null,null,null,null,0,0,0,null,null,null,null,null,null,null,null,null,null,null,null,null,0,0,0,null,null,null,null,null,null,null,null,null,null,null,null,null,0,0,0,null,null,null,null,null,null,null,null,null,null,null,null,null,0,0,0,null,null,null,null,null,null,null,null,null,null,null,null,null,0,0,0,null,null,null,null,null,null,null,null,null,null,null,null,null,0,0,0,null,null,null,null,null,null,null,null,null,null,null,null,null,0,0,0,null,null,null,null,null,null,null,null,null,null,null,null,null,0,0,0,null,null,null,null,null,null,null,null,null,null,null,null,null,0,0,0,null,null,null,null,null,null,null,null,null,null,null,null,null,0,0,0,null,null,null,null,null,null,null,null,null,null,null,null,null,0,0,0,null,null,null,null,null,null,null,null,null,null,null,null,null,0,0,0,null,null,null,null,null,null,null,null,null,null,null,null,null,0,0,0,null,null,null,null,null,null,null,null,null,null,null,null,null,0,0,0,null,null,null,null,null,null,null,null,null,null,null,null,null,0,0,0,null,null,null,null,null,null,null,null,null,null,null,null,null,0,0,0,null,null,null,null,null,null,null,null,null,null,null,null,null,0,0,0]
[null,null,null,null,null,null,null,null,null,null,0,0,0,null,null,null,null,null,null,null,null,null,null,null,null,null,0,0,0,null,null,null,null,null,null,null,null,null,null,null,null,null,0,0,0,null,null,null,null,null,null,null,null,null,null,null,null,null,0,0,0,null,null,null,null,null,null,null,null,null,null,null,null,null,0,0,0,null,null,null,null,null,null,null,null,null,null,null,null,null,0,0,0,null,null,null,null,null,null,null,null,null,null,null,null,null,0,0,0,null,null,null,null,null,null,null,null,null,null,null,null,null,0,0,0,null,null,null,null,null,null,null,null,null,null,null,null,null,0,0,0,null,null,null,null,null,null,null,null,null,null,null,null,null,0,0,0,null,null,null,null,null,null,null,null,null,null,null,null,null,0,0,0,null,null,null,null,null,null,null,null,null,null,null,null,null,0,0,0,null,null,null,null,null,null,null,null,null,null,null,null,null,0,0,0,null,null,null,null,null,null,null,null,null,null,null,null,null,0,0,0,null,null,null,null,null,null,null,null,null,null,null,null,null,0,0,0,null,null,null,null,null,null,null,null,null,null,null,null,null,0,0,0,null,null,null,null,null,null,null,null,null,null,null,null,null,0,0,0,null,null,null,null,null,null,null,null,null,null,null,null,null,0,0,0,null,null,null,null,null,null,null,null,null,null,null,null,null,0,0,0,null,null,null,null,null,null,null,null,null,null,null,null,null,0,0,0,null,null,null,null,null,null,null,null,null,null,null,null,null,0,0,0,null,null,null,null,null,null,null,null,null,null,null,null,null,0,0,0,null,null,null,null,null,null,null,null,null,null,null,null,null,0,0,0,null,null,null,null,null,null,null,null,null,null,null,null,null,0,0,0,null,null,null,null,null,null,null,null,null,null,null,null,null,0,0,0,null,null,null,null,null,null,null,null,null,null,null,null,null,0,0,0,null,null,null,null,null,null,null,null,null,null,null,null,null,0,0,0,null,null,null,null,null,null,null,null,null,null,null,null,null,0,0,0,null,null,null,null,null,null,null,null,null,null,null,null,null,0,0,0,null,null,null,null,null,null,null,null,null,null,null,null,null,0,0,0,null,null,null,null,null,null,null,null,null,null,null,null,null,0,0,0,null,null,null,null,null,null,null,null,null,null,null,null,null,0,0,0,null,null,null,null,null,null,null,null,null,null,null,null,null,0,0,0,null,null,null,null,null,null,null,null,null,null,null,null,null,0,0,0,null,null,null,null,null,null,null,null,null,null,null,null,null,0,0,0,null,null,null,null,null,null,null,null,null,null,null,null,null,0,0,0,null,null,null,null,null,null,null,null,null,null,null,null,null,0,0,0,null,null,null,null,null,null,null,null,null,null,null,null,null,0,0,0,null,null,null,null,null,null,null,null,null,null,null,null,null,0,0,0,null,null,null,null,null,null,null,null,null,null,null,null,null,0,0,0,null,null,null,null,null,null,null,null,null,null,null,null,null,0,0,0,null,null,null,null,null,null,null,null,null,null,null,null,null,0,0,0,null,null,null,null,null,null,null,null,null,null,null,null,null,0,0,0,null,null,null,null,null,null,null,null,null,null,null,null,null,0,0,0,null,null,null,null,null,null,null,null,null,null,null,null,null,0,0,0,null,null,null,null,null,null,null,null,null,null,null,null,null,0,0,0,null,null,null,null,null,null,null,null,null,null,null,null,null,0,0,0,null,null,null,null,null,null,null,null,null,null,null,null,null,0,0,0,null,null,null,null,null,null,null,null,null,null,null,null,null,0,0,0,null,null,null,null,null,null,null,null,null,null,null,null,null,0,0,0]
[null,null,null,null,null,null,null,null,null,null,0,0,0,null,null,null,null,null,null,null,null,null,null,null,null,null,0,0,0,null,null,null,null,null,null,null,null,null,null,null,null,null,0,0,0,null,null,null,null,null,null,null,null,null,null,null,null,null,0,0,0,null,null,null,null,null,null,null,null,null,null,null,null,null,0,0,0,null,null,null,null,null,null,null,null,null,null,null,null,null,0,0,0,null,null,null,null,null,null,null,null,null,null,null,null,null,0,0,0,null,null,null,null,null,null,null,null,null,null,null,null,null,0,0,0,null,null,null,null,null,null,null,null,null,null,null,null,null,0,0,0,null,null,null,null,null,null,null,null,null,null,null,null,null,0,0,0,null,null,null,null,null,null,null,null,null,null,null,null,null,0,0,0,null,null,null,null,null,null,null,null,null,null,null,null,null,0,0,0,null,null,null,null,null,null,null,null,null,null,null,null,null,0,0,0,null,null,null,null,null,null,null,null,null,null,null,null,null,0,0,0,null,null,null,null,null,null,null,null,null,null,null,null,null,0,0,0,null,null,null,null,null,null,null,null,null,null,null,null,null,0,0,0,null,null,null,null,null,null,null,null,null,null,null,null,null,0,0,0,null,null,null,null,null,null,null,null,null,null,null,null,null,0,0,0,null,null,null,null,null,null,null,null,null,null,null,null,null,0,0,0,null,null,null,null,null,null,null,null,null,null,null,null,null,0,0,0,null,null,null,null,null,null,null,null,null,null,null,null,null,0,0,0,null,null,null,null,null,null,null,null,null,null,null,null,null,0,0,0,null,null,null,null,null,null,null,null,null,null,null,null,null,0,0,0,null,null,null,null,null,null,null,null,null,null,null,null,null,0,0,0,null,null,null,null,null,null,null,null,null,null,null,null,null,0,0,0,null,null,null,null,null,null,null,null,null,null,null,null,null,0,0,0,null,null,null,null,null,null,null,null,null,null,null,null,null,0,0,0,null,null,null,null,null,null,null,null,null,null,null,null,null,0,0,0,null,null,null,null,null,null,null,null,null,null,null,null,null,0,0,0,null,null,null,null,null,null,null,null,null,null,null,null,null,0,0,0,null,null,null,null,null,null,null,null,null,null,null,null,null,0,0,0,null,null,null,null,null,null,null,null,null,null,null,null,null,0,0,0,null,null,null,null,null,null,null,null,null,null,null,null,null,0,0,0,null,null,null,null,null,null,null,null,null,null,null,null,null,0,0,0,null,null,null,null,null,null,null,null,null,null,null,null,null,0,0,0,null,null,null,null,null,null,null,null,null,null,null,null,null,0,0,0,null,null,null,null,null,null,null,null,null,null,null,null,null,0,0,0,null,null,null,null,null,null,null,null,null,null,null,null,null,0,0,0,null,null,null,null,null,null,null,null,null,null,null,null,null,0,0,0,null,null,null,null,null,null,null,null,null,null,null,null,null,0,0,0,null,null,null,null,null,null,null,null,null,null,null,null,null,0,0,0,null,null,null,null,null,null,null,null,null,null,null,null,null,0,0,0,null,null,null,null,null,null,null,null,null,null,null,null,null,0,0,0,null,null,null,null,null,null,null,null,null,null,null,null,null,0,0,0,null,null,null,null,null,null,null,null,null,null,null,null,null,0,0,0,null,null,null,null,null,null,null,null,null,null,null,null,null,0,0,0,null,null,null,null,null,null,null,null,null,null,null,null,null,0,0,0,null,null,null,null,null,null,null,null,null,null,null,null,null,0,0,0,null,null,null,null,null,null,null,null,null,null,null,null,null,0,0,0,null,null,null,null,null,null,null,null,null,null,null,null,null,0,0,0]
[null,null,null,null,null,null,null,null,null,null,0,0,0,null,null,null,null,null,null,null,null,null,null,null,null,null,0,0,0,null,null,null,null,null,null,null,null,null,null,null,null,null,0,0,0,null,null,null,null,null,null,null,null,null,null,null,null,null,0,0,0,null,null,null,null,null,null,null,null,null,null,null,null,null,0,0,0,null,null,null,null,null,null,null,null,null,null,null,null,null,0,0,0,null,null,null,null,null,null,null,null,null,null,null,null,null,0,0,0,null,null,null,null,null,null,null,null,null,null,null,null,null,0,0,0,null,null,null,null,null,null,null,null,null,null,null,null,null,0,0,0,null,null,null,null,null,null,null,null,null,null,null,null,null,0,0,0,null,null,null,null,null,null,null,null,null,null,null,null,null,0,0,0,null,null,null,null,null,null,null,null,null,null,null,null,null,0,0,0,null,null,null,null,null,null,null,null,null,null,null,null,null,0,0,0,null,null,null,null,null,null,null,null,null,null,null,null,null,0,0,0,null,null,null,null,null,null,null,null,null,null,null,null,null,0,0,0,null,null,null,null,null,null,null,null,null,null,null,null,null,0,0,0,null,null,null,null,null,null,null,null,null,null,null,null,null,0,0,0,null,null,null,null,null,null,null,null,null,null,null,null,null,0,0,0,null,null,null,null,null,null,null,null,null,null,null,null,null,0,0,0,null,null,null,null,null,null,null,null,null,null,null,null,null,0,0,0,null,null,null,null,null,null,null,null,null,null,null,null,null,0,0,0,null,null,null,null,null,null,null,null,null,null,null,null,null,0,0,0,null,null,null,null,null,null,null,null,null,null,null,null,null,0,0,0,null,null,null,null,null,null,null,null,null,null,null,null,null,0,0,0,null,null,null,null,null,null,null,null,null,null,null,null,null,0,0,0,null,null,null,null,null,null,null,null,null,null,null,null,null,0,0,0,null,null,null,null,null,null,null,null,null,null,null,null,null,0,0,0,null,null,null,null,null,null,null,null,null,null,null,null,null,0,0,0,null,null,null,null,null,null,null,null,null,null,null,null,null,0,0,0,null,null,null,null,null,null,null,null,null,null,null,null,null,0,0,0,null,null,null,null,null,null,null,null,null,null,null,null,null,0,0,0,null,null,null,null,null,null,null,null,null,null,null,null,null,0,0,0,null,null,null,null,null,null,null,null,null,null,null,null,null,0,0,0,null,null,null,null,null,null,null,null,null,null,null,null,null,0,0,0,null,null,null,null,null,null,null,null,null,null,null,null,null,0,0,0,null,null,null,null,null,null,null,null,null,null,null,null,null,0,0,0,null,null,null,null,null,null,null,null,null,null,null,null,null,0,0,0,null,null,null,null,null,null,null,null,null,null,null,null,null,0,0,0,null,null,null,null,null,null,null,null,null,null,null,null,null,0,0,0,null,null,null,null,null,null,null,null,null,null,null,null,null,0,0,0,null,null,null,null,null,null,null,null,null,null,null,null,null,0,0,0,null,null,null,null,null,null,null,null,null,null,null,null,null,0,0,0,null,null,null,null,null,null,null,null,null,null,null,null,null,0,0,0,null,null,null,null,null,null,null,null,null,null,null,null,null,0,0,0,null,null,null,null,null,null,null,null,null,null,null,null,null,0,0,0,null,null,null,null,null,null,null,null,null,null,null,null,null,0,0,0,null,null,null,null,null,null,null,null,null,null,null,null,null,0,0,0,null,null,null,null,null,null,null,null,null,null,null,null,null,0,0,0,null,null,null,null,null,null,null,null,null,null,null,null,null,0,0,0,null,null,null,null,null,null,null,null,null,null,null,null,null,0,0,0]
[null,null,null,null,null,null,null,null,null,null,0,0,0,null,null,null,null,null,null,null,null,null,null,null,null,null,0,0,0,null,null,null,null,null,null,null,null,null,null,null,null,null,0,0,0,null,null,null,null,null,null,null,null,null,null,null,null,null,0,0,0,null,null,null,null,null,null,null,null,null,null,null,null,null,0,0,0,null,null,null,null,null,null,null,null,null,null,null,null,null,0,0,0,null,null,null,null,null,null,null,null,null,null,null,null,null,0,0,0,null,null,null,null,null,null,null,null,null,null,null,null,null,0,0,0,null,null,null,null,null,null,null,null,null,null,null,null,null,0,0,0,null,null,null,null,null,null,null,null,null,null,null,null,null,0,0,0,null,null,null,null,null,null,null,null,null,null,null,null,null,0,0,0,null,null,null,null,null,null,null,null,null,null,null,null,null,0,0,0,null,null,null,null,null,null,null,null,null,null,null,null,null,0,0,0,null,null,null,null,null,null,null,null,null,null,null,null,null,0,0,0,null,null,null,null,null,null,null,null,null,null,null,null,null,0,0,0,null,null,null,null,null,null,null,null,null,null,null,null,null,0,0,0,null,null,null,null,null,null,null,null,null,null,null,null,null,0,0,0,null,null,null,null,null,null,null,null,null,null,null,null,null,0,0,0,null,null,null,null,null,null,null,null,null,null,null,null,null,0,0,0,null,null,null,null,null,null,null,null,null,null,null,null,null,0,0,0,null,null,null,null,null,null,null,null,null,null,null,null,null,0,0,0,null,null,null,null,null,null,null,null,null,null,null,null,null,0,0,0,null,null,null,null,null,null,null,null,null,null,null,null,null,0,0,0,null,null,null,null,null,null,null,null,null,null,null,null,null,0,0,0,null,null,null,null,null,null,null,null,null,null,null,null,null,0,0,0,null,null,null,null,null,null,null,null,null,null,null,null,null,0,0,0,null,null,null,null,null,null,null,null,null,null,null,null,null,0,0,0,null,null,null,null,null,null,null,null,null,null,null,null,null,0,0,0,null,null,null,null,null,null,null,null,null,null,null,null,null,0,0,0,null,null,null,null,null,null,null,null,null,null,null,null,null,0,0,0,null,null,null,null,null,null,null,null,null,null,null,null,null,0,0,0,null,null,null,null,null,null,null,null,null,null,null,null,null,0,0,0,null,null,null,null,null,null,null,null,null,null,null,null,null,0,0,0,null,null,null,null,null,null,null,null,null,null,null,null,null,0,0,0,null,null,null,null,null,null,null,null,null,null,null,null,null,0,0,0,null,null,null,null,null,null,null,null,null,null,null,null,null,0,0,0,null,null,null,null,null,null,null,null,null,null,null,null,null,0,0,0,null,null,null,null,null,null,null,null,null,null,null,null,null,0,0,0,null,null,null,null,null,null,null,null,null,null,null,null,null,0,0,0,null,null,null,null,null,null,null,null,null,null,null,null,null,0,0,0,null,null,null,null,null,null,null,null,null,null,null,null,null,0,0,0,null,null,null,null,null,null,null,null,null,null,null,null,null,0,0,0,null,null,null,null,null,null,null,null,null,null,null,null,null,0,0,0,null,null,null,null,null,null,null,null,null,null,null,null,null,0,0,0,null,null,null,null,null,null,null,null,null,null,null,null,null,0,0,0,null,null,null,null,null,null,null,null,null,null,null,null,null,0,0,0,null,null,null,null,null,null,null,null,null,null,null,null,null,0,0,0,null,null,null,null,null,null,null,null,null,null,null,null,null,0,0,0,null,null,null,null,null,null,null,null,null,null,null,null,null,0,0,0,null,null,null,null,null,null,null,null,null,null,null,null,null,0,0,0]
[null,null,null,null,null,null,null,null,null,null,0,0,0,null,null,null,null,null,null,null,null,null,null,null,null,null,0,0,0,null,null,null,null,null,null,null,null,null,null,null,null,null,0,0,0,null,null,null,null,null,null,null,null,null,null,null,null,null,0,0,0,null,null,null,null,null,null,null,null,null,null,null,null,null,0,0,0,null,null,null,null,null,null,null,null,null,null,null,null,null,0,0,0,null,null,null,null,null,null,null,null,null,null,null,null,null,0,0,0,null,null,null,null,null,null,null,null,null,null,null,null,null,0,0,0,null,null,null,null,null,null,null,null,null,null,null,null,null,0,0,0,null,null,null,null,null,null,null,null,null,null,null,null,null,0,0,0,null,null,null,null,null,null,null,null,null,null,null,null,null,0,0,0,null,null,null,null,null,null,null,null,null,null,null,null,null,0,0,0,null,null,null,null,null,null,null,null,null,null,null,null,null,0,0,0,null,null,null,null,null,null,null,null,null,null,null,null,null,0,0,0,null,null,null,null,null,null,null,null,null,null,null,null,null,0,0,0,null,null,null,null,null,null,null,null,null,null,null,null,null,0,0,0,null,null,null,null,null,null,null,null,null,null,null,null,null,0,0,0,null,null,null,null,null,null,null,null,null,null,null,null,null,0,0,0,null,null,null,null,null,null,null,null,null,null,null,null,null,0,0,0,null,null,null,null,null,null,null,null,null,null,null,null,null,0,0,0,null,null,null,null,null,null,null,null,null,null,null,null,null,0,0,0,null,null,null,null,null,null,null,null,null,null,null,null,null,0,0,0,null,null,null,null,null,null,null,null,null,null,null,null,null,0,0,0,null,null,null,null,null,null,null,null,null,null,null,null,null,0,0,0,null,null,null,null,null,null,null,null,null,null,null,null,null,0,0,0,null,null,null,null,null,null,null,null,null,null,null,null,null,0,0,0,null,null,null,null,null,null,null,null,null,null,null,null,null,0,0,0,null,null,null,null,null,null,null,null,null,null,null,null,null,0,0,0,null,null,null,null,null,null,null,null,null,null,null,null,null,0,0,0,null,null,null,null,null,null,null,null,null,null,null,null,null,0,0,0,null,null,null,null,null,null,null,null,null,null,null,null,null,0,0,0,null,null,null,null,null,null,null,null,null,null,null,null,null,0,0,0,null,null,null,null,null,null,null,null,null,null,null,null,null,0,0,0,null,null,null,null,null,null,null,null,null,null,null,null,null,0,0,0,null,null,null,null,null,null,null,null,null,null,null,null,null,0,0,0,null,null,null,null,null,null,null,null,null,null,null,null,null,0,0,0,null,null,null,null,null,null,null,null,null,null,null,null,null,0,0,0,null,null,null,null,null,null,null,null,null,null,null,null,null,0,0,0,null,null,null,null,null,null,null,null,null,null,null,null,null,0,0,0,null,null,null,null,null,null,null,null,null,null,null,null,null,0,0,0,null,null,null,null,null,null,null,null,null,null,null,null,null,0,0,0,null,null,null,null,null,null,null,null,null,null,null,null,null,0,0,0,null,null,null,null,null,null,null,null,null,null,null,null,null,0,0,0,null,null,null,null,null,null,null,null,null,null,null,null,null,0,0,0,null,null,null,null,null,null,null,null,null,null,null,null,null,0,0,0,null,null,null,null,null,null,null,null,null,null,null,null,null,0,0,0,null,null,null,null,null,null,null,null,null,null,null,null,null,0,0,0,null,null,null,null,null,null,null,null,null,null,null,null,null,0,0,0,null,null,null,null,null,null,null,null,null,null,null,null,null,0,0,0,null,null,null,null,null,null,null,null,null,null,null,null,null,0,0,0]
[null,null,null,null,null,null,null,null,null,null,0,0,0,null,null,null,null,null,null,null,null,null,null,null,null,null,0,0,0,null,null,null,null,null,null,null,null,null,null,null,null,null,0,0,0,null,null,null,null,null,null,null,null,null,null,null,null,null,0,0,0,null,null,null,null,null,null,null,null,null,null,null,null,null,0,0,0,null,null,null,null,null,null,null,null,null,null,null,null,null,0,0,0,null,null,null,null,null,null,null,null,null,null,null,null,null,0,0,0,null,null,null,null,null,null,null,null,null,null,null,null,null,0,0,0,null,null,null,null,null,null,null,null,null,null,null,null,null,0,0,0,null,null,null,null,null,null,null,null,null,null,null,null,null,0,0,0,null,null,null,null,null,null,null,null,null,null,null,null,null,0,0,0,null,null,null,null,null,null,null,null,null,null,null,null,null,0,0,0,null,null,null,null,null,null,null,null,null,null,null,null,null,0,0,0,null,null,null,null,null,null,null,null,null,null,null,null,null,0,0,0,null,null,null,null,null,null,null,null,null,null,null,null,null,0,0,0,null,null,null,null,null,null,null,null,null,null,null,null,null,0,0,0,null,null,null,null,null,null,null,null,null,null,null,null,null,0,0,0,null,null,null,null,null,null,null,null,null,null,null,null,null,0,0,0,null,null,null,null,null,null,null,null,null,null,null,null,null,0,0,0,null,null,null,null,null,null,null,null,null,null,null,null,null,0,0,0,null,null,null,null,null,null,null,null,null,null,null,null,null,0,0,0,null,null,null,null,null,null,null,null,null,null,null,null,null,0,0,0,null,null,null,null,null,null,null,null,null,null,null,null,null,0,0,0,null,null,null,null,null,null,null,null,null,null,null,null,null,0,0,0,null,null,null,null,null,null,null,null,null,null,null,null,null,0,0,0,null,null,null,null,null,null,null,null,null,null,null,null,null,0,0,0,null,null,null,null,null,null,null,null,null,null,null,null,null,0,0,0,null,null,null,null,null,null,null,null,null,null,null,null,null,0,0,0,null,null,null,null,null,null,null,null,null,null,null,null,null,0,0,0,null,null,null,null,null,null,null,null,null,null,null,null,null,0,0,0,null,null,null,null,null,null,null,null,null,null,null,null,null,0,0,0,null,null,null,null,null,null,null,null,null,null,null,null,null,0,0,0,null,null,null,null,null,null,null,null,null,null,null,null,null,0,0,0,null,null,null,null,null,null,null,null,null,null,null,null,null,0,0,0,null,null,null,null,null,null,null,null,null,null,null,null,null,0,0,0,null,null,null,null,null,null,null,null,null,null,null,null,null,0,0,0,null,null,null,null,null,null,null,null,null,null,null,null,null,0,0,0,null,null,null,null,null,null,null,null,null,null,null,null,null,0,0,0,null,null,null,null,null,null,null,null,null,null,null,null,null,0,0,0,null,null,null,null,null,null,null,null,null,null,null,null,null,0,0,0,null,null,null,null,null,null,null,null,null,null,null,null,null,0,0,0,null,null,null,null,null,null,null,null,null,null,null,null,null,0,0,0,null,null,null,null,null,null,null,null,null,null,null,null,null,0,0,0,null,null,null,null,null,null,null,null,null,null,null,null,null,0,0,0,null,null,null,null,null,null,null,null,null,null,null,null,null,0,0,0,null,null,null,null,null,null,null,null,null,null,null,null,null,0,0,0,null,null,null,null,null,null,null,null,null,null,null,null,null,0,0,0,null,null,null,null,null,null,null,null,null,null,null,null,null,0,0,0,null,null,null,null,null,null,null,null,null,null,null,null,null,0,0,0,null,null,null,null,null,null,null,null,null,null,null,null,null,0,0,0]
[null,null,null,null,null,null,null,null,null,null,0,0,0,null,null,null,null,null,null,null,null,null,null,null,null,null,0,0,0,null,null,null,null,null,null,null,null,null,null,null,null,null,0,0,0,null,null,null,null,null,null,null,null,null,null,null,null,null,0,0,0,null,null,null,null,null,null,null,null,null,null,null,null,null,0,0,0,null,null,null,null,null,null,null,null,null,null,null,null,null,0,0,0,null,null,null,null,null,null,null,null,null,null,null,null,null,0,0,0,null,null,null,null,null,null,null,null,null,null,null,null,null,0,0,0,null,null,null,null,null,null,null,null,null,null,null,null,null,0,0,0,null,null,null,null,null,null,null,null,null,null,null,null,null,0,0,0,null,null,null,null,null,null,null,null,null,null,null,null,null,0,0,0,null,null,null,null,null,null,null,null,null,null,null,null,null,0,0,0,null,null,null,null,null,null,null,null,null,null,null,null,null,0,0,0,null,null,null,null,null,null,null,null,null,null,null,null,null,0,0,0,null,null,null,null,null,null,null,null,null,null,null,null,null,0,0,0,null,null,null,null,null,null,null,null,null,null,null,null,null,0,0,0,null,null,null,null,null,null,null,null,null,null,null,null,null,0,0,0,null,null,null,null,null,null,null,null,null,null,null,null,null,0,0,0,null,null,null,null,null,null,null,null,null,null,null,null,null,0,0,0,null,null,null,null,null,null,null,null,null,null,null,null,null,0,0,0,null,null,null,null,null,null,null,null,null,null,null,null,null,0,0,0,null,null,null,null,null,null,null,null,null,null,null,null,null,0,0,0,null,null,null,null,null,null,null,null,null,null,null,null,null,0,0,0,null,null,null,null,null,null,null,null,null,null,null,null,null,0,0,0,null,null,null,null,null,null,null,null,null,null,null,null,null,0,0,0,null,null,null,null,null,null,null,null,null,null,null,null,null,0,0,0,null,null,null,null,null,null,null,null,null,null,null,null,null,0,0,0,null,null,null,null,null,null,null,null,null,null,null,null,null,0,0,0,null,null,null,null,null,null,null,null,null,null,null,null,null,0,0,0,null,null,null,null,null,null,null,null,null,null,null,null,null,0,0,0,null,null,null,null,null,null,null,null,null,null,null,null,null,0,0,0,null,null,null,null,null,null,null,null,null,null,null,null,null,0,0,0,null,null,null,null,null,null,null,null,null,null,null,null,null,0,0,0,null,null,null,null,null,null,null,null,null,null,null,null,null,0,0,0,null,null,null,null,null,null,null,null,null,null,null,null,null,0,0,0,null,null,null,null,null,null,null,null,null,null,null,null,null,0,0,0,null,null,null,null,null,null,null,null,null,null,null,null,null,0,0,0,null,null,null,null,null,null,null,null,null,null,null,null,null,0,0,0,null,null,null,null,null,null,null,null,null,null,null,null,null,0,0,0,null,null,null,null,null,null,null,null,null,null,null,null,null,0,0,0,null,null,null,null,null,null,null,null,null,null,null,null,null,0,0,0,null,null,null,null,null,null,null,null,null,null,null,null,null,0,0,0,null,null,null,null,null,null,null,null,null,null,null,null,null,0,0,0,null,null,null,null,null,null,null,null,null,null,null,null,null,0,0,0,null,null,null,null,null,null,null,null,null,null,null,null,null,0,0,0,null,null,null,null,null,null,null,null,null,null,null,null,null,0,0,0,null,null,null,null,null,null,null,null,null,null,null,null,null,0,0,0,null,null,null,null,null,null,null,null,null,null,null,null,null,0,0,0,null,null,null,null,null,null,null,null,null,null,null,null,null,0,0,0,null,null,null,null,null,null,null,null,null,null,null,null,null,0,0,0]
[null,null,null,null,null,null,null,null,null,null,0,0,0,null,null,null,null,null,null,null,null,null,null,null,null,null,0,0,0,null,null,null,null,null,null,null,null,null,null,null,null,null,0,0,0,null,null,null,null,null,null,null,null,null,null,null,null,null,0,0,0,null,null,null,null,null,null,null,null,null,null,null,null,null,0,0,0,null,null,null,null,null,null,null,null,null,null,null,null,null,0,0,0,null,null,null,null,null,null,null,null,null,null,null,null,null,0,0,0,null,null,null,null,null,null,null,null,null,null,null,null,null,0,0,0,null,null,null,null,null,null,null,null,null,null,null,null,null,0,0,0,null,null,null,null,null,null,null,null,null,null,null,null,null,0,0,0,null,null,null,null,null,null,null,null,null,null,null,null,null,0,0,0,null,null,null,null,null,null,null,null,null,null,null,null,null,0,0,0,null,null,null,null,null,null,null,null,null,null,null,null,null,0,0,0,null,null,null,null,null,null,null,null,null,null,null,null,null,0,0,0,null,null,null,null,null,null,null,null,null,null,null,null,null,0,0,0,null,null,null,null,null,null,null,null,null,null,null,null,null,0,0,0,null,null,null,null,null,null,null,null,null,null,null,null,null,0,0,0,null,null,null,null,null,null,null,null,null,null,null,null,null,0,0,0,null,null,null,null,null,null,null,null,null,null,null,null,null,0,0,0,null,null,null,null,null,null,null,null,null,null,null,null,null,0,0,0,null,null,null,null,null,null,null,null,null,null,null,null,null,0,0,0,null,null,null,null,null,null,null,null,null,null,null,null,null,0,0,0,null,null,null,null,null,null,null,null,null,null,null,null,null,0,0,0,null,null,null,null,null,null,null,null,null,null,null,null,null,0,0,0,null,null,null,null,null,null,null,null,null,null,null,null,null,0,0,0,null,null,null,null,null,null,null,null,null,null,null,null,null,0,0,0,null,null,null,null,null,null,null,null,null,null,null,null,null,0,0,0,null,null,null,null,null,null,null,null,null,null,null,null,null,0,0,0,null,null,null,null,null,null,null,null,null,null,null,null,null,0,0,0,null,null,null,null,null,null,null,null,null,null,null,null,null,0,0,0,null,null,null,null,null,null,null,null,null,null,null,null,null,0,0,0,null,null,null,null,null,null,null,null,null,null,null,null,null,0,0,0,null,null,null,null,null,null,null,null,null,null,null,null,null,0,0,0,null,null,null,null,null,null,null,null,null,null,null,null,null,0,0,0,null,null,null,null,null,null,null,null,null,null,null,null,null,0,0,0,null,null,null,null,null,null,null,null,null,null,null,null,null,0,0,0,null,null,null,null,null,null,null,null,null,null,null,null,null,0,0,0,null,null,null,null,null,null,null,null,null,null,null,null,null,0,0,0,null,null,null,null,null,null,null,null,null,null,null,null,null,0,0,0,null,null,null,null,null,null,null,null,null,null,null,null,null,0,0,0,null,null,null,null,null,null,null,null,null,null,null,null,null,0,0,0,null,null,null,null,null,null,null,null,null,null,null,null,null,0,0,0,null,null,null,null,null,null,null,null,null,null,null,null,null,0,0,0,null,null,null,null,null,null,null,null,null,null,null,null,null,0,0,0,null,null,null,null,null,null,null,null,null,null,null,null,null,0,0,0,null,null,null,null,null,null,null,null,null,null,null,null,null,0,0,0,null,null,null,null,null,null,null,null,null,null,null,null,null,0,0,0,null,null,null,null,null,null,null,null,null,null,null,null,null,0,0,0,null,null,null,null,null,null,null,null,null,null,null,null,null,0,0,0,null,null,null,null,null,null,null,null,null,null,null,null,null,0,0,0]
[null,null,null,null,null,null,null,null,null,null,0,0,0,null,null,null,null,null,null,null,null,null,null,null,null,null,0,0,0,null,null,null,null,null,null,null,null,null,null,null,null,null,0,0,0,null,null,null,null,null,null,null,null,null,null,null,null,null,0,0,0,null,null,null,null,null,null,null,null,null,null,null,null,null,0,0,0,null,null,null,null,null,null,null,null,null,null,null,null,null,0,0,0,null,null,null,null,null,null,null,null,null,null,null,null,null,0,0,0,null,null,null,null,null,null,null,null,null,null,null,null,null,0,0,0,null,null,null,null,null,null,null,null,null,null,null,null,null,0,0,0,null,null,null,null,null,null,null,null,null,null,null,null,null,0,0,0,null,null,null,null,null,null,null,null,null,null,null,null,null,0,0,0,null,null,null,null,null,null,null,null,null,null,null,null,null,0,0,0,null,null,null,null,null,null,null,null,null,null,null,null,null,0,0,0,null,null,null,null,null,null,null,null,null,null,null,null,null,0,0,0,null,null,null,null,null,null,null,null,null,null,null,null,null,0,0,0,null,null,null,null,null,null,null,null,null,null,null,null,null,0,0,0,null,null,null,null,null,null,null,null,null,null,null,null,null,0,0,0,null,null,null,null,null,null,null,null,null,null,null,null,null,0,0,0,null,null,null,null,null,null,null,null,null,null,null,null,null,0,0,0,null,null,null,null,null,null,null,null,null,null,null,null,null,0,0,0,null,null,null,null,null,null,null,null,null,null,null,null,null,0,0,0,null,null,null,null,null,null,null,null,null,null,null,null,null,0,0,0,null,null,null,null,null,null,null,null,null,null,null,null,null,0,0,0,null,null,null,null,null,null,null,null,null,null,null,null,null,0,0,0,null,null,null,null,null,null,null,null,null,null,null,null,null,0,0,0,null,null,null,null,null,null,null,null,null,null,null,null,null,0,0,0,null,null,null,null,null,null,null,null,null,null,null,null,null,0,0,0,null,null,null,null,null,null,null,null,null,null,null,null,null,0,0,0,null,null,null,null,null,null,null,null,null,null,null,null,null,0,0,0,null,null,null,null,null,null,null,null,null,null,null,null,null,0,0,0,null,null,null,null,null,null,null,null,null,null,null,null,null,0,0,0,null,null,null,null,null,null,null,null,null,null,null,null,null,0,0,0,null,null,null,null,null,null,null,null,null,null,null,null,null,0,0,0,null,null,null,null,null,null,null,null,null,null,null,null,null,0,0,0,null,null,null,null,null,null,null,null,null,null,null,null,null,0,0,0,null,null,null,null,null,null,null,null,null,null,null,null,null,0,0,0,null,null,null,null,null,null,null,null,null,null,null,null,null,0,0,0,null,null,null,null,null,null,null,null,null,null,null,null,null,0,0,0,null,null,null,null,null,null,null,null,null,null,null,null,null,0,0,0,null,null,null,null,null,null,null,null,null,null,null,null,null,0,0,0,null,null,null,null,null,null,null,null,null,null,null,null,null,0,0,0,null,null,null,null,null,null,null,null,null,null,null,null,null,0,0,0,null,null,null,null,null,null,null,null,null,null,null,null,null,0,0,0,null,null,null,null,null,null,null,null,null,null,null,null,null,0,0,0,null,null,null,null,null,null,null,null,null,null,null,null,null,0,0,0,null,null,null,null,null,null,null,null,null,null,null,null,null,0,0,0,null,null,null,null,null,null,null,null,null,null,null,null,null,0,0,0,null,null,null,null,null,null,null,null,null,null,null,null,null,0,0,0,null,null,null,null,null,null,null,null,null,null,null,null,null,0,0,0,null,null,null,null,null,null,null,null,null,null,null,null,null,0,0,0]
[null,null,null,null,null,null,null,null,null,null,{"$f":"IF(D2229=\"\",0,1)","v":0},0,0,null,null,null,null,null,null,null,null,null,null,null,null,null,0,0,0,null,null,null,null,null,null,null,null,null,null,null,null,null,0,0,0,null,null,null,null,null,null,null,null,null,null,null,null,null,0,0,0,null,null,null,null,null,null,null,null,null,null,null,null,null,0,0,0,null,null,null,null,null,null,null,null,null,null,null,null,null,0,0,0,null,null,null,null,null,null,null,null,null,null,null,null,null,0,0,0,null,null,null,null,null,null,null,null,null,null,null,null,null,0,0,0,null,null,null,null,null,null,null,null,null,null,null,null,null,0,0,0,null,null,null,null,null,null,null,null,null,null,null,null,null,0,0,0,null,null,null,null,null,null,null,null,null,null,null,null,null,0,0,0,null,null,null,null,null,null,null,null,null,null,null,null,null,0,0,0,null,null,null,null,null,null,null,null,null,null,null,null,null,0,0,0,null,null,null,null,null,null,null,null,null,null,null,null,null,0,0,0,null,null,null,null,null,null,null,null,null,null,null,null,null,0,0,0,null,null,null,null,null,null,null,null,null,null,null,null,null,0,0,0,null,null,null,null,null,null,null,null,null,null,null,null,null,0,0,0,null,null,null,null,null,null,null,null,null,null,null,null,null,0,0,0,null,null,null,null,null,null,null,null,null,null,null,null,null,0,0,0,null,null,null,null,null,null,null,null,null,null,null,null,null,0,0,0,null,null,null,null,null,null,null,null,null,null,null,null,null,0,0,0,null,null,null,null,null,null,null,null,null,null,null,null,null,0,0,0,null,null,null,null,null,null,null,null,null,null,null,null,null,0,0,0,null,null,null,null,null,null,null,null,null,null,null,null,null,0,0,0,null,null,null,null,null,null,null,null,null,null,null,null,null,0,0,0,null,null,null,null,null,null,null,null,null,null,null,null,null,0,0,0,null,null,null,null,null,null,null,null,null,null,null,null,null,0,0,0,null,null,null,null,null,null,null,null,null,null,null,null,null,0,0,0,null,null,null,null,null,null,null,null,null,null,null,null,null,0,0,0,null,null,null,null,null,null,null,null,null,null,null,null,null,0,0,0,null,null,null,null,null,null,null,null,null,null,null,null,null,0,0,0,null,null,null,null,null,null,null,null,null,null,null,null,null,0,0,0,null,null,null,null,null,null,null,null,null,null,null,null,null,0,0,0,null,null,null,null,null,null,null,null,null,null,null,null,null,0,0,0,null,null,null,null,null,null,null,null,null,null,null,null,null,0,0,0,null,null,null,null,null,null,null,null,null,null,null,null,null,0,0,0,null,null,null,null,null,null,null,null,null,null,null,null,null,0,0,0,null,null,null,null,null,null,null,null,null,null,null,null,null,0,0,0,null,null,null,null,null,null,null,null,null,null,null,null,null,0,0,0,null,null,null,null,null,null,null,null,null,null,null,null,null,0,0,0,null,null,null,null,null,null,null,null,null,null,null,null,null,0,0,0,null,null,null,null,null,null,null,null,null,null,null,null,null,0,0,0,null,null,null,null,null,null,null,null,null,null,null,null,null,0,0,0,null,null,null,null,null,null,null,null,null,null,null,null,null,0,0,0,null,null,null,null,null,null,null,null,null,null,null,null,null,0,0,0,null,null,null,null,null,null,null,null,null,null,null,null,null,0,0,0,null,null,null,null,null,null,null,null,null,null,null,null,null,0,0,0,null,null,null,null,null,null,null,null,null,null,null,null,null,0,0,0,null,null,null,null,null,null,null,null,null,null,null,null,null,0,0,0,null,null,null,null,null,null,null,null,null,null,null,null,null,0,0,0]
[]
[]
[]
[]
[null,null,null,"TAK",null,null,null,null,null,null,null,null,null,null,null,null,null,null,null,"TAK",null,null,null,null,null,null,null,null,null,null,null,null,null,null,null,"TAK",null,null,null,null,null,null,null,null,null,null,null,null,null,null,null,"TAK",null,null,null,null,null,null,null,null,null,null,null,null,null,null,null,"TAK",null,null,null,null,null,null,null,null,null,null,null,null,null,null,null,"TAK",null,null,null,null,null,null,null,null,null,null,null,null,null,null,null,"TAK",null,null,null,null,null,null,null,null,null,null,null,null,null,null,null,"TAK",null,null,null,null,null,null,null,null,null,null,null,null,null,null,null,"TAK",null,null,null,null,null,null,null,null,null,null,null,null,null,null,null,"TAK",null,null,null,null,null,null,null,null,null,null,null,null,null,null,null,"TAK",null,null,null,null,null,null,null,null,null,null,null,null,null,null,null,"TAK",null,null,null,null,null,null,null,null,null,null,null,null,null,null,null,"TAK",null,null,null,null,null,null,null,null,null,null,null,null,null,null,null,"TAK",null,null,null,null,null,null,null,null,null,null,null,null,null,null,null,"TAK",null,null,null,null,null,null,null,null,null,null,null,null,null,null,null,"TAK",null,null,null,null,null,null,null,null,null,null,null,null,null,null,null,"TAK",null,null,null,null,null,null,null,null,null,null,null,null,null,null,null,"TAK",null,null,null,null,null,null,null,null,null,null,null,null,null,null,null,"TAK",null,null,null,null,null,null,null,null,null,null,null,null,null,null,null,"TAK",null,null,null,null,null,null,null,null,null,null,null,null,null,null,null,"TAK",null,null,null,null,null,null,null,null,null,null,null,null,null,null,null,"TAK",null,null,null,null,null,null,null,null,null,null,null,null,null,null,null,"TAK",null,null,null,null,null,null,null,null,null,null,null,null,null,null,null,"TAK",null,null,null,null,null,null,null,null,null,null,null,null,null,null,null,"TAK",null,null,null,null,null,null,null,null,null,null,null,null,null,null,null,"TAK",null,null,null,null,null,null,null,null,null,null,null,null,null,null,null,"TAK",null,null,null,null,null,null,null,null,null,null,null,null,null,null,null,"TAK",null,null,null,null,null,null,null,null,null,null,null,null,null,null,null,"TAK",null,null,null,null,null,null,null,null,null,null,null,null,null,null,null,"TAK",null,null,null,null,null,null,null,null,null,null,null,null,null,null,null,"TAK",null,null,null,null,null,null,null,null,null,null,null,null,null,null,null,"TAK",null,null,null,null,null,null,null,null,null,null,null,null,null,null,null,"TAK",null,null,null,null,null,null,null,null,null,null,null,null,null,null,null,"TAK",null,null,null,null,null,null,null,null,null,null,null,null,null,null,null,"TAK",null,null,null,null,null,null,null,null,null,null,null,null,null,null,null,"TAK",null,null,null,null,null,null,null,null,null,null,null,null,null,null,null,"TAK",null,null,null,null,null,null,null,null,null,null,null,null,null,null,null,"TAK",null,null,null,null,null,null,null,null,null,null,null,null,null,null,null,"TAK",null,null,null,null,null,null,null,null,null,null,null,null,null,null,null,"TAK",null,null,null,null,null,null,null,null,null,null,null,null,null,null,null,"TAK",null,null,null,null,null,null,null,null,null,null,null,null,null,null,null,"TAK",null,null,null,null,null,null,null,null,null,null,null,null,null,null,null,"TAK",null,null,null,null,null,null,null,null,null,null,null,null,null,null,null,"TAK",null,null,null,null,null,null,null,null,null,null,null,null,null,null,null,"TAK",null,null,null,null,null,null,null,null,null,null,null,null,null,null,null,"TAK",null,null,null,null,null,null,null,null,null,null,null,null,null,null,null,"TAK",null,null,null,null,null,null,null,null,null,null,null,null,null,null,null,"TAK",null,null,null,null,null,null,null,null,null,null,null,null,null,null,null,"TAK",null,null,null,null,null,null,null,null,null,null,null,null,null,null,null,"TAK"]
[null,null,null,"NIE",null,null,null,null,null,null,null,null,null,null,null,null,null,null,null,"NIE",null,null,null,null,null,null,null,null,null,null,null,null,null,null,null,"NIE",null,null,null,null,null,null,null,null,null,null,null,null,null,null,null,"NIE",null,null,null,null,null,null,null,null,null,null,null,null,null,null,null,"NIE",null,null,null,null,null,null,null,null,null,null,null,null,null,null,null,"NIE",null,null,null,null,null,null,null,null,null,null,null,null,null,null,null,"NIE",null,null,null,null,null,null,null,null,null,null,null,null,null,null,null,"NIE",null,null,null,null,null,null,null,null,null,null,null,null,null,null,null,"NIE",null,null,null,null,null,null,null,null,null,null,null,null,null,null,null,"NIE",null,null,null,null,null,null,null,null,null,null,null,null,null,null,null,"NIE",null,null,null,null,null,null,null,null,null,null,null,null,null,null,null,"NIE",null,null,null,null,null,null,null,null,null,null,null,null,null,null,null,"NIE",null,null,null,null,null,null,null,null,null,null,null,null,null,null,null,"NIE",null,null,null,null,null,null,null,null,null,null,null,null,null,null,null,"NIE",null,null,null,null,null,null,null,null,null,null,null,null,null,null,null,"NIE",null,null,null,null,null,null,null,null,null,null,null,null,null,null,null,"NIE",null,null,null,null,null,null,null,null,null,null,null,null,null,null,null,"NIE",null,null,null,null,null,null,null,null,null,null,null,null,null,null,null,"NIE",null,null,null,null,null,null,null,null,null,null,null,null,null,null,null,"NIE",null,null,null,null,null,null,null,null,null,null,null,null,null,null,null,"NIE",null,null,null,null,null,null,null,null,null,null,null,null,null,null,null,"NIE",null,null,null,null,null,null,null,null,null,null,null,null,null,null,null,"NIE",null,null,null,null,null,null,null,null,null,null,null,null,null,null,null,"NIE",null,null,null,null,null,null,null,null,null,null,null,null,null,null,null,"NIE",null,null,null,null,null,null,null,null,null,null,null,null,null,null,null,"NIE",null,null,null,null,null,null,null,null,null,null,null,null,null,null,null,"NIE",null,null,null,null,null,null,null,null,null,null,null,null,null,null,null,"NIE",null,null,null,null,null,null,null,null,null,null,null,null,null,null,null,"NIE",null,null,null,null,null,null,null,null,null,null,null,null,null,null,null,"NIE",null,null,null,null,null,null,null,null,null,null,null,null,null,null,null,"NIE",null,null,null,null,null,null,null,null,null,null,null,null,null,null,null,"NIE",null,null,null,null,null,null,null,null,null,null,null,null,null,null,null,"NIE",null,null,null,null,null,null,null,null,null,null,null,null,null,null,null,"NIE",null,null,null,null,null,null,null,null,null,null,null,null,null,null,null,"NIE",null,null,null,null,null,null,null,null,null,null,null,null,null,null,null,"NIE",null,null,null,null,null,null,null,null,null,null,null,null,null,null,null,"NIE",null,null,null,null,null,null,null,null,null,null,null,null,null,null,null,"NIE",null,null,null,null,null,null,null,null,null,null,null,null,null,null,null,"NIE",null,null,null,null,null,null,null,null,null,null,null,null,null,null,null,"NIE",null,null,null,null,null,null,null,null,null,null,null,null,null,null,null,"NIE",null,null,null,null,null,null,null,null,null,null,null,null,null,null,null,"NIE",null,null,null,null,null,null,null,null,null,null,null,null,null,null,null,"NIE",null,null,null,null,null,null,null,null,null,null,null,null,null,null,null,"NIE",null,null,null,null,null,null,null,null,null,null,null,null,null,null,null,"NIE",null,null,null,null,null,null,null,null,null,null,null,null,null,null,null,"NIE",null,null,null,null,null,null,null,null,null,null,null,null,null,null,null,"NIE",null,null,null,null,null,null,null,null,null,null,null,null,null,null,null,"NIE",null,null,null,null,null,null,null,null,null,null,null,null,null,null,null,"NIE",null,null,null,null,null,null,null,null,null,null,null,null,null,null,null,"NIE"]

{"sheet":"DANE DO UMOWY","index":2,"n_rows":2,"n_cols":169,"rows_kept":2,"cut":false,"hidden":false,"merged":[]}
["NR UMOWY","REPREZENTANT 1","REPREZENTANT 2","REPREZENTANT 3","NIP","NAZWA","NUMER RACHUNKU BANKOWEGO","SUMA KWOTY  DOPŁATY WE WSZYSTKICH LATACH","KWOTA SŁOWNIE","KWOTA DOPŁATY W 2024 R.","KWOTA SŁOWNIE","KWOTA DOPŁATY W 2025 R.","KWOTA SŁOWNIE","KWOTA DOPŁATY W 2026 R.","KWOTA SŁOWNIE","KWOTA DOPŁATY W 2027 R.","KWOTA SŁOWNIE","KWOTA DOPŁATY W 2028 R.","KWOTA SŁOWNIE","KWOTA DOPŁATY W 2029 R.","KWOTA SŁOWNIE","KWOTA DOPŁATY W 2030 R.","KWOTA SŁOWNIE","KWOTA DOPŁATY W 2031 R.","KWOTA SŁOWNIE","KWOTA DOPŁATY W 2032 R.","KWOTA SŁOWNIE","KWOTA DOPŁATY W 2033 R.","KWOTA SŁOWNIE","LINIE 2024","DŁUGOŚĆ 2024","PRACA 2024","CZĘSTOTLIWOŚĆ 2024","LINIE 2025","DŁUGOŚĆ 2025","PRACA 2025","CZĘSTOTLIWOŚĆ 2025","LINIE 2026","DŁUGOŚĆ 2026","PRACA 2026","CZĘSTOTLIWOŚĆ 2026","LINIE 2027","DŁUGOŚĆ 2027","PRACA 2027","CZĘSTOTLIWOŚĆ 2027","LINIE 2028","DŁUGOŚĆ 2028","PRACA 2028","CZĘSTOTLIWOŚĆ 2028","LINIE 2029","DŁUGOŚĆ 2029","PRACA 2029","CZĘSTOTLIWOŚĆ 2029","LINIE 2030","DŁUGOŚĆ 2030","PRACA 2030","CZĘSTOTLIWOŚĆ 2030","LINIE 2031","DŁUGOŚĆ 2031","PRACA 2031","CZĘSTOTLIWOŚĆ 2031","LINIE 2032","DŁUGOŚĆ 2032","PRACA 2032","CZĘSTOTLIWOŚĆ 2032","LINIE 2033","DŁUGOŚĆ 2033","PRACA 2033","CZĘSTOTLIWOŚĆ 2033","LINIA 1 NAZWA","LINIA 1 DŁUGOŚĆ","LINIA 2 NAZWA","LINIA 2 DŁUGOŚĆ","LINIA 3 NAZWA","LINIA 3 DŁUGOŚĆ","LINIA 4 NAZWA","LINIA 4 DŁUGOŚĆ","LINIA 5 NAZWA","LINIA 5 DŁUGOŚĆ","LINIA 6 NAZWA","LINIA 6 DŁUGOŚĆ","LINIA 7 NAZWA","LINIA 7 DŁUGOŚĆ","LINIA 8 NAZWA","LINIA 8 DŁUGOŚĆ","LINIA 9 NAZWA","LINIA 9 DŁUGOŚĆ","LINIA 10 NAZWA","LINIA 10 DŁUGOŚĆ","LINIA 11 NAZWA","LINIA 11 DŁUGOŚĆ","LINIA 12 NAZWA","LINIA 12 DŁUGOŚĆ","LINIA 13 NAZWA","LINIA 13 DŁUGOŚĆ","LINIA 14 NAZWA","LINIA 14 DŁUGOŚĆ","LINIA 15 NAZWA","LINIA 15 DŁUGOŚĆ","LINIA 16 NAZWA","LINIA 16 DŁUGOŚĆ","LINIA 17 NAZWA","LINIA 17 DŁUGOŚĆ","LINIA 18 NAZWA","LINIA 18 DŁUGOŚĆ","LINIA 19 NAZWA","LINIA 19 DŁUGOŚĆ","LINIA 20 NAZWA","LINIA 20 DŁUGOŚĆ","LINIA 21 NAZWA","LINIA 21 DŁUGOŚĆ","LINIA 22 NAZWA","LINIA 22 DŁUGOŚĆ","LINIA 23 NAZWA","LINIA 23 DŁUGOŚĆ","LINIA 24 NAZWA","LINIA 24 DŁUGOŚĆ","LINIA 25 NAZWA","LINIA 25 DŁUGOŚĆ","LINIA 26 NAZWA","LINIA 26 DŁUGOŚĆ","LINIA 27 NAZWA","LINIA 27 DŁUGOŚĆ","LINIA 28 NAZWA","LINIA 28 DŁUGOŚĆ","LINIA 29 NAZWA","LINIA 29 DŁUGOŚĆ","LINIA 30 NAZWA","LINIA 30 DŁUGOŚĆ","LINIA 31 NAZWA","LINIA 31 DŁUGOŚĆ","LINIA 32 NAZWA","LINIA 32 DŁUGOŚĆ","LINIA 33 NAZWA","LINIA 33 DŁUGOŚĆ","LINIA 34 NAZWA","LINIA 34 DŁUGOŚĆ","LINIA 35 NAZWA","LINIA 35 DŁUGOŚĆ","LINIA 36 NAZWA","LINIA 36 DŁUGOŚĆ","LINIA 37 NAZWA","LINIA 37 DŁUGOŚĆ","LINIA 38 NAZWA","LINIA 38 DŁUGOŚĆ","LINIA 39 NAZWA","LINIA 39 DŁUGOŚĆ","LINIA 40 NAZWA","LINIA 40 DŁUGOŚĆ","LINIA 41 NAZWA","LINIA 41 DŁUGOŚĆ","LINIA 42 NAZWA","LINIA 42 DŁUGOŚĆ","LINIA 43 NAZWA","LINIA 43 DŁUGOŚĆ","LINIA 44 NAZWA","LINIA 44 DŁUGOŚĆ","LINIA 45 NAZWA","LINIA 45 DŁUGOŚĆ","LINIA 46 NAZWA","LINIA 46 DŁUGOŚĆ","LINIA 47 NAZWA","LINIA 47 DŁUGOŚĆ","LINIA 48 NAZWA","LINIA 48 DŁUGOŚĆ","LINIA 49 NAZWA","LINIA 49 DŁUGOŚĆ","LINIA 50 NAZWA","LINIA 50 DŁUGOŚĆ"]
[null,{"$f":"'WNIOSEK CZĘŚĆ I'!A16&\" \"&'WNIOSEK CZĘŚĆ I'!B16&\" \"&'WNIOSEK CZĘŚĆ I'!K16","v":"  "},{"$f":"'WNIOSEK CZĘŚĆ I'!A17&\" \"&'WNIOSEK CZĘŚĆ I'!B17&\" \"&'WNIOSEK CZĘŚĆ I'!K17","v":"  "},{"$f":"'WNIOSEK CZĘŚĆ I'!A18&\" \"&'WNIOSEK CZĘŚĆ I'!B18&\" \"&'WNIOSEK CZĘŚĆ I'!K18","v":"  "},{"$f":"'WNIOSEK CZĘŚĆ I'!B4","v":0},{"$f":"'WNIOSEK CZĘŚĆ I'!B5","v":""},{"$f":"'WNIOSEK CZĘŚĆ I'!A21","v":""},{"$f":"'WNIOSEK CZĘŚĆ I'!B49","v":0},{"$f":"Slownie(H2)","v":"zero groszy"},{"$f":"'WNIOSEK CZĘŚĆ I'!C49","v":0},{"$f":"Slownie(J2)","v":"zero groszy"},{"$f":"'WNIOSEK CZĘŚĆ I'!D49","v":0},{"$f":"Slownie(L2)","v":"zero groszy"},{"$f":"'WNIOSEK CZĘŚĆ I'!E49","v":0},{"$f":"Slownie(N2)","v":"zero groszy"},{"$f":"'WNIOSEK CZĘŚĆ I'!F49","v":0},{"$f":"Slownie(P2)","v":"zero groszy"},{"$f":"'WNIOSEK CZĘŚĆ I'!G49","v":0},{"$f":"Slownie(R2)","v":"zero groszy"},{"$f":"'WNIOSEK CZĘŚĆ I'!H49","v":0},{"$f":"Slownie(T2)","v":"zero groszy"},{"$f":"'WNIOSEK CZĘŚĆ I'!I49","v":0},{"$f":"Slownie(V2)","v":"zero groszy"},{"$f":"'WNIOSEK CZĘŚĆ I'!J49","v":0},{"$f":"Slownie(X2)","v":"zero groszy"},{"$f":"'WNIOSEK CZĘŚĆ I'!K49","v":0},{"$f":"Slownie(Z2)","v":"zero groszy"},{"$f":"'WNIOSEK CZĘŚĆ I'!L49","v":0},{"$f":"Slownie(AB2)","v":"zero groszy"},{"$f":"'WNIOSEK CZĘŚĆ I'!C30","v":0},{"$f":"'WNIOSEK CZĘŚĆ I'!C31","v":0},{"$f":"'WNIOSEK CZĘŚĆ I'!C33","v":0},{"$f":"'WNIOSEK CZĘŚĆ I'!C34","v":0},{"$f":"'WNIOSEK CZĘŚĆ I'!D30","v":0},{"$f":"'WNIOSEK CZĘŚĆ I'!D31","v":0},{"$f":"'WNIOSEK CZĘŚĆ I'!D33","v":0},{"$f":"'WNIOSEK CZĘŚĆ I'!D34","v":0},{"$f":"'WNIOSEK CZĘŚĆ I'!E30","v":0},{"$f":"'WNIOSEK CZĘŚĆ I'!E31","v":0},{"$f":"'WNIOSEK CZĘŚĆ I'!E33","v":0},{"$f":"'WNIOSEK CZĘŚĆ I'!E34","v":0},{"$f":"'WNIOSEK CZĘŚĆ I'!F30","v":0},{"$f":"'WNIOSEK CZĘŚĆ I'!F31","v":0},{"$f":"'WNIOSEK CZĘŚĆ I'!F33","v":0},{"$f":"'WNIOSEK CZĘŚĆ I'!F34","v":0},{"$f":"'WNIOSEK CZĘŚĆ I'!G30","v":0},{"$f":"'WNIOSEK CZĘŚĆ I'!G31","v":0},{"$f":"'WNIOSEK CZĘŚĆ I'!G33","v":0},{"$f":"'WNIOSEK CZĘŚĆ I'!G34","v":0},{"$f":"'WNIOSEK CZĘŚĆ I'!H30","v":0},{"$f":"'WNIOSEK CZĘŚĆ I'!H31","v":0},{"$f":"'WNIOSEK CZĘŚĆ I'!H33","v":0},{"$f":"'WNIOSEK CZĘŚĆ I'!H34","v":0},{"$f":"'WNIOSEK CZĘŚĆ I'!I30","v":0},{"$f":"'WNIOSEK CZĘŚĆ I'!I31","v":0},{"$f":"'WNIOSEK CZĘŚĆ I'!I33","v":0},{"$f":"'WNIOSEK CZĘŚĆ I'!I34","v":0},{"$f":"'WNIOSEK CZĘŚĆ I'!J30","v":0},{"$f":"'WNIOSEK CZĘŚĆ I'!J31","v":0},{"$f":"'WNIOSEK CZĘŚĆ I'!J33","v":0},{"$f":"'WNIOSEK CZĘŚĆ I'!J34","v":0},{"$f":"'WNIOSEK CZĘŚĆ I'!K30","v":0},{"$f":"'WNIOSEK CZĘŚĆ I'!K31","v":0},{"$f":"'WNIOSEK CZĘŚĆ I'!K33","v":0},{"$f":"'WNIOSEK CZĘŚĆ I'!K34","v":0},{"$f":"'WNIOSEK CZĘŚĆ I'!L30","v":0},{"$f":"'WNIOSEK CZĘŚĆ I'!L31","v":0},{"$f":"'WNIOSEK CZĘŚĆ I'!L33","v":0},{"$f":"'WNIOSEK CZĘŚĆ I'!L34","v":0},{"$f":"'WNIOSEK CZĘŚĆ II'!H$224","v":0},{"$f":"'WNIOSEK CZĘŚĆ II'!D$226","v":0},{"$f":"'WNIOSEK CZĘŚĆ II'!X224","v":0},{"$f":"'WNIOSEK CZĘŚĆ II'!T226","v":0},{"$f":"'WNIOSEK CZĘŚĆ II'!AN224","v":0},{"$f":"'WNIOSEK CZĘŚĆ II'!AJ226","v":0},{"$f":"'WNIOSEK CZĘŚĆ II'!BD224","v":0},{"$f":"'WNIOSEK CZĘŚĆ II'!AZ226","v":0},{"$f":"'WNIOSEK CZĘŚĆ II'!BT224","v":0},{"$f":"'WNIOSEK CZĘŚĆ II'!BP226","v":0},{"$f":"'WNIOSEK CZĘŚĆ II'!CJ224","v":0},{"$f":"'WNIOSEK CZĘŚĆ II'!CF226","v":0},{"$f":"'WNIOSEK CZĘŚĆ II'!CZ224","v":0},{"$f":"'WNIOSEK CZĘŚĆ II'!CV226","v":0},{"$f":"'WNIOSEK CZĘŚĆ II'!DP224","v":0},{"$f":"'WNIOSEK CZĘŚĆ II'!DL226","v":0},{"$f":"'WNIOSEK CZĘŚĆ II'!EF224","v":0},{"$f":"'WNIOSEK CZĘŚĆ II'!EB226","v":0},{"$f":"'WNIOSEK CZĘŚĆ II'!EV224","v":0},{"$f":"'WNIOSEK CZĘŚĆ II'!ER226","v":0},{"$f":"'WNIOSEK CZĘŚĆ II'!FL224","v":0},{"$f":"'WNIOSEK CZĘŚĆ II'!FH226","v":0},{"$f":"'WNIOSEK CZĘŚĆ II'!GB224","v":0},{"$f":"'WNIOSEK CZĘŚĆ II'!FX226","v":0},{"$f":"'WNIOSEK CZĘŚĆ II'!GR224","v":0},{"$f":"'WNIOSEK CZĘŚĆ II'!GN226","v":0},{"$f":"'WNIOSEK CZĘŚĆ II'!HH224","v":0},{"$f":"'WNIOSEK CZĘŚĆ II'!HD226","v":0},{"$f":"'WNIOSEK CZĘŚĆ II'!HX224","v":0},{"$f":"'WNIOSEK CZĘŚĆ II'!HT226","v":0},{"$f":"'WNIOSEK CZĘŚĆ II'!IN224","v":0},{"$f":"'WNIOSEK CZĘŚĆ II'!IJ226","v":0},{"$f":"'WNIOSEK CZĘŚĆ II'!JD224","v":0},{"$f":"'WNIOSEK CZĘŚĆ II'!IZ226","v":0},{"$f":"'WNIOSEK CZĘŚĆ II'!JT224","v":0},{"$f":"'WNIOSEK CZĘŚĆ II'!JP226","v":0},{"$f":"'WNIOSEK CZĘŚĆ II'!KJ224","v":0},{"$f":"'WNIOSEK CZĘŚĆ II'!KF226","v":0},{"$f":"'WNIOSEK CZĘŚĆ II'!KZ224","v":0},{"$f":"'WNIOSEK CZĘŚĆ II'!KV226","v":0},{"$f":"'WNIOSEK CZĘŚĆ II'!LP224","v":0},{"$f":"'WNIOSEK CZĘŚĆ II'!LL226","v":0},{"$f":"'WNIOSEK CZĘŚĆ II'!MF224","v":0},{"$f":"'WNIOSEK CZĘŚĆ II'!MB226","v":0},{"$f":"'WNIOSEK CZĘŚĆ II'!MV224","v":0},{"$f":"'WNIOSEK CZĘŚĆ II'!MR226","v":0},{"$f":"'WNIOSEK CZĘŚĆ II'!NL224","v":0},{"$f":"'WNIOSEK CZĘŚĆ II'!NH226","v":0},{"$f":"'WNIOSEK CZĘŚĆ II'!OB224","v":0},{"$f":"'WNIOSEK CZĘŚĆ II'!NX226","v":0},{"$f":"'WNIOSEK CZĘŚĆ II'!OR224","v":0},{"$f":"'WNIOSEK CZĘŚĆ II'!ON226","v":0},{"$f":"'WNIOSEK CZĘŚĆ II'!PH224","v":0},{"$f":"'WNIOSEK CZĘŚĆ II'!PD226","v":0},{"$f":"'WNIOSEK CZĘŚĆ II'!PX224","v":0},{"$f":"'WNIOSEK CZĘŚĆ II'!PT226","v":0},{"$f":"'WNIOSEK CZĘŚĆ II'!QN224","v":0},{"$f":"'WNIOSEK CZĘŚĆ II'!QJ226","v":0},{"$f":"'WNIOSEK CZĘŚĆ II'!RD224","v":0},{"$f":"'WNIOSEK CZĘŚĆ II'!QZ226","v":0},{"$f":"'WNIOSEK CZĘŚĆ II'!RT224","v":0},{"$f":"'WNIOSEK CZĘŚĆ II'!RP226","v":0},{"$f":"'WNIOSEK CZĘŚĆ II'!SJ224","v":0},{"$f":"'WNIOSEK CZĘŚĆ II'!SF226","v":0},{"$f":"'WNIOSEK CZĘŚĆ II'!SZ224","v":0},{"$f":"'WNIOSEK CZĘŚĆ II'!SV226","v":0},{"$f":"'WNIOSEK CZĘŚĆ II'!TP224","v":0},{"$f":"'WNIOSEK CZĘŚĆ II'!TL226","v":0},{"$f":"'WNIOSEK CZĘŚĆ II'!UF224","v":0},{"$f":"'WNIOSEK CZĘŚĆ II'!UB226","v":0},{"$f":"'WNIOSEK CZĘŚĆ II'!UV224","v":0},{"$f":"'WNIOSEK CZĘŚĆ II'!UR226","v":0},{"$f":"'WNIOSEK CZĘŚĆ II'!VL224","v":0},{"$f":"'WNIOSEK CZĘŚĆ II'!VH226","v":0},{"$f":"'WNIOSEK CZĘŚĆ II'!WB224","v":0},{"$f":"'WNIOSEK CZĘŚĆ II'!VX226","v":0},{"$f":"'WNIOSEK CZĘŚĆ II'!WR224","v":0},{"$f":"'WNIOSEK CZĘŚĆ II'!WN226","v":0},{"$f":"'WNIOSEK CZĘŚĆ II'!XH224","v":0},{"$f":"'WNIOSEK CZĘŚĆ II'!XD226","v":0},{"$f":"'WNIOSEK CZĘŚĆ II'!XX224","v":0},{"$f":"'WNIOSEK CZĘŚĆ II'!XT226","v":0},{"$f":"'WNIOSEK CZĘŚĆ II'!YN224","v":0},{"$f":"'WNIOSEK CZĘŚĆ II'!YJ226","v":0},{"$f":"'WNIOSEK CZĘŚĆ II'!ZD224","v":0},{"$f":"'WNIOSEK CZĘŚĆ II'!YZ226","v":0},{"$f":"'WNIOSEK CZĘŚĆ II'!ZT224","v":0},{"$f":"'WNIOSEK CZĘŚĆ II'!ZP226","v":0},{"$f":"'WNIOSEK CZĘŚĆ II'!AAJ224","v":0},{"$f":"'WNIOSEK CZĘŚĆ II'!AAF226","v":0},{"$f":"'WNIOSEK CZĘŚĆ II'!AAZ224","v":0},{"$f":"'WNIOSEK CZĘŚĆ II'!AAV226","v":0},{"$f":"'WNIOSEK CZĘŚĆ II'!ABP224","v":0},{"$f":"'WNIOSEK CZĘŚĆ II'!ABL226","v":0},{"$f":"'WNIOSEK CZĘŚĆ II'!ACF224","v":0},{"$f":"'WNIOSEK CZĘŚĆ II'!ACB226","v":0},{"$f":"'WNIOSEK CZĘŚĆ II'!ACV224","v":0},{"$f":"'WNIOSEK CZĘŚĆ II'!ACR226","v":0},{"$f":"'WNIOSEK CZĘŚĆ II'!ADL224","v":0},{"$f":"'WNIOSEK CZĘŚĆ II'!ADH226","v":0}]

{"sheet":"WYCIĄG Z WNIOSKU_2024","index":3,"n_rows":3,"n_cols":24,"rows_kept":3,"cut":false,"hidden":false,"merged":[[0,16,0,17],[0,20,0,22],[0,23,1,23],[0,0,0,2],[0,3,1,3],[0,4,0,6],[0,7,0,9],[0,10,0,12],[0,13,0,15],[0,18,0,19]]}
["ORGANIZATOR",null,null,"PLANOWANA ŁĄCZNA KWOTA DOPŁATY 2024","GĘSTOŚĆ ZALUDNIENIA",null,null,"LICZBA LINII 2024",null,null,"DŁUGOŚĆ LINII 2024",null,null,"LICZBA ZATRZYMAŃ 2024",null,null,"REALIZACJA POTRZEB NIEPEŁNOSPRAWNYCH",null,"ZAPEWNIENIE DOSTEPNOŚCI PROGRAMÓW INFRA",null,"WSKAŹNIK DOCHODÓW",null,null,"ŁĄCZNA PUNKTACJA WAŻONA"]
["TYP","NIP","NAZWA",null,"WARTOŚĆ","LICZBA PUNKTÓW","PUNKTACJA WAŻONA","WARTOŚĆ","LICZBA PUNKTÓW","PUNKTACJA WAŻONA","WARTOŚĆ","LICZBA PUNKTÓW","PUNKTACJA WAŻONA","WARTOŚĆ","LICZBA PUNKTÓW","PUNKTACJA WAŻONA","WARTOŚĆ","PUNKTACJA WAŻONA","WARTOŚĆ","PUNKTACJA WAŻONA","WARTOŚĆ","LICZBA PUNKTÓW","PUNKTACJA WAŻONA"]
[{"$f":"'WNIOSEK CZĘŚĆ I'!I5","v":""},{"$f":"'WNIOSEK CZĘŚĆ I'!B4","v":0},{"$f":"'WNIOSEK CZĘŚĆ I'!B5","v":""},{"$f":"'WNIOSEK CZĘŚĆ I'!C49","v":0},{"$f":"'WNIOSEK CZĘŚĆ I'!C26","v":""},null,null,{"$f":"'WNIOSEK CZĘŚĆ I'!C30","v":0},null,null,{"$f":"'WNIOSEK CZĘŚĆ I'!C31","v":0},null,null,{"$f":"'WNIOSEK CZĘŚĆ I'!C32","v":0},null,null,{"$f":"IFERROR('WNIOSEK CZĘŚĆ I'!C35/'WNIOSEK CZĘŚĆ I'!C36,0)","v":0},null,{"$f":"IFERROR('WNIOSEK CZĘŚĆ I'!C37/'WNIOSEK CZĘŚĆ I'!C38,0)","v":0},null,{"$f":"'WNIOSEK CZĘŚĆ I'!C27","v":""}]

{"sheet":"WYCIAG Z WNIOSKU_2025","index":4,"n_rows":3,"n_cols":24,"rows_kept":3,"cut":false,"hidden":false,"merged":[[0,16,0,17],[0,18,0,19],[0,20,0,22],[0,23,1,23],[0,0,0,2],[0,3,1,3],[0,4,0,6],[0,7,0,9],[0,10,0,12],[0,13,0,15]]}
["ORGANIZATOR",null,null,"PLANOWANA ŁĄCZNA KWOTA DOPŁATY 2025","GĘSTOŚĆ ZALUDNIENIA",null,null,"LICZBA LINII 2025",null,null,"DŁUGOŚĆ LINII 2025",null,null,"LICZBA ZATRZYMAŃ 2025",null,null,"REALIZACJA POTRZEB NIEPEŁNOSPRAWNYCH",null,"ZAPEWNIENIE DOSTEPNOŚCI PROGRAMÓW INFRA",null,"WSKAŹNIK DOCHODÓW",null,null,"ŁĄCZNA PUNKTACJA WAŻONA"]
["TYP","NIP","NAZWA",null,"WARTOŚĆ","LICZBA PUNKTÓW","PUNKTACJA WAŻONA","WARTOŚĆ","LICZBA PUNKTÓW","PUNKTACJA WAŻONA","WARTOŚĆ","LICZBA PUNKTÓW","PUNKTACJA WAŻONA","WARTOŚĆ","LICZBA PUNKTÓW","PUNKTACJA WAŻONA","WARTOŚĆ","PUNKTACJA WAŻONA","WARTOŚĆ","PUNKTACJA WAŻONA","WARTOŚĆ","LICZBA PUNKTÓW","PUNKTACJA WAŻONA"]
[{"$f":"'WNIOSEK CZĘŚĆ I'!I5","v":""},{"$f":"'WNIOSEK CZĘŚĆ I'!B4","v":0},{"$f":"'WNIOSEK CZĘŚĆ I'!B5","v":""},{"$f":"'WNIOSEK CZĘŚĆ I'!D49","v":0},{"$f":"'WNIOSEK CZĘŚĆ I'!C26","v":""},null,null,{"$f":"'WNIOSEK CZĘŚĆ I'!D30","v":0},null,null,{"$f":"'WNIOSEK CZĘŚĆ I'!D31","v":0},null,null,{"$f":"'WNIOSEK CZĘŚĆ I'!D32","v":0},null,null,{"$f":"IFERROR('WNIOSEK CZĘŚĆ I'!D35/'WNIOSEK CZĘŚĆ I'!D36,0)","v":0},null,{"$f":"IFERROR('WNIOSEK CZĘŚĆ I'!D37/'WNIOSEK CZĘŚĆ I'!D38,0)","v":0},null,{"$f":"'WNIOSEK CZĘŚĆ I'!C27","v":""}]

{"sheet":"WYCIĄG Z WNIOSKU_2026","index":5,"n_rows":3,"n_cols":24,"rows_kept":3,"cut":false,"hidden":false,"merged":[[0,16,0,17],[0,18,0,19],[0,20,0,22],[0,23,1,23],[0,0,0,2],[0,3,1,3],[0,4,0,6],[0,7,0,9],[0,10,0,12],[0,13,0,15]]}
["ORGANIZATOR",null,null,"PLANOWANA ŁĄCZNA KWOTA DOPŁATY 2026","GĘSTOŚĆ ZALUDNIENIA",null,null,"LICZBA LINII 2026",null,null,"DŁUGOŚĆ LINII 2026",null,null,"LICZBA ZATRZYMAŃ 2026",null,null,"REALIZACJA POTRZEB NIEPEŁNOSPRAWNYCH",null,"ZAPEWNIENIE DOSTEPNOŚCI PROGRAMÓW INFRA",null,"WSKAŹNIK DOCHODÓW",null,null,"ŁĄCZNA PUNKTACJA WAŻONA"]
["TYP","NIP","NAZWA",null,"WARTOŚĆ","LICZBA PUNKTÓW","PUNKTACJA WAŻONA","WARTOŚĆ","LICZBA PUNKTÓW","PUNKTACJA WAŻONA","WARTOŚĆ","LICZBA PUNKTÓW","PUNKTACJA WAŻONA","WARTOŚĆ","LICZBA PUNKTÓW","PUNKTACJA WAŻONA","WARTOŚĆ","PUNKTACJA WAŻONA","WARTOŚĆ","PUNKTACJA WAŻONA","WARTOŚĆ","LICZBA PUNKTÓW","PUNKTACJA WAŻONA"]
[{"$f":"'WNIOSEK CZĘŚĆ I'!I5","v":""},{"$f":"'WNIOSEK CZĘŚĆ I'!B4","v":0},{"$f":"'WNIOSEK CZĘŚĆ I'!B5","v":""},{"$f":"'WNIOSEK CZĘŚĆ I'!E49","v":0},{"$f":"'WNIOSEK CZĘŚĆ I'!C26","v":""},null,null,{"$f":"'WNIOSEK CZĘŚĆ I'!E30","v":0},null,null,{"$f":"'WNIOSEK CZĘŚĆ I'!E31","v":0},null,null,{"$f":"'WNIOSEK CZĘŚĆ I'!E32","v":0},null,null,{"$f":"IFERROR('WNIOSEK CZĘŚĆ I'!E35/'WNIOSEK CZĘŚĆ I'!E36,0)","v":0},null,{"$f":"IFERROR('WNIOSEK CZĘŚĆ I'!E37/'WNIOSEK CZĘŚĆ I'!E38,0)","v":0},null,{"$f":"'WNIOSEK CZĘŚĆ I'!C27","v":""}]

{"sheet":"WYCIĄG Z WNIOSKU_2027","index":6,"n_rows":3,"n_cols":24,"rows_kept":3,"cut":false,"hidden":false,"merged":[[0,16,0,17],[0,18,0,19],[0,20,0,22],[0,23,1,23],[0,0,0,2],[0,3,1,3],[0,4,0,6],[0,7,0,9],[0,10,0,12],[0,13,0,15]]}
["ORGANIZATOR",null,null,"PLANOWANA ŁĄCZNA KWOTA DOPŁATY 2027","GĘSTOŚĆ ZALUDNIENIA",null,null,"LICZBA LINII 2027",null,null,"DŁUGOŚĆ LINII 2027",null,null,"LICZBA ZATRZYMAŃ 2027",null,null,"REALIZACJA POTRZEB NIEPEŁNOSPRAWNYCH",null,"ZAPEWNIENIE DOSTEPNOŚCI PROGRAMÓW INFRA",null,"WSKAŹNIK DOCHODÓW",null,null,"ŁĄCZNA PUNKTACJA WAŻONA"]
["TYP","NIP","NAZWA",null,"WARTOŚĆ","LICZBA PUNKTÓW","PUNKTACJA WAŻONA","WARTOŚĆ","LICZBA PUNKTÓW","PUNKTACJA WAŻONA","WARTOŚĆ","LICZBA PUNKTÓW","PUNKTACJA WAŻONA","WARTOŚĆ","LICZBA PUNKTÓW","PUNKTACJA WAŻONA","WARTOŚĆ","PUNKTACJA WAŻONA","WARTOŚĆ","PUNKTACJA WAŻONA","WARTOŚĆ","LICZBA PUNKTÓW","PUNKTACJA WAŻONA"]
[{"$f":"'WNIOSEK CZĘŚĆ I'!I5","v":""},{"$f":"'WNIOSEK CZĘŚĆ I'!B4","v":0},{"$f":"'WNIOSEK CZĘŚĆ I'!B5","v":""},{"$f":"'WNIOSEK CZĘŚĆ I'!F49","v":0},{"$f":"'WNIOSEK CZĘŚĆ I'!C26","v":""},null,null,{"$f":"'WNIOSEK CZĘŚĆ I'!F30","v":0},null,null,{"$f":"'WNIOSEK CZĘŚĆ I'!F31","v":0},null,null,{"$f":"'WNIOSEK CZĘŚĆ I'!F32","v":0},null,null,{"$f":"IFERROR('WNIOSEK CZĘŚĆ I'!F35/'WNIOSEK CZĘŚĆ I'!F36,0)","v":0},null,{"$f":"IFERROR('WNIOSEK CZĘŚĆ I'!F37/'WNIOSEK CZĘŚĆ I'!F38,0)","v":0},null,{"$f":"'WNIOSEK CZĘŚĆ I'!C27","v":""}]

{"sheet":"WYCIĄG Z WNIOSKU_2028","index":7,"n_rows":3,"n_cols":24,"rows_kept":3,"cut":false,"hidden":false,"merged":[[0,16,0,17],[0,18,0,19],[0,20,0,22],[0,23,1,23],[0,0,0,2],[0,3,1,3],[0,4,0,6],[0,7,0,9],[0,10,0,12],[0,13,0,15]]}
["ORGANIZATOR",null,null,"PLANOWANA ŁĄCZNA KWOTA DOPŁATY 2028","GĘSTOŚĆ ZALUDNIENIA",null,null,"LICZBA LINII 2028",null,null,"DŁUGOŚĆ LINII 2028",null,null,"LICZBA ZATRZYMAŃ 2028",null,null,"REALIZACJA POTRZEB NIEPEŁNOSPRAWNYCH",null,"ZAPEWNIENIE DOSTEPNOŚCI PROGRAMÓW INFRA",null,"WSKAŹNIK DOCHODÓW",null,null,"ŁĄCZNA PUNKTACJA WAŻONA"]
["TYP","NIP","NAZWA",null,"WARTOŚĆ","LICZBA PUNKTÓW","PUNKTACJA WAŻONA","WARTOŚĆ","LICZBA PUNKTÓW","PUNKTACJA WAŻONA","WARTOŚĆ","LICZBA PUNKTÓW","PUNKTACJA WAŻONA","WARTOŚĆ","LICZBA PUNKTÓW","PUNKTACJA WAŻONA","WARTOŚĆ","PUNKTACJA WAŻONA","WARTOŚĆ","PUNKTACJA WAŻONA","WARTOŚĆ","LICZBA PUNKTÓW","PUNKTACJA WAŻONA"]
[{"$f":"'WNIOSEK CZĘŚĆ I'!I5","v":""},{"$f":"'WNIOSEK CZĘŚĆ I'!B4","v":0},{"$f":"'WNIOSEK CZĘŚĆ I'!B5","v":""},{"$f":"'WNIOSEK CZĘŚĆ I'!G49","v":0},{"$f":"'WNIOSEK CZĘŚĆ I'!C26","v":""},null,null,{"$f":"'WNIOSEK CZĘŚĆ I'!G30","v":0},null,null,{"$f":"'WNIOSEK CZĘŚĆ I'!G31","v":0},null,null,{"$f":"'WNIOSEK CZĘŚĆ I'!G32","v":0},null,null,{"$f":"IFERROR('WNIOSEK CZĘŚĆ I'!G35/'WNIOSEK CZĘŚĆ I'!G36,0)","v":0},null,{"$f":"IFERROR('WNIOSEK CZĘŚĆ I'!G37/'WNIOSEK CZĘŚĆ I'!G38,0)","v":0},null,{"$f":"'WNIOSEK CZĘŚĆ I'!C27","v":""}]

{"sheet":"WYCIĄG Z WNIOSKU_2029","index":8,"n_rows":3,"n_cols":24,"rows_kept":3,"cut":false,"hidden":false,"merged":[[0,16,0,17],[0,18,0,19],[0,20,0,22],[0,23,1,23],[0,0,0,2],[0,3,1,3],[0,4,0,6],[0,7,0,9],[0,10,0,12],[0,13,0,15]]}
["ORGANIZATOR",null,null,"PLANOWANA ŁĄCZNA KWOTA DOPŁATY 2029","GĘSTOŚĆ ZALUDNIENIA",null,null,"LICZBA LINII 2029",null,null,"DŁUGOŚĆ LINII 2029",null,null,"LICZBA ZATRZYMAŃ 2029",null,null,"REALIZACJA POTRZEB NIEPEŁNOSPRAWNYCH",null,"ZAPEWNIENIE DOSTEPNOŚCI PROGRAMÓW INFRA",null,"WSKAŹNIK DOCHODÓW",null,null,"ŁĄCZNA PUNKTACJA WAŻONA"]
["TYP","NIP","NAZWA",null,"WARTOŚĆ","LICZBA PUNKTÓW","PUNKTACJA WAŻONA","WARTOŚĆ","LICZBA PUNKTÓW","PUNKTACJA WAŻONA","WARTOŚĆ","LICZBA PUNKTÓW","PUNKTACJA WAŻONA","WARTOŚĆ","LICZBA PUNKTÓW","PUNKTACJA WAŻONA","WARTOŚĆ","PUNKTACJA WAŻONA","WARTOŚĆ","PUNKTACJA WAŻONA","WARTOŚĆ","LICZBA PUNKTÓW","PUNKTACJA WAŻONA"]
[{"$f":"'WNIOSEK CZĘŚĆ I'!I5","v":""},{"$f":"'WNIOSEK CZĘŚĆ I'!B4","v":0},{"$f":"'WNIOSEK CZĘŚĆ I'!B5","v":""},{"$f":"'WNIOSEK CZĘŚĆ I'!H49","v":0},{"$f":"'WNIOSEK CZĘŚĆ I'!C26","v":""},null,null,{"$f":"'WNIOSEK CZĘŚĆ I'!H30","v":0},null,null,{"$f":"'WNIOSEK CZĘŚĆ I'!H31","v":0},null,null,{"$f":"'WNIOSEK CZĘŚĆ I'!H32","v":0},null,null,{"$f":"IFERROR('WNIOSEK CZĘŚĆ I'!H35/'WNIOSEK CZĘŚĆ I'!H36,0)","v":0},null,{"$f":"IFERROR('WNIOSEK CZĘŚĆ I'!H37/'WNIOSEK CZĘŚĆ I'!H38,0)","v":0},null,{"$f":"'WNIOSEK CZĘŚĆ I'!C27","v":""}]

{"sheet":"WYCIĄG Z WNIOSKU_2030","index":9,"n_rows":3,"n_cols":24,"rows_kept":3,"cut":false,"hidden":false,"merged":[[0,16,0,17],[0,18,0,19],[0,20,0,22],[0,23,1,23],[0,0,0,2],[0,3,1,3],[0,4,0,6],[0,7,0,9],[0,10,0,12],[0,13,0,15]]}
["ORGANIZATOR",null,null,"PLANOWANA ŁĄCZNA KWOTA DOPŁATY 2030","GĘSTOŚĆ ZALUDNIENIA",null,null,"LICZBA LINII 2030",null,null,"DŁUGOŚĆ LINII 2030",null,null,"LICZBA ZATRZYMAŃ 2030",null,null,"REALIZACJA POTRZEB NIEPEŁNOSPRAWNYCH",null,"ZAPEWNIENIE DOSTEPNOŚCI PROGRAMÓW INFRA",null,"WSKAŹNIK DOCHODÓW",null,null,"ŁĄCZNA PUNKTACJA WAŻONA"]
["TYP","NIP","NAZWA",null,"WARTOŚĆ","LICZBA PUNKTÓW","PUNKTACJA WAŻONA","WARTOŚĆ","LICZBA PUNKTÓW","PUNKTACJA WAŻONA","WARTOŚĆ","LICZBA PUNKTÓW","PUNKTACJA WAŻONA","WARTOŚĆ","LICZBA PUNKTÓW","PUNKTACJA WAŻONA","WARTOŚĆ","PUNKTACJA WAŻONA","WARTOŚĆ","PUNKTACJA WAŻONA","WARTOŚĆ","LICZBA PUNKTÓW","PUNKTACJA WAŻONA"]
[{"$f":"'WNIOSEK CZĘŚĆ I'!I5","v":""},{"$f":"'WNIOSEK CZĘŚĆ I'!B4","v":0},{"$f":"'WNIOSEK CZĘŚĆ I'!B5","v":""},{"$f":"'WNIOSEK CZĘŚĆ I'!I49","v":0},{"$f":"'WNIOSEK CZĘŚĆ I'!C26","v":""},null,null,{"$f":"'WNIOSEK CZĘŚĆ I'!I30","v":0},null,null,{"$f":"'WNIOSEK CZĘŚĆ I'!I31","v":0},null,null,{"$f":"'WNIOSEK CZĘŚĆ I'!I32","v":0},null,null,{"$f":"IFERROR('WNIOSEK CZĘŚĆ I'!I35/'WNIOSEK CZĘŚĆ I'!I36,0)","v":0},null,{"$f":"IFERROR('WNIOSEK CZĘŚĆ I'!I37/'WNIOSEK CZĘŚĆ I'!I38,0)","v":0},null,{"$f":"'WNIOSEK CZĘŚĆ I'!C27","v":""}]

{"sheet":"WYCIĄG Z WNIOSKU_2031","index":10,"n_rows":3,"n_cols":24,"rows_kept":3,"cut":false,"hidden":false,"merged":[[0,16,0,17],[0,18,0,19],[0,20,0,22],[0,23,1,23],[0,0,0,2],[0,3,1,3],[0,4,0,6],[0,7,0,9],[0,10,0,12],[0,13,0,15]]}
["ORGANIZATOR",null,null,"PLANOWANA ŁĄCZNA KWOTA DOPŁATY 2031","GĘSTOŚĆ ZALUDNIENIA",null,null,"LICZBA LINII 2031",null,null,"DŁUGOŚĆ LINII 2031",null,null,"LICZBA ZATRZYMAŃ 2031",null,null,"REALIZACJA POTRZEB NIEPEŁNOSPRAWNYCH",null,"ZAPEWNIENIE DOSTEPNOŚCI PROGRAMÓW INFRA",null,"WSKAŹNIK DOCHODÓW",null,null,"ŁĄCZNA PUNKTACJA WAŻONA"]
["TYP","NIP","NAZWA",null,"WARTOŚĆ","LICZBA PUNKTÓW","PUNKTACJA WAŻONA","WARTOŚĆ","LICZBA PUNKTÓW","PUNKTACJA WAŻONA","WARTOŚĆ","LICZBA PUNKTÓW","PUNKTACJA WAŻONA","WARTOŚĆ","LICZBA PUNKTÓW","PUNKTACJA WAŻONA","WARTOŚĆ","PUNKTACJA WAŻONA","WARTOŚĆ","PUNKTACJA WAŻONA","WARTOŚĆ","LICZBA PUNKTÓW","PUNKTACJA WAŻONA"]
[{"$f":"'WNIOSEK CZĘŚĆ I'!I5","v":""},{"$f":"'WNIOSEK CZĘŚĆ I'!B4","v":0},{"$f":"'WNIOSEK CZĘŚĆ I'!B5","v":""},{"$f":"'WNIOSEK CZĘŚĆ I'!J49","v":0},{"$f":"'WNIOSEK CZĘŚĆ I'!C26","v":""},null,null,{"$f":"'WNIOSEK CZĘŚĆ I'!J30","v":0},null,null,{"$f":"'WNIOSEK CZĘŚĆ I'!J31","v":0},null,null,{"$f":"'WNIOSEK CZĘŚĆ I'!J32","v":0},null,null,{"$f":"IFERROR('WNIOSEK CZĘŚĆ I'!J35/'WNIOSEK CZĘŚĆ I'!J36,0)","v":0},null,{"$f":"IFERROR('WNIOSEK CZĘŚĆ I'!J37/'WNIOSEK CZĘŚĆ I'!J38,0)","v":0},null,{"$f":"'WNIOSEK CZĘŚĆ I'!C27","v":""}]

{"sheet":"WYCIĄG Z WNIOSKU_2032","index":11,"n_rows":3,"n_cols":24,"rows_kept":3,"cut":false,"hidden":false,"merged":[[0,16,0,17],[0,18,0,19],[0,20,0,22],[0,23,1,23],[0,0,0,2],[0,3,1,3],[0,4,0,6],[0,7,0,9],[0,10,0,12],[0,13,0,15]]}
["ORGANIZATOR",null,null,"PLANOWANA ŁĄCZNA KWOTA DOPŁATY 2032","GĘSTOŚĆ ZALUDNIENIA",null,null,"LICZBA LINII 2032",null,null,"DŁUGOŚĆ LINII 2032",null,null,"LICZBA ZATRZYMAŃ 2032",null,null,"REALIZACJA POTRZEB NIEPEŁNOSPRAWNYCH",null,"ZAPEWNIENIE DOSTEPNOŚCI PROGRAMÓW INFRA",null,"WSKAŹNIK DOCHODÓW",null,null,"ŁĄCZNA PUNKTACJA WAŻONA"]
["TYP","NIP","NAZWA",null,"WARTOŚĆ","LICZBA PUNKTÓW","PUNKTACJA WAŻONA","WARTOŚĆ","LICZBA PUNKTÓW","PUNKTACJA WAŻONA","WARTOŚĆ","LICZBA PUNKTÓW","PUNKTACJA WAŻONA","WARTOŚĆ","LICZBA PUNKTÓW","PUNKTACJA WAŻONA","WARTOŚĆ","PUNKTACJA WAŻONA","WARTOŚĆ","PUNKTACJA WAŻONA","WARTOŚĆ","LICZBA PUNKTÓW","PUNKTACJA WAŻONA"]
[{"$f":"'WNIOSEK CZĘŚĆ I'!I5","v":""},{"$f":"'WNIOSEK CZĘŚĆ I'!B4","v":0},{"$f":"'WNIOSEK CZĘŚĆ I'!B5","v":""},{"$f":"'WNIOSEK CZĘŚĆ I'!K49","v":0},{"$f":"'WNIOSEK CZĘŚĆ I'!C26","v":""},null,null,{"$f":"'WNIOSEK CZĘŚĆ I'!K30","v":0},null,null,{"$f":"'WNIOSEK CZĘŚĆ I'!K31","v":0},null,null,{"$f":"'WNIOSEK CZĘŚĆ I'!K32","v":0},null,null,{"$f":"IFERROR('WNIOSEK CZĘŚĆ I'!K35/'WNIOSEK CZĘŚĆ I'!K36,0)","v":0},null,{"$f":"IFERROR('WNIOSEK CZĘŚĆ I'!K37/'WNIOSEK CZĘŚĆ I'!K38,0)","v":0},null,{"$f":"'WNIOSEK CZĘŚĆ I'!C27","v":""}]

{"sheet":"WYCIĄG Z WNIOSKU_2033","index":12,"n_rows":3,"n_cols":24,"rows_kept":3,"cut":false,"hidden":false,"merged":[[0,16,0,17],[0,18,0,19],[0,20,0,22],[0,23,1,23],[0,0,0,2],[0,3,1,3],[0,4,0,6],[0,7,0,9],[0,10,0,12],[0,13,0,15]]}
["ORGANIZATOR",null,null,"PLANOWANA ŁĄCZNA KWOTA DOPŁATY 2033","GĘSTOŚĆ ZALUDNIENIA",null,null,"LICZBA LINII 2033",null,null,"DŁUGOŚĆ LINII 2033",null,null,"LICZBA ZATRZYMAŃ 2033",null,null,"REALIZACJA POTRZEB NIEPEŁNOSPRAWNYCH",null,"ZAPEWNIENIE DOSTEPNOŚCI PROGRAMÓW INFRA",null,"WSKAŹNIK DOCHODÓW",null,null,"ŁĄCZNA PUNKTACJA WAŻONA"]
["TYP","NIP","NAZWA",null,"WARTOŚĆ","LICZBA PUNKTÓW","PUNKTACJA WAŻONA","WARTOŚĆ","LICZBA PUNKTÓW","PUNKTACJA WAŻONA","WARTOŚĆ","LICZBA PUNKTÓW","PUNKTACJA WAŻONA","WARTOŚĆ","LICZBA PUNKTÓW","PUNKTACJA WAŻONA","WARTOŚĆ","PUNKTACJA WAŻONA","WARTOŚĆ","PUNKTACJA WAŻONA","WARTOŚĆ","LICZBA PUNKTÓW","PUNKTACJA WAŻONA"]
[{"$f":"'WNIOSEK CZĘŚĆ I'!I5","v":""},{"$f":"'WNIOSEK CZĘŚĆ I'!B4","v":0},{"$f":"'WNIOSEK CZĘŚĆ I'!B5","v":""},{"$f":"'WNIOSEK CZĘŚĆ I'!L49","v":0},{"$f":"'WNIOSEK CZĘŚĆ I'!C26","v":""},null,null,{"$f":"'WNIOSEK CZĘŚĆ I'!L30","v":0},null,null,{"$f":"'WNIOSEK CZĘŚĆ I'!L31","v":0},null,null,{"$f":"'WNIOSEK CZĘŚĆ I'!L32","v":0},null,null,{"$f":"IFERROR('WNIOSEK CZĘŚĆ I'!L35/'WNIOSEK CZĘŚĆ I'!L36,0)","v":0},null,{"$f":"IFERROR('WNIOSEK CZĘŚĆ I'!L37/'WNIOSEK CZĘŚĆ I'!L38,0)","v":0},null,{"$f":"'WNIOSEK CZĘŚĆ I'!C27","v":""}]

{"sheet":"Arkusz2","index":13,"n_rows":203,"n_cols":18,"rows_kept":203,"cut":false,"hidden":true,"merged":[]}
["NIP","NAZWA","WOJ.","POW","GMINA","Kod pocztowy","Miejscowość poczty","Miejscowość","Ulica","nr nieruchomości",null,null,"","","TAK","NIE"]
["6282074477","GMINA ALWERNIA","12","03","014","32566","Alwernia","Alwernia","ul. Zbigniewa Gęsikowskiego","7","GMINA",{"$f":"C2*100000+D2*1000+E2","v":1203014},{"$f":"VLOOKUP(L2,Arkusz3!A:K,2,0)","v":""},{"$f":"IF(M2=M$1,L2-1,IF(M2=N$1,L2-2,L2))","v":1203013},{"$f":"VLOOKUP(N2,Arkusz3!A:E,5,0)","v":74},{"$f":"VLOOKUP(N2,Arkusz3!H:J,3,0)","v":12361},{"$f":"P2/O2","v":167.04054054054055},{"$f":"VLOOKUP(N2,Arkusz3!AN:AP,3,0)","v":1969.33}]
["5510013406","GMINA ANDRYCHÓW","12","18","014","34120","Andrychów","Andrychów","Rynek","15        ","GMINA",{"$f":"C3*100000+D3*1000+E3","v":1218014},{"$f":"VLOOKUP(L3,Arkusz3!A:K,2,0)","v":""},{"$f":"IF(M3=M$1,L3-1,IF(M3=N$1,L3-2,L3))","v":1218013},{"$f":"VLOOKUP(N3,Arkusz3!A:E,5,0)","v":100},{"$f":"VLOOKUP(N3,Arkusz3!H:J,3,0)","v":42179},{"$f":"P3/O3","v":421.79},{"$f":"VLOOKUP(N3,Arkusz3!AN:AP,3,0)","v":1607.3}]
["6282267905","GMINA BABICE","12","03","022","32551","Babice","Babice","ul. Krakowska","56        ","GMINA",1203022,{"$f":"VLOOKUP(L4,Arkusz3!A:K,2,0)","v":"  Babice.........................................................................................................................................................................................................................................................."},1203022,{"$f":"VLOOKUP(N4,Arkusz3!A:E,5,0)","v":55},{"$f":"VLOOKUP(N4,Arkusz3!H:J,3,0)","v":9022},164.03636363636363,{"$f":"VLOOKUP(N4,Arkusz3!AN:AP,3,0)","v":1590.51}]
["7361717680","GMINA BIAŁY DUNAJEC","12","17","022","34425","Biały Dunajec","Biały Dunajec","ul. Jana Pawła II",312,"GMINA",1217022,{"$f":"VLOOKUP(L5,Arkusz3!A:K,2,0)","v":"  Biały Dunajec.........................................................................................................................................................................................................................................................."},1217022,{"$f":"VLOOKUP(N5,Arkusz3!A:E,5,0)","v":35},{"$f":"VLOOKUP(N5,Arkusz3!H:J,3,0)","v":6830},195.14285714285714,{"$f":"VLOOKUP(N5,Arkusz3!AN:AP,3,0)","v":982.21}]
["7381973883","GMINA BIECZ","12","05","024","38340","Biecz","Biecz","ul. Rynek","1         ","GMINA",1205024,{"$f":"VLOOKUP(L6,Arkusz3!A:K,2,0)","v":""},1205023,{"$f":"VLOOKUP(N6,Arkusz3!A:E,5,0)","v":98},{"$f":"VLOOKUP(N6,Arkusz3!H:J,3,0)","v":16198},165.28571428571428,{"$f":"VLOOKUP(N6,Arkusz3!AN:AP,3,0)","v":1126.3599999999999}]
["6831573055","GMINA BISKUPICE","12","19","012","32020","Wieliczka","Tomaszkowice",null,"455","GMINA",1219012,{"$f":"VLOOKUP(L7,Arkusz3!A:K,2,0)","v":"  Biskupice.........................................................................................................................................................................................................................................................."},1219012,{"$f":"VLOOKUP(N7,Arkusz3!A:E,5,0)","v":41},{"$f":"VLOOKUP(N7,Arkusz3!H:J,3,0)","v":11557},281.8780487804878,{"$f":"VLOOKUP(N7,Arkusz3!AN:AP,3,0)","v":1526.68}]
["7382129965","GMINA BOBOWA","12","05","034","38350","Bobowa","Bobowa","ul. Rynek","21        ","GMINA",1205034,{"$f":"VLOOKUP(L8,Arkusz3!A:K,2,0)","v":""},1205033,{"$f":"VLOOKUP(N8,Arkusz3!A:E,5,0)","v":50},{"$f":"VLOOKUP(N8,Arkusz3!H:J,3,0)","v":9574},191.48,{"$f":"VLOOKUP(N8,Arkusz3!AN:AP,3,0)","v":790.6}]
["8681001825","GMINA MIASTA BOCHNIA","12","01","011","32700","Bochnia","Bochnia","ul. Kazimierza Wielkiego","2","GMINA",1201011,{"$f":"VLOOKUP(L9,Arkusz3!A:K,2,0)","v":"  Bochnia.........................................................................................................................................................................................................................................................."},1201011,{"$f":"VLOOKUP(N9,Arkusz3!A:E,5,0)","v":30},{"$f":"VLOOKUP(N9,Arkusz3!H:J,3,0)","v":28692},956.4,{"$f":"VLOOKUP(N9,Arkusz3!AN:AP,3,0)","v":2428.73}]
["8681021271","GMINA BOCHNIA","12","01","022","32700","Bochnia","Bochnia","ul. Kazimierza Wielkiego","26","GMINA",1201022,{"$f":"VLOOKUP(L10,Arkusz3!A:K,2,0)","v":"  Bochnia.........................................................................................................................................................................................................................................................."},1201022,{"$f":"VLOOKUP(N10,Arkusz3!A:E,5,0)","v":132},{"$f":"VLOOKUP(N10,Arkusz3!H:J,3,0)","v":20597},156.03787878787878,{"$f":"VLOOKUP(N10,Arkusz3!AN:AP,3,0)","v":1523.98}]
["8711770280"," GMINA BOLESŁAW (pow. dąbrowski)","12","04","012","33220","Bolesław","Bolesław",null,"68","GMINA",1204012,{"$f":"VLOOKUP(L11,Arkusz3!A:K,2,0)","v":"  Bolesław.........................................................................................................................................................................................................................................................."},1204012,{"$f":"VLOOKUP(N11,Arkusz3!A:E,5,0)","v":36},{"$f":"VLOOKUP(N11,Arkusz3!H:J,3,0)","v":2659},73.861111111111114,{"$f":"VLOOKUP(N11,Arkusz3!AN:AP,3,0)","v":978.52}]
["6371997976","GMINA BOLESŁAW (pow. olkuski)","12","12","032","32329","Bolesław","Bolesław","ul. Główna","58","GMINA",1212032,{"$f":"VLOOKUP(L12,Arkusz3!A:K,2,0)","v":"  Bolesław.........................................................................................................................................................................................................................................................."},1212032,{"$f":"VLOOKUP(N12,Arkusz3!A:E,5,0)","v":41},{"$f":"VLOOKUP(N12,Arkusz3!H:J,3,0)","v":7587},185.04878048780489,{"$f":"VLOOKUP(N12,Arkusz3!AN:AP,3,0)","v":2879.76}]
["8691318251","GMINA BORZĘCIN","12","02","012","32825","Borzęcin","Borzęcin",null,"583G","GMINA",1202012,{"$f":"VLOOKUP(L13,Arkusz3!A:K,2,0)","v":"  Borzęcin.........................................................................................................................................................................................................................................................."},1202012,{"$f":"VLOOKUP(N13,Arkusz3!A:E,5,0)","v":103},{"$f":"VLOOKUP(N13,Arkusz3!H:J,3,0)","v":8130},78.932038834951456,{"$f":"VLOOKUP(N13,Arkusz3!AN:AP,3,0)","v":1322.66}]
["8691002648","GMINA BRZESKO","12","02","024","32800","Brzesko","Brzesko","ul. Bartosza Głowackiego","51","GMINA",1202024,{"$f":"VLOOKUP(L14,Arkusz3!A:K,2,0)","v":""},1202023,{"$f":"VLOOKUP(N14,Arkusz3!A:E,5,0)","v":103},{"$f":"VLOOKUP(N14,Arkusz3!H:J,3,0)","v":35575},345.38834951456312,{"$f":"VLOOKUP(N14,Arkusz3!AN:AP,3,0)","v":1951.28}]
["5492197470","GMINA BRZESZCZE","12","13","024","32620","Brzeszcze","Brzeszcze","ul. Kościelna","4","GMINA",1213024,{"$f":"VLOOKUP(L15,Arkusz3!A:K,2,0)","v":""},1213023,{"$f":"VLOOKUP(N15,Arkusz3!A:E,5,0)","v":46},{"$f":"VLOOKUP(N15,Arkusz3!H:J,3,0)","v":20546},446.6521739130435,{"$f":"VLOOKUP(N15,Arkusz3!AN:AP,3,0)","v":2076.83}]
["5511123918","GMINA BRZEŹNICA","12","18","022","34114","Brzeźnica","Brzeźnica","ul. Krakowska","109       ","GMINA",1218022,{"$f":"VLOOKUP(L16,Arkusz3!A:K,2,0)","v":"  Brzeźnica.........................................................................................................................................................................................................................................................."},1218022,{"$f":"VLOOKUP(N16,Arkusz3!A:E,5,0)","v":66},{"$f":"VLOOKUP(N16,Arkusz3!H:J,3,0)","v":10762},163.06060606060606,{"$f":"VLOOKUP(N16,Arkusz3!AN:AP,3,0)","v":1306.94}]
["5521677860","GMINA BUDZÓW","12","15","032","34211","Budzów","Budzów",null,"445","GMINA",1215032,{"$f":"VLOOKUP(L17,Arkusz3!A:K,2,0)","v":"  Budzów.........................................................................................................................................................................................................................................................."},1215032,{"$f":"VLOOKUP(N17,Arkusz3!A:E,5,0)","v":74},{"$f":"VLOOKUP(N17,Arkusz3!H:J,3,0)","v":8846},119.54054054054055,{"$f":"VLOOKUP(N17,Arkusz3!AN:AP,3,0)","v":862.93}]
["7361717220","GMINA BUKOWINA TATRZAŃSKA","12","17","032","34530","Bukowina Tatrzańska","Bukowina Tatrzańska","ul. Długa","144","GMINA",1217032,{"$f":"VLOOKUP(L18,Arkusz3!A:K,2,0)","v":"  Bukowina Tatrzańska.........................................................................................................................................................................................................................................................."},1217032,{"$f":"VLOOKUP(N18,Arkusz3!A:E,5,0)","v":132},{"$f":"VLOOKUP(N18,Arkusz3!H:J,3,0)","v":13507},102.32575757575758,{"$f":"VLOOKUP(N18,Arkusz3!AN:AP,3,0)","v":2134.38}]
["6371998065","GMINA BUKOWNO","12","12","011","32332","Bukowno","Bukowno","ul. Kolejowa","16","GMINA",1212011,{"$f":"VLOOKUP(L19,Arkusz3!A:K,2,0)","v":"  Bukowno.........................................................................................................................................................................................................................................................."},1212011,{"$f":"VLOOKUP(N19,Arkusz3!A:E,5,0)","v":65},{"$f":"VLOOKUP(N19,Arkusz3!H:J,3,0)","v":9604},147.75384615384615,{"$f":"VLOOKUP(N19,Arkusz3!AN:AP,3,0)","v":3110.7}]
["5521570518","GMINA BYSTRA-SIDZINA W BYSTREJ PODHALAŃSKIEJ","12","15","042","34235","Bystra Podhalańska","Bystra Podhalańska",null,"373","GMINA",1215042,{"$f":"VLOOKUP(L20,Arkusz3!A:K,2,0)","v":"  Bystra-Sidzina.........................................................................................................................................................................................................................................................."},1215042,{"$f":"VLOOKUP(N20,Arkusz3!A:E,5,0)","v":81},{"$f":"VLOOKUP(N20,Arkusz3!H:J,3,0)","v":6796},83.901234567901241,{"$f":"VLOOKUP(N20,Arkusz3!AN:AP,3,0)","v":1258.02}]
["6591153915","GMINA CHARSZNICA","12","08","012","32250","Charsznica","Miechów-Charsznica",null,"20        ","GMINA",1208012,{"$f":"VLOOKUP(L21,Arkusz3!A:K,2,0)","v":"  Charsznica.........................................................................................................................................................................................................................................................."},1208012,{"$f":"VLOOKUP(N21,Arkusz3!A:E,5,0)","v":78},{"$f":"VLOOKUP(N21,Arkusz3!H:J,3,0)","v":7128},91.384615384615387,{"$f":"VLOOKUP(N21,Arkusz3!AN:AP,3,0)","v":1185.69}]
["5492197441","GMINA CHEŁMEK","12","13","034","32660","Chełmek","Chełmek","ul. Krakowska","11","GMINA",1213034,{"$f":"VLOOKUP(L22,Arkusz3!A:K,2,0)","v":""},1213033,{"$f":"VLOOKUP(N22,Arkusz3!A:E,5,0)","v":27},{"$f":"VLOOKUP(N22,Arkusz3!H:J,3,0)","v":12386},458.74074074074076,{"$f":"VLOOKUP(N22,Arkusz3!AN:AP,3,0)","v":1789.46}]
["7343445768","GMINA CHEŁMIEC","12","10","022","33395","Chełmiec","Chełmiec","ul. Papieska","2","GMINA",1210022,{"$f":"VLOOKUP(L23,Arkusz3!A:K,2,0)","v":"  Chełmiec.........................................................................................................................................................................................................................................................."},1210022,{"$f":"VLOOKUP(N23,Arkusz3!A:E,5,0)","v":112},{"$f":"VLOOKUP(N23,Arkusz3!H:J,3,0)","v":29572},264.03571428571428,{"$f":"VLOOKUP(N23,Arkusz3!AN:AP,3,0)","v":1169.46}]
["6282260665","GMINA CHRZANÓW","12","03","034","32500","Chrzanów","Chrzanów","ul. Aleja Henryka","20        ","GMINA",1203034,{"$f":"VLOOKUP(L24,Arkusz3!A:K,2,0)","v":""},1203033,{"$f":"VLOOKUP(N24,Arkusz3!A:E,5,0)","v":79},{"$f":"VLOOKUP(N24,Arkusz3!H:J,3,0)","v":44442},562.55696202531647,{"$f":"VLOOKUP(N24,Arkusz3!AN:AP,3,0)","v":1950.31}]
["8731014848","GMINA CIĘŻKOWICE","12","16","014","33190","Ciężkowice","Ciężkowice","ul. Tysiąclecia","19","GMINA",1216014,{"$f":"VLOOKUP(L25,Arkusz3!A:K,2,0)","v":""},1216013,{"$f":"VLOOKUP(N25,Arkusz3!A:E,5,0)","v":103},{"$f":"VLOOKUP(N25,Arkusz3!H:J,3,0)","v":11027},107.05825242718447,{"$f":"VLOOKUP(N25,Arkusz3!AN:AP,3,0)","v":1025.82}]
["7352843273","GMINA CZARNY DUNAJEC","12","11","032","34470","Czarny Dunajec","Czarny Dunajec","ul. Józefa Piłsudskiego","2","GMINA",1211032,{"$f":"VLOOKUP(L26,Arkusz3!A:K,2,0)","v":"  Czarny Dunajec.........................................................................................................................................................................................................................................................."},1211032,{"$f":"VLOOKUP(N26,Arkusz3!A:E,5,0)","v":218},{"$f":"VLOOKUP(N26,Arkusz3!H:J,3,0)","v":22113},101.43577981651376,{"$f":"VLOOKUP(N26,Arkusz3!AN:AP,3,0)","v":783.76}]
["8691291026","GMINA CZCHÓW","12","02","034","32860","Czchów","Czchów","rynek Rynek","12","GMINA",1202034,{"$f":"VLOOKUP(L27,Arkusz3!A:K,2,0)","v":""},1202033,{"$f":"VLOOKUP(N27,Arkusz3!A:E,5,0)","v":66},{"$f":"VLOOKUP(N27,Arkusz3!H:J,3,0)","v":9748},147.69696969696969,{"$f":"VLOOKUP(N27,Arkusz3!AN:AP,3,0)","v":1099.42}]
["9442253228","GMINA CZERNICHÓW","12","06","012","32070","Czernichów","Czernichów","ul. Gminna","1","GMINA",1206012,{"$f":"VLOOKUP(L28,Arkusz3!A:K,2,0)","v":"  Czernichów.........................................................................................................................................................................................................................................................."},1206012,{"$f":"VLOOKUP(N28,Arkusz3!A:E,5,0)","v":85},{"$f":"VLOOKUP(N28,Arkusz3!H:J,3,0)","v":15371},180.83529411764707,{"$f":"VLOOKUP(N28,Arkusz3!AN:AP,3,0)","v":1667.92}]
["7352851410","GMINA CZORSZTYN","12","11","042","34436","Maniowy","Maniowy","ul. Gorczańska","3","GMINA",1211042,{"$f":"VLOOKUP(L29,Arkusz3!A:K,2,0)","v":"  Czorsztyn.........................................................................................................................................................................................................................................................."},1211042,{"$f":"VLOOKUP(N29,Arkusz3!A:E,5,0)","v":62},{"$f":"VLOOKUP(N29,Arkusz3!H:J,3,0)","v":7592},122.45161290322581,{"$f":"VLOOKUP(N29,Arkusz3!AN:AP,3,0)","v":1257.53}]
["8711771055","GMINA DĄBROWA TARNOWSKA","12","04","024","33200","Dąbrowa Tarnowska","Dąbrowa Tarnowska","rynek Rynek","34","GMINA",1204024,{"$f":"VLOOKUP(L30,Arkusz3!A:K,2,0)","v":""},1204023,{"$f":"VLOOKUP(N30,Arkusz3!A:E,5,0)","v":116},{"$f":"VLOOKUP(N30,Arkusz3!H:J,3,0)","v":20923},180.37068965517241,{"$f":"VLOOKUP(N30,Arkusz3!AN:AP,3,0)","v":1222.5899999999999}]
["8691326517","GMINA DĘBNO","12","02","042","32852","Dębno","Wola Dębińska",null,"240","GMINA",1202042,{"$f":"VLOOKUP(L31,Arkusz3!A:K,2,0)","v":"  Dębno.........................................................................................................................................................................................................................................................."},1202042,{"$f":"VLOOKUP(N31,Arkusz3!A:E,5,0)","v":82},{"$f":"VLOOKUP(N31,Arkusz3!H:J,3,0)","v":14488},176.6829268292683,{"$f":"VLOOKUP(N31,Arkusz3!AN:AP,3,0)","v":1067.23}]
["6811004443","GMINA DOBCZYCE","12","09","014","32410","Dobczyce","Dobczyce","ul. Rynek","26","GMINA",1209014,{"$f":"VLOOKUP(L32,Arkusz3!A:K,2,0)","v":""},1209013,{"$f":"VLOOKUP(N32,Arkusz3!A:E,5,0)","v":66},{"$f":"VLOOKUP(N32,Arkusz3!H:J,3,0)","v":15509},234.9848484848485,{"$f":"VLOOKUP(N32,Arkusz3!AN:AP,3,0)","v":1950.45}]
["7371005969","GMINA DOBRA","12","07","032","34642","Dobra","Dobra",null,"233       ","GMINA",1207032,{"$f":"VLOOKUP(L33,Arkusz3!A:K,2,0)","v":"  Dobra.........................................................................................................................................................................................................................................................."},1207032,{"$f":"VLOOKUP(N33,Arkusz3!A:E,5,0)","v":110},{"$f":"VLOOKUP(N33,Arkusz3!H:J,3,0)","v":10110},91.909090909090907,{"$f":"VLOOKUP(N33,Arkusz3!AN:AP,3,0)","v":956.41}]
["6831718453","GMINA DRWINIA","12","01","032","32709","Drwinia","Drwinia",null,"57","GMINA",1201032,{"$f":"VLOOKUP(L34,Arkusz3!A:K,2,0)","v":"  Drwinia.........................................................................................................................................................................................................................................................."},1201032,{"$f":"VLOOKUP(N34,Arkusz3!A:E,5,0)","v":108},{"$f":"VLOOKUP(N34,Arkusz3!H:J,3,0)","v":6465},59.861111111111114,{"$f":"VLOOKUP(N34,Arkusz3!AN:AP,3,0)","v":1242.47}]
["6831006563","GMINA GDÓW","12","19","022","32420","Gdów","Gdów",null,"40","GMINA",1219022,{"$f":"VLOOKUP(L35,Arkusz3!A:K,2,0)","v":"  Gdów.........................................................................................................................................................................................................................................................."},1219022,{"$f":"VLOOKUP(N35,Arkusz3!A:E,5,0)","v":109},{"$f":"VLOOKUP(N35,Arkusz3!H:J,3,0)","v":18574},170.40366972477065,{"$f":"VLOOKUP(N35,Arkusz3!AN:AP,3,0)","v":1748.06}]
["8691186447","GMINA GNOJNIK","12","02","052","32864","Gnojnik","Gnojnik",null,"363","GMINA",1202052,{"$f":"VLOOKUP(L36,Arkusz3!A:K,2,0)","v":"  Gnojnik.........................................................................................................................................................................................................................................................."},1202052,{"$f":"VLOOKUP(N36,Arkusz3!A:E,5,0)","v":55},{"$f":"VLOOKUP(N36,Arkusz3!H:J,3,0)","v":8106},147.38181818181818,{"$f":"VLOOKUP(N36,Arkusz3!AN:AP,3,0)","v":1029.6099999999999}]
["6591545880","GMINA GOŁCZA","12","08","022","32075","Gołcza","Gołcza",null,"80","GMINA",1208022,{"$f":"VLOOKUP(L37,Arkusz3!A:K,2,0)","v":"  Gołcza.........................................................................................................................................................................................................................................................."},1208022,{"$f":"VLOOKUP(N37,Arkusz3!A:E,5,0)","v":90},{"$f":"VLOOKUP(N37,Arkusz3!H:J,3,0)","v":5977},66.411111111111111,{"$f":"VLOOKUP(N37,Arkusz3!AN:AP,3,0)","v":1193.74}]
["7382125507","MIASTO GORLICE","12","05","011","38300","Gorlice","Gorlice","Rynek","2         ","GMINA",1205011,{"$f":"VLOOKUP(L38,Arkusz3!A:K,2,0)","v":"  Gorlice.........................................................................................................................................................................................................................................................."},1205011,{"$f":"VLOOKUP(N38,Arkusz3!A:E,5,0)","v":24},{"$f":"VLOOKUP(N38,Arkusz3!H:J,3,0)","v":25818},1075.75,{"$f":"VLOOKUP(N38,Arkusz3!AN:AP,3,0)","v":1924.54}]
["7382131749","GMINA GORLICE","12","05","042","38300","Gorlice","Gorlice","ul. 11 Listopada","2","GMINA",1205042,{"$f":"VLOOKUP(L39,Arkusz3!A:K,2,0)","v":"  Gorlice.........................................................................................................................................................................................................................................................."},1205042,{"$f":"VLOOKUP(N39,Arkusz3!A:E,5,0)","v":103},{"$f":"VLOOKUP(N39,Arkusz3!H:J,3,0)","v":16985},164.90291262135923,{"$f":"VLOOKUP(N39,Arkusz3!AN:AP,3,0)","v":996.23}]
["8711771090","GMINA GRĘBOSZÓW","12","04","032","33260","Gręboszów","Gręboszów",null,"144","GMINA",1204032,{"$f":"VLOOKUP(L40,Arkusz3!A:K,2,0)","v":"  Gręboszów.........................................................................................................................................................................................................................................................."},1204032,{"$f":"VLOOKUP(N40,Arkusz3!A:E,5,0)","v":49},{"$f":"VLOOKUP(N40,Arkusz3!H:J,3,0)","v":3208},65.469387755102048,{"$f":"VLOOKUP(N40,Arkusz3!AN:AP,3,0)","v":1054.75}]
["8732614007","GMINA GROMNIK","12","16","022","33180","Gromnik","Gromnik","ul. Witosa","2","GMINA",1216022,{"$f":"VLOOKUP(L41,Arkusz3!A:K,2,0)","v":"  Gromnik.........................................................................................................................................................................................................................................................."},1216022,{"$f":"VLOOKUP(N41,Arkusz3!A:E,5,0)","v":70},{"$f":"VLOOKUP(N41,Arkusz3!H:J,3,0)","v":8724},124.62857142857143,{"$f":"VLOOKUP(N41,Arkusz3!AN:AP,3,0)","v":787.79}]
["7343482812","GMINA GRÓDEK NAD DUNAJCEM","12","10","032","33318","Gródek nad Dunajcem","Gródek nad Dunajcem",null,"54        ","GMINA",1210032,{"$f":"VLOOKUP(L42,Arkusz3!A:K,2,0)","v":"  Gródek nad Dunajcem.........................................................................................................................................................................................................................................................."},1210032,{"$f":"VLOOKUP(N42,Arkusz3!A:E,5,0)","v":88},{"$f":"VLOOKUP(N42,Arkusz3!H:J,3,0)","v":8935},101.53409090909091,{"$f":"VLOOKUP(N42,Arkusz3!AN:AP,3,0)","v":1455.5}]
["7381010274","MIASTO GRYBÓW","12","10","011","33330","Grybów","Grybów","ul. Rynek","12","GMINA",1210011,{"$f":"VLOOKUP(L43,Arkusz3!A:K,2,0)","v":"  Grybów.........................................................................................................................................................................................................................................................."},1210011,{"$f":"VLOOKUP(N43,Arkusz3!A:E,5,0)","v":17},{"$f":"VLOOKUP(N43,Arkusz3!H:J,3,0)","v":5953},350.1764705882353,{"$f":"VLOOKUP(N43,Arkusz3!AN:AP,3,0)","v":1108.33}]
["7343515546","GMINA GRYBÓW","12","10","042","33330","Grybów","Grybów","ul. Jakubowskiego","33","GMINA",1210042,{"$f":"VLOOKUP(L44,Arkusz3!A:K,2,0)","v":"  Grybów.........................................................................................................................................................................................................................................................."},1210042,{"$f":"VLOOKUP(N44,Arkusz3!A:E,5,0)","v":154},{"$f":"VLOOKUP(N44,Arkusz3!H:J,3,0)","v":25352},164.62337662337663,{"$f":"VLOOKUP(N44,Arkusz3!AN:AP,3,0)","v":929.73}]
["6821642228","GMINA IGOŁOMIA-WAWRZEŃCZYCE","12","06","022","32125","Wawrzeńczyce","Wawrzeńczyce",null,"57","GMINA",1206022,{"$f":"VLOOKUP(L45,Arkusz3!A:K,2,0)","v":"  Igołomia-Wawrzeńczyce.........................................................................................................................................................................................................................................................."},1206022,{"$f":"VLOOKUP(N45,Arkusz3!A:E,5,0)","v":63},{"$f":"VLOOKUP(N45,Arkusz3!H:J,3,0)","v":7872},124.95238095238095,{"$f":"VLOOKUP(N45,Arkusz3!AN:AP,3,0)","v":1517.19}]
["6821634453","GMINA IWANOWICE","12","06","032","32095","Iwanowice Włościańskie","Iwanowice Włościańskie",null,"99","GMINA",1206032,{"$f":"VLOOKUP(L46,Arkusz3!A:K,2,0)","v":"  Iwanowice.........................................................................................................................................................................................................................................................."},1206032,{"$f":"VLOOKUP(N46,Arkusz3!A:E,5,0)","v":71},{"$f":"VLOOKUP(N46,Arkusz3!H:J,3,0)","v":9781},137.7605633802817,{"$f":"VLOOKUP(N46,Arkusz3!AN:AP,3,0)","v":1399.8}]
["8691212363","GMINA IWKOWA","12","02","062","32861","Iwkowa","Iwkowa",null,"468","GMINA",1202062,{"$f":"VLOOKUP(L47,Arkusz3!A:K,2,0)","v":"  Iwkowa.........................................................................................................................................................................................................................................................."},1202062,{"$f":"VLOOKUP(N47,Arkusz3!A:E,5,0)","v":47},{"$f":"VLOOKUP(N47,Arkusz3!H:J,3,0)","v":6599},140.40425531914894,{"$f":"VLOOKUP(N47,Arkusz3!AN:AP,3,0)","v":1171.73}]
["7352856459","GMINA JABŁONKA","12","11","052","34480","Jabłonka","Jabłonka","ul. 3 Maja","1","GMINA",1211052,{"$f":"VLOOKUP(L48,Arkusz3!A:K,2,0)","v":"  Jabłonka.........................................................................................................................................................................................................................................................."},1211052,{"$f":"VLOOKUP(N48,Arkusz3!A:E,5,0)","v":212},{"$f":"VLOOKUP(N48,Arkusz3!H:J,3,0)","v":19093},90.061320754716988,{"$f":"VLOOKUP(N48,Arkusz3!AN:AP,3,0)","v":1050.79}]
["6772019451","GMINA JERZMANOWICE-PRZEGINIA","12","06","042","32048","Jerzmanowice","Jerzmanowice","ul. Rajska","22","GMINA",1206042,{"$f":"VLOOKUP(L49,Arkusz3!A:K,2,0)","v":"  Jerzmanowice-Przeginia.........................................................................................................................................................................................................................................................."},1206042,{"$f":"VLOOKUP(N49,Arkusz3!A:E,5,0)","v":68},{"$f":"VLOOKUP(N49,Arkusz3!H:J,3,0)","v":11196},164.64705882352942,{"$f":"VLOOKUP(N49,Arkusz3!AN:AP,3,0)","v":1389.17}]
["7371007419","GMINA JODŁOWNIK","12","07","042","34620","Jodłownik","Jodłownik",null,"198","GMINA",1207042,{"$f":"VLOOKUP(L50,Arkusz3!A:K,2,0)","v":"  Jodłownik.........................................................................................................................................................................................................................................................."},1207042,{"$f":"VLOOKUP(N50,Arkusz3!A:E,5,0)","v":72},{"$f":"VLOOKUP(N50,Arkusz3!H:J,3,0)","v":8760},121.66666666666667,{"$f":"VLOOKUP(N50,Arkusz3!AN:AP,3,0)","v":1341.61}]
["5521579821","MIASTO JORDANÓW","12","15","011","34240","Jordanów","Jordanów","ul. Rynek","1","GMINA",1215011,{"$f":"VLOOKUP(L51,Arkusz3!A:K,2,0)","v":"  Jordanów.........................................................................................................................................................................................................................................................."},1215011,{"$f":"VLOOKUP(N51,Arkusz3!A:E,5,0)","v":21},{"$f":"VLOOKUP(N51,Arkusz3!H:J,3,0)","v":5420},258.09523809523807,{"$f":"VLOOKUP(N51,Arkusz3!AN:AP,3,0)","v":2004.13}]
["5521586100","GMINA JORDANÓW","12","15","052","34240","Jordanów","Jordanów","ul. Rynek","2","GMINA",1215052,{"$f":"VLOOKUP(L52,Arkusz3!A:K,2,0)","v":"  Jordanów.........................................................................................................................................................................................................................................................."},1215052,{"$f":"VLOOKUP(N52,Arkusz3!A:E,5,0)","v":92},{"$f":"VLOOKUP(N52,Arkusz3!H:J,3,0)","v":11179},121.51086956521739,{"$f":"VLOOKUP(N52,Arkusz3!AN:AP,3,0)","v":1072.1099999999999}]
["5511158182","GMINA KALWARIA ZEBRZYDOWSKA","12","18","034","34130","Kalwaria Zebrzydowska","Kalwaria Zebrzydowska","ul. Adama Mickiewicza","7","GMINA",1218034,{"$f":"VLOOKUP(L53,Arkusz3!A:K,2,0)","v":""},1218033,{"$f":"VLOOKUP(N53,Arkusz3!A:E,5,0)","v":75},{"$f":"VLOOKUP(N53,Arkusz3!H:J,3,0)","v":19930},265.73333333333335,{"$f":"VLOOKUP(N53,Arkusz3!AN:AP,3,0)","v":1690.73}]
["7371193876","GMINA KAMIENICA","12","07","052","34608","Kamienica","Kamienica",null,"420","GMINA",1207052,{"$f":"VLOOKUP(L54,Arkusz3!A:K,2,0)","v":"  Kamienica.........................................................................................................................................................................................................................................................."},1207052,{"$f":"VLOOKUP(N54,Arkusz3!A:E,5,0)","v":95},{"$f":"VLOOKUP(N54,Arkusz3!H:J,3,0)","v":7822},82.336842105263159,{"$f":"VLOOKUP(N54,Arkusz3!AN:AP,3,0)","v":840.72}]
["7343514860","GMINA KAMIONKA WIELKA","12","10","052","33334","Kamionka Wielka","Kamionka Wielka",null,"5","GMINA",1210052,{"$f":"VLOOKUP(L55,Arkusz3!A:K,2,0)","v":"  Kamionka Wielka.........................................................................................................................................................................................................................................................."},1210052,{"$f":"VLOOKUP(N55,Arkusz3!A:E,5,0)","v":65},{"$f":"VLOOKUP(N55,Arkusz3!H:J,3,0)","v":10441},160.63076923076923,{"$f":"VLOOKUP(N55,Arkusz3!AN:AP,3,0)","v":1132.27}]
["5492202969","GMINA KĘTY","12","13","044","32650","Kęty","Kęty","Rynek","7","GMINA",1213044,{"$f":"VLOOKUP(L56,Arkusz3!A:K,2,0)","v":""},1213043,{"$f":"VLOOKUP(N56,Arkusz3!A:E,5,0)","v":76},{"$f":"VLOOKUP(N56,Arkusz3!H:J,3,0)","v":33390},439.34210526315792,{"$f":"VLOOKUP(N56,Arkusz3!AN:AP,3,0)","v":2006}]
["6371998059","GMINA KLUCZE","12","12","042","32310","Klucze","Klucze","ul. Partyzantów","1","GMINA",1212042,{"$f":"VLOOKUP(L57,Arkusz3!A:K,2,0)","v":"  Klucze.........................................................................................................................................................................................................................................................."},1212042,{"$f":"VLOOKUP(N57,Arkusz3!A:E,5,0)","v":119},{"$f":"VLOOKUP(N57,Arkusz3!H:J,3,0)","v":14584},122.5546218487395,{"$f":"VLOOKUP(N57,Arkusz3!AN:AP,3,0)","v":2339.2600000000002}]
["6831511752","GMINA KŁAJ","12","19","032","32015","Kłaj","Kłaj",null,"655","GMINA",1219032,{"$f":"VLOOKUP(L58,Arkusz3!A:K,2,0)","v":"  Kłaj.........................................................................................................................................................................................................................................................."},1219032,{"$f":"VLOOKUP(N58,Arkusz3!A:E,5,0)","v":65},{"$f":"VLOOKUP(N58,Arkusz3!H:J,3,0)","v":11104},170.83076923076922,{"$f":"VLOOKUP(N58,Arkusz3!AN:AP,3,0)","v":2096.94}]
["6821605658","GMINA KOCMYRZÓW-LUBORZYCA","12","06","052","32010","Luborzyca","Luborzyca",null,"97","GMINA",1206052,{"$f":"VLOOKUP(L59,Arkusz3!A:K,2,0)","v":"  Kocmyrzów-Luborzyca.........................................................................................................................................................................................................................................................."},1206052,{"$f":"VLOOKUP(N59,Arkusz3!A:E,5,0)","v":81},{"$f":"VLOOKUP(N59,Arkusz3!H:J,3,0)","v":17961},221.74074074074073,{"$f":"VLOOKUP(N59,Arkusz3!AN:AP,3,0)","v":2061.69}]
["6821773580","GMINA KONIUSZA","12","14","012","32104","Koniusza","Koniusza",null,"55        ","GMINA",1214012,{"$f":"VLOOKUP(L60,Arkusz3!A:K,2,0)","v":"  Koniusza.........................................................................................................................................................................................................................................................."},1214012,{"$f":"VLOOKUP(N60,Arkusz3!A:E,5,0)","v":89},{"$f":"VLOOKUP(N60,Arkusz3!H:J,3,0)","v":9063},101.8314606741573,{"$f":"VLOOKUP(N60,Arkusz3!AN:AP,3,0)","v":1309.5899999999999}]
["7343483272","GMINA KORZENNA","12","10","062","33322","Korzenna","Korzenna",null,"325","GMINA",1210062,{"$f":"VLOOKUP(L61,Arkusz3!A:K,2,0)","v":"  Korzenna.........................................................................................................................................................................................................................................................."},1210062,{"$f":"VLOOKUP(N61,Arkusz3!A:E,5,0)","v":107},{"$f":"VLOOKUP(N61,Arkusz3!H:J,3,0)","v":14364},134.24299065420561,{"$f":"VLOOKUP(N61,Arkusz3!AN:AP,3,0)","v":813.34}]
["6821606646","GMINA KOSZYCE","12","14","024","32130","Koszyce","Koszyce","ul. Elżbiety Łokietkówny","14        ","GMINA",1214024,{"$f":"VLOOKUP(L62,Arkusz3!A:K,2,0)","v":""},1214023,{"$f":"VLOOKUP(N62,Arkusz3!A:E,5,0)","v":66},{"$f":"VLOOKUP(N62,Arkusz3!H:J,3,0)","v":5269},79.833333333333329,{"$f":"VLOOKUP(N62,Arkusz3!AN:AP,3,0)","v":1141.8800000000001}]
["7361699456","GMINA KOŚCIELISKO","12","17","042","34511","Kościelisko","Kościelisko","ul. Strzelców Podhalańskich","44","GMINA",1217042,{"$f":"VLOOKUP(L63,Arkusz3!A:K,2,0)","v":"  Kościelisko.........................................................................................................................................................................................................................................................."},1217042,{"$f":"VLOOKUP(N63,Arkusz3!A:E,5,0)","v":137},{"$f":"VLOOKUP(N63,Arkusz3!H:J,3,0)","v":9062},66.145985401459853,{"$f":"VLOOKUP(N63,Arkusz3!AN:AP,3,0)","v":1928.12}]
["6591174001","GMINA KOZŁÓW","12","08","032","32241","Kozłów","Kozłów",null,"60        ","GMINA",1208032,{"$f":"VLOOKUP(L64,Arkusz3!A:K,2,0)","v":"  Kozłów.........................................................................................................................................................................................................................................................."},1208032,{"$f":"VLOOKUP(N64,Arkusz3!A:E,5,0)","v":86},{"$f":"VLOOKUP(N64,Arkusz3!H:J,3,0)","v":4440},51.627906976744185,{"$f":"VLOOKUP(N64,Arkusz3!AN:AP,3,0)","v":955.23}]
["7352849761","GMINA KROŚCIENKO NAD DUNAJCEM","12","11","062","34450","Krościenko nad Dunajcem","Krościenko nad Dunajcem","ul. Rynek","35","GMINA",1211062,{"$f":"VLOOKUP(L65,Arkusz3!A:K,2,0)","v":"  Krościenko nad Dunajcem.........................................................................................................................................................................................................................................................."},1211062,{"$f":"VLOOKUP(N65,Arkusz3!A:E,5,0)","v":57},{"$f":"VLOOKUP(N65,Arkusz3!H:J,3,0)","v":6670},117.01754385964912,{"$f":"VLOOKUP(N65,Arkusz3!AN:AP,3,0)","v":1035.76}]
["7343543100","GMINA KRYNICA -ZDRÓJ","12","10","074","33380","Krynica-Zdrój","Krynica-Zdrój","ul. Józefa Ignacego Kraszewskiego","7","GMINA",1210074,{"$f":"VLOOKUP(L66,Arkusz3!A:K,2,0)","v":""},1210073,{"$f":"VLOOKUP(N66,Arkusz3!A:E,5,0)","v":145},{"$f":"VLOOKUP(N66,Arkusz3!H:J,3,0)","v":15762},108.70344827586207,{"$f":"VLOOKUP(N66,Arkusz3!AN:AP,3,0)","v":2018.39}]
["5130233774","GMINA KRZESZOWICE","12","06","064","32065","Krzeszowice","Krzeszowice","ul. Grunwaldzka","4","GMINA",{"$f":"C67*100000+D67*1000+E67","v":1206064},{"$f":"VLOOKUP(L67,Arkusz3!A:K,2,0)","v":""},{"$f":"IF(M67=M$1,L67-1,IF(M67=N$1,L67-2,L67))","v":1206063},{"$f":"VLOOKUP(N67,Arkusz3!A:E,5,0)","v":139},{"$f":"VLOOKUP(N67,Arkusz3!H:J,3,0)","v":31909},{"$f":"P67/O67","v":229.56115107913669},{"$f":"VLOOKUP(N67,Arkusz3!AN:AP,3,0)","v":1835.19}]
["6591186961","GMINA KSIĄŻ WIELKI","12","08","042","32210","Książ Wielki","Książ Wielki","ul. Warszawska","17","GMINA",1208042,{"$f":"VLOOKUP(L68,Arkusz3!A:K,2,0)","v":"  Książ Wielki.........................................................................................................................................................................................................................................................."},1208042,{"$f":"VLOOKUP(N68,Arkusz3!A:E,5,0)","v":138},{"$f":"VLOOKUP(N68,Arkusz3!H:J,3,0)","v":4879},35.355072463768117,{"$f":"VLOOKUP(N68,Arkusz3!AN:AP,3,0)","v":1283.48}]
["5511158242","GMINA LANCKORONA","12","18","042","34143","Lanckorona","Lanckorona","ul. Krakowska",8,"GMINA",1218042,{"$f":"VLOOKUP(L69,Arkusz3!A:K,2,0)","v":"  Lanckorona.........................................................................................................................................................................................................................................................."},1218042,{"$f":"VLOOKUP(N69,Arkusz3!A:E,5,0)","v":40},{"$f":"VLOOKUP(N69,Arkusz3!H:J,3,0)","v":6249},156.22499999999999,{"$f":"VLOOKUP(N69,Arkusz3!AN:AP,3,0)","v":1184.1300000000001}]
["7371283697","GMINA LASKOWA","12","07","062","34602","Laskowa","Laskowa",null,"643","GMINA",1207062,{"$f":"VLOOKUP(L70,Arkusz3!A:K,2,0)","v":"  Laskowa.........................................................................................................................................................................................................................................................."},1207062,{"$f":"VLOOKUP(N70,Arkusz3!A:E,5,0)","v":72},{"$f":"VLOOKUP(N70,Arkusz3!H:J,3,0)","v":8185},113.68055555555556,{"$f":"VLOOKUP(N70,Arkusz3!AN:AP,3,0)","v":1279.54}]
["6282260168","GMINA LIBIĄŻ","12","03","044","32590","Libiąż","Libiąż","ul. Działkowa","1","GMINA",1203044,{"$f":"VLOOKUP(L71,Arkusz3!A:K,2,0)","v":""},1203043,{"$f":"VLOOKUP(N71,Arkusz3!A:E,5,0)","v":57},{"$f":"VLOOKUP(N71,Arkusz3!H:J,3,0)","v":21298},373.64912280701753,{"$f":"VLOOKUP(N71,Arkusz3!AN:AP,3,0)","v":2070.58}]
["7371004591","MIASTO LIMANOWA","12","07","011","34600","Limanowa","Limanowa","ul. Jana Pawła II","9","GMINA",1207011,{"$f":"VLOOKUP(L72,Arkusz3!A:K,2,0)","v":"  Limanowa.........................................................................................................................................................................................................................................................."},1207011,{"$f":"VLOOKUP(N72,Arkusz3!A:E,5,0)","v":19},{"$f":"VLOOKUP(N72,Arkusz3!H:J,3,0)","v":14514},763.89473684210532,{"$f":"VLOOKUP(N72,Arkusz3!AN:AP,3,0)","v":2275.5300000000002}]
["7371188119","GMINA LIMANOWA","12","07","072","34600","Limanowa","Limanowa","ul. Matki Boskiej Bolesnej","18 B","GMINA",1207072,{"$f":"VLOOKUP(L73,Arkusz3!A:K,2,0)","v":"  Limanowa.........................................................................................................................................................................................................................................................."},1207072,{"$f":"VLOOKUP(N73,Arkusz3!A:E,5,0)","v":152},{"$f":"VLOOKUP(N73,Arkusz3!H:J,3,0)","v":25912},170.47368421052633,{"$f":"VLOOKUP(N73,Arkusz3!AN:AP,3,0)","v":1133.6600000000001}]
["6851648081","GMINA LIPINKI","12","05","052","38305","Lipinki","Lipinki",null,57,"GMINA",1205052,{"$f":"VLOOKUP(L74,Arkusz3!A:K,2,0)","v":"  Lipinki.........................................................................................................................................................................................................................................................."},1205052,{"$f":"VLOOKUP(N74,Arkusz3!A:E,5,0)","v":66},{"$f":"VLOOKUP(N74,Arkusz3!H:J,3,0)","v":6714},101.72727272727273,{"$f":"VLOOKUP(N74,Arkusz3!AN:AP,3,0)","v":819.94}]
["8681021288","GMINA LIPNICA MUROWANA","12","01","042","32724","Lipnica Murowana","Lipnica Murowana",null,"44","GMINA",1201042,{"$f":"VLOOKUP(L75,Arkusz3!A:K,2,0)","v":"  Lipnica Murowana.........................................................................................................................................................................................................................................................."},1201042,{"$f":"VLOOKUP(N75,Arkusz3!A:E,5,0)","v":60},{"$f":"VLOOKUP(N75,Arkusz3!H:J,3,0)","v":5551},92.516666666666666,{"$f":"VLOOKUP(N75,Arkusz3!AN:AP,3,0)","v":958.98}]
["7352841452","GMINA LIPNICA WIELKA","12","11","072","34483","Lipnica Wielka","Lipnica Wielka",null,"518","GMINA",1211072,{"$f":"VLOOKUP(L76,Arkusz3!A:K,2,0)","v":"  Lipnica Wielka.........................................................................................................................................................................................................................................................."},1211072,{"$f":"VLOOKUP(N76,Arkusz3!A:E,5,0)","v":67},{"$f":"VLOOKUP(N76,Arkusz3!H:J,3,0)","v":6058},90.417910447761187,{"$f":"VLOOKUP(N76,Arkusz3!AN:AP,3,0)","v":639.15}]
["9930658661","GMINA LISIA GÓRA","12","16","032","33140","Lisia Góra","Lisia Góra","ul. 1 Maja","7","GMINA",1216032,{"$f":"VLOOKUP(L77,Arkusz3!A:K,2,0)","v":"  Lisia Góra.........................................................................................................................................................................................................................................................."},1216032,{"$f":"VLOOKUP(N77,Arkusz3!A:E,5,0)","v":105},{"$f":"VLOOKUP(N77,Arkusz3!H:J,3,0)","v":15537},147.97142857142856,{"$f":"VLOOKUP(N77,Arkusz3!AN:AP,3,0)","v":1301.8599999999999}]
["9442243129","GMINA LISZKI","12","06","072","32060","Liszki","Liszki",null,"230","GMINA",1206072,{"$f":"VLOOKUP(L78,Arkusz3!A:K,2,0)","v":"  Liszki.........................................................................................................................................................................................................................................................."},1206072,{"$f":"VLOOKUP(N78,Arkusz3!A:E,5,0)","v":72},{"$f":"VLOOKUP(N78,Arkusz3!H:J,3,0)","v":18416},255.77777777777777,{"$f":"VLOOKUP(N78,Arkusz3!AN:AP,3,0)","v":2030.16}]
["7351071414","GMINA LUBIEŃ","12","09","022","32433","Lubień","Lubień",null,"50","GMINA",1209022,{"$f":"VLOOKUP(L79,Arkusz3!A:K,2,0)","v":"  Lubień.........................................................................................................................................................................................................................................................."},1209022,{"$f":"VLOOKUP(N79,Arkusz3!A:E,5,0)","v":75},{"$f":"VLOOKUP(N79,Arkusz3!H:J,3,0)","v":10073},134.30666666666667,{"$f":"VLOOKUP(N79,Arkusz3!AN:AP,3,0)","v":900.8}]
["7343517410","GMINA ŁABOWA","12","10","082","33336","Łabowa","Łabowa",null,38,"GMINA",1210082,{"$f":"VLOOKUP(L80,Arkusz3!A:K,2,0)","v":"  Łabowa.........................................................................................................................................................................................................................................................."},1210082,{"$f":"VLOOKUP(N80,Arkusz3!A:E,5,0)","v":119},{"$f":"VLOOKUP(N80,Arkusz3!H:J,3,0)","v":5960},50.084033613445378,{"$f":"VLOOKUP(N80,Arkusz3!AN:AP,3,0)","v":1148.71}]
["8681021302","GMINA ŁAPANÓW","12","01","052","32740","Łapanów","Łapanów",null,"34","GMINA",1201052,{"$f":"VLOOKUP(L81,Arkusz3!A:K,2,0)","v":"  Łapanów.........................................................................................................................................................................................................................................................."},1201052,{"$f":"VLOOKUP(N81,Arkusz3!A:E,5,0)","v":72},{"$f":"VLOOKUP(N81,Arkusz3!H:J,3,0)","v":8570},119.02777777777777,{"$f":"VLOOKUP(N81,Arkusz3!AN:AP,3,0)","v":1256.04}]
["7352834759","GMINA ŁAPSZE NIŻNE","12","11","082","34442","Łapsze Niżne","Łapsze Niżne","ul. Jana Pawła II","20","GMINA",1211082,{"$f":"VLOOKUP(L82,Arkusz3!A:K,2,0)","v":"  Łapsze Niżne.........................................................................................................................................................................................................................................................."},1211082,{"$f":"VLOOKUP(N82,Arkusz3!A:E,5,0)","v":126},{"$f":"VLOOKUP(N82,Arkusz3!H:J,3,0)","v":9257},73.468253968253961,{"$f":"VLOOKUP(N82,Arkusz3!AN:AP,3,0)","v":1069.5}]
["7343514742","GMINA ŁĄCKO","12","10","092","33390","Łącko","Łącko",null,445,"GMINA",1210092,{"$f":"VLOOKUP(L83,Arkusz3!A:K,2,0)","v":"  Łącko.........................................................................................................................................................................................................................................................."},1210092,{"$f":"VLOOKUP(N83,Arkusz3!A:E,5,0)","v":132},{"$f":"VLOOKUP(N83,Arkusz3!H:J,3,0)","v":16652},126.15151515151516,{"$f":"VLOOKUP(N83,Arkusz3!AN:AP,3,0)","v":794.28}]
["7343472848","GMINA ŁOSOSINA DOLNA","12","10","102","33314","Łososina Dolna","Łososina Dolna",null,"300","GMINA",1210102,{"$f":"VLOOKUP(L84,Arkusz3!A:K,2,0)","v":"  Łososina Dolna.........................................................................................................................................................................................................................................................."},1210102,{"$f":"VLOOKUP(N84,Arkusz3!A:E,5,0)","v":85},{"$f":"VLOOKUP(N84,Arkusz3!H:J,3,0)","v":11163},131.3294117647059,{"$f":"VLOOKUP(N84,Arkusz3!AN:AP,3,0)","v":1519.1}]
["7371022962","GMINA ŁUKOWICA","12","07","082","34606","Łukowica","Łukowica",null,"334","GMINA",1207082,{"$f":"VLOOKUP(L85,Arkusz3!A:K,2,0)","v":"  Łukowica.........................................................................................................................................................................................................................................................."},1207082,{"$f":"VLOOKUP(N85,Arkusz3!A:E,5,0)","v":70},{"$f":"VLOOKUP(N85,Arkusz3!H:J,3,0)","v":10150},145,{"$f":"VLOOKUP(N85,Arkusz3!AN:AP,3,0)","v":801.87}]
["7381022314","GMINA ŁUŻNA","12","05","062","38322","Łużna","Łużna",null,"634","GMINA",1205062,{"$f":"VLOOKUP(L86,Arkusz3!A:K,2,0)","v":"  Łużna.........................................................................................................................................................................................................................................................."},1205062,{"$f":"VLOOKUP(N86,Arkusz3!A:E,5,0)","v":56},{"$f":"VLOOKUP(N86,Arkusz3!H:J,3,0)","v":8362},149.32142857142858,{"$f":"VLOOKUP(N86,Arkusz3!AN:AP,3,0)","v":759.8}]
["5521584963","GMINA MAKÓW PODHALAŃSKI","12","15","064","34220","Maków Podhalański","Maków Podhalański","ul. Szpitalna","3","GMINA",1215064,{"$f":"VLOOKUP(L87,Arkusz3!A:K,2,0)","v":""},1215063,{"$f":"VLOOKUP(N87,Arkusz3!A:E,5,0)","v":109},{"$f":"VLOOKUP(N87,Arkusz3!H:J,3,0)","v":15801},144.96330275229357,{"$f":"VLOOKUP(N87,Arkusz3!AN:AP,3,0)","v":1742.33}]
["8711770363","GMINA MĘDRZECHÓW","12","04","042","33221","Mędrzechów","Mędrzechów",null,"434","GMINA",1204042,{"$f":"VLOOKUP(L88,Arkusz3!A:K,2,0)","v":"  Mędrzechów.........................................................................................................................................................................................................................................................."},1204042,{"$f":"VLOOKUP(N88,Arkusz3!A:E,5,0)","v":44},{"$f":"VLOOKUP(N88,Arkusz3!H:J,3,0)","v":3336},75.818181818181813,{"$f":"VLOOKUP(N88,Arkusz3!AN:AP,3,0)","v":831.76}]
["5130060109","GMINA MICHAŁOWICE","12","06","082","32091","Michałowice","Michałowice","pl. Józefa Piłsudskiego","1         ","GMINA",1206082,{"$f":"VLOOKUP(L89,Arkusz3!A:K,2,0)","v":"  Michałowice.........................................................................................................................................................................................................................................................."},1206082,{"$f":"VLOOKUP(N89,Arkusz3!A:E,5,0)","v":51},{"$f":"VLOOKUP(N89,Arkusz3!H:J,3,0)","v":13173},258.29411764705884,{"$f":"VLOOKUP(N89,Arkusz3!AN:AP,3,0)","v":2563.9}]
["6590003697","GMINA MIECHÓW","12","08","054","32200","Miechów","Miechów","ul. Henryka Sienkiewicza","25","GMINA",1208054,{"$f":"VLOOKUP(L90,Arkusz3!A:K,2,0)","v":""},1208053,{"$f":"VLOOKUP(N90,Arkusz3!A:E,5,0)","v":148},{"$f":"VLOOKUP(N90,Arkusz3!H:J,3,0)","v":18802},127.04054054054055,{"$f":"VLOOKUP(N90,Arkusz3!AN:AP,3,0)","v":1615.37}]
["9442246027","GMINA MOGILANY","12","06","092","32031","Mogilany","Mogilany","rynek Rynek","2","GMINA",1206092,{"$f":"VLOOKUP(L91,Arkusz3!A:K,2,0)","v":"  Mogilany.........................................................................................................................................................................................................................................................."},1206092,{"$f":"VLOOKUP(N91,Arkusz3!A:E,5,0)","v":44},{"$f":"VLOOKUP(N91,Arkusz3!H:J,3,0)","v":16192},368,{"$f":"VLOOKUP(N91,Arkusz3!AN:AP,3,0)","v":2599.37}]
["7381021958","GMINA MOSZCZENICA","12","05","072","38321","Moszczenica","Moszczenica","ul. Samorządowa","4","GMINA",1205072,{"$f":"VLOOKUP(L92,Arkusz3!A:K,2,0)","v":"  Moszczenica.........................................................................................................................................................................................................................................................."},1205072,{"$f":"VLOOKUP(N92,Arkusz3!A:E,5,0)","v":38},{"$f":"VLOOKUP(N92,Arkusz3!H:J,3,0)","v":4897},128.86842105263159,{"$f":"VLOOKUP(N92,Arkusz3!AN:AP,3,0)","v":748.03}]
["7371008784","MIASTO MSZANA DOLNA","12","07","021","34730","Mszana Dolna","Mszana Dolna","ul. marsz. Józefa Piłsudskiego","2         ","GMINA",1207021,{"$f":"VLOOKUP(L93,Arkusz3!A:K,2,0)","v":"  Mszana Dolna.........................................................................................................................................................................................................................................................."},1207021,{"$f":"VLOOKUP(N93,Arkusz3!A:E,5,0)","v":27},{"$f":"VLOOKUP(N93,Arkusz3!H:J,3,0)","v":7817},289.51851851851853,{"$f":"VLOOKUP(N93,Arkusz3!AN:AP,3,0)","v":1719.88}]
["7371008991","GMINA MSZANA DOLNA","12","07","092","34730","Mszana Dolna","Mszana Dolna","ul. Spadochroniarzy","6","GMINA",1207092,{"$f":"VLOOKUP(L94,Arkusz3!A:K,2,0)","v":"  Mszana Dolna.........................................................................................................................................................................................................................................................."},1207092,{"$f":"VLOOKUP(N94,Arkusz3!A:E,5,0)","v":170},{"$f":"VLOOKUP(N94,Arkusz3!H:J,3,0)","v":17637},103.74705882352941,{"$f":"VLOOKUP(N94,Arkusz3!AN:AP,3,0)","v":1023.83}]
["5512618591","GMINA MUCHARZ","12","18","052","34106","Mucharz","Mucharz",null,"226","GMINA",1218052,{"$f":"VLOOKUP(L95,Arkusz3!A:K,2,0)","v":"  Mucharz.........................................................................................................................................................................................................................................................."},1218052,{"$f":"VLOOKUP(N95,Arkusz3!A:E,5,0)","v":37},{"$f":"VLOOKUP(N95,Arkusz3!H:J,3,0)","v":4153},112.24324324324324,{"$f":"VLOOKUP(N95,Arkusz3!AN:AP,3,0)","v":2023.01}]
["7343472601","MIASTO I GMINA UZDROWISKOWA MUSZYNA","12","10","114","33370","Muszyna","Muszyna","ul. Rynek","31","GMINA",1210114,{"$f":"VLOOKUP(L96,Arkusz3!A:K,2,0)","v":""},1210113,{"$f":"VLOOKUP(N96,Arkusz3!A:E,5,0)","v":141},{"$f":"VLOOKUP(N96,Arkusz3!H:J,3,0)","v":11148},79.063829787234042,{"$f":"VLOOKUP(N96,Arkusz3!AN:AP,3,0)","v":1766.27}]
["6811004414","GMINA MYŚLENICE","12","09","034","32400","Myślenice","Myślenice","Rynek","8/9","GMINA",1209034,{"$f":"VLOOKUP(L97,Arkusz3!A:K,2,0)","v":""},1209033,{"$f":"VLOOKUP(N97,Arkusz3!A:E,5,0)","v":154},{"$f":"VLOOKUP(N97,Arkusz3!H:J,3,0)","v":45403},294.8246753246753,{"$f":"VLOOKUP(N97,Arkusz3!AN:AP,3,0)","v":1992.05}]
["7343450806","GMINA NAWOJOWA","12","10","122","33335","Nawojowa","Nawojowa","ul. Ogrodowa","2","GMINA",1210122,{"$f":"VLOOKUP(L98,Arkusz3!A:K,2,0)","v":"  Nawojowa.........................................................................................................................................................................................................................................................."},1210122,{"$f":"VLOOKUP(N98,Arkusz3!A:E,5,0)","v":50},{"$f":"VLOOKUP(N98,Arkusz3!H:J,3,0)","v":8843},176.86,{"$f":"VLOOKUP(N98,Arkusz3!AN:AP,3,0)","v":1367.43}]
["7371152618","GMINA NIEDŹWIEDŹ","12","07","102","34735","Niedźwiedź","Niedźwiedź",null,233,"GMINA",1207102,{"$f":"VLOOKUP(L99,Arkusz3!A:K,2,0)","v":"  Niedźwiedź.........................................................................................................................................................................................................................................................."},1207102,{"$f":"VLOOKUP(N99,Arkusz3!A:E,5,0)","v":74},{"$f":"VLOOKUP(N99,Arkusz3!H:J,3,0)","v":7333},99.094594594594597,{"$f":"VLOOKUP(N99,Arkusz3!AN:AP,3,0)","v":895.1}]
["6831395375","GMINA NIEPOŁOMICE","12","19","044","32005","Niepołomice","Niepołomice","ul. Plac Zwycięstwa","13","GMINA",1219044,{"$f":"VLOOKUP(L100,Arkusz3!A:K,2,0)","v":""},1219043,{"$f":"VLOOKUP(N100,Arkusz3!A:E,5,0)","v":96},{"$f":"VLOOKUP(N100,Arkusz3!H:J,3,0)","v":32781},341.46875,{"$f":"VLOOKUP(N100,Arkusz3!AN:AP,3,0)","v":3387.45}]
["6821773870","GMINA NOWE BRZESKO","12","14","034","32120","Nowe Brzesko","Nowe Brzesko","ul. Krakowska","44","GMINA",1214034,{"$f":"VLOOKUP(L101,Arkusz3!A:K,2,0)","v":""},1214033,{"$f":"VLOOKUP(N101,Arkusz3!A:E,5,0)","v":54},{"$f":"VLOOKUP(N101,Arkusz3!H:J,3,0)","v":5652},104.66666666666667,{"$f":"VLOOKUP(N101,Arkusz3!AN:AP,3,0)","v":1264.8800000000001}]
["7350014012","GMINA MIASTO NOWY TARG","12","11","011","34400","Nowy Targ","Nowy Targ","ul. Krzywa","1","GMINA",1211011,{"$f":"VLOOKUP(L102,Arkusz3!A:K,2,0)","v":"  Nowy Targ.........................................................................................................................................................................................................................................................."},1211011,{"$f":"VLOOKUP(N102,Arkusz3!A:E,5,0)","v":51},{"$f":"VLOOKUP(N102,Arkusz3!H:J,3,0)","v":33103},649.07843137254906,{"$f":"VLOOKUP(N102,Arkusz3!AN:AP,3,0)","v":1919.47}]
["7352833352","GMINA NOWY TARG","12","11","092","34400","Nowy Targ","Nowy Targ","ul. Bulwarowa","9","GMINA",1211092,{"$f":"VLOOKUP(L103,Arkusz3!A:K,2,0)","v":"  Nowy Targ.........................................................................................................................................................................................................................................................."},1211092,{"$f":"VLOOKUP(N103,Arkusz3!A:E,5,0)","v":208},{"$f":"VLOOKUP(N103,Arkusz3!H:J,3,0)","v":24025},115.50480769230769,{"$f":"VLOOKUP(N103,Arkusz3!AN:AP,3,0)","v":879.2}]
["8681021360","GMINA NOWY WIŚNICZ","12","01","064","32720","Nowy Wiśnicz","Nowy Wiśnicz","rynek Rynek","38","GMINA",1201064,{"$f":"VLOOKUP(L104,Arkusz3!A:K,2,0)","v":""},1201063,{"$f":"VLOOKUP(N104,Arkusz3!A:E,5,0)","v":82},{"$f":"VLOOKUP(N104,Arkusz3!H:J,3,0)","v":14406},175.6829268292683,{"$f":"VLOOKUP(N104,Arkusz3!AN:AP,3,0)","v":1397.89}]
["7352834179","GMINA OCHOTNICA DOLNA","12","11","102","34452","Ochotnica Dolna","Ochotnica Dolna","os. Dłubacze","160       ","GMINA",1211102,{"$f":"VLOOKUP(L105,Arkusz3!A:K,2,0)","v":"  Ochotnica Dolna.........................................................................................................................................................................................................................................................."},1211102,{"$f":"VLOOKUP(N105,Arkusz3!A:E,5,0)","v":141},{"$f":"VLOOKUP(N105,Arkusz3!H:J,3,0)","v":8434},59.815602836879435,{"$f":"VLOOKUP(N105,Arkusz3!AN:AP,3,0)","v":1145.8900000000001}]
["8711771227","GMINA OLESNO","12","04","052","33210","Olesno","Olesno","ul. Wł. Jagiełły","1","GMINA",1204052,{"$f":"VLOOKUP(L106,Arkusz3!A:K,2,0)","v":"  Olesno.........................................................................................................................................................................................................................................................."},1204052,{"$f":"VLOOKUP(N106,Arkusz3!A:E,5,0)","v":78},{"$f":"VLOOKUP(N106,Arkusz3!H:J,3,0)","v":7681},98.474358974358978,{"$f":"VLOOKUP(N106,Arkusz3!AN:AP,3,0)","v":832.56}]
["6371998042","GMINA OLKUSZ","12","12","054","32300","Olkusz","Olkusz","Rynek","1         ","GMINA",1212054,{"$f":"VLOOKUP(L107,Arkusz3!A:K,2,0)","v":""},1212053,{"$f":"VLOOKUP(N107,Arkusz3!A:E,5,0)","v":151},{"$f":"VLOOKUP(N107,Arkusz3!H:J,3,0)","v":46076},305.13907284768214,{"$f":"VLOOKUP(N107,Arkusz3!AN:AP,3,0)","v":1852}]
["5492197435","GMINA OSIEK","12","13","052","32608","Osiek","Osiek","ul. Główna","125","GMINA",1213052,{"$f":"VLOOKUP(L108,Arkusz3!A:K,2,0)","v":"  Osiek.........................................................................................................................................................................................................................................................."},1213052,{"$f":"VLOOKUP(N108,Arkusz3!A:E,5,0)","v":41},{"$f":"VLOOKUP(N108,Arkusz3!H:J,3,0)","v":8156},198.92682926829269,{"$f":"VLOOKUP(N108,Arkusz3!AN:AP,3,0)","v":1417.48}]
["5492197458","MIASTO OŚWIĘCIM","12","13","011","32600","Oświęcim","Oświęcim","ul. Zaborska","2","GMINA",1213011,{"$f":"VLOOKUP(L109,Arkusz3!A:K,2,0)","v":"  Oświęcim.........................................................................................................................................................................................................................................................."},1213011,{"$f":"VLOOKUP(N109,Arkusz3!A:E,5,0)","v":30},{"$f":"VLOOKUP(N109,Arkusz3!H:J,3,0)","v":36048},1201.5999999999999,{"$f":"VLOOKUP(N109,Arkusz3!AN:AP,3,0)","v":2281.12}]
["5492198593","GMINA OŚWIĘCIM","12","13","062","32600","Oświęcim","Oświęcim","ul. Zamkowa","12","GMINA",1213062,{"$f":"VLOOKUP(L110,Arkusz3!A:K,2,0)","v":"  Oświęcim.........................................................................................................................................................................................................................................................."},1213062,{"$f":"VLOOKUP(N110,Arkusz3!A:E,5,0)","v":75},{"$f":"VLOOKUP(N110,Arkusz3!H:J,3,0)","v":18931},252.41333333333333,{"$f":"VLOOKUP(N110,Arkusz3!AN:AP,3,0)","v":1954.43}]
["6821635547","GMINA PAŁECZNICA","12","14","042","32109","Pałecznica","Pałecznica","ul. św. Jakuba","11","GMINA",1214042,{"$f":"VLOOKUP(L111,Arkusz3!A:K,2,0)","v":"  Pałecznica.........................................................................................................................................................................................................................................................."},1214042,{"$f":"VLOOKUP(N111,Arkusz3!A:E,5,0)","v":48},{"$f":"VLOOKUP(N111,Arkusz3!H:J,3,0)","v":3485},72.604166666666671,{"$f":"VLOOKUP(N111,Arkusz3!AN:AP,3,0)","v":1207.0899999999999}]
["6811355131","GMINA PCIM","12","09","042","32432","Pcim","Pcim",null,"563","GMINA",1209042,{"$f":"VLOOKUP(L112,Arkusz3!A:K,2,0)","v":"  Pcim.........................................................................................................................................................................................................................................................."},1209042,{"$f":"VLOOKUP(N112,Arkusz3!A:E,5,0)","v":89},{"$f":"VLOOKUP(N112,Arkusz3!H:J,3,0)","v":11124},124.98876404494382,{"$f":"VLOOKUP(N112,Arkusz3!AN:AP,3,0)","v":1280.75}]
["7343543904","MIASTO I GMINA PIWNICZNA-ZDRÓJ","12","10","134","33350","Piwniczna-Zdrój","Piwniczna-Zdrój","ul. Rynek","20","GMINA",1210134,{"$f":"VLOOKUP(L113,Arkusz3!A:K,2,0)","v":""},1210133,{"$f":"VLOOKUP(N113,Arkusz3!A:E,5,0)","v":126},{"$f":"VLOOKUP(N113,Arkusz3!H:J,3,0)","v":10032},79.61904761904762,{"$f":"VLOOKUP(N113,Arkusz3!AN:AP,3,0)","v":1079.26}]
["8732978229","GMINA PLEŚNA","12","16","042","33171","Pleśna","Pleśna",null,"240","GMINA",1216042,{"$f":"VLOOKUP(L114,Arkusz3!A:K,2,0)","v":"  Pleśna.........................................................................................................................................................................................................................................................."},1216042,{"$f":"VLOOKUP(N114,Arkusz3!A:E,5,0)","v":83},{"$f":"VLOOKUP(N114,Arkusz3!H:J,3,0)","v":11771},141.81927710843374,{"$f":"VLOOKUP(N114,Arkusz3!AN:AP,3,0)","v":1042.06}]
["7343456306","GMINA PODEGRODZIE","12","10","142","33386","Podegrodzie","Podegrodzie",null,"248","GMINA",1210142,{"$f":"VLOOKUP(L115,Arkusz3!A:K,2,0)","v":"  Podegrodzie.........................................................................................................................................................................................................................................................."},1210142,{"$f":"VLOOKUP(N115,Arkusz3!A:E,5,0)","v":65},{"$f":"VLOOKUP(N115,Arkusz3!H:J,3,0)","v":13535},208.23076923076923,{"$f":"VLOOKUP(N115,Arkusz3!AN:AP,3,0)","v":1203.45}]
["5492199463","GMINA POLANKA WIELKA","12","13","072","32607","Polanka Wielka","Polanka Wielka","ul. Długa","61","GMINA",1213072,{"$f":"VLOOKUP(L116,Arkusz3!A:K,2,0)","v":"  Polanka Wielka.........................................................................................................................................................................................................................................................."},1213072,{"$f":"VLOOKUP(N116,Arkusz3!A:E,5,0)","v":24},{"$f":"VLOOKUP(N116,Arkusz3!H:J,3,0)","v":4311},179.625,{"$f":"VLOOKUP(N116,Arkusz3!AN:AP,3,0)","v":1377.48}]
["7361705814","GMINA PORONIN","12","17","052","34520","Poronin","Poronin","ul. Józefa Piłsudskiego","5","GMINA",1217052,{"$f":"VLOOKUP(L117,Arkusz3!A:K,2,0)","v":"  Poronin.........................................................................................................................................................................................................................................................."},1217052,{"$f":"VLOOKUP(N117,Arkusz3!A:E,5,0)","v":84},{"$f":"VLOOKUP(N117,Arkusz3!H:J,3,0)","v":11778},140.21428571428572,{"$f":"VLOOKUP(N117,Arkusz3!AN:AP,3,0)","v":1271.02}]
["6821604469","GMINA PROSZOWICE","12","14","054","32100","Proszowice","Proszowice","ul. 3 Maja","72","GMINA",1214054,{"$f":"VLOOKUP(L118,Arkusz3!A:K,2,0)","v":""},1214053,{"$f":"VLOOKUP(N118,Arkusz3!A:E,5,0)","v":100},{"$f":"VLOOKUP(N118,Arkusz3!H:J,3,0)","v":15587},155.87,{"$f":"VLOOKUP(N118,Arkusz3!AN:AP,3,0)","v":1362.88}]
["5492197487","GMINA PRZECISZÓW","12","13","082","32641","Przeciszów","Przeciszów","ul. Podlesie","1","GMINA",1213082,{"$f":"VLOOKUP(L119,Arkusz3!A:K,2,0)","v":"  Przeciszów.........................................................................................................................................................................................................................................................."},1213082,{"$f":"VLOOKUP(N119,Arkusz3!A:E,5,0)","v":35},{"$f":"VLOOKUP(N119,Arkusz3!H:J,3,0)","v":6413},183.22857142857143,{"$f":"VLOOKUP(N119,Arkusz3!AN:AP,3,0)","v":1603.99}]
["7352854845","GMINA RABA WYŻNA","12","11","112","34721","Raba Wyżna","Raba Wyżna",null,"41","GMINA",1211112,{"$f":"VLOOKUP(L120,Arkusz3!A:K,2,0)","v":"  Raba Wyżna.........................................................................................................................................................................................................................................................."},1211112,{"$f":"VLOOKUP(N120,Arkusz3!A:E,5,0)","v":89},{"$f":"VLOOKUP(N120,Arkusz3!H:J,3,0)","v":14448},162.3370786516854,{"$f":"VLOOKUP(N120,Arkusz3!AN:AP,3,0)","v":849.15}]
["7351006084","GMINA RABKA ZDRÓJ","12","11","124","34700","Rabka-Zdrój","Rabka-Zdrój","ul. Parkowa","2","GMINA",1211124,{"$f":"VLOOKUP(L121,Arkusz3!A:K,2,0)","v":""},1211123,{"$f":"VLOOKUP(N121,Arkusz3!A:E,5,0)","v":69},{"$f":"VLOOKUP(N121,Arkusz3!H:J,3,0)","v":16672},241.62318840579709,{"$f":"VLOOKUP(N121,Arkusz3!AN:AP,3,0)","v":1499.59}]
["6811359293","GMINA RACIECHOWICE","12","09","052","32415","Raciechowice","Raciechowice",null,"277       ","GMINA",1209052,{"$f":"VLOOKUP(L122,Arkusz3!A:K,2,0)","v":"  Raciechowice.........................................................................................................................................................................................................................................................."},1209052,{"$f":"VLOOKUP(N122,Arkusz3!A:E,5,0)","v":61},{"$f":"VLOOKUP(N122,Arkusz3!H:J,3,0)","v":6409},105.06557377049181,{"$f":"VLOOKUP(N122,Arkusz3!AN:AP,3,0)","v":1208.6300000000001}]
["6591184436","GMINA RACŁAWICE","12","08","062","32222","Racławice","Racławice",null,"15","GMINA",1208062,{"$f":"VLOOKUP(L123,Arkusz3!A:K,2,0)","v":"  Racławice.........................................................................................................................................................................................................................................................."},1208062,{"$f":"VLOOKUP(N123,Arkusz3!A:E,5,0)","v":59},{"$f":"VLOOKUP(N123,Arkusz3!H:J,3,0)","v":2427},41.135593220338983,{"$f":"VLOOKUP(N123,Arkusz3!AN:AP,3,0)","v":1225.68}]
["8711665525","GMINA RADGOSZCZ","12","04","062","33207","Radgoszcz","Radgoszcz","pl. św. Kazimierza","7-8       ","GMINA",1204062,{"$f":"VLOOKUP(L124,Arkusz3!A:K,2,0)","v":"  Radgoszcz.........................................................................................................................................................................................................................................................."},1204062,{"$f":"VLOOKUP(N124,Arkusz3!A:E,5,0)","v":88},{"$f":"VLOOKUP(N124,Arkusz3!H:J,3,0)","v":7473},84.920454545454547,{"$f":"VLOOKUP(N124,Arkusz3!AN:AP,3,0)","v":698.89}]
["8731001716","GMINA RADŁÓW","12","16","054","33130","Radłów","Radłów","ul. Kolejowa","7","GMINA",1216054,{"$f":"VLOOKUP(L125,Arkusz3!A:K,2,0)","v":""},1216053,{"$f":"VLOOKUP(N125,Arkusz3!A:E,5,0)","v":86},{"$f":"VLOOKUP(N125,Arkusz3!H:J,3,0)","v":9409},109.40697674418605,{"$f":"VLOOKUP(N125,Arkusz3!AN:AP,3,0)","v":1486.42}]
["6821762292","GMINA RADZIEMICE","12","14","062","32107","Radziemice","Radziemice",null,"74","GMINA",1214062,{"$f":"VLOOKUP(L126,Arkusz3!A:K,2,0)","v":"  Radziemice.........................................................................................................................................................................................................................................................."},1214062,{"$f":"VLOOKUP(N126,Arkusz3!A:E,5,0)","v":58},{"$f":"VLOOKUP(N126,Arkusz3!H:J,3,0)","v":3212},55.379310344827587,{"$f":"VLOOKUP(N126,Arkusz3!AN:AP,3,0)","v":1711.54}]
["7382130282","GMINA ROPA","12","05","082","38312","Ropa","Ropa",null,"733","GMINA",1205082,{"$f":"VLOOKUP(L127,Arkusz3!A:K,2,0)","v":"  Ropa.........................................................................................................................................................................................................................................................."},1205082,{"$f":"VLOOKUP(N127,Arkusz3!A:E,5,0)","v":49},{"$f":"VLOOKUP(N127,Arkusz3!H:J,3,0)","v":5513},112.51020408163265,{"$f":"VLOOKUP(N127,Arkusz3!AN:AP,3,0)","v":724.31}]
["9930337247","GMINA RYGLICE","12","16","064","33160","Ryglice","Ryglice","ul. Rynek","9         ","GMINA",1216064,{"$f":"VLOOKUP(L128,Arkusz3!A:K,2,0)","v":""},1216063,{"$f":"VLOOKUP(N128,Arkusz3!A:E,5,0)","v":117},{"$f":"VLOOKUP(N128,Arkusz3!H:J,3,0)","v":11256},96.205128205128204,{"$f":"VLOOKUP(N128,Arkusz3!AN:AP,3,0)","v":889.95}]
["7343517947","GMINA RYTRO","12","10","152","33343","Rytro","Rytro",null,"265","GMINA",1210152,{"$f":"VLOOKUP(L129,Arkusz3!A:K,2,0)","v":"  Rytro.........................................................................................................................................................................................................................................................."},1210152,{"$f":"VLOOKUP(N129,Arkusz3!A:E,5,0)","v":42},{"$f":"VLOOKUP(N129,Arkusz3!H:J,3,0)","v":3670},87.38095238095238,{"$f":"VLOOKUP(N129,Arkusz3!AN:AP,3,0)","v":1074.56}]
["9930656314","GMINA RZEPIENNIK STRZYŻEWSKI","12","16","072","33163","Rzepiennik Strzyżewski","Rzepiennik Strzyżewski",null,"400","GMINA",1216072,{"$f":"VLOOKUP(L130,Arkusz3!A:K,2,0)","v":"  Rzepiennik Strzyżewski.........................................................................................................................................................................................................................................................."},1216072,{"$f":"VLOOKUP(N130,Arkusz3!A:E,5,0)","v":71},{"$f":"VLOOKUP(N130,Arkusz3!H:J,3,0)","v":6572},92.563380281690144,{"$f":"VLOOKUP(N130,Arkusz3!AN:AP,3,0)","v":995.58}]
["8681021294","GMINA RZEZAWA","12","01","072","32765","Rzezawa","Rzezawa","ul. Długa","21","GMINA",{"$f":"C131*100000+D131*1000+E131","v":1201072},{"$f":"VLOOKUP(L131,Arkusz3!A:K,2,0)","v":"  Rzezawa.........................................................................................................................................................................................................................................................."},{"$f":"IF(M131=M$1,L131-1,IF(M131=N$1,L131-2,L131))","v":1201072},{"$f":"VLOOKUP(N131,Arkusz3!A:E,5,0)","v":86},{"$f":"VLOOKUP(N131,Arkusz3!H:J,3,0)","v":11389},{"$f":"P131/O131","v":132.43023255813952},{"$f":"VLOOKUP(N131,Arkusz3!AN:AP,3,0)","v":1155.0899999999999}]
["7381013686","GMINA SĘKOWA","12","05","092","38307","Sękowa","Sękowa",null,"252       ","GMINA",1205092,{"$f":"VLOOKUP(L132,Arkusz3!A:K,2,0)","v":"  Sękowa.........................................................................................................................................................................................................................................................."},1205092,{"$f":"VLOOKUP(N132,Arkusz3!A:E,5,0)","v":195},{"$f":"VLOOKUP(N132,Arkusz3!H:J,3,0)","v":4910},25.179487179487179,{"$f":"VLOOKUP(N132,Arkusz3!AN:AP,3,0)","v":1099.3399999999999}]
["6811299390","GMINA SIEPRAW","12","09","062","32447","Siepraw","Siepraw","ul. Kawęciny","30        ","GMINA",1209062,{"$f":"VLOOKUP(L133,Arkusz3!A:K,2,0)","v":"  Siepraw.........................................................................................................................................................................................................................................................."},1209062,{"$f":"VLOOKUP(N133,Arkusz3!A:E,5,0)","v":32},{"$f":"VLOOKUP(N133,Arkusz3!H:J,3,0)","v":9557},298.65625,{"$f":"VLOOKUP(N133,Arkusz3!AN:AP,3,0)","v":1782.85}]
["6771024094","GMINA SKAŁA","12","06","104","32043","Skała","Skała","Rynek","29","GMINA",1206104,{"$f":"VLOOKUP(L134,Arkusz3!A:K,2,0)","v":""},1206103,{"$f":"VLOOKUP(N134,Arkusz3!A:E,5,0)","v":75},{"$f":"VLOOKUP(N134,Arkusz3!H:J,3,0)","v":10942},145.89333333333335,{"$f":"VLOOKUP(N134,Arkusz3!AN:AP,3,0)","v":1415.66}]
["6791023301","GMINA SKAWINA","12","06","114","32050","Skawina","Skawina","Rynek","1","GMINA",1206114,{"$f":"VLOOKUP(L135,Arkusz3!A:K,2,0)","v":""},1206113,{"$f":"VLOOKUP(N135,Arkusz3!A:E,5,0)","v":100},{"$f":"VLOOKUP(N135,Arkusz3!H:J,3,0)","v":44025},440.25,{"$f":"VLOOKUP(N135,Arkusz3!AN:AP,3,0)","v":2634.82}]
["9930340717","GMINA SKRZYSZÓW","12","16","082","33156","Skrzyszów","Skrzyszów",null,"642","GMINA",1216082,{"$f":"VLOOKUP(L136,Arkusz3!A:K,2,0)","v":"  Skrzyszów.........................................................................................................................................................................................................................................................."},1216082,{"$f":"VLOOKUP(N136,Arkusz3!A:E,5,0)","v":86},{"$f":"VLOOKUP(N136,Arkusz3!H:J,3,0)","v":14155},164.59302325581396,{"$f":"VLOOKUP(N136,Arkusz3!AN:AP,3,0)","v":1481.93}]
["6591222510","GMINA SŁABOSZÓW","12","08","072","32218","Słaboszów","Słaboszów",null,"57","GMINA",1208072,{"$f":"VLOOKUP(L137,Arkusz3!A:K,2,0)","v":"  Słaboszów.........................................................................................................................................................................................................................................................."},1208072,{"$f":"VLOOKUP(N137,Arkusz3!A:E,5,0)","v":77},{"$f":"VLOOKUP(N137,Arkusz3!H:J,3,0)","v":3345},43.441558441558442,{"$f":"VLOOKUP(N137,Arkusz3!AN:AP,3,0)","v":1135.71}]
["6821604831","GMINA SŁOMNIKI","12","06","124","32090","Słomniki","Słomniki","ul. Tadeusza Kościuszki","64","GMINA",1206124,{"$f":"VLOOKUP(L138,Arkusz3!A:K,2,0)","v":""},1206123,{"$f":"VLOOKUP(N138,Arkusz3!A:E,5,0)","v":113},{"$f":"VLOOKUP(N138,Arkusz3!H:J,3,0)","v":13782},121.96460176991151,{"$f":"VLOOKUP(N138,Arkusz3!AN:AP,3,0)","v":1557.34}]
["7371410411","GMINA SŁOPNICE","12","07","112","34615","Słopnice","Słopnice",null,"911","GMINA",1207112,{"$f":"VLOOKUP(L139,Arkusz3!A:K,2,0)","v":"  Słopnice.........................................................................................................................................................................................................................................................."},1207112,{"$f":"VLOOKUP(N139,Arkusz3!A:E,5,0)","v":57},{"$f":"VLOOKUP(N139,Arkusz3!H:J,3,0)","v":6914},121.29824561403508,{"$f":"VLOOKUP(N139,Arkusz3!AN:AP,3,0)","v":833.65}]
["7352703193","GMINA SPYTKOWICE (pow. nowotarski)","12","11","132","34745","Spytkowice","Spytkowice",null,"26","GMINA",1211132,{"$f":"VLOOKUP(L140,Arkusz3!A:K,2,0)","v":"  Spytkowice.........................................................................................................................................................................................................................................................."},1211132,{"$f":"VLOOKUP(N140,Arkusz3!A:E,5,0)","v":32},{"$f":"VLOOKUP(N140,Arkusz3!H:J,3,0)","v":4692},146.625,{"$f":"VLOOKUP(N140,Arkusz3!AN:AP,3,0)","v":1158.6199999999999}]
["5511123930","GMINA SPYTKOWICE (pow. wadowicki)","12","18","062","34116","Spytkowice","Spytkowice","ul. Zamkowa","12","GMINA",1218062,{"$f":"VLOOKUP(L141,Arkusz3!A:K,2,0)","v":"  Spytkowice.........................................................................................................................................................................................................................................................."},1218062,{"$f":"VLOOKUP(N141,Arkusz3!A:E,5,0)","v":52},{"$f":"VLOOKUP(N141,Arkusz3!H:J,3,0)","v":10123},194.67307692307693,{"$f":"VLOOKUP(N141,Arkusz3!AN:AP,3,0)","v":1328.2}]
["7341009655","GMINA STARY SĄCZ","12","10","164","33340","Stary Sącz","Stary Sącz","ul. Stefana Batorego","25","GMINA",1210164,{"$f":"VLOOKUP(L142,Arkusz3!A:K,2,0)","v":""},1210163,{"$f":"VLOOKUP(N142,Arkusz3!A:E,5,0)","v":101},{"$f":"VLOOKUP(N142,Arkusz3!H:J,3,0)","v":23551},233.17821782178217,{"$f":"VLOOKUP(N142,Arkusz3!AN:AP,3,0)","v":1229.01}]
["5521707153","GMINA STRYSZAWA","12","15","072","34205","Stryszawa","Stryszawa",null,"17","GMINA",1215072,{"$f":"VLOOKUP(L143,Arkusz3!A:K,2,0)","v":"  Stryszawa.........................................................................................................................................................................................................................................................."},1215072,{"$f":"VLOOKUP(N143,Arkusz3!A:E,5,0)","v":114},{"$f":"VLOOKUP(N143,Arkusz3!H:J,3,0)","v":11906},104.43859649122807,{"$f":"VLOOKUP(N143,Arkusz3!AN:AP,3,0)","v":1275.6300000000001}]
["5511690907","GMINA STRYSZÓW","12","18","072","34146","Stryszów","Stryszów",null,"149","GMINA",1218072,{"$f":"VLOOKUP(L144,Arkusz3!A:K,2,0)","v":"  Stryszów.........................................................................................................................................................................................................................................................."},1218072,{"$f":"VLOOKUP(N144,Arkusz3!A:E,5,0)","v":46},{"$f":"VLOOKUP(N144,Arkusz3!H:J,3,0)","v":6801},147.84782608695653,{"$f":"VLOOKUP(N144,Arkusz3!AN:AP,3,0)","v":1138.0999999999999}]
["5521567404","GMINA SUCHA BESKIDZKA","12","15","021","34200","Sucha Beskidzka","Sucha Beskidzka","ul. Adama Mickiewicza","19","GMINA",1215021,{"$f":"VLOOKUP(L145,Arkusz3!A:K,2,0)","v":"  Sucha Beskidzka.........................................................................................................................................................................................................................................................."},1215021,{"$f":"VLOOKUP(N145,Arkusz3!A:E,5,0)","v":28},{"$f":"VLOOKUP(N145,Arkusz3!H:J,3,0)","v":8927},318.82142857142856,{"$f":"VLOOKUP(N145,Arkusz3!AN:AP,3,0)","v":2032.32}]
["6811036147","GMINA SUŁKOWICE","12","09","074","32440","Sułkowice","Sułkowice","Rynek","1         ","GMINA",1209074,{"$f":"VLOOKUP(L146,Arkusz3!A:K,2,0)","v":""},1209073,{"$f":"VLOOKUP(N146,Arkusz3!A:E,5,0)","v":60},{"$f":"VLOOKUP(N146,Arkusz3!H:J,3,0)","v":15160},252.66666666666666,{"$f":"VLOOKUP(N146,Arkusz3!AN:AP,3,0)","v":1237.97}]
["6771037576","GMINA SUŁOSZOWA","12","06","132","32045","Sułoszowa","Sułoszowa","ul. Krakowska","139","GMINA",1206132,{"$f":"VLOOKUP(L147,Arkusz3!A:K,2,0)","v":"  Sułoszowa.........................................................................................................................................................................................................................................................."},1206132,{"$f":"VLOOKUP(N147,Arkusz3!A:E,5,0)","v":53},{"$f":"VLOOKUP(N147,Arkusz3!H:J,3,0)","v":5702},107.58490566037736,{"$f":"VLOOKUP(N147,Arkusz3!AN:AP,3,0)","v":986.42}]
["7361198317","GMINA SZAFLARY","12","11","142","34424","Szaflary","Szaflary","ul. Zakopiańska","18","GMINA",1211142,{"$f":"VLOOKUP(L148,Arkusz3!A:K,2,0)","v":"  Szaflary.........................................................................................................................................................................................................................................................."},1211142,{"$f":"VLOOKUP(N148,Arkusz3!A:E,5,0)","v":54},{"$f":"VLOOKUP(N148,Arkusz3!H:J,3,0)","v":11254},208.40740740740742,{"$f":"VLOOKUP(N148,Arkusz3!AN:AP,3,0)","v":1116.3499999999999}]
["7351026738","MIASTO I GMINA SZCZAWNICA","12","11","024","34460","Szczawnica","Szczawnica","ul. Szalaya","103","GMINA",1211024,{"$f":"VLOOKUP(L149,Arkusz3!A:K,2,0)","v":""},1211023,{"$f":"VLOOKUP(N149,Arkusz3!A:E,5,0)","v":88},{"$f":"VLOOKUP(N149,Arkusz3!H:J,3,0)","v":6732},76.5,{"$f":"VLOOKUP(N149,Arkusz3!AN:AP,3,0)","v":1814.45}]
["8711769963","GMINA SZCZUCIN","12","04","074","33230","Szczucin","Szczucin","ul. Wolności","3","GMINA",1204074,{"$f":"VLOOKUP(L150,Arkusz3!A:K,2,0)","v":""},1204073,{"$f":"VLOOKUP(N150,Arkusz3!A:E,5,0)","v":119},{"$f":"VLOOKUP(N150,Arkusz3!H:J,3,0)","v":12529},105.28571428571429,{"$f":"VLOOKUP(N150,Arkusz3!AN:AP,3,0)","v":1096.68}]
["8691186401","GMINA SZCZUROWA","12","02","072","32820","Szczurowa","Szczurowa","ul. Lwowska","2","GMINA",1202072,{"$f":"VLOOKUP(L151,Arkusz3!A:K,2,0)","v":"  Szczurowa.........................................................................................................................................................................................................................................................."},1202072,{"$f":"VLOOKUP(N151,Arkusz3!A:E,5,0)","v":135},{"$f":"VLOOKUP(N151,Arkusz3!H:J,3,0)","v":9177},67.977777777777774,{"$f":"VLOOKUP(N151,Arkusz3!AN:AP,3,0)","v":1247.26}]
["9930337193","GMINA SZERZYNY","12","16","162","38246","Szerzyny","Szerzyny",null,"521","GMINA",1216162,{"$f":"VLOOKUP(L152,Arkusz3!A:K,2,0)","v":"  Szerzyny.........................................................................................................................................................................................................................................................."},1216162,{"$f":"VLOOKUP(N152,Arkusz3!A:E,5,0)","v":82},{"$f":"VLOOKUP(N152,Arkusz3!H:J,3,0)","v":7525},91.768292682926827,{"$f":"VLOOKUP(N152,Arkusz3!AN:AP,3,0)","v":800.15}]
["9442226987","GMINA ŚWIĄTNIKI GÓRNE","12","06","144","32040","Świątniki Górne","Świątniki Górne","ul. Kazimierza Bruchnalskiego","36","GMINA",1206144,{"$f":"VLOOKUP(L153,Arkusz3!A:K,2,0)","v":""},1206143,{"$f":"VLOOKUP(N153,Arkusz3!A:E,5,0)","v":20},{"$f":"VLOOKUP(N153,Arkusz3!H:J,3,0)","v":11097},554.85,{"$f":"VLOOKUP(N153,Arkusz3!AN:AP,3,0)","v":2460.41}]
["8731550848","GMINA TARNÓW","12","16","092","33100","Tarnów","Tarnów","ul. Krakowska","19","GMINA",1216092,{"$f":"VLOOKUP(L154,Arkusz3!A:K,2,0)","v":"  Tarnów.........................................................................................................................................................................................................................................................."},1216092,{"$f":"VLOOKUP(N154,Arkusz3!A:E,5,0)","v":83},{"$f":"VLOOKUP(N154,Arkusz3!H:J,3,0)","v":26359},317.57831325301203,{"$f":"VLOOKUP(N154,Arkusz3!AN:AP,3,0)","v":1926.63}]
["6811304607","GMINA TOKARNIA","12","09","082","32436","Tokarnia","Tokarnia",null,"380","GMINA",1209082,{"$f":"VLOOKUP(L155,Arkusz3!A:K,2,0)","v":"  Tokarnia.........................................................................................................................................................................................................................................................."},1209082,{"$f":"VLOOKUP(N155,Arkusz3!A:E,5,0)","v":69},{"$f":"VLOOKUP(N155,Arkusz3!H:J,3,0)","v":8789},127.37681159420291,{"$f":"VLOOKUP(N155,Arkusz3!AN:AP,3,0)","v":914.03}]
["5511163935","GMINA TOMICE","12","18","082","34100","Wadowice","Tomice","ul. Wadowicka","51        ","GMINA",1218082,{"$f":"VLOOKUP(L156,Arkusz3!A:K,2,0)","v":"  Tomice.........................................................................................................................................................................................................................................................."},1218082,{"$f":"VLOOKUP(N156,Arkusz3!A:E,5,0)","v":42},{"$f":"VLOOKUP(N156,Arkusz3!H:J,3,0)","v":8207},195.4047619047619,{"$f":"VLOOKUP(N156,Arkusz3!AN:AP,3,0)","v":1358.82}]
["8681021259","GMINA TRZCIANA","12","01","082","32733","Trzciana","Trzciana",null,"302","GMINA",1201082,{"$f":"VLOOKUP(L157,Arkusz3!A:K,2,0)","v":"  Trzciana.........................................................................................................................................................................................................................................................."},1201082,{"$f":"VLOOKUP(N157,Arkusz3!A:E,5,0)","v":44},{"$f":"VLOOKUP(N157,Arkusz3!H:J,3,0)","v":5679},129.06818181818181,{"$f":"VLOOKUP(N157,Arkusz3!AN:AP,3,0)","v":1199.03}]
["6282260122","GMINA TRZEBINIA","12","03","054","32540","Trzebinia","Trzebinia","ul. Marszałka Piłsudskiego","14","GMINA",1203054,{"$f":"VLOOKUP(L158,Arkusz3!A:K,2,0)","v":""},1203053,{"$f":"VLOOKUP(N158,Arkusz3!A:E,5,0)","v":105},{"$f":"VLOOKUP(N158,Arkusz3!H:J,3,0)","v":32596},310.43809523809523,{"$f":"VLOOKUP(N158,Arkusz3!AN:AP,3,0)","v":2396.84}]
["6372024112","GMINA TRZYCIĄŻ","12","12","062","32353","Trzyciąż","Trzyciąż",null,"99","GMINA",1212062,{"$f":"VLOOKUP(L159,Arkusz3!A:K,2,0)","v":"  Trzyciąż.........................................................................................................................................................................................................................................................."},1212062,{"$f":"VLOOKUP(N159,Arkusz3!A:E,5,0)","v":95},{"$f":"VLOOKUP(N159,Arkusz3!H:J,3,0)","v":6941},73.063157894736847,{"$f":"VLOOKUP(N159,Arkusz3!AN:AP,3,0)","v":1508.98}]
["9930336443","GMINA TUCHÓW","12","16","104","33170","Tuchów","Tuchów","ul. Rynek","1","GMINA",1216104,{"$f":"VLOOKUP(L160,Arkusz3!A:K,2,0)","v":""},1216103,{"$f":"VLOOKUP(N160,Arkusz3!A:E,5,0)","v":100},{"$f":"VLOOKUP(N160,Arkusz3!H:J,3,0)","v":17064},170.64,{"$f":"VLOOKUP(N160,Arkusz3!AN:AP,3,0)","v":1145.25}]
["7371362818","GMINA TYMBARK","12","07","122","34650","Tymbark","Tymbark",null,"49","GMINA",1207122,{"$f":"VLOOKUP(L161,Arkusz3!A:K,2,0)","v":"  Tymbark.........................................................................................................................................................................................................................................................."},1207122,{"$f":"VLOOKUP(N161,Arkusz3!A:E,5,0)","v":33},{"$f":"VLOOKUP(N161,Arkusz3!H:J,3,0)","v":6395},193.78787878787878,{"$f":"VLOOKUP(N161,Arkusz3!AN:AP,3,0)","v":1630.86}]
["7382144864","GMINA UŚCIE GORLICKIE","12","05","102","38315","Uście Gorlickie","Uście Gorlickie",null,"80","GMINA",1205102,{"$f":"VLOOKUP(L162,Arkusz3!A:K,2,0)","v":"  Uście Gorlickie.........................................................................................................................................................................................................................................................."},1205102,{"$f":"VLOOKUP(N162,Arkusz3!A:E,5,0)","v":287},{"$f":"VLOOKUP(N162,Arkusz3!H:J,3,0)","v":6811},23.73170731707317,{"$f":"VLOOKUP(N162,Arkusz3!AN:AP,3,0)","v":1128.7}]
["5511003597","GMINA WADOWICE","12","18","094","34100","Wadowice","Wadowice","pl. Jana Pawła II","23","GMINA",1218094,{"$f":"VLOOKUP(L163,Arkusz3!A:K,2,0)","v":""},1218093,{"$f":"VLOOKUP(N163,Arkusz3!A:E,5,0)","v":113},{"$f":"VLOOKUP(N163,Arkusz3!H:J,3,0)","v":36739},325.12389380530976,{"$f":"VLOOKUP(N163,Arkusz3!AN:AP,3,0)","v":1904.78}]
["6830011450","GMINA WIELICZKA","12","19","054","32020","Wieliczka","Wieliczka","ul. Powstania Warszawskiego","1","GMINA",1219054,{"$f":"VLOOKUP(L164,Arkusz3!A:K,2,0)","v":""},1219053,{"$f":"VLOOKUP(N164,Arkusz3!A:E,5,0)","v":100},{"$f":"VLOOKUP(N164,Arkusz3!H:J,3,0)","v":68028},680.28,{"$f":"VLOOKUP(N164,Arkusz3!AN:AP,3,0)","v":2255.4299999999998}]
["5130066230","GMINA WIELKA WIEŚ","12","06","152","32085","Modlnica","Szyce","pl. Plac Wspólnoty","1  ","GMINA",1206152,{"$f":"VLOOKUP(L165,Arkusz3!A:K,2,0)","v":"  Wielka Wieś.........................................................................................................................................................................................................................................................."},1206152,{"$f":"VLOOKUP(N165,Arkusz3!A:E,5,0)","v":48},{"$f":"VLOOKUP(N165,Arkusz3!H:J,3,0)","v":16445},342.60416666666669,{"$f":"VLOOKUP(N165,Arkusz3!AN:AP,3,0)","v":3826.67}]
["5511123841","GMINA WIEPRZ","12","18","102","34122","Wieprz","Wieprz","ul. Centralna","5","GMINA",1218102,{"$f":"VLOOKUP(L166,Arkusz3!A:K,2,0)","v":"  Wieprz.........................................................................................................................................................................................................................................................."},1218102,{"$f":"VLOOKUP(N166,Arkusz3!A:E,5,0)","v":75},{"$f":"VLOOKUP(N166,Arkusz3!H:J,3,0)","v":12712},169.49333333333334,{"$f":"VLOOKUP(N166,Arkusz3!AN:AP,3,0)","v":1267.92}]
["8731111741","GMINA WIERZCHOSŁAWICE","12","16","112","33122","Wierzchosławice","Wierzchosławice",null,"550","GMINA",1216112,{"$f":"VLOOKUP(L167,Arkusz3!A:K,2,0)","v":"  Wierzchosławice.........................................................................................................................................................................................................................................................."},1216112,{"$f":"VLOOKUP(N167,Arkusz3!A:E,5,0)","v":75},{"$f":"VLOOKUP(N167,Arkusz3!H:J,3,0)","v":10581},141.08000000000001,{"$f":"VLOOKUP(N167,Arkusz3!AN:AP,3,0)","v":1613.51}]
["9930652629","GMINA WIETRZYCHOWICE","12","16","122","33270","Wietrzychowice","Wietrzychowice",null,"19","GMINA",1216122,{"$f":"VLOOKUP(L168,Arkusz3!A:K,2,0)","v":"  Wietrzychowice.........................................................................................................................................................................................................................................................."},1216122,{"$f":"VLOOKUP(N168,Arkusz3!A:E,5,0)","v":48},{"$f":"VLOOKUP(N168,Arkusz3!H:J,3,0)","v":3759},78.3125,{"$f":"VLOOKUP(N168,Arkusz3!AN:AP,3,0)","v":799.82}]
["6811381938","GMINA WIŚNIOWA","12","09","092","32412","Wiśniowa","Wiśniowa",null,"441","GMINA",1209092,{"$f":"VLOOKUP(L169,Arkusz3!A:K,2,0)","v":"  Wiśniowa.........................................................................................................................................................................................................................................................."},1209092,{"$f":"VLOOKUP(N169,Arkusz3!A:E,5,0)","v":67},{"$f":"VLOOKUP(N169,Arkusz3!H:J,3,0)","v":7514},112.14925373134328,{"$f":"VLOOKUP(N169,Arkusz3!AN:AP,3,0)","v":1088.83}]
["8732630130","GMINA WOJNICZ","12","16","134","32830","Wojnicz","Wojnicz","ul. Rynek","1         ","GMINA",1216134,{"$f":"VLOOKUP(L170,Arkusz3!A:K,2,0)","v":""},1216133,{"$f":"VLOOKUP(N170,Arkusz3!A:E,5,0)","v":79},{"$f":"VLOOKUP(N170,Arkusz3!H:J,3,0)","v":13105},165.8860759493671,{"$f":"VLOOKUP(N170,Arkusz3!AN:AP,3,0)","v":1360.93}]
["6372003423","GMINA WOLBROM","12","12","074","32340","Wolbrom","Wolbrom","ul. Krakowska","1","GMINA",1212074,{"$f":"VLOOKUP(L171,Arkusz3!A:K,2,0)","v":""},1212073,{"$f":"VLOOKUP(N171,Arkusz3!A:E,5,0)","v":147},{"$f":"VLOOKUP(N171,Arkusz3!H:J,3,0)","v":22051},150.00680272108843,{"$f":"VLOOKUP(N171,Arkusz3!AN:AP,3,0)","v":2022.15}]
["6761706490","GMINA ZABIERZÓW","12","06","162","32080","Zabierzów","Zabierzów","Rynek","1","GMINA",1206162,{"$f":"VLOOKUP(L172,Arkusz3!A:K,2,0)","v":"  Zabierzów (a) .........................................................................................................................................................................................................................................................."},1206162,{"$f":"VLOOKUP(N172,Arkusz3!A:E,5,0)","v":99},{"$f":"VLOOKUP(N172,Arkusz3!H:J,3,0)","v":29267},295.62626262626264,{"$f":"VLOOKUP(N172,Arkusz3!AN:AP,3,0)","v":3324.4}]
["8691013238","GMINA ZAKLICZYN","12","16","144","32840","Zakliczyn","Zakliczyn","Rynek","32","GMINA",1216144,{"$f":"VLOOKUP(L173,Arkusz3!A:K,2,0)","v":""},1216143,{"$f":"VLOOKUP(N173,Arkusz3!A:E,5,0)","v":122},{"$f":"VLOOKUP(N173,Arkusz3!H:J,3,0)","v":12369},101.38524590163935,{"$f":"VLOOKUP(N173,Arkusz3!AN:AP,3,0)","v":1001.2}]
["7360007798","MIASTO ZAKOPANE","12","17","011","34500","Zakopane","Zakopane","ul. Tadeusza Kościuszki","13","GMINA",1217011,{"$f":"VLOOKUP(L174,Arkusz3!A:K,2,0)","v":"  Zakopane.........................................................................................................................................................................................................................................................."},1217011,{"$f":"VLOOKUP(N174,Arkusz3!A:E,5,0)","v":84},{"$f":"VLOOKUP(N174,Arkusz3!H:J,3,0)","v":25389},302.25,{"$f":"VLOOKUP(N174,Arkusz3!AN:AP,3,0)","v":2954.97}]
["5492197464","GMINA ZATOR","12","13","094","32640","Zator","Zator","pl. Marszałka Józefa Piłsudskiego","1         ","GMINA",1213094,{"$f":"VLOOKUP(L175,Arkusz3!A:K,2,0)","v":""},1213093,{"$f":"VLOOKUP(N175,Arkusz3!A:E,5,0)","v":52},{"$f":"VLOOKUP(N175,Arkusz3!H:J,3,0)","v":9123},175.44230769230768,{"$f":"VLOOKUP(N175,Arkusz3!AN:AP,3,0)","v":2288.3000000000002}]
["5521588530","GMINA ZAWOJA","12","15","082","34222","Zawoja","Zawoja",null,"1307","GMINA",1215082,{"$f":"VLOOKUP(L176,Arkusz3!A:K,2,0)","v":"  Zawoja.........................................................................................................................................................................................................................................................."},1215082,{"$f":"VLOOKUP(N176,Arkusz3!A:E,5,0)","v":128},{"$f":"VLOOKUP(N176,Arkusz3!H:J,3,0)","v":8837},69.0390625,{"$f":"VLOOKUP(N176,Arkusz3!AN:AP,3,0)","v":1230.25}]
["5521576805","GMINA ZEMBRZYCE","12","15","092","34210","Zembrzyce","Zembrzyce",null,"540","GMINA",1215092,{"$f":"VLOOKUP(L177,Arkusz3!A:K,2,0)","v":"  Zembrzyce.........................................................................................................................................................................................................................................................."},1215092,{"$f":"VLOOKUP(N177,Arkusz3!A:E,5,0)","v":39},{"$f":"VLOOKUP(N177,Arkusz3!H:J,3,0)","v":5415},138.84615384615384,{"$f":"VLOOKUP(N177,Arkusz3!AN:AP,3,0)","v":1300.67}]
["5130038162","GMINA ZIELONKI","12","06","172","32087","Zielonki","Zielonki","ul. Krakowskie Przedmieście","116","GMINA",1206172,{"$f":"VLOOKUP(L178,Arkusz3!A:K,2,0)","v":"  Zielonki.........................................................................................................................................................................................................................................................."},1206172,{"$f":"VLOOKUP(N178,Arkusz3!A:E,5,0)","v":49},{"$f":"VLOOKUP(N178,Arkusz3!H:J,3,0)","v":27158},554.24489795918362,{"$f":"VLOOKUP(N178,Arkusz3!AN:AP,3,0)","v":2805.25}]
["9930370109","GMINA ŻABNO","12","16","154","33240","Żabno","Żabno","ul. Władysława Jagiełły","1         ","GMINA",1216154,{"$f":"VLOOKUP(L179,Arkusz3!A:K,2,0)","v":""},1216153,{"$f":"VLOOKUP(N179,Arkusz3!A:E,5,0)","v":102},{"$f":"VLOOKUP(N179,Arkusz3!H:J,3,0)","v":18504},181.41176470588235,{"$f":"VLOOKUP(N179,Arkusz3!AN:AP,3,0)","v":1586.59}]
["8681021319","GMINA ŻEGOCINA","12","01","092","32731","Żegocina","Żegocina",null,"316","GMINA",1201092,{"$f":"VLOOKUP(L180,Arkusz3!A:K,2,0)","v":"  Żegocina.........................................................................................................................................................................................................................................................."},1201092,{"$f":"VLOOKUP(N180,Arkusz3!A:E,5,0)","v":35},{"$f":"VLOOKUP(N180,Arkusz3!H:J,3,0)","v":5529},157.97142857142856,{"$f":"VLOOKUP(N180,Arkusz3!AN:AP,3,0)","v":1103.6300000000001}]
["8681599283","POWIAT BOCHEŃSKI","12","01","011","32700","Bochnia","Bochnia","ul. Kazimierza Wielkiego","31","POWIAT","1201",null,{"$f":"L181*1000","v":1201000},{"$f":"VLOOKUP(L181,Arkusz3!L:T,5,0)","v":649},{"$f":"VLOOKUP(N181,Arkusz3!H:J,3,0)","v":106878},164.68104776579352,{"$f":"VLOOKUP(N181,Arkusz3!AW:AY,3,0)","v":228.01}]
["8691652725","POWIAT BRZESKI","12","02","024","32800","Brzesko","Brzesko","ul. Bartosza Głowackiego","51","POWIAT","1202",null,{"$f":"L182*1000","v":1202000},{"$f":"VLOOKUP(L182,Arkusz3!L:T,5,0)","v":591},{"$f":"VLOOKUP(N182,Arkusz3!H:J,3,0)","v":91823},155.36886632825718,{"$f":"VLOOKUP(N182,Arkusz3!AW:AY,3,0)","v":187.64}]
["6281715276","POWIAT CHRZANOWSKI","12","03","034","32500","Chrzanów","Chrzanów","ul. Partyzantów","2","POWIAT","1203",null,1203000,{"$f":"VLOOKUP(L183,Arkusz3!L:T,5,0)","v":370},{"$f":"VLOOKUP(N183,Arkusz3!H:J,3,0)","v":119719},323.56486486486489,{"$f":"VLOOKUP(N183,Arkusz3!AW:AY,3,0)","v":282.69}]
["8711771285","POWIAT DĄBROWSKI","12","04","024","33200","Dąbrowa Tarnowska","Dąbrowa Tarnowska","ul. Berka Joselewicza","5","POWIAT","1204",null,1204000,{"$f":"VLOOKUP(L184,Arkusz3!L:T,5,0)","v":530},{"$f":"VLOOKUP(N184,Arkusz3!H:J,3,0)","v":57809},109.07358490566038,{"$f":"VLOOKUP(N184,Arkusz3!AW:AY,3,0)","v":130.41}]
["7382150787","POWIAT GORLICKI","12","05","011","38300","Gorlice","Gorlice","ul. Biecka","3","POWIAT","1205",null,1205000,{"$f":"VLOOKUP(L185,Arkusz3!L:T,5,0)","v":966},{"$f":"VLOOKUP(N185,Arkusz3!H:J,3,0)","v":105782},109.50517598343686,{"$f":"VLOOKUP(N185,Arkusz3!AW:AY,3,0)","v":159.75}]
["6772364194","POWIAT KRAKOWSKI","12","61","029","30037","Kraków","Kraków","Aleja Juliusza Słowackiego","20","POWIAT","1206",null,1206000,{"$f":"VLOOKUP(L186,Arkusz3!L:T,5,0)","v":1231},{"$f":"VLOOKUP(N186,Arkusz3!H:J,3,0)","v":300289},243.93907392363931,{"$f":"VLOOKUP(N186,Arkusz3!AW:AY,3,0)","v":367.39}]
["7372206836","POWIAT LIMANOWSKI","12","07","011","34600","Limanowa","Limanowa","ul. Józefa Marka","9","POWIAT","1207",null,1207000,{"$f":"VLOOKUP(L187,Arkusz3!L:T,5,0)","v":951},{"$f":"VLOOKUP(N187,Arkusz3!H:J,3,0)","v":131549},138.32702418506835,{"$f":"VLOOKUP(N187,Arkusz3!AW:AY,3,0)","v":178.46}]
["6591545868","POWIAT MIECHOWSKI","12","08","054","32200","Miechów","Miechów","ul. Racławicka","12","POWIAT","1208",null,1208000,{"$f":"VLOOKUP(L188,Arkusz3!L:T,5,0)","v":676},{"$f":"VLOOKUP(N188,Arkusz3!H:J,3,0)","v":46998},69.523668639053255,{"$f":"VLOOKUP(N188,Arkusz3!AW:AY,3,0)","v":171.38}]
["6811692325","POWIAT MYŚLENICKI","12","09","034","32400","Myślenice","Myślenice","ul. Mikołaja Reja","13","POWIAT","1209",null,1209000,{"$f":"VLOOKUP(L189,Arkusz3!L:T,5,0)","v":673},{"$f":"VLOOKUP(N189,Arkusz3!H:J,3,0)","v":129538},192.47845468053492,{"$f":"VLOOKUP(N189,Arkusz3!AW:AY,3,0)","v":228.14}]
["7343544080","POWIAT NOWOSĄDECKI","12","62","011","33300","Nowy Sącz","Nowy Sącz","ul. Jagiellońska","33","POWIAT","1210",null,1210000,{"$f":"VLOOKUP(L190,Arkusz3!L:T,5,0)","v":1549},{"$f":"VLOOKUP(N190,Arkusz3!H:J,3,0)","v":214933},138.75597159457715,{"$f":"VLOOKUP(N190,Arkusz3!AW:AY,3,0)","v":172.93}]
["7352175044","POWIAT NOWOTARSKI","12","11","011","34400","Nowy Targ","Nowy Targ","ul. Bolesława Wstydliwego","14","POWIAT","1211",null,1211000,{"$f":"VLOOKUP(L191,Arkusz3!L:T,5,0)","v":1474},{"$f":"VLOOKUP(N191,Arkusz3!H:J,3,0)","v":190143},128.99796472184531,{"$f":"VLOOKUP(N191,Arkusz3!AW:AY,3,0)","v":152.72}]
["6372024678","POWIAT OLKUSKI","12","12","054","32300","Olkusz","Olkusz","ul. Adama Mickiewicza","2","POWIAT","1212",null,1212000,{"$f":"VLOOKUP(L192,Arkusz3!L:T,5,0)","v":618},{"$f":"VLOOKUP(N192,Arkusz3!H:J,3,0)","v":106843},172.88511326860842,{"$f":"VLOOKUP(N192,Arkusz3!AW:AY,3,0)","v":299.76}]
["5492197501","POWIAT OŚWIĘCIMSKI","12","13","011","32602","Oświęcim","Oświęcim","ul. Stanisława Wyspiańskiego","10","POWIAT","1213",null,1213000,{"$f":"VLOOKUP(L193,Arkusz3!L:T,5,0)","v":406},{"$f":"VLOOKUP(N193,Arkusz3!H:J,3,0)","v":149304},367.74384236453204,{"$f":"VLOOKUP(N193,Arkusz3!AW:AY,3,0)","v":278.85000000000002}]
["6821436782","POWIAT PROSZOWICKI","12","14","054","32100","Proszowice","Proszowice","ul. 3 Maja","72","POWIAT","1214",null,1214000,{"$f":"VLOOKUP(L194,Arkusz3!L:T,5,0)","v":415},{"$f":"VLOOKUP(N194,Arkusz3!H:J,3,0)","v":42268},101.85060240963855,{"$f":"VLOOKUP(N194,Arkusz3!AW:AY,3,0)","v":168.68}]
["5521427933","POWIAT SUSKI","12","15","021","34200","Sucha Beskidzka","Sucha Beskidzka","ul. Kościelna","5b","POWIAT","1215",null,1215000,{"$f":"VLOOKUP(L195,Arkusz3!L:T,5,0)","v":686},{"$f":"VLOOKUP(N195,Arkusz3!H:J,3,0)","v":83127},{"$f":"P195/O195","v":121.17638483965014},{"$f":"VLOOKUP(N195,Arkusz3!AW:AY,3,0)","v":205.68}]
["9930660913","POWIAT TARNOWSKI","12","63","011","33100","Tarnów","Tarnów","ul. Gabriela Narutowicza","38","POWIAT","1216",null,1216000,{"$f":"VLOOKUP(L196,Arkusz3!L:T,5,0)","v":1412},{"$f":"VLOOKUP(N196,Arkusz3!H:J,3,0)","v":197717},140.02620396600565,{"$f":"VLOOKUP(N196,Arkusz3!AW:AY,3,0)","v":170.7}]
["7361720593","POWIAT TATRZAŃSKI","12","17","011","34500","Zakopane","Zakopane","ul. Chramcówki","15","POWIAT","1217",null,1217000,{"$f":"VLOOKUP(L197,Arkusz3!L:T,5,0)","v":472},{"$f":"VLOOKUP(N197,Arkusz3!H:J,3,0)","v":66566},141.02966101694915,{"$f":"VLOOKUP(N197,Arkusz3!AW:AY,3,0)","v":206.45}]
["5512129478","POWIAT WADOWICKI","12","18","094","34100","Wadowice","Wadowice","ul. Batorego","2","POWIAT","1218",null,1218000,{"$f":"VLOOKUP(L198,Arkusz3!L:T,5,0)","v":646},{"$f":"VLOOKUP(N198,Arkusz3!H:J,3,0)","v":157855},244.35758513931887,{"$f":"VLOOKUP(N198,Arkusz3!AW:AY,3,0)","v":236.22}]
["6831742730","POWIAT WIELICKI","12","19","054","32020","Wieliczka","Wieliczka","ul. Rynek Górny","2","POWIAT","1219",null,1219000,{"$f":"VLOOKUP(L199,Arkusz3!L:T,5,0)","v":411},{"$f":"VLOOKUP(N199,Arkusz3!H:J,3,0)","v":142044},345.60583941605842,{"$f":"VLOOKUP(N199,Arkusz3!AW:AY,3,0)","v":349.43}]
["7343507021","NOWY SĄCZ - MIASTO NA PRAWACH POWIATU","12","62","011","33300","Nowy Sącz","Nowy Sącz","ul. Rynek","1","MNPP","1262",null,1262000,{"$f":"VLOOKUP(L200,Arkusz3!L:T,5,0)","v":58},{"$f":"VLOOKUP(N200,Arkusz3!H:J,3,0)","v":80587},1389.4310344827586,{"$f":"VLOOKUP(N200,Arkusz3!AW:AY,3,0)","v":337.72}]
["8731011086","TARNÓW - MIASTO NA PRAWACH POWIATU","12","63","011","33100","Tarnów","Tarnów","ul. Adama Mickiewicza","2","MNPP","1263",null,1263000,{"$f":"VLOOKUP(L201,Arkusz3!L:T,5,0)","v":72},{"$f":"VLOOKUP(N201,Arkusz3!H:J,3,0)","v":103960},1443.8888888888889,{"$f":"VLOOKUP(N201,Arkusz3!AW:AY,3,0)","v":278.92}]
["6761013717","GMINA MIEJSKA KRAKÓW-MIASTO NA PRAWACH POWIATU","12","61","059","31004","Kraków","Kraków","Plac Wszystkich Świętych","3-4","MNPP","1261",null,1261000,{"$f":"VLOOKUP(L202,Arkusz3!L:T,5,0)","v":327},{"$f":"VLOOKUP(N202,Arkusz3!H:J,3,0)","v":803282},2456.5198776758411,{"$f":"VLOOKUP(N202,Arkusz3!AW:AY,3,0)","v":537.71}]
["6762178337","WOJEWÓDZTWO MAŁOPOLSKIE","12","61","059","31156","Kraków","Kraków","ul. Basztowa","22","WOJEWÓDZTWO","12",null,{"$f":"L203*1000*100","v":1200000},{"$f":"VLOOKUP(L203,Arkusz3!W:AD,4,0)","v":15183},{"$f":"VLOOKUP(N203,Arkusz3!H:J,3,0)","v":3429014},225.84561680827241,{"$f":"VLOOKUP(N203,Arkusz3!AW:AY,3,0)","v":367.27}]

{"sheet":"Arkusz3","index":14,"n_rows":4876,"n_cols":53,"rows_kept":2250,"cut":true,"hidden":true,"merged":[[1,43,1,50],[2,31,2,41],[0,31,0,36],[0,43,0,48]],"bounds":{"rows_first":1000,"rows_last":250,"rows_between":1000,"halvings":1}}
["TABL.21.POWIERZCHNIA,LUDNOŚĆORAZLOKATYWEDŁUGGMIN\nAREA,POPULATIONANDRANKINGPOSITIONSBYGMINAS",null,null,null,null,null,null,null,null,null,null,"",null,null,null,null,null,null,null,null,null,null,"",null,null,null,null,null,null,null,null,"Warszawa, 15.10.2022 r.",null,null,null,null,null,null,null,null,null,null,null,"Warszawa, 15.10.2022 r."]
[null,null,null,null,null,null,null,null,null,null,null,null,null,null,null,null,null,null,null,null,null,null,null,null,null,null,null,null,null,null,null,null,null,null,null,null,null,null,null,null,null,null,null,"Wskaźnik P - podstawowych dochodów podatkowych  na 1 mieszkańca powiatu przyjęty do obliczania subwencji wyrównawczej na 2023 r."]
["","","",null,null,null,null,null,null,null,null,"",null,"","",null,"",null,"",null,null,null,"","","",null,"",null,"",null,null,"Wskaźnik G - podstawowych dochodów podatkowych  na 1 mieszkańca gminy przyjęty do obliczania subwencji wyrównawczej na 2023 r.",null,null,null,null,null,null,null,null,null,null,null,""]
[null,null,"",null,"",null,null,null,null,null,null,null,null,null,"","","","","","",null,null,null,null,"","","","","","",null,null,null,null,null,null,null,null,null,null,null,null,null,"WK","PK",null,null,null,null,"P O W I A T","Wskaźnik P\nna 2023 r.",null,"5130038162"]
["","WOJ. DOLNOŚLĄSKIE",null,null,null,null,null,null,null,null,null,"",null,"WOJ. DOLNOŚLĄSKIE",null,null,null,null,null,null,null,null,"","P O L S K A",31270525,312705,38411148,123,"x","x",null,null,null,null,null,null,null,null,null,null,null,null,null,"02","01",{"$f":"AR5*100","v":200},{"$f":"+AS5*1","v":1},{"$f":"AT5+AU5","v":201},{"$f":"AV5*1000","v":201000},"bolesławiecki",284.73,null,"5130060109"]
["","Powiat bolesławiecki  (6 gmin)",null,null,null,null,null,null,null,null,null,"",null," Powiaty:",null,null,null,null,null,null,null,null,"","P O L A N D",null,null,null,null,null,null,null,"Kod gminy",null,null,null,null,null,null,null,null,"GMINA","Wskaźnik G \n na 2023 r.",null,"02","02",{"$f":"AR6*100","v":200},{"$f":"+AS6*1","v":2},{"$f":"AT6+AU6","v":202},{"$f":"AV6*1000","v":202000},"dzierżoniowski",219.24,null,"5130066230"]
["","",null,null,null,null,null,null,null,null,null,"",null," Powiats:",null,null,null,null,null,null,null,null,"02","Dolnośląskie",1994670,19947,2901225,145,7,5,null,"02","01","01",1,{"$f":"AF7*100000","v":200000},{"$f":"AG7*1000","v":1000},{"$f":"AH7*10","v":10},{"$f":"AI7*1","v":1},{"$f":"SUM(AJ7:AM7)","v":201011},"BOLESŁAWIEC",2640.41,null,"02","03",200,3,203,203000,"głogowski",350.62,null,"5130233774"]
[201011,"  Bolesławiec..........................................................................................................................................................................................................................................................",2357,"",24,null,"1200000",1200000,"MAŁOPOLSKIE",{"$f":"2441185+987829","v":3429014},null,"0201",{"$f":"L8*1000","v":201000},"   bolesławiecki",130351,1304,90200,69,64,98,null,null,"04","Kujawsko-pomorskie",1797134,17971,2077775,116,10,10,null,"02","01","02",2,{"$f":"AF8*100000","v":200000},{"$f":"AG8*1000","v":1000},{"$f":"AH8*10","v":20},{"$f":"AI8*1","v":2},{"$f":"SUM(AJ8:AM8)","v":201022},"BOLESŁAWIEC",2242.27,null,"02","04",200,4,204,204000,"górowski",166.6,null,"5492197435"]
["","",null,null,null,null,"1201000",1201000,"Powiat bocheński",106878,null,"0202",{"$f":"L9*1000","v":202000},"   dzierżoniowski",47851,479,101437,212,285,78,null,null,"06","Lubelskie",2512246,25123,2117619,84,3,9,null,"02","01","03",2,200000,1000,30,2,201032,"GROMADKA",3661.51,null,"02","05",200,5,205,205000,"jaworski",227.54,null,"5492197441"]
[201022,"  Bolesławiec..........................................................................................................................................................................................................................................................",28849,"",289,null,"1201011",1201011,"Bochnia (1)",28692,null,"0203",203000,"   głogowski",44327,443,89541,202,293,101,null,null,"08","Lubuskie",1398793,13988,1014548,73,13,15,null,"02","01","04",3,200000,1000,40,3,201043,"NOWOGRODZIEC",2131.64,null,"02","06",200,6,206,206000,"jeleniogórski",237.01,null,"5492197458"]
[201032,"  Gromadka..........................................................................................................................................................................................................................................................",26768,"",268,null,"1201022",1201022,"Bochnia (2)",20597,null,"0204",204000,"   górowski",73827,738,35182,48,199,299,null,null,"10","Łódzkie",1821895,18219,2466322,135,9,6,null,"02","01","05",2,200000,1000,50,2,201052,"OSIECZNICA",2163.41,null,"02","07",200,7,207,207000,"kamiennogórski",194.77,null,"5492197464"]
[201052,"  Osiecznica..........................................................................................................................................................................................................................................................",43704,"↑",437,null,"1201032",1201032,"Drwinia (2)",6465,null,"0205",205000,"   jaworski",58155,582,50545,87,261,240,null,null,"12","Małopolskie",1518279,15183,3400577,224,12,4,null,"02","01","06",2,200000,1000,60,2,201062,"WARTA BOLESŁAWIECKA",1995.86,null,"02","08",200,8,208,208000,"kłodzki",193.18,null,"5492197470"]
[201062,"  Warta Bolesławiecka..........................................................................................................................................................................................................................................................",11044,"",110,null,"1201042",1201042,"Lipnica Murowana (2)",5551,null,"0206",206000,"   jeleniogórski",62714,627,63855,102,242,184,null,null,"14","Mazowieckie",3555847,35559,5403412,152,1,1,null,"02","02","01",1,200000,2000,10,1,202011,"BIELAWA",1317.76,null,"02","09",200,9,209,209000,"legnicki",256.69,null,"5492197487"]
["","",null,null,null,null,"1201052",1201052,"Łapanów (2)",8570,null,"0207",207000,"   kamiennogórski",39569,396,43621,110,301,270,null,null,"16","Opolskie",941187,9412,986506,105,16,16,null,"02","02","02",1,200000,2000,20,1,202021,"DZIERŻONIÓW",1830.59,null,"02","10",200,10,210,210000,"lubański",202.93,null,"5492197501"]
[201043,"  Nowogrodziec..........................................................................................................................................................................................................................................................",17629,"",176,null,"1201063",1201063,"Nowy Wiśnicz (3)",14406,null,"0208",208000,"   kłodzki",164330,1642,159337,97,25,18,null,null,"18","Podkarpackie",1784576,17846,2129015,119,11,8,null,"02","02","03",3,200000,2000,30,3,202033,"PIESZYCE",1529.14,null,"02","11",200,11,211,211000,"lubiński",446.88,null,"5492198593"]
[201044,"",1610,"",16,null,"1201064",1201064,"Nowy Wiśnicz - miasto (4)",2751,null,"0209",209000,"   legnicki",74408,744,55326,74,196,223,null,null,"20","Podlaskie",2018702,20187,1181533,59,6,14,null,"02","02","04",1,200000,2000,40,1,202041,"PIŁAWA GÓRNA",1397.04,null,"02","12",200,12,212,212000,"lwówecki",169.37,null,"5492199463"]
[201045,"",16019,"",160,null,"1201065",1201065,"Nowy Wiśnicz - obszar wiejski (5)",11655,null,"0210",210000,"   lubański",42830,428,54699,128,296,227,null,null,"22","Pomorskie",1832368,18323,2333523,127,8,7,null,"02","02","05",2,200000,2000,50,2,202052,"DZIERŻONIÓW",1640.89,null,"02","13",200,13,213,213000,"milicki",218.16,null,"5492202969"]
["","Powiat dzierżoniowski  (7 gmin)",null,null,null,null,"1201072",1201072,"Rzezawa (2)",11389,null,"0211",211000,"   lubiński",71162,712,106254,149,212,76,null,null,"24","Śląskie",1233309,12333,4533565,368,14,2,null,"02","02","06",2,200000,2000,60,2,202062,"ŁAGIEWNIKI",1496.94,null,"02","14",200,14,214,214000,"oleśnicki",268.85000000000002,null,"5510013406"]
["","",null,null,null,null,"1201082",1201082,"Trzciana (2)",5679,null,"0212",212000,"   lwówecki",70969,710,46059,65,214,256,null,null,"26","Świętokrzyskie",1171050,11710,1241546,106,15,13,null,"02","02","07",3,200000,2000,70,3,202073,"NIEMCZA",1764.32,null,"02","15",200,15,215,215000,"oławski",339.23,null,"5511003597"]
[202011,"  Bielawa..........................................................................................................................................................................................................................................................",3621,"",36,null,"1201092",1201092,"Żegocina (2)",5529,null,"0213",213000,"   milicki",71493,715,37093,52,209,293,null,null,"28","Warmińsko-mazurskie",2417347,24173,1428983,59,4,12,null,"02","03","01",1,200000,3000,10,1,203011,"GŁOGÓW",2956.35,null,"02","16",200,16,216,216000,"polkowicki",456.07,null,"5511123841"]
[202021,"  Dzierżoniów..........................................................................................................................................................................................................................................................",2007,"",20,null,"1202000",1202000,"Powiat brzeski",91823,null,"0214",214000,"   oleśnicki",104931,1049,107062,102,112,72,null,null,"30","Wielkopolskie",2982650,29826,3493969,117,2,3,null,"02","03","02",2,200000,3000,20,2,203022,"GŁOGÓW",2607.7600000000002,null,"02","17",200,17,217,217000,"strzeliński",224.46,null,"5511123918"]
[202041,"  Piława Górna..........................................................................................................................................................................................................................................................",2093,"",21,null,"1202012",1202012,"Borzęcin (2)",8130,null,"0215",215000,"   oławski",52410,524,76595,146,276,142,null,null,"32","Zachodniopomorskie",2290472,22905,1701030,74,5,11,null,"02","03","03",2,200000,3000,30,2,203032,"JERZMANOWA",7486.57,null,"02","18",200,18,218,218000,"średzki",304.74,null,"5511123930"]
["","",null,null,null,null,"1202023",1202023,"Brzesko (3)",35575,null,"0216",216000,"   polkowicki",77946,779,62982,81,185,188,null,null,null,null,null,null,null,null,null,null,null,"02","03","04",2,200000,3000,40,2,203042,"KOTLA",1687.5,null,"02","19",200,19,219,219000,"świdnicki",272.85000000000002,null,"5511158182"]
[202052,"  Dzierżoniów..........................................................................................................................................................................................................................................................",14106,"",141,null,"1202024",1202024,"Brzesko - miasto (4)",16026,null,"0217",217000,"   strzeliński",62206,622,43773,70,246,269,null,null,null,null,null,null,null,null,null,null,null,"02","03","05",2,200000,3000,50,2,203052,"PĘCŁAW",1436.59,null,"02","20",200,20,220,220000,"trzebnicki",314.77,null,"5511158242"]
[202062,"  Łagiewniki..........................................................................................................................................................................................................................................................",12477,"",125,null,"1202025",1202025,"Brzesko - obszar wiejski (5)",19549,null,"0218",218000,"   średzki",70414,704,54269,77,216,228,null,null,null,null,null,null,null,null,null,null,null,"02","03","06",2,200000,3000,60,2,203062,"ŻUKOWICE",2437.36,null,"02","21",200,21,221,221000,"wałbrzyski",208.24,null,"5511163935"]
["","",null,null,null,null,"1202033",1202033,"Czchów (3)",9748,null,"0219",219000,"   świdnicki",74114,741,157615,213,197,20,null,null,null,null,null,null,null,null,null,null,null,"02","04","01",3,200000,4000,10,3,204013,"GÓRA",1566.48,null,"02","22",200,22,222,222000,"wołowski",240.42,null,"5511690907"]
[202073,"  Niemcza..........................................................................................................................................................................................................................................................",7186,"",72,null,"1202034",1202034,"Czchów - miasto (4)",2311,null,"0220",220000,"   trzebnicki",102478,1025,84886,83,121,114,null,null,null,null,null,null,null,null,null,null,null,"02","04","02",2,200000,4000,20,2,204022,"JEMIELNO",1134.45,null,"02","23",200,23,223,223000,"wrocławski",523.72,null,"5512129478"]
[202074,"",1981,"",20,null,"1202035",1202035,"Czchów - obszar wiejski (5)",7437,null,"0221",221000,"   wałbrzyski",43022,430,56004,130,295,218,null,null,null,null,null,null,null,null,null,null,null,"02","04","03",2,200000,4000,30,2,204032,"NIECHLÓW",1475.25,null,"02","24",200,24,224,224000,"ząbkowicki",209.59,null,"5512618591"]
[202075,"",5205,"",52,null,"1202042",1202042,"Dębno (2)",14488,null,"0222",222000,"   wołowski",67496,675,47056,70,229,255,null,null,null,null,null,null,null,null,null,null,null,"02","04","04",3,200000,4000,40,3,204043,"WĄSOSZ",1860.98,null,"02","25",200,25,225,225000,"zgorzelecki",278.37,null,"5521427933"]
[202033,"  Pieszyce..........................................................................................................................................................................................................................................................",6361,"",64,null,"1202052",1202052,"Gnojnik (2)",8106,null,"0223",223000,"   wrocławski",111770,1118,146060,131,104,28,null,null,null,null,null,null,null,null,null,null,null,"02","05","01",1,200000,5000,10,1,205011,"JAWOR",2479.9299999999998,null,"02","26",200,26,226,226000,"złotoryjski",200.7,null,"5521567404"]
[202034,"",1772,"",18,null,"1202062",1202062,"Iwkowa (2)",6599,null,"0224",224000,"   ząbkowicki",80153,802,65428,82,180,180,null,null,null,null,null,null,null,null,null,null,null,"02","05","02",3,200000,5000,20,3,205023,"BOLKÓW",1261.73,null,"02","61",200,61,261,261000,"Jelenia Góra",282.12,null,"5521570518"]
[202035,"",4589,"",46,null,"1202072",1202072,"Szczurowa (2)",9177,null,"0225",225000,"   zgorzelecki",83860,839,90003,107,167,99,null,null,null,null,null,null,null,null,null,null,null,"02","05","03",2,200000,5000,30,2,205032,"MĘCINKA",2197.5500000000002,null,"02","62",200,62,262,262000,"Legnica",312.77,null,"5521576805"]
["","Powiat głogowski  (6 gmin)",null,null,null,null,"1203000",1203000,"Powiat chrzanowski",119719,null,"0226",226000,"   złotoryjski",57581,576,43869,76,264,266,null,null,null,null,null,null,null,null,null,null,null,"02","05","04",2,200000,5000,40,2,205042,"MŚCIWOJÓW",1859.66,null,"02","64",200,64,264,264000,"Wrocław",539.78,null,"5521579821"]
["","",null,null,null,null,"1203013",1203013,"Alwernia (3)",12361,null,"",{"$error":"#VALUE!"}," Miasta na prawach powiatu:",null,null,null,null,null,null,null,null,null,null,null,null,null,null,null,null,null,"02","05","05",2,200000,5000,50,2,205052,"PASZOWICE",1549.85,null,"02","65",200,65,265,265000,"Wałbrzych",230.31,null,"5521584963"]
[203011,"  Głogów..........................................................................................................................................................................................................................................................",3511,"",35,null,"1203014",1203014,"Alwernia - miasto (4)",3260,null,"",{"$error":"#VALUE!"}," Cities with powiat status:",null,null,null,null,null,null,null,null,null,null,null,null,null,null,null,null,null,"02","05","06",2,200000,5000,60,2,205062,"WĄDROŻE WIELKIE",1662.74,null,"04","01",400,1,401,401000,"aleksandrowski",191.54,null,"5521586100"]
["","",null,null,null,null,"1203015",1203015,"Alwernia - obszar wiejski (5)",9101,null,"0261",261000,"   Jelenia Góra",10922,109,79480,728,25,45,null,null,null,null,null,null,null,null,null,null,null,"02","06","01",1,200000,6000,10,1,206011,"KARPACZ",5461.38,null,"04","02",400,2,402,402000,"brodnicki",199.81,null,"5521588530"]
[203022,"  Głogów..........................................................................................................................................................................................................................................................",8479,"",85,null,"1203022",1203022,"Babice (2)",9022,null,"0262",262000,"   Legnica",5629,56,99752,1772,50,39,null,null,null,null,null,null,null,null,null,null,null,"02","06","02",1,200000,6000,20,1,206021,"KOWARY",1749.7,null,"04","03",400,3,403,403000,"bydgoski",355.9,null,"5521677860"]
[203032,"  Jerzmanowa..........................................................................................................................................................................................................................................................",6332,"",63,null,"1203033",1203033,"Chrzanów (3)",44442,null,"0265",265000,"   Wałbrzych",8470,85,112594,1329,34,33,null,null,null,null,null,null,null,null,null,null,null,"02","06","03",1,200000,6000,30,1,206031,"PIECHOWICE",2497.4699999999998,null,"04","04",400,4,404,404000,"chełmiński",194.43,null,"5521707153"]
[203042,"  Kotla..........................................................................................................................................................................................................................................................",12752,"",128,null,"1203034",1203034,"Chrzanów - miasto (4)",34387,null,"0264",264000,"   Wrocław",29282,293,640648,2188,5,4,null,null,null,null,null,null,null,null,null,null,null,"02","06","04",1,200000,6000,40,1,206041,"SZKLARSKA PORĘBA",3276.69,null,"04","05",400,5,405,405000,"golubsko-dobrzyński",188.77,null,"6281715276"]
[203052,"  Pęcław..........................................................................................................................................................................................................................................................",6427,"",64,null,"1203035",1203035,"Chrzanów - obszar wiejski (5)",10055,null,"",{"$error":"#VALUE!"},"WOJ. KUJAWSKO-POMORSKIE",null,null,null,null,null,null,null,null,null,null,null,null,null,null,null,null,null,"02","06","05",2,200000,6000,50,2,206052,"JANOWICE WIELKIE",1472.25,null,"04","06",400,6,406,406000,"grudziądzki",187.22,null,"6282074477"]
[203062,"  Żukowice..........................................................................................................................................................................................................................................................",6826,"",68,null,"1203043",1203043,"Libiąż (3)",21298,null,"",{"$error":"#VALUE!"}," Powiaty:",null,null,null,null,null,null,null,null,null,null,null,null,null,null,null,null,null,"02","06","06",2,200000,6000,60,2,206062,"JEŻÓW SUDECKI",1958.13,null,"04","07",400,7,407,407000,"inowrocławski",229.04,null,"6282260122"]
["","Powiat górowski  (4 gminy)",null,null,null,null,"1203044",1203044,"Libiąż - miasto (4)",16079,null,"",{"$error":"#VALUE!"}," Powiats:",null,null,null,null,null,null,null,null,null,null,null,null,null,null,null,null,null,"02","06","07",2,200000,6000,70,2,206072,"MYSŁAKOWICE",1802.84,null,"04","08",400,8,408,408000,"lipnowski",148.33000000000001,null,"6282260168"]
["","",null,null,null,null,"1203045",1203045,"Libiąż - obszar wiejski (5)",5219,null,"0401",401000,"   aleksandrowski",47463,475,55274,116,286,224,null,null,null,null,null,null,null,null,null,null,null,"02","06","08",2,200000,6000,80,2,206082,"PODGÓRZYN",2155.02,null,"04","09",400,9,409,409000,"mogileński",203.52,null,"6282260665"]
[204022,"  Jemielno..........................................................................................................................................................................................................................................................",12402,"",124,null,"1203053",1203053,"Trzebinia (3)",32596,null,"0402",402000,"   brodnicki",103997,1040,78898,76,116,131,null,null,null,null,null,null,null,null,null,null,null,"02","06","09",2,200000,6000,90,2,206092,"STARA KAMIENICA",2979.43,null,"04","10",400,10,410,410000,"nakielski",187.16,null,"6282267905"]
[204032,"  Niechlów..........................................................................................................................................................................................................................................................",15103,"",151,null,"1203054",1203054,"Trzebinia - miasto (4)",18704,null,"0403",403000,"   bydgoski",139412,1394,117325,84,48,51,null,null,null,null,null,null,null,null,null,null,null,"02","07","01",1,200000,7000,10,1,207011,"KAMIENNA GÓRA",1422.75,null,"04","11",400,11,411,411000,"radziejowski",166.05,null,"6371997976"]
["","",null,null,null,null,"1203055",1203055,"Trzebinia - obszar wiejski (5)",13892,null,"0404",404000,"   chełmiński",52694,527,52193,99,275,235,null,null,null,null,null,null,null,null,null,null,null,"02","07","02",2,200000,7000,20,2,207022,"KAMIENNA GÓRA",1526.92,null,"04","12",400,12,412,412000,"rypiński",177.68,null,"6371998042"]
[204013,"  Góra..........................................................................................................................................................................................................................................................",26611,"",266,null,"1204000",1204000,"Powiat dąbrowski",57809,null,"0405",405000,"   golubsko-dobrzyński",61285,613,45140,74,254,263,null,null,null,null,null,null,null,null,null,null,null,"02","07","03",3,200000,7000,30,3,207033,"LUBAWKA",1405.4,null,"04","13",400,13,413,413000,"sępoleński",147.35,null,"6371998059"]
[204014,"",1365,"",14,null,"1204012",1204012,"Bolesław (2)",2659,null,"0406",406000,"   grudziądzki",72776,728,40271,55,205,283,null,null,null,null,null,null,null,null,null,null,null,"02","07","04",2,200000,7000,40,2,207042,"MARCISZÓW",919.81,null,"04","14",400,14,414,414000,"świecki",271.7,null,"6371998065"]
[204015,"",25246,"",252,null,"1204023",1204023,"Dąbrowa Tarnowska (3)",20923,null,"0407",407000,"   inowrocławski",122518,1225,160647,131,78,16,null,null,null,null,null,null,null,null,null,null,null,"02","08","01",1,200000,8000,10,1,208011,"DUSZNIKI-ZDRÓJ",2265.37,null,"04","15",400,15,415,415000,"toruński",257.43,null,"6372003423"]
[204043,"  Wąsosz..........................................................................................................................................................................................................................................................",19711,"",197,null,"1204024",1204024,"Dąbrowa Tarnowska - miasto (4)",11495,null,"0408",408000,"   lipnowski",101574,1016,66062,65,123,176,null,null,null,null,null,null,null,null,null,null,null,"02","08","02",1,200000,8000,20,1,208021,"KŁODZKO",1709.08,null,"04","16",400,16,416,416000,"tucholski",177.46,null,"6372024112"]
[204044,"",324,"",3,null,"1204025",1204025,"Dąbrowa Tarnowska - obszar wiejski (5)",9428,null,"0409",409000,"   mogileński",67512,675,45821,68,228,259,null,null,null,null,null,null,null,null,null,null,null,"02","08","03",1,200000,8000,30,1,208031,"KUDOWA-ZDRÓJ",1518.82,null,"04","17",400,17,417,417000,"wąbrzeski",179.4,null,"6372024678"]
[204045,"",19387,"",194,null,"1204032",1204032,"Gręboszów (2)",3208,null,"0410",410000,"   nakielski",112008,1120,86590,77,101,108,null,null,null,null,null,null,null,null,null,null,null,"02","08","04",1,200000,8000,40,1,208041,"NOWA RUDA",1483.51,null,"04","18",400,18,418,418000,"włocławski",188.18,null,"6590003697"]
["","Powiat jaworski  (6 gmin)",null,null,null,null,"1204042",1204042,"Mędrzechów (2)",3336,null,"0411",411000,"   radziejowski",60720,607,40714,67,256,281,null,null,null,null,null,null,null,null,null,null,null,"02","08","05",1,200000,8000,50,1,208051,"POLANICA-ZDRÓJ",2268.69,null,"04","19",400,19,419,419000,"żniński",194.52,null,"6591153915"]
["","",null,null,null,null,"1204052",1204052,"Olesno (2)",7681,null,"0412",412000,"   rypiński",58647,586,43826,75,259,267,null,null,null,null,null,null,null,null,null,null,null,"02","08","06",3,200000,8000,60,3,208063,"BYSTRZYCA KŁODZKA",1478.49,null,"04","61",400,61,461,461000,"Bydgoszcz",331.62,null,"6591174001"]
[205011,"  Jawor..........................................................................................................................................................................................................................................................",1880,"",19,null,"1204062",1204062,"Radgoszcz (2)",7473,null,"0413",413000,"   sępoleński",79109,791,41147,52,183,280,null,null,null,null,null,null,null,null,null,null,null,"02","08","07",2,200000,8000,70,2,208072,"KŁODZKO",1615.55,null,"04","62",400,62,462,462000,"Grudziądz",227.84,null,"6591184436"]
["","",null,null,null,null,"1204073",1204073,"Szczucin (3)",12529,null,"0414",414000,"   świecki",147418,1474,99281,67,39,80,null,null,null,null,null,null,null,null,null,null,null,"02","08","08",3,200000,8000,80,3,208083,"LĄDEK-ZDRÓJ",1471.6,null,"04","63",400,63,463,463000,"Toruń",352.07,null,"6591186961"]
[205032,"  Męcinka..........................................................................................................................................................................................................................................................",14778,"",148,null,"1204074",1204074,"Szczucin - miasto (4)",4101,null,"0415",415000,"   toruński",123042,1230,106935,87,77,73,null,null,null,null,null,null,null,null,null,null,null,"02","08","09",2,200000,8000,90,2,208092,"LEWIN KŁODZKI",1298.48,null,"04","64",400,64,464,464000,"Włocławek",276.70999999999998,null,"6591222510"]
[205042,"  Mściwojów..........................................................................................................................................................................................................................................................",7194,"",72,null,"1204075",1204075,"Szczucin - obszar wiejski (5)",8428,null,"0416",416000,"   tucholski",107546,1075,48374,45,107,248,null,null,null,null,null,null,null,null,null,null,null,"02","08","10",3,200000,8000,100,3,208103,"MIĘDZYLESIE",1145.19,null,"06","01",600,1,601,601000,"bialski",154.06,null,"6591545868"]
[205052,"  Paszowice..........................................................................................................................................................................................................................................................",10128,"",101,null,"1205000",1205000,"Powiat gorlicki",105782,null,"0417",417000,"   wąbrzeski",50195,502,34413,69,280,302,null,null,null,null,null,null,null,null,null,null,null,"02","08","11",2,200000,8000,110,2,208112,"NOWA RUDA",1255.24,null,"06","02",600,2,602,602000,"biłgorajski",150.03,null,"6591545880"]
[205062,"  Wądroże Wielkie..........................................................................................................................................................................................................................................................",8915,"",89,null,"1205011",1205011,"Gorlice (1)",25818,null,"0418",418000,"   włocławski",147363,1474,86352,59,40,109,null,null,null,null,null,null,null,null,null,null,null,"02","08","12",3,200000,8000,120,3,208123,"RADKÓW",1712.84,null,"06","03",600,3,603,603000,"chełmski",126.53,null,"6761013717"]
["","",null,null,null,null,"1205023",1205023,"Biecz (3)",16198,null,"0419",419000,"   żniński",98477,985,70413,72,132,163,null,null,null,null,null,null,null,null,null,null,null,"02","08","13",3,200000,8000,130,3,208133,"STRONIE ŚLĄSKIE",1680.73,null,"06","04",600,4,604,604000,"hrubieszowski",127.28,null,"6761706490"]
[205023,"  Bolków..........................................................................................................................................................................................................................................................",15260,"",153,null,"1205024",1205024,"Biecz - miasto (4)",4349,null,"",{"$error":"#VALUE!"}," Miasta na prawach powiatu:",null,null,null,null,null,null,null,null,null,null,null,null,null,null,null,null,null,"02","08","14",3,200000,8000,140,3,208143,"SZCZYTNA",1238.21,null,"06","05",600,5,605,605000,"janowski",153.97,null,"6762178337"]
[205024,"",768,"",8,null,"1205025",1205025,"Biecz - obszar wiejski (5)",11849,null,"",{"$error":"#VALUE!"}," Cities with powiat status:",null,null,null,null,null,null,null,null,null,null,null,null,null,null,null,null,null,"02","09","01",1,200000,9000,10,1,209011,"CHOJNÓW",1635.38,null,"06","06",600,6,606,606000,"krasnostawski",152.15,null,"6771024094"]
[205025,"",14492,"",145,null,"1205033",1205033,"Bobowa (3)",9574,null,"0461",461000,"   Bydgoszcz",17598,176,350178,1990,11,8,null,null,null,null,null,null,null,null,null,null,null,"02","09","02",2,200000,9000,20,2,209022,"CHOJNÓW",2124.17,null,"06","07",600,7,607,607000,"kraśnicki",155.76,null,"6771037576"]
["","Powiat jeleniogórski  (9 gmin)",null,null,null,null,"1205034",1205034,"Bobowa - miasto (4)",3066,null,"0462",462000,"   Grudziądz",5776,58,95045,1646,48,40,null,null,null,null,null,null,null,null,null,null,null,"02","09","03",2,200000,9000,30,2,209032,"KROTOSZYCE",2221.54,null,"06","08",600,8,608,608000,"lubartowski",160.86000000000001,null,"6772019451"]
["","",null,null,null,null,"1205035",1205035,"Bobowa - obszar wiejski (5)",6508,null,"0463",463000,"   Toruń",11572,116,202074,1746,22,15,null,null,null,null,null,null,null,null,null,null,null,"02","09","04",2,200000,9000,40,2,209042,"KUNICE",2912.14,null,"06","09",600,9,609,609000,"lubelski",231.41,null,"6772364194"]
[206011,"  Karpacz..........................................................................................................................................................................................................................................................",3799,"",38,null,"1205042",1205042,"Gorlice (2)",16985,null,"0464",464000,"   Włocławek",8432,84,110802,1314,35,34,null,null,null,null,null,null,null,null,null,null,null,"02","09","05",2,200000,9000,50,2,209052,"LEGNICKIE POLE",4327.53,null,"06","10",600,10,610,610000,"łęczyński",207.16,null,"6791023301"]
[206021,"  Kowary..........................................................................................................................................................................................................................................................",3739,"",37,null,"1205052",1205052,"Lipinki (2)",6714,null,"",{"$error":"#VALUE!"},"WOJ. LUBELSKIE",null,null,null,null,null,null,null,null,null,null,null,null,null,null,null,null,null,"02","09","06",2,200000,9000,60,2,209062,"MIŁKOWICE",2074.81,null,"06","11",600,11,611,611000,"łukowski",184.75,null,"6811004414"]
[206031,"  Piechowice..........................................................................................................................................................................................................................................................",4322,"",43,null,"1205062",1205062,"Łużna (2)",8362,null,"",{"$error":"#VALUE!"}," Powiaty:",null,null,null,null,null,null,null,null,null,null,null,null,null,null,null,null,null,"02","09","07",3,200000,9000,70,3,209073,"PROCHOWICE",2190.71,null,"06","12",600,12,612,612000,"opolski",131.41,null,"6811004443"]
[206041,"  Szklarska Poręba..........................................................................................................................................................................................................................................................",7544,"",75,null,"1205072",1205072,"Moszczenica (2)",4897,null,"",{"$error":"#VALUE!"}," Powiats:",null,null,null,null,null,null,null,null,null,null,null,null,null,null,null,null,null,"02","09","08",2,200000,9000,80,2,209082,"RUJA",1498.91,null,"06","13",{"$f":"AR70*100","v":600},{"$f":"+AS70*1","v":13},{"$f":"AT70+AU70","v":613},{"$f":"AV70*1000","v":613000},"parczewski",159.82,null,"6811036147"]
["","",null,null,null,null,"1205082",1205082,"Ropa (2)",5513,null,"0601",601000,"   bialski",275426,2754,111391,40,3,64,null,null,null,null,null,null,null,null,null,null,null,"02","10","01",1,200000,10000,10,1,210011,"LUBAŃ",1750.83,null,"06","14",600,14,614,614000,"puławski",238.31,null,"6811299390"]
[206052,"  Janowice Wielkie..........................................................................................................................................................................................................................................................",5783,"",58,null,"1205092",1205092,"Sękowa (2)",4910,null,"0602",602000,"   biłgorajski",168110,1681,101435,60,20,79,null,null,null,null,null,null,null,null,null,null,null,"02","10","02",1,{"$f":"AF72*100000","v":200000},{"$f":"AG72*1000","v":10000},{"$f":"AH72*10","v":20},{"$f":"AI72*1","v":1},{"$f":"SUM(AJ72:AM72)","v":210021},"ŚWIERADÓW-ZDRÓJ",2782.46,null,"06","15",600,15,615,615000,"radzyński",147.91,null,"6811304607"]
[206062,"  Jeżów Sudecki..........................................................................................................................................................................................................................................................",9428,"",94,null,"1205102",1205102,"Uście Gorlickie (2)",6811,null,"0603",{"$f":"L73*1000","v":603000},"   chełmski",188560,1886,78228,41,11,134,null,null,null,null,null,null,null,null,null,null,null,"02","10","03",3,200000,10000,30,3,210033,"LEŚNA",1085.03,null,"06","16",600,16,616,616000,"rycki",208.59,null,"6811355131"]
[206072,"  Mysłakowice..........................................................................................................................................................................................................................................................",8798,"",88,null,"1206000",1206000,"Powiat krakowski",300289,null,"0604",604000,"   hrubieszowski",126802,1268,63698,50,70,186,null,null,null,null,null,null,null,null,null,null,null,"02","10","04",2,200000,10000,40,2,210042,"LUBAŃ",1620.66,null,"06","17",600,17,617,617000,"świdnicki",226.83,null,"6811359293"]
[206082,"  Podgórzyn..........................................................................................................................................................................................................................................................",8251,"",83,null,"1206012",1206012,"Czernichów (2)",15371,null,"0605",605000,"   janowski",87528,876,46057,53,160,257,null,null,null,null,null,null,null,null,null,null,null,"02","10","05",3,200000,10000,50,3,210053,"OLSZYNA",1579.6,null,"06","18",600,18,618,618000,"tomaszowski",138.13999999999999,null,"6811381938"]
[206092,"  Stara Kamienica..........................................................................................................................................................................................................................................................",11050,"",111,null,"1206022",1206022,"Igołomia-Wawrzeńczyce (2)",7872,null,"0606",606000,"   krasnostawski",103144,1032,63925,62,118,183,null,null,null,null,null,null,null,null,null,null,null,"02","10","06",2,200000,10000,60,2,210062,"PLATERÓWKA",2261.2800000000002,null,"06","19",600,19,619,619000,"włodawski",146.4,null,"6811692325"]
["","Powiat kamiennogórski  (4 gminy)",null,null,null,null,"1206032",1206032,"Iwanowice (2)",9781,null,"0607",607000,"   kraśnicki",100530,1005,96043,96,127,87,null,null,null,null,null,null,null,null,null,null,null,"02","10","07",2,200000,10000,70,2,210072,"SIEKIERCZYN",1297.53,null,"06","20",600,20,620,620000,"zamojski",140.19999999999999,null,"6821436782"]
["","",null,null,null,null,"1206042",1206042,"Jerzmanowice-Przeginia (2)",11196,null,"0608",608000,"   lubartowski",128874,1289,88789,69,66,102,null,null,null,null,null,null,null,null,null,null,null,"02","11","01",1,200000,11000,10,1,211011,"LUBIN",2819.26,null,"06","61",600,61,661,661000,"Biała Podlaska",247.04,null,"6821604469"]
[207011,"  Kamienna Góra..........................................................................................................................................................................................................................................................",1804,"",18,null,"1206052",1206052,"Kocmyrzów-Luborzyca (2)",17961,null,"0609",609000,"   lubelski",167953,1680,154387,92,21,21,null,null,null,null,null,null,null,null,null,null,null,"02","11","02",2,200000,11000,20,2,211022,"LUBIN",3969.52,null,"06","62",600,62,662,662000,"Chełm",233.96,null,"6821604831"]
["","",null,null,null,null,"1206063",1206063,"Krzeszowice (3)",31909,null,"0610",610000,"   łęczyński",63664,637,57457,90,241,207,null,null,null,null,null,null,null,null,null,null,null,"02","11","03",2,200000,11000,30,2,211032,"RUDNA",6070.59,null,"06","63",600,63,663,663000,"Lublin",360.44,null,"6821605658"]
[207022,"  Kamienna Góra..........................................................................................................................................................................................................................................................",15803,"",158,null,"1206064",1206064,"Krzeszowice - miasto (4)",9755,null,"0611",611000,"   łukowski",139421,1394,107449,77,47,71,null,null,null,null,null,null,null,null,null,null,null,"02","11","04",3,200000,11000,40,3,211043,"ŚCINAWA",1595.76,null,"06","64",600,64,664,664000,"Zamość",254.32,null,"6821606646"]
[207042,"  Marciszów..........................................................................................................................................................................................................................................................",8157,"",82,null,"1206065",1206065,"Krzeszowice - obszar wiejski (5)",22154,null,"0612",612000,"   opolski",81002,810,59726,74,176,198,null,null,null,null,null,null,null,null,null,null,null,"02","12","01",3,200000,12000,10,3,212013,"GRYFÓW ŚLĄSKI",1345.26,null,"08","01",800,1,801,801000,"gorzowski",279.37,null,"6821634453"]
["","",null,null,null,null,"1206072",1206072,"Liszki (2)",18416,null,"0613",613000,"   parczewski",95220,952,34954,37,142,300,null,null,null,null,null,null,null,null,null,null,null,"02","12","02",3,200000,12000,20,3,212023,"LUBOMIERZ",970.99,null,"08","02",800,2,802,802000,"krośnieński",196.31,null,"6821635547"]
[207033,"  Lubawka..........................................................................................................................................................................................................................................................",13805,"",138,null,"1206082",1206082,"Michałowice (2)",13173,null,"0614",614000,"   puławski",93409,934,113762,122,146,59,null,null,null,null,null,null,null,null,null,null,null,"02","12","03",3,200000,12000,30,3,212033,"LWÓWEK ŚLĄSKI",1725.97,null,"08","03",800,3,803,803000,"międzyrzecki",215.26,null,"6821642228"]
[207034,"",2244,"",22,null,"1206092",1206092,"Mogilany (2)",16192,null,"0615",615000,"   radzyński",96506,965,59278,61,138,201,null,null,null,null,null,null,null,null,null,null,null,"02","12","04",3,200000,12000,40,3,212043,"MIRSK",1239.6600000000001,null,"08","04",800,4,804,804000,"nowosolski",196.43,null,"6821762292"]
[207035,"",11561,"",116,null,"1206103",1206103,"Skała (3)",10942,null,"0616",616000,"   rycki",61453,615,56166,91,253,217,null,null,null,null,null,null,null,null,null,null,null,"02","12","05",3,200000,12000,50,3,212053,"WLEŃ",1203.02,null,"08","05",800,5,805,805000,"słubicki",228.48,null,"6821773580"]
["","Powiat kłodzki  (14 gmin)",null,null,null,null,"1206104",1206104,"Skała - miasto (4)",3876,null,"0617",617000,"   świdnicki",46835,468,72039,154,289,158,null,null,null,null,null,null,null,null,null,null,null,"02","13","01",2,200000,13000,10,2,213012,"CIESZKÓW",1466.62,null,"08","06",800,6,806,806000,"strzelecko-drezdenecki",191.91,null,"6821773870"]
["","",null,null,null,null,"1206105",1206105,"Skała - obszar wiejski (5)",7066,null,"0618",618000,"   tomaszowski",148889,1489,83715,56,37,117,null,null,null,null,null,null,null,null,null,null,null,"02","13","02",2,200000,13000,20,2,213022,"KROŚNICE",2495.84,null,"08","07",800,7,807,807000,"sulęciński",201.95,null,"6830011450"]
[208011,"  Duszniki-Zdrój..........................................................................................................................................................................................................................................................",2228,"",22,null,"1206113",1206113,"Skawina (3)",44025,null,"0619",619000,"   włodawski",125642,1256,38668,31,73,289,null,null,null,null,null,null,null,null,null,null,null,"02","13","03",3,200000,13000,30,3,213033,"MILICZ",1843.15,null,"08","08",800,8,808,808000,"świebodziński",248.39,null,"6831006563"]
[208021,"  Kłodzko..........................................................................................................................................................................................................................................................",2484,"",25,null,"1206114",1206114,"Skawina - miasto (4)",24071,null,"0620",620000,"   zamojski",187029,1870,106935,57,12,73,null,null,null,null,null,null,null,null,null,null,null,"02","14","01",1,200000,14000,10,1,214011,"OLEŚNICA",1938.18,null,"08","09",800,9,809,809000,"zielonogórski",239.75,null,"6831395375"]
[208031,"  Kudowa-Zdrój..........................................................................................................................................................................................................................................................",3390,"",34,null,"1206115",1206115,"Skawina - obszar wiejski (5)",19954,null,"",{"$error":"#VALUE!"}," Miasta na prawach powiatu:",null,null,null,null,null,null,null,null,null,null,null,null,null,null,null,null,null,"02","14","02",3,200000,14000,20,3,214023,"BIERUTÓW",1390.38,null,"08","10",800,10,810,810000,"żagański",193.72,null,"6831511752"]
[208041,"  Nowa Ruda..........................................................................................................................................................................................................................................................",3705,"",37,null,"1206123",1206123,"Słomniki (3)",13782,null,"",{"$error":"#VALUE!"}," Cities with powiat status:",null,null,null,null,null,null,null,null,null,null,null,null,null,null,null,null,null,"02","14","03",2,200000,14000,30,2,214032,"DOBROSZYCE",2297.98,null,"08","11",800,11,811,811000,"żarski",213.46,null,"6831573055"]
[208051,"  Polanica-Zdrój..........................................................................................................................................................................................................................................................",1722,"",17,null,"1206124",1206124,"Słomniki - miasto (4)",4194,null,"0661",661000,"   Biała Podlaska",4940,49,57352,1161,51,58,null,null,null,null,null,null,null,null,null,null,null,"02","14","04",2,200000,14000,40,2,214042,"DZIADOWA KŁODA",1255.47,null,"08","12",800,12,812,812000,"wschowski",198.47,null,"6831718453"]
["","",null,null,null,null,"1206125",1206125,"Słomniki - obszar wiejski (5)",9588,null,"0662",662000,"   Chełm",3528,35,62670,1776,56,55,null,null,null,null,null,null,null,null,null,null,null,"02","14","05",3,200000,14000,50,3,214053,"MIĘDZYBÓRZ",1817.63,null,"08","61",800,61,861,861000,"Gorzów Wielkopolski",295.89,null,"6831742730"]
[208072,"  Kłodzko..........................................................................................................................................................................................................................................................",25325,"",252,null,"1206132",1206132,"Sułoszowa (2)",5702,null,"0663",663000,"   Lublin",14747,148,339682,2303,17,9,null,null,null,null,null,null,null,null,null,null,null,"02","14","06",2,200000,14000,60,2,214062,"OLEŚNICA",2301.85,null,"08","62",800,62,862,862000,"Zielona Góra",398.89,null,"6851648081"]
[208092,"  Lewin Kłodzki..........................................................................................................................................................................................................................................................",5214,"",52,null,"1206143",1206143,"Świątniki Górne (3)",11097,null,"0664",664000,"   Zamość",3034,30,63813,2103,62,53,null,null,null,null,null,null,null,null,null,null,null,"02","14","07",3,200000,14000,70,3,214073,"SYCÓW",1799.67,null,"10","01",1000,1,1001,1001000,"bełchatowski",364.11,null,"7341009655"]
[208112,"  Nowa Ruda..........................................................................................................................................................................................................................................................",13967,"",140,null,"1206144",1206144,"Świątniki Górne - miasto (4)",2408,null,"",{"$error":"#VALUE!"},"WOJ. LUBUSKIE",null,null,null,null,null,null,null,null,null,null,null,null,null,null,null,null,null,"02","14","08",3,200000,14000,80,3,214083,"TWARDOGÓRA",2314.5700000000002,null,"10","02",1000,2,1002,1002000,"kutnowski",242.48,null,"7343445768"]
["","",null,null,null,null,"1206145",1206145,"Świątniki Górne - obszar wiejski (5)",8689,null,"",{"$error":"#VALUE!"}," Powiaty:",null,null,null,null,null,null,null,null,null,null,null,null,null,null,null,null,null,"02","15","01",1,200000,15000,10,1,215011,"OŁAWA",2299.9899999999998,null,"10","03",1000,3,1003,1003000,"łaski",236.05,null,"7343450806"]
[208063,"  Bystrzyca Kłodzka..........................................................................................................................................................................................................................................................",33853,"",339,null,"1206152",1206152,"Wielka Wieś (2)",16445,null,"",{"$error":"#VALUE!"}," Powiats:",null,null,null,null,null,null,null,null,null,null,null,null,null,null,null,null,null,"02","15","02",2,200000,15000,20,2,215022,"DOMANIÓW",1720.26,null,"10","04",1000,4,1004,1004000,"łęczycki",189.81,null,"7343456306"]
[208064,"",1074,"",11,null,"1206162",1206162,"Zabierzów (2)",29267,null,"0801",801000,"   gorzowski",121423,1214,71549,59,83,161,null,null,null,null,null,null,null,null,null,null,null,"02","15","03",3,200000,15000,30,3,215033,"JELCZ-LASKOWICE",2808.98,null,"10","05",1000,5,1005,1005000,"łowicki",224.92,null,"7343472601"]
[208065,"",32779,"",328,null,"1206172",1206172,"Zielonki (2)",27158,null,"0802",802000,"   krośnieński",139125,1391,55245,40,50,225,null,null,null,null,null,null,null,null,null,null,null,"02","15","04",2,200000,15000,40,2,215042,"OŁAWA",3297.28,null,"10","06",1000,6,1006,1006000,"łódzki wschodni",367.33,null,"7343472848"]
[208083,"  Lądek-Zdrój..........................................................................................................................................................................................................................................................",11727,"",117,null,"1207000",1207000,"Powiat limanowski",131549,null,"0803",803000,"   międzyrzecki",138761,1388,58024,42,51,204,null,null,null,null,null,null,null,null,null,null,null,"02","16","01",3,200000,16000,10,3,216013,"CHOCIANÓW",1728.52,null,"10","07",1000,7,1007,1007000,"opoczyński",187.76,null,"7343482812"]
[208084,"",2032,"",20,null,"1207011",1207011,"Limanowa (1)",14514,null,"0804",804000,"   nowosolski",77073,771,86634,112,192,107,null,null,null,null,null,null,null,null,null,null,null,"02","16","02",2,200000,16000,20,2,216022,"GAWORZYCE",1483.25,null,"10","08",1000,8,1008,1008000,"pabianicki",322.8,null,"7343483272"]
[208085,"",9695,"",97,null,"1207021",1207021,"Mszana Dolna (1)",7817,null,"0805",805000,"   słubicki",99929,999,47101,47,129,254,null,null,null,null,null,null,null,null,null,null,null,"02","16","03",2,200000,16000,30,2,216032,"GRĘBOCICE",6312.82,null,"10","09",1000,9,1009,1009000,"pajęczański",225.11,null,"7343507021"]
[208103,"  Międzylesie..........................................................................................................................................................................................................................................................",18875,"",189,null,"1207032",1207032,"Dobra (2)",10110,null,"0806",806000,"   strzelecko-drezdenecki",124786,1248,49366,40,75,244,null,null,null,null,null,null,null,null,null,null,null,"02","16","04",3,200000,16000,40,3,216043,"POLKOWICE",7602.46,null,"10","10",1000,10,1010,1010000,"piotrkowski",198.42,null,"7343514742"]
[208104,"",1437,"",14,null,"1207042",1207042,"Jodłownik (2)",8760,null,"0807",807000,"   sulęciński",117780,1178,35297,30,89,298,null,null,null,null,null,null,null,null,null,null,null,"02","16","05",3,200000,16000,50,3,216053,"PRZEMKÓW",1382.28,null,"10","11",1000,11,1011,1011000,"poddębicki",199.13,null,"7343514860"]
[208105,"",17438,"",175,null,"1207052",1207052,"Kamienica (2)",7822,null,"0808",808000,"   świebodziński",93657,937,55840,60,145,219,null,null,null,null,null,null,null,null,null,null,null,"02","16","06",2,200000,16000,60,2,216062,"RADWANICE",3555.97,null,"10","12",1000,12,1012,1012000,"radomszczański",229.62,null,"7343515546"]
[208123,"  Radków..........................................................................................................................................................................................................................................................",13995,"",140,null,"1207062",1207062,"Laskowa (2)",8185,null,"0812",812000,"   wschowski",62420,624,39065,63,244,287,null,null,null,null,null,null,null,null,null,null,null,"02","17","01",2,200000,17000,10,2,217012,"BORÓW",1680.06,null,"10","13",1000,13,1013,1013000,"rawski",243.71,null,"7343517410"]
[208124,"",1503,"",15,null,"1207072",1207072,"Limanowa (2)",25912,null,"0809",809000,"   zielonogórski",134975,1350,75750,56,58,146,null,null,null,null,null,null,null,null,null,null,null,"02","17","02",2,200000,17000,20,2,217022,"KONDRATOWICE",1865.35,null,"10","14",1000,14,1014,1014000,"sieradzki",219.46,null,"7343517947"]
[208125,"",12492,"",125,null,"1207082",1207082,"Łukowica (2)",10150,null,"0810",810000,"   żagański",113182,1132,79583,70,98,125,null,null,null,null,null,null,null,null,null,null,null,"02","17","03",2,200000,17000,30,2,217032,"PRZEWORNO",1364.21,null,"10","15",1000,15,1015,1015000,"skierniewicki",195.33,null,"7343543100"]
[208133,"  Stronie Śląskie..........................................................................................................................................................................................................................................................",14608,"",146,null,"1207092",1207092,"Mszana Dolna (2)",17637,null,"0811",811000,"   żarski",139278,1393,96876,70,49,86,null,null,null,null,null,null,null,null,null,null,null,"02","17","04",3,200000,17000,40,3,217043,"STRZELIN",2382.23,null,"10","16",1000,16,1016,1016000,"tomaszowski",245.25,null,"7343543904"]
[208134,"",238,"",2,null,"1207102",1207102,"Niedźwiedź (2)",7333,null,"",{"$error":"#VALUE!"}," Miasta na prawach powiatu:",null,null,null,null,null,null,null,null,null,null,null,null,null,null,null,null,null,"02","17","05",3,200000,17000,50,3,217053,"WIĄZÓW",1524.86,null,"10","17",1000,17,1017,1017000,"wieluński",208.04,null,"7343544080"]
[208135,"",14370,"",144,null,"1207112",1207112,"Słopnice (2)",6914,null,"",{"$error":"#VALUE!"}," Cities with powiat status:",null,null,null,null,null,null,null,null,null,null,null,null,null,null,null,null,null,"02","18","01",2,200000,18000,10,2,218012,"KOSTOMŁOTY",1701.88,null,"10","18",1000,18,1018,1018000,"wieruszowski",240.93,null,"7350014012"]
[208143,"  Szczytna..........................................................................................................................................................................................................................................................",13237,"",132,null,"1207122",1207122,"Tymbark (2)",6395,null,"0861",861000,"   Gorzów Wielkopolski",8572,86,123921,1446,31,29,null,null,null,null,null,null,null,null,null,null,null,"02","18","02",2,200000,18000,20,2,218022,"MALCZYCE",1344.12,null,"10","19",1000,19,1019,1019000,"zduńskowolski",237.6,null,"7351006084"]
[208144,"",8038,"",80,null,"1208000",1208000,"Powiat miechowski",46998,null,"0862",862000,"   Zielona Góra",27832,277,140297,504,6,24,null,null,null,null,null,null,null,null,null,null,null,"02","18","03",2,200000,18000,30,2,218032,"MIĘKINIA",3296.42,null,"10","20",1000,20,1020,1020000,"zgierski",297.64,null,"7351026738"]
[208145,"",5199,"",52,null,"1208012",1208012,"Charsznica (2)",7128,null,"",{"$error":"#VALUE!"},"WOJ. ŁÓDZKIE",null,null,null,null,null,null,null,null,null,null,null,null,null,null,null,null,null,"02","18","04",3,200000,18000,40,3,218043,"ŚRODA ŚLĄSKA",2855.01,null,"10","21",1000,21,1021,1021000,"brzeziński",236.77,null,"7351071414"]
["","Powiat legnicki  (8 gmin)",null,null,null,null,"1208022",1208022,"Gołcza (2)",5977,null,"",{"$error":"#VALUE!"}," Powiaty:",null,null,null,null,null,null,null,null,null,null,null,null,null,null,null,null,null,"02","18","05",2,200000,18000,50,2,218052,"UDANIN",1564.8,null,"10","61",1000,61,1061,1061000,"Łódź",396.62,null,"7352175044"]
["","",null,null,null,null,"1208032",1208032,"Kozłów (2)",4440,null,"",{"$error":"#VALUE!"}," Powiats:",null,null,null,null,null,null,null,null,null,null,null,null,null,null,null,null,null,"02","19","01",1,200000,19000,10,1,219011,"ŚWIDNICA",2192.6999999999998,null,"10","62",1000,62,1062,1062000,"Piotrków Trybunalski",311.60000000000002,null,"7352703193"]
[209011,"  Chojnów..........................................................................................................................................................................................................................................................",532,"↓",5,null,"1208042",1208042,"Książ Wielki (2)",4879,null,"1001",1001000,"   bełchatowski",96760,968,112997,117,136,61,null,null,null,null,null,null,null,null,null,null,null,"02","19","02",1,200000,19000,20,1,219021,"ŚWIEBODZICE",2075.42,null,"10","63",1000,63,1063,1063000,"Skierniewice",370.46,null,"7352833352"]
["","",null,null,null,null,"1208053",1208053,"Miechów (3)",18802,null,"1021",1021000,"   brzeziński",35856,359,30890,86,308,308,null,null,null,null,null,null,null,null,null,null,null,"02","19","03",2,200000,19000,30,2,219032,"DOBROMIERZ",1671.68,null,"12","01",1200,1,1201,1201000,"bocheński",228.01,null,"7352834179"]
[209022,"  Chojnów..........................................................................................................................................................................................................................................................",23092,"",231,null,"1208054",1208054,"Miechów - miasto (4)",11027,null,"1002",1002000,"   kutnowski",88686,887,97295,110,155,85,null,null,null,null,null,null,null,null,null,null,null,"02","19","04",3,200000,19000,40,3,219043,"JAWORZYNA ŚLĄSKA",1483.86,null,"12","02",1200,2,1202,1202000,"brzeski",187.64,null,"7352834759"]
[209032,"  Krotoszyce..........................................................................................................................................................................................................................................................",6750,"",67,null,"1208055",1208055,"Miechów - obszar wiejski (5)",7775,null,"1003",1003000,"   łaski",61823,618,50103,81,248,242,null,null,null,null,null,null,null,null,null,null,null,"02","19","05",2,200000,19000,50,2,219052,"MARCINOWICE",1672.75,null,"12","03",1200,3,1203,1203000,"chrzanowski",282.69,null,"7352841452"]
[209042,"  Kunice..........................................................................................................................................................................................................................................................",9266,"",93,null,"1208062",1208062,"Racławice (2)",2427,null,"1004",1004000,"   łęczycki",77275,773,50143,65,188,241,null,null,null,null,null,null,null,null,null,null,null,"02","19","06",3,200000,19000,60,3,219063,"STRZEGOM",2522.61,null,"12","04",1200,4,1204,1204000,"dąbrowski",130.41,null,"7352843273"]
[209052,"  Legnickie Pole..........................................................................................................................................................................................................................................................",8524,"",85,null,"1208072",1208072,"Słaboszów (2)",3345,null,"1005",1005000,"   łowicki",98817,988,78616,80,131,132,null,null,null,null,null,null,null,null,null,null,null,"02","19","07",2,200000,19000,70,2,219072,"ŚWIDNICA",2036.99,null,"12","05",1200,5,1205,1205000,"gorlicki",159.75,null,"7352849761"]
[209062,"  Miłkowice..........................................................................................................................................................................................................................................................",8663,"",87,null,"1209000",1209000,"Powiat myślenicki",129538,null,"1006",1006000,"   łódzki wschodni",49976,500,71705,143,281,159,null,null,null,null,null,null,null,null,null,null,null,"02","19","08",3,200000,19000,80,3,219083,"ŻARÓW",2422.02,null,"12","06",1200,6,1206,1206000,"krakowski",367.39,null,"7352851410"]
[209082,"  Ruja..........................................................................................................................................................................................................................................................",7330,"",73,null,"1209013",1209013,"Dobczyce (3)",15509,null,"1007",1007000,"   opoczyński",104019,1040,76623,74,114,141,null,null,null,null,null,null,null,null,null,null,null,"02","20","01",3,200000,20000,10,3,220013,"OBORNIKI ŚLĄSKIE",2037.88,null,"12","07",1200,7,1207,1207000,"limanowski",178.46,null,"7352854845"]
["","",null,null,null,null,"1209014",1209014,"Dobczyce - miasto (4)",6205,null,"1008",1008000,"   pabianicki",49218,492,119289,242,283,48,null,null,null,null,null,null,null,null,null,null,null,"02","20","02",3,200000,20000,20,3,220023,"PRUSICE",1931.09,null,"12","08",1200,8,1208,1208000,"miechowski",171.38,null,"7352856459"]
[209073,"  Prochowice..........................................................................................................................................................................................................................................................",10251,"",103,null,"1209015",1209015,"Dobczyce - obszar wiejski (5)",9304,null,"1009",1009000,"   pajęczański",80382,804,51597,64,179,238,null,null,null,null,null,null,null,null,null,null,null,"02","20","03",3,200000,20000,30,3,220033,"TRZEBNICA",2153.89,null,"12","09",1200,9,1209,1209000,"myślenicki",228.14,null,"7360007798"]
[209074,"",985,"",10,null,"1209022",1209022,"Lubień (2)",10073,null,"1010",1010000,"   piotrkowski",142874,1429,91315,64,43,94,null,null,null,null,null,null,null,null,null,null,null,"02","20","04",2,200000,20000,40,2,220042,"WISZNIA MAŁA",3890.96,null,"12","10",1200,10,1210,1210000,"nowosądecki",172.93,null,"7361198317"]
[209075,"",9266,"",93,null,"1209033",1209033,"Myślenice (3)",45403,null,"1011",1011000,"   poddębicki",88121,881,41205,47,156,279,null,null,null,null,null,null,null,null,null,null,null,"02","20","05",2,200000,20000,50,2,220052,"ZAWONIA",2727.6,null,"12","11",1200,11,1211,1211000,"nowotarski",152.72,null,"7361699456"]
["","Powiat lubański  (7 gmin)",null,null,null,null,"1209034",1209034,"Myślenice - miasto (4)",17846,null,"1012",1012000,"   radomszczański",144257,1443,113315,79,42,60,null,null,null,null,null,null,null,null,null,null,null,"02","20","06",3,200000,20000,60,3,220063,"ŻMIGRÓD",1595.35,null,"12","12",1200,12,1212,1212000,"olkuski",299.76,null,"7361705814"]
["","",null,null,null,null,"1209035",1209035,"Myślenice - obszar wiejski (5)",27557,null,"1013",1013000,"   rawski",64620,646,48808,76,236,246,null,null,null,null,null,null,null,null,null,null,null,"02","21","01",1,200000,21000,10,1,221011,"BOGUSZÓW-GORCE",1008.96,null,"12","13",1200,13,1213,1213000,"oświęcimski",278.85000000000002,null,"7361717220"]
[210011,"  Lubań..........................................................................................................................................................................................................................................................",1612,"",16,null,"1209042",1209042,"Pcim (2)",11124,null,"1014",1014000,"   sieradzki",149083,1491,118240,79,36,50,null,null,null,null,null,null,null,null,null,null,null,"02","21","02",1,200000,21000,20,1,221021,"JEDLINA-ZDRÓJ",1419.84,null,"12","14",1200,14,1214,1214000,"proszowicki",168.68,null,"7361717680"]
[210021,"  Świeradów-Zdrój..........................................................................................................................................................................................................................................................",2072,"",21,null,"1209052",1209052,"Raciechowice (2)",6409,null,"1015",1015000,"   skierniewicki",75338,753,38195,51,193,291,null,null,null,null,null,null,null,null,null,null,null,"02","21","03",1,200000,21000,30,1,221031,"SZCZAWNO-ZDRÓJ",2631.65,null,"12","15",{"$f":"AR134*100","v":1200},{"$f":"+AS134*1","v":15},{"$f":"AT134+AU134","v":1215},{"$f":"AV134*1000","v":1215000},"suski",205.68,null,"7361720593"]
["","",null,null,null,null,"1209062",1209062,"Siepraw (2)",9557,null,"1016",1016000,"   tomaszowski",102479,1025,117259,114,120,52,null,null,null,null,null,null,null,null,null,null,null,"02","21","04",2,200000,21000,40,2,221042,"CZARNY BÓR",2004.14,null,"12","16",1200,16,1216,1216000,"tarnowski",170.7,null,"7371004591"]
[210042,"  Lubań..........................................................................................................................................................................................................................................................",14234,"",142,null,"1209073",1209073,"Sułkowice (3)",15160,null,"1017",1017000,"   wieluński",92648,926,76699,83,148,140,null,null,null,null,null,null,null,null,null,null,null,"02","21","05",3,{"$f":"AF136*100000","v":200000},{"$f":"AG136*1000","v":21000},{"$f":"AH136*10","v":50},{"$f":"AI136*1","v":3},{"$f":"SUM(AJ136:AM136)","v":221053},"GŁUSZYCA",1037.75,null,"12","17",1200,17,1217,1217000,"tatrzański",206.45,null,"7371005969"]
[210062,"  Platerówka..........................................................................................................................................................................................................................................................",4790,"",48,null,"1209074",1209074,"Sułkowice - miasto (4)",6513,null,"1018",{"$f":"L137*1000","v":1018000},"   wieruszowski",57713,577,42213,73,263,274,null,null,null,null,null,null,null,null,null,null,null,"02","21","06",3,200000,21000,60,3,221063,"MIEROSZÓW",1759.41,null,"12","18",1200,18,1218,1218000,"wadowicki",236.22,null,"7371007419"]
[210072,"  Siekierczyn..........................................................................................................................................................................................................................................................",4950,"",49,null,"1209075",1209075,"Sułkowice - obszar wiejski (5)",8647,null,"1019",1019000,"   zduńskowolski",36923,369,66766,181,305,171,null,null,null,null,null,null,null,null,null,null,null,"02","21","07",2,200000,21000,70,2,221072,"STARE BOGACZOWICE",1496.95,null,"12","19",1200,19,1219,1219000,"wielicki",349.43,null,"7371008784"]
["","",null,null,null,null,"1209082",1209082,"Tokarnia (2)",8789,null,"1020",1020000,"   zgierski",85518,855,165916,194,162,12,null,null,null,null,null,null,null,null,null,null,null,"02","21","08",2,200000,21000,80,2,221082,"WALIM",1920.46,null,"12","61",1200,61,1261,1261000,"Kraków",537.71,null,"7371008991"]
[210033,"  Leśna..........................................................................................................................................................................................................................................................",10460,"",105,null,"1209092",1209092,"Wiśniowa (2)",7514,null,"",{"$error":"#VALUE!"}," Miasta na prawach powiatu:",null,null,null,null,null,null,null,null,null,null,null,null,null,null,null,null,null,"02","22","01",3,200000,22000,10,3,222013,"BRZEG DOLNY",2927.97,null,"12","62",1200,62,1262,1262000,"Nowy Sącz",337.72,null,"7371022962"]
[210034,"",856,"",9,null,"1210000",1210000,"Powiat nowosądecki",214933,null,"",{"$error":"#VALUE!"}," Cities with powiat status:",null,null,null,null,null,null,null,null,null,null,null,null,null,null,null,null,null,"02","22","02",2,200000,22000,20,2,222022,"WIŃSKO",1251.28,null,"12","63",1200,63,1263,1263000,"Tarnów",278.92,null,"7371152618"]
[210035,"",9604,"",96,null,"1210011",1210011,"Grybów (1)",5953,null,"1061",1061000,"   Łódź",29325,293,685285,2337,4,3,null,null,null,null,null,null,null,null,null,null,null,"02","22","03",3,200000,22000,30,3,222033,"WOŁÓW",1686.09,null,"14","01",1400,1,1401,1401000,"białobrzeski",172.36,null,"7371188119"]
[210053,"  Olszyna..........................................................................................................................................................................................................................................................",4712,"",47,null,"1210022",1210022,"Chełmiec (2)",29572,null,"1062",1062000,"   Piotrków Trybunalski",6724,67,73670,1096,44,49,null,null,null,null,null,null,null,null,null,null,null,"02","23","01",2,200000,23000,10,2,223012,"CZERNICA",2721.65,null,"14","02",1400,2,1402,1402000,"ciechanowski",243.62,null,"7371193876"]
[210054,"",2026,"",20,null,"1210032",1210032,"Gródek nad Dunajcem (2)",8935,null,"1063",1063000,"   Skierniewice",3460,35,48178,1392,57,62,null,null,null,null,null,null,null,null,null,null,null,"02","23","02",2,200000,23000,20,2,223022,"DŁUGOŁĘKA",3180.94,null,"14","03",1400,3,1403,1403000,"garwoliński",221.52,null,"7371283697"]
[210055,"",2686,"",27,null,"1210042",1210042,"Grybów (2)",25352,null,"",{"$error":"#VALUE!"},"WOJ. MAŁOPOLSKIE",null,null,null,null,null,null,null,null,null,null,null,null,null,null,null,null,null,"02","23","03",2,200000,23000,30,2,223032,"JORDANÓW ŚLĄSKI",1878.27,null,"14","04",1400,4,1404,1404000,"gostyniński",187.88,null,"7371362818"]
["","Powiat lubiński  (4 gminy)",null,null,null,null,"1210052",1210052,"Kamionka Wielka (2)",10441,null,"",{"$error":"#VALUE!"}," Powiaty:",null,null,null,null,null,null,null,null,null,null,null,null,null,null,null,null,null,"02","23","04",3,200000,23000,40,3,223043,"KĄTY WROCŁAWSKIE",4273.7299999999996,null,"14","05",1400,5,1405,1405000,"grodziski",470.51,null,"7371410411"]
["","",null,null,null,null,"1210062",1210062,"Korzenna (2)",14364,null,"",{"$error":"#VALUE!"}," Powiats:",null,null,null,null,null,null,null,null,null,null,null,null,null,null,null,null,null,"02","23","05",2,200000,23000,50,2,223052,"KOBIERZYCE",9350.4500000000007,null,"14","06",1400,6,1406,1406000,"grójecki",256.52,null,"7372206836"]
[211011,"  Lubin..........................................................................................................................................................................................................................................................",4077,"",41,null,"1210073",1210073,"Krynica-Zdrój (3)",15762,null,"1201",1201000,"   bocheński",64856,649,106514,164,235,75,null,null,null,null,null,null,null,null,null,null,null,"02","23","06",2,200000,23000,60,2,223062,"MIETKÓW",2224.38,null,"14","07",1400,7,1407,1407000,"kozienicki",259.02,null,"7381010274"]
["","",null,null,null,null,"1210074",1210074,"Krynica-Zdrój - miasto (4)",9712,null,"1202",1202000,"   brzeski",59052,591,93206,158,257,91,null,null,null,null,null,null,null,null,null,null,null,"02","23","07",3,200000,23000,70,3,223073,"SOBÓTKA",2206.7199999999998,null,"14","08",1400,8,1408,1408000,"legionowski",439.68,null,"7381013686"]
[211022,"  Lubin..........................................................................................................................................................................................................................................................",28978,"",290,null,"1210075",1210075,"Krynica-Zdrój - obszar wiejski (5)",6050,null,"1203",1203000,"   chrzanowski",37012,370,125385,339,304,43,null,null,null,null,null,null,null,null,null,null,null,"02","23","08",3,200000,23000,80,3,223083,"SIECHNICE",3987.19,null,"14","09",1400,9,1409,1409000,"lipski",147.26,null,"7381021958"]
[211032,"  Rudna..........................................................................................................................................................................................................................................................",21664,"",217,null,"1210082",1210082,"Łabowa (2)",5960,null,"1204",1204000,"   dąbrowski",53025,530,59350,112,274,200,null,null,null,null,null,null,null,null,null,null,null,"02","23","09",2,200000,23000,90,2,223092,"ŻÓRAWINA",3144.33,null,"14","10",1400,10,1410,1410000,"łosicki",160.85,null,"7381022314"]
["","",null,null,null,null,"1210092",1210092,"Łącko (2)",16652,null,"1205",1205000,"   gorlicki",96646,966,109104,113,137,68,null,null,null,null,null,null,null,null,null,null,null,"02","24","01",3,200000,24000,10,3,224013,"BARDO",1959.48,null,"14","11",1400,11,1411,1411000,"makowski",178.44,null,"7381973883"]
[211043,"  Ścinawa..........................................................................................................................................................................................................................................................",16443,"",164,null,"1210102",1210102,"Łososina Dolna (2)",11163,null,"1206",1206000,"   krakowski",123052,1231,277145,225,76,2,null,null,null,null,null,null,null,null,null,null,null,"02","24","02",2,200000,24000,20,2,224022,"CIEPŁOWODY",1942.43,null,"14","12",1400,12,1412,1412000,"miński",321.55,null,"7382125507"]
[211044,"",1354,"",13,null,"1210113",1210113,"Muszyna (3)",11148,null,"1207",1207000,"   limanowski",95123,951,131523,138,143,37,null,null,null,null,null,null,null,null,null,null,null,"02","24","03",2,200000,24000,30,2,224032,"KAMIENIEC ZĄBKOWICKI",1752.21,null,"14","13",1400,13,1413,1413000,"mławski",264.57,null,"7382129965"]
[211045,"",15089,"",151,null,"1210114",1210114,"Muszyna - miasto (4)",4464,null,"1208",1208000,"   miechowski",67629,676,49137,73,226,245,null,null,null,null,null,null,null,null,null,null,null,"02","24","04",2,200000,24000,40,2,224042,"STOSZOWICE",1380.4,null,"14","14",1400,14,1414,1414000,"nowodworski",356.9,null,"7382130282"]
["","Powiat lwówecki  (5 gmin)",null,null,null,null,"1210115",1210115,"Muszyna - obszar wiejski (5)",6684,null,"1209",1209000,"   myślenicki",67308,673,127028,189,231,41,null,null,null,null,null,null,null,null,null,null,null,"02","24","05",3,200000,24000,50,3,224053,"ZĄBKOWICE ŚLĄSKIE",1951.29,null,"14","15",1400,15,1415,1415000,"ostrołęcki",187.71,null,"7382131749"]
["","",null,null,null,null,"1210122",1210122,"Nawojowa (2)",8843,null,"1210",1210000,"   nowosądecki",154980,1549,216176,139,31,4,null,null,null,null,null,null,null,null,null,null,null,"02","24","06",3,200000,24000,60,3,224063,"ZIĘBICE",1325.24,null,"14","16",1400,16,1416,1416000,"ostrowski",211.28,null,"7382144864"]
[212013,"  Gryfów Śląski..........................................................................................................................................................................................................................................................",6667,"",67,null,"1210133",1210133,"Piwniczna-Zdrój (3)",10032,null,"1211",1211000,"   nowotarski",147499,1474,191508,130,38,8,null,null,null,null,null,null,null,null,null,null,null,"02","24","07",3,200000,24000,70,3,224073,"ZŁOTY STOK",1280.27,null,"14","17",1400,17,1417,1417000,"otwocki",426.38,null,"7382150787"]
[212014,"",663,"",7,null,"1210134",1210134,"Piwniczna-Zdrój - miasto (4)",5448,null,"1212",1212000,"   olkuski",61811,618,112035,181,249,63,null,null,null,null,null,null,null,null,null,null,null,"02","25","01",1,200000,25000,10,1,225011,"ZAWIDÓW",1455.35,null,"14","18",1400,18,1418,1418000,"piaseczyński",617.78,null,"8681001825"]
[212015,"",6004,"",60,null,"1210135",1210135,"Piwniczna-Zdrój - obszar wiejski (5)",4584,null,"1213",1213000,"   oświęcimski",40558,406,153737,379,300,23,null,null,null,null,null,null,null,null,null,null,null,"02","25","02",1,200000,25000,20,1,225021,"ZGORZELEC",1905.73,null,"14","19",1400,19,1419,1419000,"płocki",223.85,null,"8681021259"]
[212023,"  Lubomierz..........................................................................................................................................................................................................................................................",13053,"",130,null,"1210142",1210142,"Podegrodzie (2)",13535,null,"1214",1214000,"   proszowicki",41487,415,43523,105,298,271,null,null,null,null,null,null,null,null,null,null,null,"02","25","03",3,200000,25000,30,3,225033,"BOGATYNIA",5411.97,null,"14","20",1400,20,1420,1420000,"płoński",208.53,null,"8681021271"]
[212024,"",805,"",8,null,"1210152",1210152,"Rytro (2)",3670,null,"1215",1215000,"   suski",68571,686,84255,123,223,115,null,null,null,null,null,null,null,null,null,null,null,"02","25","04",3,200000,25000,40,3,225043,"PIEŃSK",1347.54,null,"14","21",1400,21,1421,1421000,"pruszkowski",586.54,null,"8681021288"]
[212025,"",12248,"",122,null,"1210163",1210163,"Stary Sącz (3)",23551,null,"1216",1216000,"   tarnowski",141158,1412,201570,143,46,7,null,null,null,null,null,null,null,null,null,null,null,"02","25","05",2,200000,25000,50,2,225052,"SULIKÓW",2280.4499999999998,null,"14","22",1400,22,1422,1422000,"przasnyski",170.31,null,"8681021294"]
[212033,"  Lwówek Śląski..........................................................................................................................................................................................................................................................",23993,"",240,null,"1210164",1210164,"Stary Sącz - miasto (4)",8683,null,"1217",1217000,"   tatrzański",47165,472,68146,144,287,168,null,null,null,null,null,null,null,null,null,null,null,"02","25","06",3,200000,25000,60,3,225063,"WĘGLINIEC",1771.76,null,"14","23",1400,23,1423,1423000,"przysuski",137.5,null,"8681021302"]
[212034,"",1665,"",17,null,"1210165",1210165,"Stary Sącz - obszar wiejski (5)",14868,null,"1218",1218000,"   wadowicki",64588,646,160130,248,237,17,null,null,null,null,null,null,null,null,null,null,null,"02","25","07",2,200000,25000,70,2,225072,"ZGORZELEC",2705.04,null,"14","24",1400,24,1424,1424000,"pułtuski",201.49,null,"8681021319"]
[212035,"",22328,"",223,null,"1211000",1211000,"Powiat nowotarski",190143,null,"1219",1219000,"   wielicki",41078,411,127078,309,299,40,null,null,null,null,null,null,null,null,null,null,null,"02","26","01",1,200000,26000,10,1,226011,"WOJCIESZÓW",1434.67,null,"14","25",1400,25,1425,1425000,"radomski",187.89,null,"8681021360"]
[212043,"  Mirsk..........................................................................................................................................................................................................................................................",18650,"",187,null,"1211011",1211011,"Nowy Targ (1)",33103,null,"",{"$error":"#VALUE!"}," Miasta na prawach powiatu:",null,null,null,null,null,null,null,null,null,null,null,null,null,null,null,null,null,"02","26","02",1,200000,26000,20,1,226021,"ZŁOTORYJA",1743.2,null,"14","26",1400,26,1426,1426000,"siedlecki",200.01,null,"8681599283"]
[212044,"",1466,"",15,null,"1211023",1211023,"Szczawnica (3)",6732,null,"",{"$error":"#VALUE!"}," Cities with powiat status:",null,null,null,null,null,null,null,null,null,null,null,null,null,null,null,null,null,"02","26","03",2,200000,26000,30,2,226032,"PIELGRZYMKA",1425.94,null,"14","27",1400,27,1427,1427000,"sierpecki",176.51,null,"8691002648"]
[212045,"",17184,"",172,null,"1211024",1211024,"Szczawnica - miasto (4)",5317,null,"1261",1261000,"   Kraków",32685,327,771069,2359,2,2,null,null,null,null,null,null,null,null,null,null,null,"02","26","04",3,200000,26000,40,3,226043,"ŚWIERZAWA",1319.63,null,"14","28",1400,28,1428,1428000,"sochaczewski",307.62,null,"8691013238"]
[212053,"  Wleń..........................................................................................................................................................................................................................................................",8606,"",86,null,"1211025",1211025,"Szczawnica - obszar wiejski (5)",1415,null,"1262",1262000,"   Nowy Sącz",5758,58,83896,1457,49,44,null,null,null,null,null,null,null,null,null,null,null,"02","26","05",2,200000,26000,50,2,226052,"ZAGRODNO",2057.0500000000002,null,"14","29",1400,29,1429,1429000,"sokołowski",234.35,null,"8691186401"]
[212054,"",722,"",7,null,"1211032",1211032,"Czarny Dunajec (2)",22113,null,"1263",1263000,"   Tarnów",7238,72,109062,1507,41,35,null,null,null,null,null,null,null,null,null,null,null,"02","26","06",2,200000,26000,60,2,226062,"ZŁOTORYJA",1878.6,null,"14","30",1400,30,1430,1430000,"szydłowiecki",150.11000000000001,null,"8691186447"]
[212055,"",7884,"",79,null,"1211042",1211042,"Czorsztyn (2)",7592,null,"",{"$error":"#VALUE!"},"WOJ. MAZOWIECKIE",null,null,null,null,null,null,null,null,null,null,null,null,null,null,null,null,null,"02","61","01",1,200000,61000,10,1,261011,"Jelenia Góra",2050.06,null,"14","32",1400,32,1432,1432000,"warszawski zachodni",639.76,null,"8691212363"]
["","Powiat milicki  (3 gminy)",null,null,null,null,"1211052",1211052,"Jabłonka (2)",19093,null,"",{"$error":"#VALUE!"}," Powiaty:",null,null,null,null,null,null,null,null,null,null,null,null,null,null,null,null,null,"02","62","01",1,200000,62000,10,1,262011,"Legnica",2204.16,null,"14","33",1400,33,1433,1433000,"węgrowski",213.52,null,"8691291026"]
["","",null,null,null,null,"1211062",1211062,"Krościenko nad Dunajcem (2)",6670,null,"",{"$error":"#VALUE!"}," Powiats:",null,null,null,null,null,null,null,null,null,null,null,null,null,null,null,null,null,"02","64","01",1,200000,64000,10,1,264011,"Wrocław",3191.2,null,"14","34",1400,34,1434,1434000,"wołomiński",377.04,null,"8691318251"]
[213012,"  Cieszków..........................................................................................................................................................................................................................................................",10083,"",101,null,"1211072",1211072,"Lipnica Wielka (2)",6058,null,"1401",1401000,"   białobrzeski",63910,639,33551,52,240,305,null,null,null,null,null,null,null,null,null,null,null,"02","65","01",1,200000,65000,10,1,265011,"WAŁBRZYCH",1671.85,null,"14","35",1400,35,1435,1435000,"wyszkowski",242.81,null,"8691326517"]
[213022,"  Krośnice..........................................................................................................................................................................................................................................................",17854,"",178,null,"1211082",1211082,"Łapsze Niżne (2)",9257,null,"1402",1402000,"   ciechanowski",105980,1060,89670,85,111,100,null,null,null,null,null,null,null,null,null,null,null,"04","01","01",1,400000,1000,10,1,401011,"ALEKSANDRÓW KUJAWSKI",1444.12,null,"14","36",1400,36,1436,1436000,"zwoleński",153.76,null,"8691652725"]
["","",null,null,null,null,"1211092",1211092,"Nowy Targ (2)",24025,null,"1403",1403000,"   garwoliński",128483,1285,108993,85,68,69,null,null,null,null,null,null,null,null,null,null,null,"04","01","02",1,400000,1000,20,1,401021,"CIECHOCINEK",2023.46,null,"14","37",1400,37,1437,1437000,"żuromiński",157.44,null,"8711665525"]
[213033,"  Milicz..........................................................................................................................................................................................................................................................",43556,"",436,null,"1211102",1211102,"Ochotnica Dolna (2)",8434,null,"1404",1404000,"   gostyniński",61481,615,45203,74,252,262,null,null,null,null,null,null,null,null,null,null,null,"04","01","03",1,400000,1000,30,1,401031,"NIESZAWA",2285.41,null,"14","38",1400,38,1438,1438000,"żyrardowski",301.70999999999998,null,"8711769963"]
[213034,"",1350,"",14,null,"1211112",1211112,"Raba Wyżna (2)",14448,null,"1405",1405000,"   grodziski",36704,367,94091,256,306,90,null,null,null,null,null,null,null,null,null,null,null,"04","01","04",2,400000,1000,40,2,401042,"ALEKSANDRÓW KUJAWSKI",1323.41,null,"14","61",1400,61,1461,1461000,"Ostrołęka",314.04000000000002,null,"8711770280"]
[213035,"",42206,"",422,null,"1211123",1211123,"Rabka-Zdrój (3)",16672,null,"1406",1406000,"   grójecki",126773,1268,98451,78,71,82,null,null,null,null,null,null,null,null,null,null,null,"04","01","05",2,400000,1000,50,2,401052,"BĄDKOWO",1499.57,null,"14","62",1400,62,1462,1462000,"Płock",480.91,null,"8711770363"]
["","Powiat oleśnicki  (8 gmin)",null,null,null,null,"1211124",1211124,"Rabka-Zdrój - miasto (4)",12315,null,"1407",1407000,"   kozienicki",91610,916,60472,66,151,194,null,null,null,null,null,null,null,null,null,null,null,"04","01","06",2,400000,1000,60,2,401062,"KONECK",1460.95,null,"14","63",1400,63,1463,1463000,"Radom",291.07,null,"8711771055"]
["","",null,null,null,null,"1211125",1211125,"Rabka-Zdrój - obszar wiejski (5)",4357,null,"1408",1408000,"   legionowski",39076,391,116775,299,303,54,null,null,null,null,null,null,null,null,null,null,null,"04","01","07",2,400000,1000,70,2,401072,"RACIĄŻEK",1181.46,null,"14","64",1400,64,1464,1464000,"Siedlce",337.54,null,"8711771090"]
[214011,"  Oleśnica..........................................................................................................................................................................................................................................................",2096,"",21,null,"1211132",1211132,"Spytkowice (2)",4692,null,"1409",1409000,"   lipski",74022,740,34214,46,198,303,null,null,null,null,null,null,null,null,null,null,null,"04","01","08",2,400000,1000,80,2,401082,"WAGANIEC",1258.71,null,"14","65",1400,65,1465,1465000,"m. st. Warszawa",864.81,null,"8711771227"]
["","",null,null,null,null,"1211142",1211142,"Szaflary (2)",11254,null,"1410",1410000,"   łosicki",77245,772,31023,40,190,307,null,null,null,null,null,null,null,null,null,null,null,"04","01","09",2,400000,1000,90,2,401092,"ZAKRZEWO",1759.69,null,"16","01",1600,1,1601,1601000,"brzeski",231.04,null,"8711771285"]
[214032,"  Dobroszyce..........................................................................................................................................................................................................................................................",13196,"",132,null,"1212000",1212000,"Powiat olkuski",106843,null,"1411",1411000,"   makowski",106463,1065,45247,43,110,261,null,null,null,null,null,null,null,null,null,null,null,"04","02","01",1,400000,2000,10,1,402011,"BRODNICA",2080.91,null,"16","02",1600,2,1602,1602000,"głubczycki",187.88,null,"8731001716"]
[214042,"  Dziadowa Kłoda..........................................................................................................................................................................................................................................................",10579,"",106,null,"1212011",1212011,"Bukowno (1)",9604,null,"1412",1412000,"   miński",116372,1164,153824,132,91,22,null,null,null,null,null,null,null,null,null,null,null,"04","02","02",2,400000,2000,20,2,402022,"BOBROWO",1192.31,null,"16","03",1600,3,1603,1603000,"kędzierzyńsko-kozielski",249.23,null,"8731011086"]
[214062,"  Oleśnica..........................................................................................................................................................................................................................................................",24285,"",242,null,"1212032",1212032,"Bolesław (2)",7587,null,"1413",1413000,"   mławski",118182,1182,73102,62,88,153,null,null,null,null,null,null,null,null,null,null,null,"04","02","03",2,400000,2000,30,2,402032,"BRODNICA",1500.4,null,"16","04",1600,4,1604,1604000,"kluczborski",192.72,null,"8731014848"]
["","",null,null,null,null,"1212042",1212042,"Klucze (2)",14584,null,"1414",1414000,"   nowodworski",69479,695,79291,114,220,129,null,null,null,null,null,null,null,null,null,null,null,"04","02","04",2,400000,2000,40,2,402042,"BRZOZIE",1187.1600000000001,null,"16","05",1600,5,1605,1605000,"krapkowicki",236.83,null,"8731111741"]
[214023,"  Bierutów..........................................................................................................................................................................................................................................................",14700,"",147,null,"1212053",1212053,"Olkusz (3)",46076,null,"1415",1415000,"   ostrołęcki",209355,2093,88735,42,7,103,null,null,null,null,null,null,null,null,null,null,null,"04","02","05",3,400000,2000,50,3,402053,"GÓRZNO",1530.32,null,"16","06",1600,6,1606,1606000,"namysłowski",227.16,null,"8731550848"]
[214024,"",836,"",8,null,"1212054",1212054,"Olkusz - miasto (4)",32670,null,"1416",1416000,"   ostrowski",121779,1218,72782,60,82,154,null,null,null,null,null,null,null,null,null,null,null,"04","02","06",2,400000,2000,60,2,402062,"BARTNICZKA",1333.4,null,"16","07",1600,7,1607,1607000,"nyski",200.62,null,"8732614007"]
[214025,"",13864,"",139,null,"1212055",1212055,"Olkusz - obszar wiejski (5)",13406,null,"1417",1417000,"   otwocki",61592,616,124036,201,251,44,null,null,null,null,null,null,null,null,null,null,null,"04","02","07",3,400000,2000,70,3,402073,"JABŁONOWO POMORSKIE",1309.3499999999999,null,"16","08",1600,8,1608,1608000,"oleski",191.05,null,"8732630130"]
[214053,"  Międzybórz..........................................................................................................................................................................................................................................................",8778,"",88,null,"1212062",1212062,"Trzyciąż (2)",6941,null,"1418",1418000,"   piaseczyński",62100,621,184951,298,247,9,null,null,null,null,null,null,null,null,null,null,null,"04","02","08",2,400000,2000,80,2,402082,"OSIEK",1550.9,null,"16","09",1600,9,1609,1609000,"opolski",231.71,null,"8732978229"]
[214054,"",641,"",6,null,"1212073",1212073,"Wolbrom (3)",22051,null,"1419",1419000,"   płocki",179663,1796,111088,62,15,66,null,null,null,null,null,null,null,null,null,null,null,"04","02","09",2,400000,2000,90,2,402092,"ŚWIEDZIEBNIA",919.33,null,"16","10",1600,10,1610,1610000,"prudnicki",173.83,null,"9442226987"]
[214055,"",8137,"",82,null,"1212074",1212074,"Wolbrom - miasto (4)",8155,null,"1420",1420000,"   płoński",137979,1380,87409,63,55,105,null,null,null,null,null,null,null,null,null,null,null,"04","02","10",2,400000,2000,100,2,402102,"ZBICZNO",1191.32,null,"16","11",1600,11,1611,1611000,"strzelecki",226.31,null,"9442243129"]
[214073,"  Syców..........................................................................................................................................................................................................................................................",14511,"",145,null,"1212075",1212075,"Wolbrom - obszar wiejski (5)",13896,null,"1421",1421000,"   pruszkowski",24630,246,164240,667,310,14,null,null,null,null,null,null,null,null,null,null,null,"04","03","01",2,400000,3000,10,2,403012,"BIAŁE BŁOTA",2935.84,null,"16","61",1600,61,1661,1661000,"Opole",412.2,null,"9442246027"]
[214074,"",1705,"",17,null,"1213000",1213000,"Powiat oświęcimski",149304,null,"1422",1422000,"   przasnyski",121862,1219,52824,43,81,232,null,null,null,null,null,null,null,null,null,null,null,"04","03","02",2,400000,3000,20,2,403022,"DĄBROWA CHEŁMIŃSKA",1608.13,null,"18","01",1800,1,1801,1801000,"bieszczadzki",162.94,null,"9442253228"]
[214075,"",12806,"",128,null,"1213011",1213011,"Oświęcim (1)",36048,null,"1423",1423000,"   przysuski",80119,801,41922,52,181,275,null,null,null,null,null,null,null,null,null,null,null,"04","03","03",2,400000,3000,30,2,403032,"DOBRCZ",1742.49,null,"18","02",1800,2,1802,1802000,"brzozowski",141.57,null,"9930336443"]
[214083,"  Twardogóra..........................................................................................................................................................................................................................................................",16786,"",168,null,"1213023",1213023,"Brzeszcze (3)",20546,null,"1424",1424000,"   pułtuski",82742,827,51809,63,173,237,null,null,null,null,null,null,null,null,null,null,null,"04","03","04",3,400000,3000,40,3,403043,"KORONOWO",1637.66,null,"18","03",{"$f":"AR198*100","v":1800},{"$f":"+AS198*1","v":3},{"$f":"AT198+AU198","v":1803},{"$f":"AV198*1000","v":1803000},"dębicki",223.55,null,"9930337193"]
[214084,"",829,"",8,null,"1213024",1213024,"Brzeszcze - miasto (4)",10787,null,"1425",1425000,"   radomski",152978,1530,152117,99,33,25,null,null,null,null,null,null,null,null,null,null,null,"04","03","05",2,400000,3000,50,2,403052,"NOWA WIEŚ WIELKA",2869,null,"18","04",1800,4,1804,1804000,"jarosławski",164.15,null,"9930337247"]
[214085,"",15957,"",160,null,"1213025",1213025,"Brzeszcze - obszar wiejski (5)",9759,null,"1426",1426000,"   siedlecki",160348,1603,81352,51,28,122,null,null,null,null,null,null,null,null,null,null,null,"04","03","06",2,{"$f":"AF200*100000","v":400000},{"$f":"AG200*1000","v":3000},{"$f":"AH200*10","v":60},{"$f":"AI200*1","v":2},{"$f":"SUM(AJ200:AM200)","v":403062},"OSIELSKO",4020.99,null,"18","05",1800,5,1805,1805000,"jasielski",176.61,null,"9930340717"]
["","Powiat oławski  (4 gminy)",null,null,null,null,"1213033",1213033,"Chełmek (3)",12386,null,"1427",{"$f":"L201*1000","v":1427000},"   sierpecki",85204,852,52196,61,164,234,null,null,null,null,null,null,null,null,null,null,null,"04","03","07",2,400000,3000,70,2,403072,"SICIENKO",2068.04,null,"18","06",1800,6,1806,1806000,"kolbuszowski",153.11000000000001,null,"9930370109"]
["","",null,null,null,null,"1213034",1213034,"Chełmek - miasto (4)",8492,null,"1428",1428000,"   sochaczewski",73480,735,85105,116,201,112,null,null,null,null,null,null,null,null,null,null,null,"04","03","08",3,400000,3000,80,3,403083,"SOLEC KUJAWSKI",2473.31,null,"18","07",1800,7,1807,1807000,"krośnieński",156.12,null,"9930652629"]
[215011,"  Oława..........................................................................................................................................................................................................................................................",2736,"",27,null,"1213035",1213035,"Chełmek - obszar wiejski (5)",3894,null,"1429",1429000,"   sokołowski",113117,1131,54217,48,99,229,null,null,null,null,null,null,null,null,null,null,null,"04","04","01",1,400000,4000,10,1,404011,"CHEŁMNO",1561.86,null,"18","08",1800,8,1808,1808000,"leżajski",144.86000000000001,null,"9930656314"]
["","",null,null,null,null,"1213043",1213043,"Kęty (3)",33390,null,"1430",1430000,"   szydłowiecki",45181,452,39864,88,292,284,null,null,null,null,null,null,null,null,null,null,null,"04","04","02",2,400000,4000,20,2,404022,"CHEŁMNO",1291.4100000000001,null,"18","09",1800,9,1809,1809000,"lubaczowski",125,null,"9930658661"]
[215022,"  Domaniów..........................................................................................................................................................................................................................................................",9446,"",94,null,"1213044",1213044,"Kęty - miasto (4)",17866,null,"1432",1432000,"   warszawski zachodni",53379,534,117007,219,272,53,null,null,null,null,null,null,null,null,null,null,null,"04","04","03",2,400000,4000,30,2,404032,"KIJEWO KRÓLEWSKIE",1450.74,null,"18","10",1800,10,1810,1810000,"łańcucki",197.64,null,"9930660913"]
[215042,"  Oława..........................................................................................................................................................................................................................................................",23465,"",235,null,"1213045",1213045,"Kęty - obszar wiejski (5)",15524,null,"1433",1433000,"   węgrowski",122076,1221,66174,54,80,175,null,null,null,null,null,null,null,null,null,null,null,"04","04","04",2,400000,4000,40,2,404042,"LISEWO",1536.36,null,"18","11",1800,11,1811,1811000,"mielecki",236.89]
["","",null,null,null,null,"1213052",1213052,"Osiek (2)",8156,null,"1434",1434000,"   wołomiński",95356,954,245357,257,141,3,null,null,null,null,null,null,null,null,null,null,null,"04","04","05",2,400000,4000,50,2,404052,"PAPOWO BISKUPIE",1242.03,null,"18","12",1800,12,1812,1812000,"niżański",148.68]
[215033,"  Jelcz-Laskowice..........................................................................................................................................................................................................................................................",16763,"",168,null,"1213062",1213062,"Oświęcim (2)",18931,null,"1435",1435000,"   wyszkowski",87643,876,74065,85,158,152,null,null,null,null,null,null,null,null,null,null,null,"04","04","06",2,400000,4000,60,2,404062,"STOLNO",1832.87,null,"18","13",1800,13,1813,1813000,"przemyski",138.1]
[215034,"",1706,"",17,null,"1213072",1213072,"Polanka Wielka (2)",4311,null,"1436",1436000,"   zwoleński",57330,573,36328,63,266,295,null,null,null,null,null,null,null,null,null,null,null,"04","04","07",2,400000,4000,70,2,404072,"UNISŁAW",1293.1099999999999,null,"18","14",1800,14,1814,1814000,"przeworski",163.12]
[215035,"",15057,"",151,null,"1213082",1213082,"Przeciszów (2)",6413,null,"1437",1437000,"   żuromiński",80660,807,38944,48,177,288,null,null,null,null,null,null,null,null,null,null,null,"04","05","01",1,400000,5000,10,1,405011,"GOLUB-DOBRZYŃ",1789.71,null,"18","15",1800,15,1815,1815000,"ropczycko-sędziszowski",169.53]
["","Powiat polkowicki  (6 gmin)",null,null,null,null,"1213093",1213093,"Zator (3)",9123,null,"1438",1438000,"   żyrardowski",53254,533,75848,142,273,145,null,null,null,null,null,null,null,null,null,null,null,"04","05","02",2,400000,5000,20,2,405022,"CIECHOCIN",1325.12,null,"18","16",1800,16,1816,1816000,"rzeszowski",217.19]
["","",null,null,null,null,"1213094",1213094,"Zator - miasto (4)",3623,null,"",{"$error":"#VALUE!"}," Miasta na prawach powiatu:",null,null,null,null,null,null,null,null,null,null,null,null,null,null,null,null,null,"04","05","03",2,400000,5000,30,2,405032,"GOLUB-DOBRZYŃ",1537.79,null,"18","17",1800,17,1817,1817000,"sanocki",183.77]
[216022,"  Gaworzyce..........................................................................................................................................................................................................................................................",7676,"",77,null,"1213095",1213095,"Zator - obszar wiejski (5)",5500,null,"",{"$error":"#VALUE!"}," Cities with powiat status:",null,null,null,null,null,null,null,null,null,null,null,null,null,null,null,null,null,"04","05","04",3,400000,5000,40,3,405043,"KOWALEWO POMORSKIE",1530.27,null,"18","18",1800,18,1818,1818000,"stalowowolski",222.85]
[216032,"  Grębocice..........................................................................................................................................................................................................................................................",12170,"",121,null,"1214000",1214000,"Powiat proszowicki",42268,null,"1461",1461000,"   Ostrołęka",3346,33,52262,1562,58,60,null,null,null,null,null,null,null,null,null,null,null,"04","05","05",2,400000,5000,50,2,405052,"RADOMIN",1287.42,null,"18","19",1800,19,1819,1819000,"strzyżowski",152.81]
[216062,"  Radwanice..........................................................................................................................................................................................................................................................",8424,"",84,null,"1214012",1214012,"Koniusza (2)",9063,null,"1462",1462000,"   Płock",8804,88,120000,1363,30,32,null,null,null,null,null,null,null,null,null,null,null,"04","05","06",2,400000,5000,60,2,405062,"ZBÓJNO",1123.3900000000001,null,"18","20",1800,20,1820,1820000,"tarnobrzeski",174.99]
["","",null,null,null,null,"1214023",1214023,"Koszyce (3)",5269,null,"1463",1463000,"   Radom",11180,112,213029,1905,23,14,null,null,null,null,null,null,null,null,null,null,null,"04","06","01",2,400000,6000,10,2,406012,"GRUDZIĄDZ",2509.5500000000002,null,"18","21",1800,21,1821,1821000,"leski",153.59]
[216013,"  Chocianów..........................................................................................................................................................................................................................................................",22166,"",222,null,"1214024",1214024,"Koszyce - miasto (4)",769,null,"1464",1464000,"   Siedlce",3186,32,77872,2444,61,46,null,null,null,null,null,null,null,null,null,null,null,"04","06","02",2,400000,6000,20,2,406022,"GRUTA",1224.1500000000001,null,"18","61",1800,61,1861,1861000,"Krosno",279.36]
[216014,"",900,"",9,null,"1214025",1214025,"Koszyce - obszar wiejski (5)",4500,null,"1465",1465000,"   m.st. Warszawa",51724,517,1777972,3437,1,1,null,null,null,null,null,null,null,null,null,null,null,"04","06","03",3,400000,6000,30,3,406033,"ŁASIN",1661.52,null,"18","62",1800,62,1862,1862000,"Przemyśl",224.72]
[216015,"",21266,"",213,null,"1214033",1214033,"Nowe Brzesko (3)",5652,null,"",{"$error":"#VALUE!"},"WOJ. OPOLSKIE",null,null,null,null,null,null,null,null,null,null,null,null,null,null,null,null,null,"04","06","04",3,400000,6000,40,3,406043,"RADZYŃ CHEŁMIŃSKI",2114.54,null,"18","63",1800,63,1863,1863000,"Rzeszów",369.75]
[216043,"  Polkowice..........................................................................................................................................................................................................................................................",16765,"",168,null,"1214034",1214034,"Nowe Brzesko - miasto (4)",1611,null,"",{"$error":"#VALUE!"}," Powiaty:",null,null,null,null,null,null,null,null,null,null,null,null,null,null,null,null,null,"04","06","05",2,400000,6000,50,2,406052,"ROGÓŹNO",1313.24,null,"18","64",1800,64,1864,1864000,"Tarnobrzeg",233.36]
[216044,"",2374,"",24,null,"1214035",1214035,"Nowe Brzesko - obszar wiejski (5)",4041,null,"",{"$error":"#VALUE!"}," Powiats:",null,null,null,null,null,null,null,null,null,null,null,null,null,null,null,null,null,"04","06","06",2,400000,6000,60,2,406062,"ŚWIECIE NAD OSĄ",1566.68,null,"20","01",2000,1,2001,2001000,"augustowski",206.65]
[216045,"",14391,"",144,null,"1214042",1214042,"Pałecznica (2)",3485,null,"1601",1601000,"   brzeski",87596,876,90275,103,159,97,null,null,null,null,null,null,null,null,null,null,null,"04","07","01",1,400000,7000,10,1,407011,"INOWROCŁAW",1819.83,null,"20","02",2000,2,2002,2002000,"białostocki",259.33]
[216053,"  Przemków..........................................................................................................................................................................................................................................................",10745,"",107,null,"1214053",1214053,"Proszowice (3)",15587,null,"1602",1602000,"   głubczycki",67263,673,45883,68,232,258,null,null,null,null,null,null,null,null,null,null,null,"04","07","02",2,400000,7000,20,2,407022,"DĄBROWA BISKUPIA",1466.18,null,"20","03",2000,3,2003,2003000,"bielski",210.23]
[216054,"",617,"",6,null,"1214054",1214054,"Proszowice - miasto (4)",5796,null,"1603",1603000,"   kędzierzyńsko-kozielski",62513,625,94487,151,243,89,null,null,null,null,null,null,null,null,null,null,null,"04","07","03",3,400000,7000,30,3,407033,"GNIEWKOWO",1577.95,null,"20","04",2000,4,2004,2004000,"grajewski",161.63999999999999]
[216055,"",10128,"",101,null,"1214055",1214055,"Proszowice - obszar wiejski (5)",9791,null,"1604",1604000,"   kluczborski",85191,852,65837,77,165,177,null,null,null,null,null,null,null,null,null,null,null,"04","07","04",2,400000,7000,40,2,407042,"INOWROCŁAW",2611.2199999999998,null,"20","05",2000,5,2005,2005000,"hajnowski",205.54]
["","Powiat strzeliński  (5 gmin)",null,null,null,null,"1214062",1214062,"Radziemice (2)",3212,null,"1605",1605000,"   krapkowicki",44180,442,63942,145,294,182,null,null,null,null,null,null,null,null,null,null,null,"04","07","05",3,400000,7000,50,3,407053,"JANIKOWO",2138.92,null,"20","06",2000,6,2006,2006000,"kolneński",130.6]
["","",null,null,null,null,"1215000",1215000,"Powiat suski",83127,null,"1606",1606000,"   namysłowski",74818,748,42688,57,194,273,null,null,null,null,null,null,null,null,null,null,null,"04","07","06",3,400000,7000,60,3,407063,"KRUSZWICA",1881.07,null,"20","07",2000,7,2007,2007000,"łomżyński",151.87]
[217012,"  Borów..........................................................................................................................................................................................................................................................",9865,"",99,null,"1215011",1215011,"Jordanów (1)",5420,null,"1607",1607000,"   nyski",122388,1224,136946,112,79,31,null,null,null,null,null,null,null,null,null,null,null,"04","07","07",3,400000,7000,70,3,407073,"PAKOŚĆ",1941.3,null,"20","08",2000,8,2008,2008000,"moniecki",122.14]
[217022,"  Kondratowice..........................................................................................................................................................................................................................................................",9826,"",98,null,"1215021",1215021,"Sucha Beskidzka (1)",8927,null,"1608",1608000,"   oleski",97338,973,64602,66,133,181,null,null,null,null,null,null,null,null,null,null,null,"04","07","08",2,400000,7000,80,2,407082,"ROJEWO",1562.71,null,"20","09",2000,9,2009,2009000,"sejneński",150.86000000000001]
[217032,"  Przeworno..........................................................................................................................................................................................................................................................",11197,"",112,null,"1215032",1215032,"Budzów (2)",8846,null,"1609",1609000,"   opolski",153430,1534,123520,81,32,45,null,null,null,null,null,null,null,null,null,null,null,"04","07","09",2,400000,7000,90,2,407092,"ZŁOTNIKI KUJAWSKIE",1440.43,null,"20","10",2000,10,2010,2010000,"siemiatycki",162.33000000000001]
["","",null,null,null,null,"1215042",1215042,"Bystra-Sidzina (2)",6796,null,"1610",1610000,"   prudnicki",57155,572,55524,97,267,221,null,null,null,null,null,null,null,null,null,null,null,"04","08","01",1,400000,8000,10,1,408011,"LIPNO",1525.64,null,"20","11",2000,11,2011,2011000,"sokólski",150.13999999999999]
[217043,"  Strzelin..........................................................................................................................................................................................................................................................",17141,"",171,null,"1215052",1215052,"Jordanów (2)",11179,null,"1611",1611000,"   strzelecki",74427,744,74665,100,195,149,null,null,null,null,null,null,null,null,null,null,null,"04","08","02",2,400000,8000,20,2,408022,"BOBROWNIKI",1507.01,null,"20","12",2000,12,2012,2012000,"suwalski",152.09]
[217044,"",1034,"",10,null,"1215063",1215063,"Maków Podhalański (3)",15801,null,"",{"$error":"#VALUE!"}," Miasto na prawach powiatu",null,null,null,null,null,null,null,null,null,null,null,null,null,null,null,null,null,"04","08","03",2,400000,8000,30,2,408032,"CHROSTKOWO",1414.61,null,"20","13",2000,13,2013,2013000,"wysokomazowiecki",189]
[217045,"",16107,"",161,null,"1215064",1215064,"Maków Podhalański - miasto (4)",5565,null,"",{"$error":"#VALUE!"}," City with powiat status:",null,null,null,null,null,null,null,null,null,null,null,null,null,null,null,null,null,"04","08","04",3,400000,8000,40,3,408043,"DOBRZYŃ NAD WISŁĄ",1267.8499999999999,null,"20","14",2000,14,2014,2014000,"zambrowski",215.06]
[217053,"  Wiązów..........................................................................................................................................................................................................................................................",14177,"",142,null,"1215065",1215065,"Maków Podhalański - obszar wiejski (5)",10236,null,"1661",1661000,"   Opole",14888,149,128137,861,15,27,null,null,null,null,null,null,null,null,null,null,null,"04","08","05",2,400000,8000,50,2,408052,"KIKÓŁ",956.04,null,"20","61",2000,61,2061,2061000,"Białystok",332.33]
[217054,"",916,"",9,null,"1215072",1215072,"Stryszawa (2)",11906,null,"",{"$error":"#VALUE!"},"WOJ. PODKARPACKIE",null,null,null,null,null,null,null,null,null,null,null,null,null,null,null,null,null,"04","08","06",2,400000,8000,60,2,408062,"LIPNO",1083.44,null,"20","62",2000,62,2062,2062000,"Łomża",284.18]
[217055,"",13261,"",133,null,"1215082",1215082,"Zawoja (2)",8837,null,"",{"$error":"#VALUE!"}," Powiaty:",null,null,null,null,null,null,null,null,null,null,null,null,null,null,null,null,null,"04","08","07",3,400000,8000,70,3,408073,"SKĘPE",1381.47,null,"20","63",2000,63,2063,2063000,"Suwałki",250.21]
["","Powiat średzki  (5 gmin)",null,null,null,null,"1215092",1215092,"Zembrzyce (2)",5415,null,"",{"$error":"#VALUE!"}," Powiats:",null,null,null,null,null,null,null,null,null,null,null,null,null,null,null,null,null,"04","08","08",2,400000,8000,80,2,408082,"TŁUCHOWO",1453.85,null,"22","01",2200,1,2201,2201000,"bytowski",212.39]
["","",null,null,null,null,"1216000",1216000,"Powiat tarnowski",197717,null,"1801",1801000,"   bieszczadzki",113907,1139,21879,19,97,312,null,null,null,null,null,null,null,null,null,null,null,"04","08","09",2,400000,8000,90,2,408092,"WIELGIE",1220.56,null,"22","02",2200,2,2202,2202000,"chojnicki",206.01]
[218012,"  Kostomłoty..........................................................................................................................................................................................................................................................",14524,"",145,null,"1216013",1216013,"Ciężkowice (3)",11027,null,"1802",1802000,"   brzozowski",53934,539,65713,122,271,178,null,null,null,null,null,null,null,null,null,null,null,"04","09","01",2,400000,9000,10,2,409012,"DĄBROWA",1457.02,null,"22","03",2200,3,2203,2203000,"człuchowski",174.79]
[218022,"  Malczyce..........................................................................................................................................................................................................................................................",5257,"",53,null,"1216014",1216014,"Ciężkowice - miasto (4)",2500,null,"1803",1803000,"   dębicki",77748,777,135471,174,186,35,null,null,null,null,null,null,null,null,null,null,null,"04","09","02",2,400000,9000,20,2,409022,"JEZIORA WIELKIE",1301.24,null,"22","04",2200,4,2204,2204000,"gdański",357.43]
[218032,"  Miękinia..........................................................................................................................................................................................................................................................",17948,"",179,null,"1216015",1216015,"Ciężkowice - obszar wiejski (5)",8527,null,"1804",1804000,"   jarosławski",102866,1029,120714,117,119,46,null,null,null,null,null,null,null,null,null,null,null,"04","09","03",3,400000,9000,30,3,409033,"MOGILNO",2303.59,null,"22","05",2200,5,2205,2205000,"kartuski",255.86]
[218052,"  Udanin..........................................................................................................................................................................................................................................................",11089,"",111,null,"1216022",1216022,"Gromnik (2)",8724,null,"1805",1805000,"   jasielski",83087,831,113962,137,172,58,null,null,null,null,null,null,null,null,null,null,null,"04","09","04",3,400000,9000,40,3,409043,"STRZELNO",1663.11,null,"22","06",2200,6,2206,2206000,"kościerski",184.6]
["","",null,null,null,null,"1216032",1216032,"Lisia Góra (2)",15537,null,"1806",1806000,"   kolbuszowski",77317,774,62476,81,187,190,null,null,null,null,null,null,null,null,null,null,null,"04","10","01",3,400000,10000,10,3,410013,"KCYNIA",1147.3699999999999,null,"22","07",2200,7,2207,2207000,"kwidzyński",224.92]
[218043,"  Środa Śląska..........................................................................................................................................................................................................................................................",21596,"",216,null,"1216042",1216042,"Pleśna (2)",11771,null,"1807",1807000,"   krośnieński",99311,993,112414,113,130,62,null,null,null,null,null,null,null,null,null,null,null,"04","10","02",3,400000,10000,20,3,410023,"MROCZA",1105.79,null,"22","08",2200,8,2208,2208000,"lęborski",220.51]
[218044,"",1494,"",15,null,"1216053",1216053,"Radłów (3)",9409,null,"1821",1821000,"   leski",83494,835,26562,32,169,310,null,null,null,null,null,null,null,null,null,null,null,"04","10","03",3,400000,10000,30,3,410033,"NAKŁO NAD NOTECIĄ",1623.1,null,"22","09",2200,9,2209,2209000,"malborski",200.72]
[218045,"",20102,"",201,null,"1216054",1216054,"Radłów - miasto (4)",2687,null,"1808",1808000,"   leżajski",58371,584,69562,119,260,167,null,null,null,null,null,null,null,null,null,null,null,"04","10","04",2,400000,10000,40,2,410042,"SADKI",1302.1199999999999,null,"22","10",2200,10,2210,2210000,"nowodworski",179.35]
["","Powiat świdnicki  (8 gmin)",null,null,null,null,"1216055",1216055,"Radłów - obszar wiejski (5)",6722,null,"1809",1809000,"   lubaczowski",130837,1308,55652,43,61,220,null,null,null,null,null,null,null,null,null,null,null,"04","10","05",3,400000,10000,50,3,410053,"SZUBIN",1584.5,null,"22","11",2200,11,2211,2211000,"pucki",254.63]
["","",null,null,null,null,"1216063",1216063,"Ryglice (3)",11256,null,"1810",1810000,"   łańcucki",45184,452,80834,179,291,123,null,null,null,null,null,null,null,null,null,null,null,"04","11","01",1,400000,11000,10,1,411011,"RADZIEJÓW",2078.9699999999998,null,"22","12",2200,12,2212,2212000,"słupski",230.39]
[219011,"  Świdnica..........................................................................................................................................................................................................................................................",2176,"",22,null,"1216064",1216064,"Ryglice - miasto (4)",2689,null,"1811",1811000,"   mielecki",88050,881,136673,155,157,32,null,null,null,null,null,null,null,null,null,null,null,"04","11","02",2,400000,11000,20,2,411022,"BYTOŃ",1165.9100000000001,null,"22","13",2200,13,2213,2213000,"starogardzki",225.78]
[219021,"  Świebodzice..........................................................................................................................................................................................................................................................",3043,"",30,null,"1216065",1216065,"Ryglice - obszar wiejski (5)",8567,null,"1812",1812000,"   niżański",78564,786,66843,85,184,170,null,null,null,null,null,null,null,null,null,null,null,"04","11","03",2,400000,11000,30,2,411032,"DOBRE",1623.38,null,"22","14",2200,14,2214,2214000,"tczewski",227.22]
["","",null,null,null,null,"1216072",1216072,"Rzepiennik Strzyżewski (2)",6572,null,"1813",1813000,"   przemyski",121122,1211,74398,61,85,150,null,null,null,null,null,null,null,null,null,null,null,"04","11","04",2,400000,11000,40,2,411042,"OSIĘCINY",1153.51,null,"22","15",2200,15,2215,2215000,"wejherowski",258.45999999999998]
[219032,"  Dobromierz..........................................................................................................................................................................................................................................................",8593,"",86,null,"1216082",1216082,"Skrzyszów (2)",14155,null,"1814",1814000,"   przeworski",69802,698,78458,112,218,133,null,null,null,null,null,null,null,null,null,null,null,"04","11","05",3,400000,11000,50,3,411053,"PIOTRKÓW KUJAWSKI",1572.96,null,"22","16",2200,16,2216,2216000,"sztumski",150.41999999999999]
[219052,"  Marcinowice..........................................................................................................................................................................................................................................................",9524,"",95,null,"1216092",1216092,"Tarnów (2)",26359,null,"1815",1815000,"   ropczycko-sędziszowski",54831,548,74374,136,269,151,null,null,null,null,null,null,null,null,null,null,null,"04","11","06",2,400000,11000,60,2,411062,"RADZIEJÓW",2222.29,null,"22","61",2200,61,2261,2261000,"Gdańsk",468.32]
[219072,"  Świdnica..........................................................................................................................................................................................................................................................",20784,"",208,null,"1216103",1216103,"Tuchów (3)",17064,null,"1816",1816000,"   rzeszowski",114713,1147,168167,147,95,11,null,null,null,null,null,null,null,null,null,null,null,"04","11","07",2,400000,11000,70,2,411072,"TOPÓLKA",1192.7,null,"22","62",2200,62,2262,2262000,"Gdynia",438.84]
["","",null,null,null,null,"1216104",1216104,"Tuchów - miasto (4)",6239,null,"1817",1817000,"   sanocki",115643,1156,94758,82,94,88,null,null,null,null,null,null,null,null,null,null,null,"04","12","01",1,400000,12000,10,1,412011,"RYPIN",1957.9,null,"22","63",2200,63,2263,2263000,"Słupsk",289.31]
[219043,"  Jaworzyna Śląska..........................................................................................................................................................................................................................................................",6745,"",67,null,"1216105",1216105,"Tuchów - obszar wiejski (5)",10825,null,"1818",1818000,"   stalowowolski",83174,832,106619,128,171,74,null,null,null,null,null,null,null,null,null,null,null,"04","12","02",2,400000,12000,20,2,412022,"BRZUZE",1091.3399999999999,null,"22","64",2200,64,2264,2264000,"Sopot",653.58000000000004]
[219044,"",434,"",4,null,"1216112",1216112,"Wierzchosławice (2)",10581,null,"1819",1819000,"   strzyżowski",50347,504,61558,122,279,191,null,null,null,null,null,null,null,null,null,null,null,"04","12","03",2,400000,12000,30,2,412032,"ROGOWO",980.51,null,"24","01",2400,1,2401,2401000,"będziński",319.14999999999998]
[219045,"",6311,"",63,null,"1216122",1216122,"Wietrzychowice (2)",3759,null,"1820",1820000,"   tarnobrzeski",52106,521,53236,102,278,231,null,null,null,null,null,null,null,null,null,null,null,"04","12","04",2,400000,12000,40,2,412042,"RYPIN",1485.79,null,"24","02",2400,2,2402,2402000,"bielski",325.08999999999997]
[219063,"  Strzegom..........................................................................................................................................................................................................................................................",14465,"",145,null,"1216133",1216133,"Wojnicz (3)",13105,null,"",{"$error":"#VALUE!"}," Miasta na prawach powiatu:",null,null,null,null,null,null,null,null,null,null,null,null,null,null,null,null,null,"04","12","05",2,400000,12000,50,2,412052,"SKRWILNO",776.22,null,"24","03",2400,3,2403,2403000,"cieszyński",266.14999999999998]
[219064,"",2049,"",21,null,"1216134",1216134,"Wojnicz - miasto (4)",3135,null,"",{"$error":"#VALUE!"}," Cities with powiat status:",null,null,null,null,null,null,null,null,null,null,null,null,null,null,null,null,null,"04","12","06",2,400000,12000,60,2,412062,"WĄPIELSK",1015,null,"24","04",2400,4,2404,2404000,"częstochowski",244.9]
[219065,"",12416,"",124,null,"1216135",1216135,"Wojnicz - obszar wiejski (5)",9970,null,"1861",1861000,"   Krosno",4350,44,46511,1069,53,64,null,null,null,null,null,null,null,null,null,null,null,"04","13","01",3,400000,13000,10,3,413013,"KAMIEŃ KRAJEŃSKI",1187.92,null,"24","05",{"$f":"AR262*100","v":2400},{"$f":"+AS262*1","v":5},{"$f":"AT262+AU262","v":2405},{"$f":"AV262*1000","v":2405000},"gliwicki",287.68]
[219083,"  Żarów..........................................................................................................................................................................................................................................................",8784,"",88,null,"1216143",1216143,"Zakliczyn (3)",12369,null,"1862",1862000,"   Przemyśl",4617,46,61251,1327,52,57,null,null,null,null,null,null,null,null,null,null,null,"04","13","02",3,400000,13000,20,3,413023,"SĘPÓLNO KRAJEŃSKIE",1578.14,null,"24","06",2400,6,2406,2406000,"kłobucki",263.81]
[219084,"",757,"",8,null,"1216144",1216144,"Zakliczyn - miasto (4)",1574,null,"1863",1863000,"   Rzeszów",12661,126,193883,1531,20,18,null,null,null,null,null,null,null,null,null,null,null,"04","13","03",2,{"$f":"AF264*100000","v":400000},{"$f":"AG264*1000","v":13000},{"$f":"AH264*10","v":30},{"$f":"AI264*1","v":2},{"$f":"SUM(AJ264:AM264)","v":413032},"SOŚNO",1067.8900000000001,null,"24","07",2400,7,2407,2407000,"lubliniecki",239.53]
[219085,"",8027,"",80,null,"1216145",1216145,"Zakliczyn - obszar wiejski (5)",10795,null,"1864",{"$f":"L265*1000","v":1864000},"   Tarnobrzeg",8540,85,47047,551,32,63,null,null,null,null,null,null,null,null,null,null,null,"04","13","04",3,400000,13000,40,3,413043,"WIĘCBORK",1371.53,null,"24","08",2400,8,2408,2408000,"mikołowski",366.9]
["","Powiat trzebnicki  (6 gmin)",null,null,null,null,"1216153",1216153,"Żabno (3)",18504,null,"",{"$error":"#VALUE!"},"WOJ. PODLASKIE",null,null,null,null,null,null,null,null,null,null,null,null,null,null,null,null,null,"04","14","01",2,400000,14000,10,2,414012,"BUKOWIEC",1934.02,null,"24","09",2400,9,2409,2409000,"myszkowski",262]
["","",null,null,null,null,"1216154",1216154,"Żabno - miasto (4)",4123,null,"",{"$error":"#VALUE!"}," Powiaty:",null,null,null,null,null,null,null,null,null,null,null,null,null,null,null,null,null,"04","14","02",2,400000,14000,20,2,414022,"DRAGACZ",1635.15,null,"24","10",2400,10,2410,2410000,"pszczyński",297.52]
[220042,"  Wisznia Mała..........................................................................................................................................................................................................................................................",10336,"",103,null,"1216155",1216155,"Żabno - obszar wiejski (5)",14381,null,"",{"$error":"#VALUE!"}," Powiats:",null,null,null,null,null,null,null,null,null,null,null,null,null,null,null,null,null,"04","14","03",2,400000,14000,30,2,414032,"DRZYCIM",1485.39,null,"24","11",2400,11,2411,2411000,"raciborski",231.59]
[220052,"  Zawonia..........................................................................................................................................................................................................................................................",11745,"",118,null,"1216162",1216162,"Szerzyny (2)",7525,null,"2001",2001000,"   augustowski",165939,1659,58367,35,23,203,null,null,null,null,null,null,null,null,null,null,null,"04","14","04",2,400000,14000,40,2,414042,"JEŻEWO",1345.92,null,"24","12",2400,12,2412,2412000,"rybnicki",267.52999999999997]
["","",null,null,null,null,"1217000",1217000,"Powiat tatrzański",66566,null,"2002",2002000,"   białostocki",297644,2975,148145,50,1,27,null,null,null,null,null,null,null,null,null,null,null,"04","14","05",2,400000,14000,50,2,414052,"LNIANO",1613.11,null,"24","13",2400,13,2413,2413000,"tarnogórski",323.83]
[220013,"  Oborniki Śląskie..........................................................................................................................................................................................................................................................",15426,"",154,null,"1217011",1217011,"Zakopane (1)",25389,null,"2003",2003000,"   bielski",138509,1385,54863,40,53,226,null,null,null,null,null,null,null,null,null,null,null,"04","14","06",3,400000,14000,60,3,414063,"NOWE",1235.3800000000001,null,"24","14",2400,14,2414,2414000,"bieruńsko-lędziński",307.14999999999998]
[220014,"",1446,"",14,null,"1217022",1217022,"Biały Dunajec (2)",6830,null,"2004",2004000,"   grajewski",96762,968,47518,49,135,250,null,null,null,null,null,null,null,null,null,null,null,"04","14","07",2,400000,14000,70,2,414072,"OSIE",2342.7399999999998,null,"24","15",2400,15,2415,2415000,"wodzisławski",248.23]
[220015,"",13980,"",140,null,"1217032",1217032,"Bukowina Tatrzańska (2)",13507,null,"2005",2005000,"   hajnowski",162353,1624,43143,27,26,272,null,null,null,null,null,null,null,null,null,null,null,"04","14","08",2,400000,14000,80,2,414082,"PRUSZCZ",1375.32,null,"24","16",2400,16,2416,2416000,"zawierciański",265.18]
[220023,"  Prusice..........................................................................................................................................................................................................................................................",15798,"",158,null,"1217042",1217042,"Kościelisko (2)",9062,null,"2006",2006000,"   kolneński",94010,940,38396,41,144,290,null,null,null,null,null,null,null,null,null,null,null,"04","14","09",3,400000,14000,90,3,414093,"ŚWIECIE",3386.97,null,"24","17",2400,17,2417,2417000,"żywiecki",231.72]
[220024,"",1094,"",11,null,"1217052",1217052,"Poronin (2)",11778,null,"2007",2007000,"   łomżyński",135459,1355,51000,38,57,239,null,null,null,null,null,null,null,null,null,null,null,"04","14","10",2,400000,14000,100,2,414102,"ŚWIEKATOWO",1022.4,null,"24","61",2400,61,2461,2461000,"Bielsko-Biała",414.85]
[220025,"",14704,"",147,null,"1218000",1218000,"Powiat wadowicki",157855,null,"2008",2008000,"   moniecki",138179,1382,40712,29,54,282,null,null,null,null,null,null,null,null,null,null,null,"04","14","11",2,400000,14000,110,2,414112,"WARLUBIE",1247.9000000000001,null,"24","62",2400,62,2462,2462000,"Bytom",235.59]
[220033,"  Trzebnica..........................................................................................................................................................................................................................................................",19996,"",200,null,"1218013",1218013,"Andrychów (3)",42179,null,"2009",2009000,"   sejneński",85517,855,20092,23,163,313,null,null,null,null,null,null,null,null,null,null,null,"04","15","01",1,400000,15000,10,1,415011,"CHEŁMŻA",1478.95,null,"24","63",2400,63,2463,2463000,"Chorzów",298.57]
[220034,"",1061,"",11,null,"1218014",1218014,"Andrychów - miasto (4)",18655,null,"2010",2010000,"   siemiatycki",145946,1459,44689,31,41,264,null,null,null,null,null,null,null,null,null,null,null,"04","15","02",2,400000,15000,20,2,415022,"CHEŁMŻA",1770.86,null,"24","64",2400,64,2464,2464000,"Częstochowa",323.63]
[220035,"",18935,"",189,null,"1218015",1218015,"Andrychów - obszar wiejski (5)",23524,null,"2011",2011000,"   sokólski",205450,2055,67466,33,8,169,null,null,null,null,null,null,null,null,null,null,null,"04","15","03",2,400000,15000,30,2,415032,"CZERNIKOWO",1129.06,null,"24","65",2400,65,2465,2465000,"Dąbrowa Górnicza",352.01]
[220063,"  Żmigród..........................................................................................................................................................................................................................................................",29177,"",292,null,"1218022",1218022,"Brzeźnica (2)",10762,null,"2012",2012000,"   suwalski",130700,1307,35792,27,63,296,null,null,null,null,null,null,null,null,null,null,null,"04","15","04",2,400000,15000,40,2,415042,"LUBICZ",2388.9299999999998,null,"24","66",2400,66,2466,2466000,"Gliwice",401.51]
[220064,"",949,"",10,null,"1218033",1218033,"Kalwaria Zebrzydowska (3)",19930,null,"2013",2013000,"   wysokomazowiecki",128891,1289,57248,44,65,210,null,null,null,null,null,null,null,null,null,null,null,"04","15","05",2,400000,15000,50,2,415052,"ŁUBIANKA",1573.46,null,"24","67",2400,67,2467,2467000,"Jastrzębie-Zdrój",277.58999999999997]
[220065,"",28228,"",282,null,"1218034",1218034,"Kalwaria Zebrzydowska - miasto (4)",4332,null,"2014",2014000,"   zambrowski",73312,733,43816,60,202,268,null,null,null,null,null,null,null,null,null,null,null,"04","15","06",2,400000,15000,60,2,415062,"ŁYSOMICE",3494.28,null,"24","68",2400,68,2468,2468000,"Jaworzno",315.79000000000002]
["","Powiat wałbrzyski  (8 gmin)",null,null,null,null,"1218035",1218035,"Kalwaria Zebrzydowska - obszar wiejski (5)",15598,null,"",{"$error":"#VALUE!"}," Miasta na prawach powiatu:",null,null,null,null,null,null,null,null,null,null,null,null,null,null,null,null,null,"04","15","07",2,400000,15000,70,2,415072,"OBROWO",1505.51,null,"24","69",2400,69,2469,2469000,"Katowice",516.25]
["","",null,null,null,null,"1218042",1218042,"Lanckorona (2)",6249,null,"",{"$error":"#VALUE!"}," Cities with powiat status:",null,null,null,null,null,null,null,null,null,null,null,null,null,null,null,null,null,"04","15","08",2,400000,15000,80,2,415082,"WIELKA NIESZAWKA",3107.11,null,"24","70",2400,70,2470,2470000,"Mysłowice",321.29000000000002]
[221011,"  Boguszów-Gorce..........................................................................................................................................................................................................................................................",2702,"",27,null,"1218052",1218052,"Mucharz (2)",4153,null,"2061",2061000,"   Białystok",10213,102,297459,2913,26,10,null,null,null,null,null,null,null,null,null,null,null,"04","15","09",2,400000,15000,90,2,415092,"ZŁAWIEŚ WIELKA",1938.73,null,"24","71",2400,71,2471,2471000,"Piekary Śląskie",277.36]
[221021,"  Jedlina-Zdrój..........................................................................................................................................................................................................................................................",1745,"",17,null,"1218062",1218062,"Spytkowice (2)",10123,null,"2062",2062000,"   Łomża",3267,33,63000,1928,60,54,null,null,null,null,null,null,null,null,null,null,null,"04","16","01",2,400000,16000,10,2,416012,"CEKCYN",1451.04,null,"24","72",2400,72,2472,2472000,"Ruda Śląska",288.88]
[221031,"  Szczawno-Zdrój..........................................................................................................................................................................................................................................................",1474,"",15,null,"1218072",1218072,"Stryszów (2)",6801,null,"2063",2063000,"   Suwałki",6551,66,69827,1066,46,50,null,null,null,null,null,null,null,null,null,null,null,"04","16","02",2,400000,16000,20,2,416022,"GOSTYCYN",1331.67,null,"24","73",2400,73,2473,2473000,"Rybnik",307.95999999999998]
["","",null,null,null,null,"1218082",1218082,"Tomice (2)",8207,null,"",{"$error":"#VALUE!"},"WOJ. POMORSKIE",null,null,null,null,null,null,null,null,null,null,null,null,null,null,null,null,null,"04","16","03",2,400000,16000,30,2,416032,"KĘSOWO",1113.21,null,"24","74",2400,74,2474,2474000,"Siemianowice Śląskie",298.58999999999997]
[221042,"  Czarny Bór..........................................................................................................................................................................................................................................................",6640,"",66,null,"1218093",1218093,"Wadowice (3)",36739,null,"",{"$error":"#VALUE!"}," Powiaty:",null,null,null,null,null,null,null,null,null,null,null,null,null,null,null,null,null,"04","16","04",2,400000,16000,40,2,416042,"LUBIEWO",1580.97,null,"24","75",2400,75,2475,2475000,"Sosnowiec",307.82]
[221072,"  Stare Bogaczowice..........................................................................................................................................................................................................................................................",8729,"",88,null,"1218094",1218094,"Wadowice - miasto (4)",17455,null,"",{"$error":"#VALUE!"}," Powiats:",null,null,null,null,null,null,null,null,null,null,null,null,null,null,null,null,null,"04","16","05",2,400000,16000,50,2,416052,"ŚLIWICE",1814.25,null,"24","76",2400,76,2476,2476000,"Świętochłowice",243.46]
[221082,"  Walim..........................................................................................................................................................................................................................................................",7914,"",79,null,"1218095",1218095,"Wadowice - obszar wiejski (5)",19284,null,"2201",2201000,"   bytowski",219207,2192,79299,36,6,128,null,null,null,null,null,null,null,null,null,null,null,"04","16","06",3,400000,16000,60,3,416063,"TUCHOLA",1608.6,null,"24","77",2400,77,2477,2477000,"Tychy",394.09]
["","",null,null,null,null,"1218102",1218102,"Wieprz (2)",12712,null,"2202",2202000,"   chojnicki",136421,1364,97551,72,56,84,null,null,null,null,null,null,null,null,null,null,null,"04","17","01",1,400000,17000,10,1,417011,"WĄBRZEŹNO",1846.98,null,"24","78",2400,78,2478,2478000,"Zabrze",270.41000000000003]
[221053,"  Głuszyca..........................................................................................................................................................................................................................................................",6212,"",62,null,"1219000",1219000,"Powiat wielicki",142044,null,"2203",2203000,"   człuchowski",157527,1575,56370,36,30,216,null,null,null,null,null,null,null,null,null,null,null,"04","17","02",2,400000,17000,20,2,417022,"DĘBOWA ŁĄKA",1355.6,null,"24","79",2400,79,2479,2479000,"Żory",313.06]
[221054,"",1621,"",16,null,"1219012",1219012,"Biskupice (2)",11557,null,"2204",2204000,"   gdański",79375,794,116199,146,182,55,null,null,null,null,null,null,null,null,null,null,null,"04","17","03",2,400000,17000,30,2,417032,"KSIĄŻKI",1064.93,null,"26","01",2600,1,2601,2601000,"buski",183.89]
[221055,"",4591,"",46,null,"1219022",1219022,"Gdów (2)",18574,null,"2205",2205000,"   kartuski",112054,1121,136619,122,100,34,null,null,null,null,null,null,null,null,null,null,null,"04","17","04",2,400000,17000,40,2,417042,"PŁUŻNICA",1729.46,null,"26","02",2600,2,2602,2602000,"jędrzejowski",170.92]
[221063,"  Mieroszów..........................................................................................................................................................................................................................................................",7606,"",76,null,"1219032",1219032,"Kłaj (2)",11104,null,"2206",2206000,"   kościerski",116567,1166,72528,62,90,155,null,null,null,null,null,null,null,null,null,null,null,"04","17","05",2,400000,17000,50,2,417052,"RYŃSK",1444.28,null,"26","03",2600,3,2603,2603000,"kazimierski",122.66]
[221064,"",1031,"",10,null,"1219043",1219043,"Niepołomice (3)",32781,null,"2207",2207000,"   kwidzyński",83470,835,83291,100,170,118,null,null,null,null,null,null,null,null,null,null,null,"04","18","01",1,400000,18000,10,1,418011,"KOWAL",1579.63,null,"26","04",2600,4,2604,2604000,"kielecki",210.23]
[221065,"",6575,"",66,null,"1219044",1219044,"Niepołomice - miasto (4)",16493,null,"2208",2208000,"   lęborski",70777,708,66280,94,215,173,null,null,null,null,null,null,null,null,null,null,null,"04","18","02",2,400000,18000,20,2,418022,"BARUCHOWO",1394.7,null,"26","05",2600,5,2605,2605000,"konecki",173.44]
["","Powiat wołowski  (3 gminy)",null,null,null,null,"1219045",1219045,"Niepołomice - obszar wiejski (5)",16288,null,"2209",2209000,"   malborski",49423,494,63748,129,282,185,null,null,null,null,null,null,null,null,null,null,null,"04","18","03",2,400000,18000,30,2,418032,"BONIEWO",915.46,null,"26","06",2600,6,2606,2606000,"opatowski",175.27]
["","",null,null,null,null,"1219053",1219053,"Wieliczka (3)",68028,null,"2210",2210000,"   nowodworski",67408,674,35746,53,230,297,null,null,null,null,null,null,null,null,null,null,null,"04","18","04",3,400000,18000,40,3,418043,"BRZEŚĆ KUJAWSKI",2308.27,null,"26","07",2600,7,2607,2607000,"ostrowiecki",194.05]
[222022,"  Wińsko..........................................................................................................................................................................................................................................................",24946,"",250,null,"1219054",1219054,"Wieliczka - miasto (4)",27362,null,"2211",2211000,"   pucki",58118,581,85726,148,262,111,null,null,null,null,null,null,null,null,null,null,null,"04","18","05",2,400000,18000,50,2,418052,"CHOCEŃ",1215.77,null,"26","08",2600,8,2608,2608000,"pińczowski",178.06]
["","",null,null,null,null,"1219055",1219055,"Wieliczka - obszar wiejski (5)",40666,null,"2212",2212000,"   słupski",230424,2304,98816,43,4,81,null,null,null,null,null,null,null,null,null,null,null,"04","18","06",3,400000,18000,60,3,418063,"CHODECZ",1352.22,null,"26","09",2600,9,2609,2609000,"sandomierski",182.61]
[222013,"  Brzeg Dolny..........................................................................................................................................................................................................................................................",9440,"",94,null,"1261000",1261000,"Powiat m.Kraków",803282,null,"2213",2213000,"   starogardzki",134534,1345,128004,95,59,39,null,null,null,null,null,null,null,null,null,null,null,"04","18","07",2,400000,18000,70,2,418072,"FABIANKI",1911.97,null,"26","10",2600,10,2610,2610000,"skarżyski",221.15]
[222014,"",1720,"",17,null,"1261011",1261011,"Kraków (1)",803282,null,"2216",2216000,"   sztumski",73074,731,41569,57,203,276,null,null,null,null,null,null,null,null,null,null,null,"04","18","08",3,400000,18000,80,3,418083,"IZBICA KUJAWSKA",1109.25,null,"26","11",2600,11,2611,2611000,"starachowicki",207.6]
[222015,"",7720,"",77,null,"1262000",1262000,"Powiat m.Nowy Sącz",80587,null,"2214",2214000,"   tczewski",69711,697,115876,166,219,56,null,null,null,null,null,null,null,null,null,null,null,"04","18","09",2,400000,18000,90,2,418092,"KOWAL",1178.6600000000001,null,"26","12",2600,12,2612,2612000,"staszowski",193.76]
[222033,"  Wołów..........................................................................................................................................................................................................................................................",33110,"",331,null,"1262011",1262011,"Nowy Sącz (1)",80587,null,"2215",2215000,"   wejherowski",128525,1285,215908,168,67,5,null,null,null,null,null,null,null,null,null,null,null,"04","18","10",2,400000,18000,100,2,418102,"LUBANIE",2399.23,null,"26","13",2600,13,2613,2613000,"włoszczowski",191.12]
[222034,"",1854,"",19,null,"1263000",1263000,"Powiat m.Tarnów",103960,null,"",{"$error":"#VALUE!"}," Miasta na prawach powiatu:",null,null,null,null,null,null,null,null,null,null,null,null,null,null,null,null,null,"04","18","11",3,400000,18000,110,3,418113,"LUBIEŃ KUJAWSKI",1729.24,null,"26","61",2600,61,2661,2661000,"Kielce",340.58]
[222035,"",31256,"",312,null,"1263011",1263011,"Tarnów (1)",103960,null,"",{"$error":"#VALUE!"}," Cities with powiat status:",null,null,null,null,null,null,null,null,null,null,null,null,null,null,null,null,null,"04","18","12",3,400000,18000,120,3,418123,"LUBRANIEC",1203.8399999999999,null,"28","01",2800,1,2801,2801000,"bartoszycki",165.43]
["","Powiat wrocławski  (9 gmin)",null,null,null,null,null,null,null,null,null,"2261",2261000,"   Gdańsk",26196,262,466631,1781,7,6,null,null,null,null,null,null,null,null,null,null,null,"04","18","13",2,400000,18000,130,2,418132,"WŁOCŁAWEK",2116.87,null,"28","02",2800,2,2802,2802000,"braniewski",169.11]
["","",null,null,null,null,null,null,null,null,null,"2262",2262000,"   Gdynia",13514,135,246309,1823,18,12,null,null,null,null,null,null,null,null,null,null,null,"04","19","01",3,400000,19000,10,3,419013,"BARCIN",3405.38,null,"28","03",2800,3,2803,2803000,"działdowski",182.22]
[223012,"  Czernica..........................................................................................................................................................................................................................................................",8363,"",84,null,null,null,null,null,null,"2263",2263000,"   Słupsk",4315,43,91007,2109,54,42,null,null,null,null,null,null,null,null,null,null,null,"04","19","02",2,400000,19000,20,2,419022,"GĄSAWA",1513.86,null,"28","04",2800,4,2804,2804000,"elbląski",174.41]
[223022,"  Długołęka..........................................................................................................................................................................................................................................................",21284,"",213,null,null,null,null,null,null,"2264",2264000,"   Sopot",1728,17,36046,2086,64,66,null,null,null,null,null,null,null,null,null,null,null,"04","19","03",3,400000,19000,30,3,419033,"JANOWIEC WIELKOPOLSKI",1340.41,null,"28","05",2800,5,2805,2805000,"ełcki",195.92]
[223032,"  Jordanów Śląski..........................................................................................................................................................................................................................................................",5669,"",57,null,null,null,null,null,null,"",{"$error":"#VALUE!"},"WOJ. ŚLĄSKIE",null,null,null,null,null,null,null,null,null,null,null,null,null,null,null,null,null,"04","19","04",3,400000,19000,40,3,419043,"ŁABISZYN",1356.11,null,"28","06",2800,6,2806,2806000,"giżycki",203.99]
[223052,"  Kobierzyce..........................................................................................................................................................................................................................................................",14926,"",149,null,null,null,null,null,null,"",{"$error":"#VALUE!"}," Powiaty:",null,null,null,null,null,null,null,null,null,null,null,null,null,null,null,null,null,"04","19","05",2,400000,19000,50,2,419052,"ROGOWO",1258.97,null,"28","07",2800,7,2807,2807000,"iławski",210]
[223062,"  Mietków..........................................................................................................................................................................................................................................................",8338,"",83,null,null,null,null,null,null,"",{"$error":"#VALUE!"}," Powiats:",null,null,null,null,null,null,null,null,null,null,null,null,null,null,null,null,null,"04","19","06",3,400000,19000,60,3,419063,"ŻNIN",1642.06,null,"28","08",2800,8,2808,2808000,"kętrzyński",164.86]
[223092,"  Żórawina..........................................................................................................................................................................................................................................................",12027,"",120,null,null,null,null,null,null,"2401",2401000,"   będziński",36413,364,148762,409,307,26,null,null,null,null,null,null,null,null,null,null,null,"04","61","01",1,400000,61000,10,1,461011,"Bydgoszcz",2236.61,null,"28","09",2800,9,2809,2809000,"lidzbarski",166.95]
["","",null,null,null,null,null,null,null,null,null,"2402",2402000,"   bielski",45864,459,165000,360,290,13,null,null,null,null,null,null,null,null,null,null,null,"04","62","01",1,400000,62000,10,1,462011,"Grudziądz",1713,null,"28","10",2800,10,2810,2810000,"mrągowski",200.73]
[223043,"  Kąty Wrocławskie..........................................................................................................................................................................................................................................................",17666,"",177,null,null,null,null,null,null,"2414",2414000,"   bieruńsko-lędziński",15815,158,59760,378,313,197,null,null,null,null,null,null,null,null,null,null,null,"04","63","01",1,400000,63000,10,1,463011,"Toruń",2337.16,null,"28","11",2800,11,2811,2811000,"nidzicki",150.09]
[223044,"",861,"",9,null,null,null,null,null,null,"2403",2403000,"   cieszyński",73029,730,178139,244,204,10,null,null,null,null,null,null,null,null,null,null,null,"04","64","01",1,400000,64000,10,1,464011,"Włocławek",2515.15,null,"28","12",2800,12,2812,2812000,"nowomiejski",154.81]
[223045,"",16805,"",168,null,null,null,null,null,null,"2404",2404000,"   częstochowski",152205,1521,134919,89,34,36,null,null,null,null,null,null,null,null,null,null,null,"06","01","01",1,600000,1000,10,1,601011,"MIĘDZYRZEC PODLASKI",1774.85,null,"28","13",2800,13,2813,2813000,"olecki",162.80000000000001]
[223083,"  Siechnice..........................................................................................................................................................................................................................................................",9871,"",99,null,null,null,null,null,null,"2405",2405000,"   gliwicki",66437,664,115558,174,234,57,null,null,null,null,null,null,null,null,null,null,null,"06","01","02",1,600000,1000,20,1,601021,"TERESPOL",1614.42,null,"28","14",2800,14,2814,2814000,"olsztyński",254.91]
[223084,"",1563,"",16,null,null,null,null,null,null,"2406",2406000,"   kłobucki",88859,889,84924,96,154,113,null,null,null,null,null,null,null,null,null,null,null,"06","01","03",2,600000,1000,30,2,601032,"BIAŁA PODLASKA",1394.48,null,"28","15",2800,15,2815,2815000,"ostródzki",197.7]
[223085,"",8308,"",83,null,null,null,null,null,null,"2407",2407000,"   lubliniecki",82225,822,76593,93,174,143,null,null,null,null,null,null,null,null,null,null,null,"06","01","04",2,600000,1000,40,2,601042,"DRELÓW",1029.76,null,"28","16",2800,16,2816,2816000,"piski",157.52000000000001]
[223073,"  Sobótka..........................................................................................................................................................................................................................................................",13626,"",136,null,null,null,null,null,null,"2408",2408000,"   mikołowski",23310,233,98373,422,311,83,null,null,null,null,null,null,null,null,null,null,null,"06","01","05",2,600000,1000,50,2,601052,"JANÓW PODLASKI",1309.9100000000001,null,"28","17",2800,17,2817,2817000,"szczycieński",169.42]
[223074,"",3220,"",32,null,null,null,null,null,null,"2409",2409000,"   myszkowski",47925,479,71119,148,284,162,null,null,null,null,null,null,null,null,null,null,null,"06","01","06",2,600000,1000,60,2,601062,"KODEŃ",923.89,null,"28","18",2800,18,2818,2818000,"gołdapski",149.07]
[223075,"",10406,"",104,null,null,null,null,null,null,"2410",2410000,"   pszczyński",47116,471,111202,236,288,65,null,null,null,null,null,null,null,null,null,null,null,"06","01","07",2,600000,1000,70,2,601072,"KONSTANTYNÓW",1055.55,null,"28","19",{"$f":"AR326*100","v":2800},{"$f":"+AS326*1","v":19},{"$f":"AT326+AU326","v":2819},{"$f":"AV326*1000","v":2819000},"węgorzewski",168.46]
["","Powiat ząbkowicki  (7 gmin)",null,null,null,null,null,null,null,null,null,"2411",2411000,"   raciborski",54376,544,108513,200,270,70,null,null,null,null,null,null,null,null,null,null,null,"06","01","08",2,600000,1000,80,2,601082,"LEŚNA PODLASKA",833.51,null,"28","61",2800,61,2861,2861000,"Elbląg",271.52]
["","",null,null,null,null,null,null,null,null,null,"2412",2412000,"   rybnicki",22364,224,78104,349,312,135,null,null,null,null,null,null,null,null,null,null,null,"06","01","09",2,{"$f":"AF328*100000","v":600000},{"$f":"AG328*1000","v":1000},{"$f":"AH328*10","v":90},{"$f":"AI328*1","v":2},{"$f":"SUM(AJ328:AM328)","v":601092},"ŁOMAZY",914.6,null,"28","62",2800,62,2862,2862000,"Olsztyn",365.56]
[224022,"  Ciepłowody..........................................................................................................................................................................................................................................................",7741,"",77,null,null,null,null,null,null,"2413",{"$f":"L329*1000","v":2413000},"   tarnogórski",64419,644,139833,217,238,30,null,null,null,null,null,null,null,null,null,null,null,"06","01","10",2,600000,1000,100,2,601102,"MIĘDZYRZEC PODLASKI",1091.93,null,"30","01",3000,1,3001,3001000,"chodzieski",261.51]
[224032,"  Kamieniec Ząbkowicki..........................................................................................................................................................................................................................................................",9669,"",97,null,null,null,null,null,null,"2415",2415000,"   wodzisławski",28675,287,157616,550,309,19,null,null,null,null,null,null,null,null,null,null,null,"06","01","11",2,600000,1000,110,2,601112,"PISZCZAC",916.12,null,"30","02",3000,2,3002,3002000,"czarnkowsko-trzcianecki",200.91]
[224042,"  Stoszowice..........................................................................................................................................................................................................................................................",11072,"",112,null,null,null,null,null,null,"2416",2416000,"   zawierciański",100223,1003,118434,118,128,49,null,null,null,null,null,null,null,null,null,null,null,"06","01","12",2,600000,1000,120,2,601122,"ROKITNO",1141.73,null,"30","03",3000,3,3003,3003000,"gnieźnieński",235.05]
["","",null,null,null,null,null,null,null,null,null,"2417",2417000,"   żywiecki",104006,1040,153226,147,115,24,null,null,null,null,null,null,null,null,null,null,null,"06","01","13",2,600000,1000,130,2,601132,"ROSSOSZ",881.43,null,"30","04",3000,4,3004,3004000,"gostyński",269.8]
[224013,"  Bardo..........................................................................................................................................................................................................................................................",7303,"",73,null,null,null,null,null,null,"",{"$error":"#VALUE!"}," Miasta na prawach powiatu:",null,null,null,null,null,null,null,null,null,null,null,null,null,null,null,null,null,"06","01","14",2,600000,1000,140,2,601142,"SŁAWATYCZE",946.11,null,"30","05",3000,5,3005,3005000,"grodziski",237.57]
[224014,"",471,"",5,null,null,null,null,null,null,"",{"$error":"#VALUE!"}," Cities with powiat status:",null,null,null,null,null,null,null,null,null,null,null,null,null,null,null,null,null,"06","01","15",2,600000,1000,150,2,601152,"SOSNÓWKA",968.9,null,"30","06",3000,6,3006,3006000,"jarociński",241.19]
[224015,"",6832,"",68,null,null,null,null,null,null,"2461",2461000,"   Bielsko-Biała",12451,125,171259,1375,21,22,null,null,null,null,null,null,null,null,null,null,null,"06","01","16",2,600000,1000,160,2,601162,"TERESPOL",2406.4899999999998,null,"30","07",3000,7,3007,3007000,"kaliski",235.23]
[224053,"  Ząbkowice Śląskie..........................................................................................................................................................................................................................................................",14613,"",146,null,null,null,null,null,null,"2462",2462000,"   Bytom",6944,69,166795,2402,42,23,null,null,null,null,null,null,null,null,null,null,null,"06","01","17",2,600000,1000,170,2,601172,"TUCZNA",774.54,null,"30","08",3000,8,3008,3008000,"kępiński",413.84]
[224054,"",1367,"",14,null,null,null,null,null,null,"2463",2463000,"   Chorzów",3324,33,108434,3262,59,36,null,null,null,null,null,null,null,null,null,null,null,"06","01","18",2,600000,1000,180,2,601182,"WISZNICE",1158.6099999999999,null,"30","09",3000,9,3009,3009000,"kolski",196.96]
[224055,"",13246,"",132,null,null,null,null,null,null,"2464",2464000,"   Częstochowa",15971,160,222292,1392,13,13,null,null,null,null,null,null,null,null,null,null,null,"06","01","19",2,600000,1000,190,2,601192,"ZALESIE",1732.03,null,"30","10",3000,10,3010,3010000,"koniński",189.63]
[224063,"  Ziębice..........................................................................................................................................................................................................................................................",22228,"",222,null,null,null,null,null,null,"2465",2465000,"   Dąbrowa Górnicza",18873,189,120259,637,10,30,null,null,null,null,null,null,null,null,null,null,null,"06","02","01",1,600000,2000,10,1,602011,"BIŁGORAJ",1789.05,null,"30","11",3000,11,3011,3011000,"kościański",247.27]
[224064,"",1507,"",15,null,null,null,null,null,null,"2466",2466000,"   Gliwice",13388,134,179806,1343,19,19,null,null,null,null,null,null,null,null,null,null,null,"06","02","02",2,600000,2000,20,2,602022,"ALEKSANDRÓW",647.15,null,"30","12",3000,12,3012,3012000,"krotoszyński",229.55]
[224065,"",20721,"",207,null,null,null,null,null,null,"2467",2467000,"   Jastrzębie-Zdrój",8533,85,89128,1045,33,43,null,null,null,null,null,null,null,null,null,null,null,"06","02","03",2,600000,2000,30,2,602032,"BIŁGORAJ",1152.1199999999999,null,"30","13",3000,13,3013,3013000,"leszczyński",254.48]
[224073,"  Złoty Stok..........................................................................................................................................................................................................................................................",7527,"",75,null,null,null,null,null,null,"2468",2468000,"   Jaworzno",15259,153,91563,600,14,41,null,null,null,null,null,null,null,null,null,null,null,"06","02","04",2,600000,2000,40,2,602042,"BISZCZA",1012.64,null,"30","14",3000,14,3014,3014000,"międzychodzki",226.15]
[224074,"",773,"",8,null,null,null,null,null,null,"2469",2469000,"   Katowice",16464,165,294510,1789,12,11,null,null,null,null,null,null,null,null,null,null,null,"06","02","05",3,600000,2000,50,3,602053,"FRAMPOL",961.93,null,"30","15",3000,15,3015,3015000,"nowotomyski",267.26]
[224075,"",6754,"",67,null,null,null,null,null,null,"2470",2470000,"   Mysłowice",6562,66,74586,1137,45,47,null,null,null,null,null,null,null,null,null,null,null,"06","02","06",2,600000,2000,60,2,602062,"GORAJ",756.03,null,"30","16",3000,16,3016,3016000,"obornicki",248.09]
["","Powiat zgorzelecki  (7 gmin)",null,null,null,null,null,null,null,null,null,"2471",2471000,"   Piekary Śląskie",3998,40,55299,1383,55,59,null,null,null,null,null,null,null,null,null,null,null,"06","02","07",3,600000,2000,70,3,602073,"JÓZEFÓW",1021.76,null,"30","17",3000,17,3017,3017000,"ostrowski",266.55]
["","",null,null,null,null,null,null,null,null,null,"2472",2472000,"   Ruda Śląska",7773,78,138000,1775,40,26,null,null,null,null,null,null,null,null,null,null,null,"06","02","08",2,600000,2000,80,2,602082,"KSIĘŻPOL",1125.17,null,"30","18",3000,18,3018,3018000,"ostrzeszowski",260.01]
[225011,"  Zawidów..........................................................................................................................................................................................................................................................",607,"",6,null,null,null,null,null,null,"2473",2473000,"   Rybnik",14836,148,138696,935,16,25,null,null,null,null,null,null,null,null,null,null,null,"06","02","09",2,600000,2000,90,2,602092,"ŁUKOWA",1514.4,null,"30","19",3000,19,3019,3019000,"pilski",257.39999999999998]
[225021,"  Zgorzelec..........................................................................................................................................................................................................................................................",1588,"",16,null,null,null,null,null,null,"2474",2474000,"   Siemianowice Śląskie",2550,25,67154,2633,63,51,null,null,null,null,null,null,null,null,null,null,null,"06","02","10",2,600000,2000,100,2,602102,"OBSZA",899.38,null,"30","20",3000,20,3020,3020000,"pleszewski",218.93]
["","",null,null,null,null,null,null,null,null,null,"2475",2475000,"   Sosnowiec",9106,91,202036,2219,28,16,null,null,null,null,null,null,null,null,null,null,null,"06","02","11",2,600000,2000,110,2,602112,"POTOK GÓRNY",541.25,null,"30","21",3000,21,3021,3021000,"poznański",476.87]
[225052,"  Sulików..........................................................................................................................................................................................................................................................",9451,"",95,null,null,null,null,null,null,"2476",2476000,"   Świętochłowice",1331,13,50012,3757,65,61,null,null,null,null,null,null,null,null,null,null,null,"06","02","12",3,600000,2000,120,3,602123,"TARNOGRÓD",1253.97,null,"30","22",3000,22,3022,3022000,"rawicki",226.11]
[225072,"  Zgorzelec..........................................................................................................................................................................................................................................................",13715,"",137,null,null,null,null,null,null,"2477",2477000,"   Tychy",8181,82,127831,1563,37,28,null,null,null,null,null,null,null,null,null,null,null,"06","02","13",2,600000,2000,130,2,602132,"TERESZPOL",993.05,null,"30","23",3000,23,3023,3023000,"słupecki",211.77]
["","",null,null,null,null,null,null,null,null,null,"2478",2478000,"   Zabrze",8040,80,173374,2156,38,20,null,null,null,null,null,null,null,null,null,null,null,"06","02","14",2,600000,2000,140,2,602142,"TUROBIN",936.6,null,"30","24",3000,24,3024,3024000,"szamotulski",277.75]
[225033,"  Bogatynia..........................................................................................................................................................................................................................................................",13612,"",136,null,null,null,null,null,null,"2479",2479000,"   Żory",6464,65,62456,966,47,56,null,null,null,null,null,null,null,null,null,null,null,"06","03","01",1,600000,3000,10,1,603011,"REJOWIEC FABRYCZNY",1599.28,null,"30","25",3000,25,3025,3025000,"średzki",283.83]
[225034,"",5988,"",60,null,null,null,null,null,null,"",{"$error":"#VALUE!"},"WOJ. ŚWIĘTOKRZYSKIE",null,null,null,null,null,null,null,null,null,null,null,null,null,null,null,null,null,"06","03","02",2,600000,3000,20,2,603022,"BIAŁOPOLE",1026.7,null,"30","26",3000,26,3026,3026000,"śremski",259.58999999999997]
[225035,"",7624,"",76,null,null,null,null,null,null,"",{"$error":"#VALUE!"}," Powiaty:",null,null,null,null,null,null,null,null,null,null,null,null,null,null,null,null,null,"06","03","03",2,600000,3000,30,2,603032,"CHEŁM",1608.56,null,"30","27",3000,27,3027,3027000,"turecki",203.79]
[225043,"  Pieńsk..........................................................................................................................................................................................................................................................",11053,"",111,null,null,null,null,null,null,"",{"$error":"#VALUE!"}," Powiats:",null,null,null,null,null,null,null,null,null,null,null,null,null,null,null,null,null,"06","03","04",2,600000,3000,40,2,603042,"DOROHUSK",1417.88,null,"30","28",3000,28,3028,3028000,"wągrowiecki",190.43]
[225044,"",992,"",10,null,null,null,null,null,null,"2601",2601000,"   buski",96800,968,72058,74,134,157,null,null,null,null,null,null,null,null,null,null,null,"06","03","05",2,600000,3000,50,2,603052,"DUBIENKA",966.74,null,"30","29",3000,29,3029,3029000,"wolsztyński",240.71]
[225045,"",10061,"",101,null,null,null,null,null,null,"2602",2602000,"   jędrzejowski",125696,1257,86076,68,72,110,null,null,null,null,null,null,null,null,null,null,null,"06","03","06",2,600000,3000,60,2,603062,"KAMIEŃ",1208.74,null,"30","30",3000,30,3030,3030000,"wrzesiński",277.58999999999997]
[225063,"  Węgliniec..........................................................................................................................................................................................................................................................",33834,"",338,null,null,null,null,null,null,"2603",2603000,"   kazimierski",42218,422,33851,80,297,304,null,null,null,null,null,null,null,null,null,null,null,"06","03","07",2,600000,3000,70,2,603072,"LEŚNIOWICE",985.41,null,"30","31",3000,31,3031,3031000,"złotowski",199.25]
[225064,"",873,"",9,null,null,null,null,null,null,"2604",2604000,"   kielecki",224607,2246,210694,94,5,6,null,null,null,null,null,null,null,null,null,null,null,"06","03","08",2,600000,3000,80,2,603082,"REJOWIEC FABRYCZNY",996.29,null,"30","61",3000,61,3061,3061000,"Kalisz",368.21]
[225065,"",32961,"",329,null,null,null,null,null,null,"2605",2605000,"   konecki",113972,1139,80648,71,96,124,null,null,null,null,null,null,null,null,null,null,null,"06","03","09",2,600000,3000,90,2,603092,"RUDA-HUTA",807.36,null,"30","62",3000,62,3062,3062000,"Konin",287.27999999999997]
["","Powiat złotoryjski  (6 gmin)",null,null,null,null,null,null,null,null,null,"2606",2606000,"   opatowski",91090,911,52577,58,152,233,null,null,null,null,null,null,null,null,null,null,null,"06","03","10",2,600000,3000,100,2,603102,"SAWIN",936.91,null,"30","63",3000,63,3063,3063000,"Leszno",369.24]
["","",null,null,null,null,null,null,null,null,null,"2607",2607000,"   ostrowiecki",61678,617,110127,179,250,67,null,null,null,null,null,null,null,null,null,null,null,"06","03","11",3,600000,3000,110,3,603113,"SIEDLISZCZE",981.36,null,"30","64",3000,64,3064,3064000,"Poznań",545.02]
[226011,"  Wojcieszów..........................................................................................................................................................................................................................................................",3217,"",32,null,null,null,null,null,null,"2608",2608000,"   pińczowski",61285,613,39271,64,254,286,null,null,null,null,null,null,null,null,null,null,null,"06","03","12",2,600000,3000,120,2,603122,"WIERZBICA",946.59,null,"32","01",3200,1,3201,3201000,"białogardzki",183.48]
[226021,"  Złotoryja..........................................................................................................................................................................................................................................................",1151,"",12,null,null,null,null,null,null,"2609",2609000,"   sandomierski",67589,676,77773,115,227,137,null,null,null,null,null,null,null,null,null,null,null,"06","03","13",2,600000,3000,130,2,603132,"WOJSŁAWICE",921,null,"32","02",3200,2,3202,3202000,"choszczeński",163.54]
["","",null,null,null,null,null,null,null,null,null,"2610",2610000,"   skarżyski",39543,395,74817,189,302,148,null,null,null,null,null,null,null,null,null,null,null,"06","03","14",2,600000,3000,140,2,603142,"ŻMUDŹ",1010.49,null,"32","03",3200,3,3203,3203000,"drawski",184.7]
[226032,"  Pielgrzymka..........................................................................................................................................................................................................................................................",10485,"",105,null,null,null,null,null,null,"2611",2611000,"   starachowicki",52341,523,90377,173,277,96,null,null,null,null,null,null,null,null,null,null,null,"06","03","15",3,600000,3000,150,3,603153,"REJOWIEC",1019.94,null,"32","04",3200,4,3204,3204000,"goleniowski",260.74]
[226052,"  Zagrodno..........................................................................................................................................................................................................................................................",12234,"",122,null,null,null,null,null,null,"2612",2612000,"   staszowski",92480,925,72167,78,150,156,null,null,null,null,null,null,null,null,null,null,null,"06","04","01",1,600000,4000,10,1,604011,"HRUBIESZÓW",1614.79,null,"32","05",3200,5,3205,3205000,"gryficki",203.89]
[226062,"  Złotoryja..........................................................................................................................................................................................................................................................",14495,"",145,null,null,null,null,null,null,"2613",2613000,"   włoszczowski",90786,908,45336,50,153,260,null,null,null,null,null,null,null,null,null,null,null,"06","04","02",2,600000,4000,20,2,604022,"DOŁHOBYCZÓW",1420.21,null,"32","06",3200,6,3206,3206000,"gryfiński",200.95]
["","",null,null,null,null,null,null,null,null,null,"",{"$error":"#VALUE!"}," Miasto na prawach powiatu",null,null,null,null,null,null,null,null,null,null,null,null,null,null,null,null,null,"06","04","03",2,600000,4000,30,2,604032,"HORODŁO",1210.3499999999999,null,"32","07",3200,7,3207,3207000,"kamieński",208.36]
[226043,"  Świerzawa..........................................................................................................................................................................................................................................................",15999,"",160,null,null,null,null,null,null,"",{"$error":"#VALUE!"}," City with powiat status",null,null,null,null,null,null,null,null,null,null,null,null,null,null,null,null,null,"06","04","04",2,600000,4000,40,2,604042,"HRUBIESZÓW",1072.3,null,"32","08",3200,8,3208,3208000,"kołobrzeski",272.45999999999998]
[226044,"",176,"",2,null,null,null,null,null,null,"2661",2661000,"   Kielce",10965,110,195774,1785,24,17,null,null,null,null,null,null,null,null,null,null,null,"06","04","05",2,600000,4000,50,2,604052,"MIRCZE",1304.33,null,"32","09",3200,9,3209,3209000,"koszaliński",232.55]
[226045,"",15823,"",158,null,null,null,null,null,null,"",{"$error":"#VALUE!"},"WOJ. WARMIŃSKO-MAZURSKIE",null,null,null,null,null,null,null,null,null,null,null,null,null,null,null,null,null,"06","04","06",2,600000,4000,60,2,604062,"TRZESZCZANY",1042.6199999999999,null,"32","10",3200,10,3210,3210000,"myśliborski",202.36]
["","",null,null,null,null,null,null,null,null,null,"",{"$error":"#VALUE!"}," Powiaty:",null,null,null,null,null,null,null,null,null,null,null,null,null,null,null,null,null,"06","04","07",2,600000,4000,70,2,604072,"UCHANIE",1261.45,null,"32","11",3200,11,3211,3211000,"policki",408.02]
[261011,"  Jelenia Góra..........................................................................................................................................................................................................................................................",10922,"",109,null,null,null,null,null,null,"",{"$error":"#VALUE!"}," Powiats:",null,null,null,null,null,null,null,null,null,null,null,null,null,null,null,null,null,"06","04","08",2,600000,4000,80,2,604082,"WERBKOWICE",1878.74,null,"32","12",3200,12,3212,3212000,"pyrzycki",162.18]
[262011,"  Legnica..........................................................................................................................................................................................................................................................",5629,"",56,null,null,null,null,null,null,"2801",2801000,"   bartoszycki",130749,1307,57916,44,62,205,null,null,null,null,null,null,null,null,null,null,null,"06","05","01",2,600000,5000,10,2,605012,"BATORZ",1197.8399999999999,null,"32","13",3200,13,3213,3213000,"sławieński",177.24]
[265011,"  Wałbrzych..........................................................................................................................................................................................................................................................",8470,"",85,null,null,null,null,null,null,"2802",2802000,"   braniewski",120165,1202,41391,34,86,278,null,null,null,null,null,null,null,null,null,null,null,"06","05","02",2,600000,5000,20,2,605022,"CHRZANÓW",984.27,null,"32","14",3200,14,3214,3214000,"stargardzki",235.81]
[264011,"  Wrocław (a)..........................................................................................................................................................................................................................................................",29282,"",293,null,null,null,null,null,null,"2803",2803000,"   działdowski",95393,954,65442,69,140,179,null,null,null,null,null,null,null,null,null,null,null,"06","05","03",2,600000,5000,30,2,605032,"DZWOLA",980.99,null,"32","15",3200,15,3215,3215000,"szczecinecki",200.61]
["","WOJ. KUJAWSKO-POMORSKIE",null,null,null,null,null,null,null,null,null,"2804",2804000,"   elbląski",141558,1416,57549,41,44,206,null,null,null,null,null,null,null,null,null,null,null,"06","05","04",2,600000,5000,40,2,605042,"GODZISZÓW",869.97,null,"32","16",3200,16,3216,3216000,"świdwiński",178.8]
["","Powiat aleksandrowski  (9 gmin)",null,null,null,null,null,null,null,null,null,"2805",2805000,"   ełcki",111279,1113,91359,82,105,93,null,null,null,null,null,null,null,null,null,null,null,"06","05","05",3,600000,5000,50,3,605053,"JANÓW LUBELSKI",1627.03,null,"32","17",3200,17,3217,3217000,"wałecki",206.5]
["","",null,null,null,null,null,null,null,null,null,"2806",2806000,"   giżycki",111951,1120,56754,51,102,211,null,null,null,null,null,null,null,null,null,null,null,"06","05","06",3,600000,5000,60,3,605063,"MODLIBORZYCE",1113.79,null,"32","18",3200,18,3218,3218000,"łobeski",165.11]
[401011,"  Aleksandrów Kujawski..........................................................................................................................................................................................................................................................",723,"",7,null,null,null,null,null,null,"2818",2818000,"   gołdapski",77229,772,26908,35,191,309,null,null,null,null,null,null,null,null,null,null,null,"06","05","07",2,600000,5000,70,2,605072,"POTOK WIELKI",940.41,null,"32","61",3200,61,3261,3261000,"Koszalin",322.11]
[401021,"  Ciechocinek..........................................................................................................................................................................................................................................................",1526,"",15,null,null,null,null,null,null,"2807",2807000,"   iławski",138522,1385,93020,67,52,92,null,null,null,null,null,null,null,null,null,null,null,"06","06","01",1,600000,6000,10,1,606011,"KRASNYSTAW",1672.54,null,"32","62",3200,62,3262,3262000,"Szczecin",345.88]
[401031,"  Nieszawa..........................................................................................................................................................................................................................................................",979,"",10,null,null,null,null,null,null,"2808",2808000,"   kętrzyński",121299,1213,62924,52,84,189,null,null,null,null,null,null,null,null,null,null,null,"06","06","02",2,600000,6000,20,2,606022,"FAJSŁAWICE",1154.81,null,"32","63",3200,63,3263,3263000,"Świnoujście",283.3]
["","",null,null,null,null,null,null,null,null,null,"2809",2809000,"   lidzbarski",92500,925,41512,45,149,277,null,null,null,null,null,null,null,null,null,null,null,"06","06","03",2,600000,6000,30,2,606032,"GORZKÓW",1171.82,null,null,null,0,0,0,0]
[401042,"  Aleksandrów Kujawski..........................................................................................................................................................................................................................................................",13145,"",131,null,null,null,null,null,null,"2810",2810000,"   mrągowski",106538,1065,50080,47,108,243,null,null,null,null,null,null,null,null,null,null,null,"06","06","04",2,600000,6000,40,2,606042,"IZBICA",900.69,null,null,null,null,null,null,0,"Wskaźnik Pp dla kraju ",312.2]
[401052,"  Bądkowo..........................................................................................................................................................................................................................................................",7970,"",80,null,null,null,null,null,null,"2811",2811000,"   nidzicki",96064,961,33068,34,139,306,null,null,null,null,null,null,null,null,null,null,null,"06","06","05",2,600000,6000,50,2,606052,"KRASNYSTAW",1719.21]
[401062,"  Koneck..........................................................................................................................................................................................................................................................",6784,"",68,null,null,null,null,null,null,"2812",2812000,"   nowomiejski",69393,694,43997,63,221,265,null,null,null,null,null,null,null,null,null,null,null,"06","06","06",2,600000,6000,60,2,606062,"KRAŚNICZYN",1190.6400000000001,null,null,null,null,null,null,1200000,"Małopolskie",367.27]
[401072,"  Raciążek..........................................................................................................................................................................................................................................................",3288,"",33,null,null,null,null,null,null,"2813",2813000,"   olecki",87360,874,34433,39,161,301,null,null,null,null,null,null,null,null,null,null,null,"06","06","07",2,600000,6000,70,2,606072,"ŁOPIENNIK GÓRNY",1156.9100000000001]
[401082,"  Waganiec..........................................................................................................................................................................................................................................................",5452,"",55,null,null,null,null,null,null,"2814",2814000,"   olsztyński",283802,2837,126018,44,2,42,null,null,null,null,null,null,null,null,null,null,null,"06","06","09",2,600000,6000,90,2,606092,"RUDNIK",927.51]
[401092,"  Zakrzewo..........................................................................................................................................................................................................................................................",7596,"",76,null,null,null,null,null,null,"2815",2815000,"   ostródzki",176629,1766,104780,59,17,77,null,null,null,null,null,null,null,null,null,null,null,"06","06","10",2,600000,6000,100,2,606102,"SIENNICA RÓŻANA",1132.5999999999999]
["","Powiat brodnicki  (10 gmin)",null,null,null,null,null,null,null,null,null,"2816",2816000,"   piski",177458,1775,56570,32,16,212,null,null,null,null,null,null,null,null,null,null,null,"06","06","11",2,{"$f":"AF392*100000","v":600000},{"$f":"AG392*1000","v":6000},{"$f":"AH392*10","v":110},{"$f":"AI392*1","v":2},{"$f":"SUM(AJ392:AM392)","v":606112},"ŻÓŁKIEWKA",1300.03]
["","",null,null,null,null,null,null,null,null,null,"2817",{"$f":"L393*1000","v":2817000},"   szczycieński",193321,1933,69885,36,9,165,null,null,null,null,null,null,null,null,null,null,null,"06","07","01",1,600000,7000,10,1,607011,"KRAŚNIK",1602.95]
[402011,"  Brodnica..........................................................................................................................................................................................................................................................",2315,"",23,null,null,null,null,null,null,"2819",2819000,"   węgorzewski",69322,693,22873,33,222,311,null,null,null,null,null,null,null,null,null,null,null,"06","07","02",3,600000,7000,20,3,607023,"ANNOPOL",979]
["","",null,null,null,null,null,null,null,null,null,"",{"$error":"#VALUE!"}," Miasta na prawach powiatu:",null,null,null,null,null,null,null,null,null,null,null,null,null,null,null,null,null,"06","07","03",2,600000,7000,30,2,607032,"DZIERZKOWICE",1005.75]
[402062,"  Bartniczka..........................................................................................................................................................................................................................................................",8340,"",83,null,null,null,null,null,null,"",{"$error":"#VALUE!"}," Cities with powiat status:",null,null,null,null,null,null,null,null,null,null,null,null,null,null,null,null,null,"06","07","04",2,600000,7000,40,2,607042,"GOŚCIERADÓW",1051.0899999999999]
[402022,"  Bobrowo..........................................................................................................................................................................................................................................................",14591,"",145,null,null,null,null,null,null,"2861",2861000,"   Elbląg",7982,80,120142,1505,39,31,null,null,null,null,null,null,null,null,null,null,null,"06","07","05",2,600000,7000,50,2,607052,"KRAŚNIK",1302.6099999999999]
[402032,"  Brodnica..........................................................................................................................................................................................................................................................",12687,"",127,null,null,null,null,null,null,"2862",2862000,"   Olsztyn",8833,88,172362,1951,29,21,null,null,null,null,null,null,null,null,null,null,null,"06","07","06",2,600000,7000,60,2,607062,"SZASTARKA",864.88]
[402042,"  Brzozie..........................................................................................................................................................................................................................................................",9366,"",94,null,null,null,null,null,null,"",{"$error":"#VALUE!"},"WOJ. WIELKOPOLSKIE",null,null,null,null,null,null,null,null,null,null,null,null,null,null,null,null,null,"06","07","07",2,600000,7000,70,2,607072,"TRZYDNIK DUŻY",1225.4100000000001]
[402082,"  Osiek..........................................................................................................................................................................................................................................................",7500,"",75,null,null,null,null,null,null,"",{"$error":"#VALUE!"}," Powiaty:",null,null,null,null,null,null,null,null,null,null,null,null,null,null,null,null,null,"06","07","08",3,600000,7000,80,3,607083,"URZĘDÓW",935.07]
[402092,"  Świedziebnia..........................................................................................................................................................................................................................................................",10367,"",104,null,null,null,null,null,null,"",{"$error":"#VALUE!"}," Powiats:",null,null,null,null,null,null,null,null,null,null,null,null,null,null,null,null,null,"06","07","09",2,600000,7000,90,2,607092,"WILKOŁAZ",1139.5]
[402102,"  Zbiczno..........................................................................................................................................................................................................................................................",13377,"",134,null,null,null,null,null,null,"3001",3001000,"   chodzieski",68506,685,47229,69,224,252,null,null,null,null,null,null,null,null,null,null,null,"06","07","10",2,600000,7000,100,2,607102,"ZAKRZÓWEK",903.62]
["","",null,null,null,null,null,null,null,null,null,"3002",3002000,"   czarnkowsko-trzcianecki",180605,1806,87420,48,14,104,null,null,null,null,null,null,null,null,null,null,null,"06","08","01",1,600000,8000,10,1,608011,"LUBARTÓW",2022.99]
[402053,"  Górzno..........................................................................................................................................................................................................................................................",11968,"",120,null,null,null,null,null,null,"3003",3003000,"   gnieźnieński",125503,1255,145317,116,74,29,null,null,null,null,null,null,null,null,null,null,null,"06","08","02",2,600000,8000,20,2,608022,"ABRAMÓW",925.79]
[402054,"",343,"",4,null,null,null,null,null,null,"3004",3004000,"   gostyński",81025,810,76011,94,175,144,null,null,null,null,null,null,null,null,null,null,null,"06","08","03",2,600000,8000,30,2,608032,"FIRLEJ",907.79]
[402055,"",11625,"",116,null,null,null,null,null,null,"3005",3005000,"   grodziski",64187,642,51972,81,239,236,null,null,null,null,null,null,null,null,null,null,null,"06","08","04",2,600000,8000,40,2,608042,"JEZIORZANY",954.9]
[402073,"  Jabłonowo Pomorskie..........................................................................................................................................................................................................................................................",13486,"",135,null,null,null,null,null,null,"3006",3006000,"   jarociński",58729,587,71686,122,258,160,null,null,null,null,null,null,null,null,null,null,null,"06","08","05",2,600000,8000,50,2,608052,"KAMIONKA",1076.8900000000001]
[402074,"",335,"",3,null,null,null,null,null,null,"3007",3007000,"   kaliski",115999,1160,83030,72,93,119,null,null,null,null,null,null,null,null,null,null,null,"06","08","06",3,600000,8000,60,3,608063,"KOCK",818.43]
[402075,"",13151,"",132,null,null,null,null,null,null,"3008",3008000,"   kępiński",60826,608,56486,93,255,213,null,null,null,null,null,null,null,null,null,null,null,"06","08","07",2,600000,8000,70,2,608072,"LUBARTÓW",1458.69]
["","Powiat bydgoski  (8 gmin)",null,null,null,null,null,null,null,null,null,"3009",3009000,"   kolski",101071,1011,87216,86,125,106,null,null,null,null,null,null,null,null,null,null,null,"06","08","08",2,600000,8000,80,2,608082,"MICHÓW",1235.03]
["","",null,null,null,null,null,null,null,null,null,"3010",3010000,"   koniński",157824,1578,129966,82,29,38,null,null,null,null,null,null,null,null,null,null,null,"06","08","09",2,600000,8000,90,2,608092,"NIEDŹWIADA",857.41]
[403012,"  Białe Błota (a) ..........................................................................................................................................................................................................................................................",12242,"",122,null,null,null,null,null,null,"3011",3011000,"   kościański",72242,722,79230,110,208,130,null,null,null,null,null,null,null,null,null,null,null,"06","08","10",3,600000,8000,100,3,608103,"OSTRÓW LUBELSKI",1089.1400000000001]
[403022,"  Dąbrowa Chełmińska..........................................................................................................................................................................................................................................................",12504,"",125,null,null,null,null,null,null,"3012",3012000,"   krotoszyński",71368,714,77488,109,210,139,null,null,null,null,null,null,null,null,null,null,null,"06","08","11",2,600000,8000,110,2,608112,"OSTRÓWEK",651.75]
[403032,"  Dobrcz..........................................................................................................................................................................................................................................................",13007,"",130,null,null,null,null,null,null,"3013",3013000,"   leszczyński",80581,806,56485,70,178,214,null,null,null,null,null,null,null,null,null,null,null,"06","08","12",2,600000,8000,120,2,608122,"SERNIKI",739.47]
[403052,"  Nowa Wieś Wielka..........................................................................................................................................................................................................................................................",14828,"",148,null,null,null,null,null,null,"3014",3014000,"   międzychodzki",73644,736,36982,50,200,294,null,null,null,null,null,null,null,null,null,null,null,"06","08","13",2,600000,8000,130,2,608132,"UŚCIMÓW",1324.48]
[403062,"  Osielsko..........................................................................................................................................................................................................................................................",10172,"",102,null,null,null,null,null,null,"3015",3015000,"   nowotomyski",101362,1014,75363,74,124,147,null,null,null,null,null,null,null,null,null,null,null,"06","09","01",3,600000,9000,10,3,609013,"BEŁŻYCE",1326.64]
[403072,"  Sicienko..........................................................................................................................................................................................................................................................",17999,"",180,null,null,null,null,null,null,"3016",3016000,"   obornicki",71104,711,59858,84,213,196,null,null,null,null,null,null,null,null,null,null,null,"06","09","02",2,600000,9000,20,2,609022,"BORZECHÓW",818.37]
["","",null,null,null,null,null,null,null,null,null,"3017",3017000,"   ostrowski",116012,1160,161519,139,92,15,null,null,null,null,null,null,null,null,null,null,null,"06","09","03",3,600000,9000,30,3,609033,"BYCHAWA",1222.44]
[403043,"  Koronowo..........................................................................................................................................................................................................................................................",41153,"↑",412,null,null,null,null,null,null,"3018",3018000,"   ostrzeszowski",77263,773,55403,72,189,222,null,null,null,null,null,null,null,null,null,null,null,"06","09","04",2,600000,9000,40,2,609042,"GARBÓW",1305.4100000000001]
[403044,"",2815,"",28,null,null,null,null,null,null,"3019",3019000,"   pilski",126821,1268,136621,108,69,33,null,null,null,null,null,null,null,null,null,null,null,"06","09","05",2,600000,9000,50,2,609052,"GŁUSK",1924.4]
[403045,"",38338,"",384,null,null,null,null,null,null,"3020",3020000,"   pleszewski",71307,713,63147,89,211,187,null,null,null,null,null,null,null,null,null,null,null,"06","09","06",2,600000,9000,60,2,609062,"JABŁONNA",1202.3]
[403083,"  Solec Kujawski..........................................................................................................................................................................................................................................................",17507,"",175,null,null,null,null,null,null,"3021",3021000,"   poznański",189988,1900,390308,205,10,1,null,null,null,null,null,null,null,null,null,null,null,"06","09","07",2,600000,9000,70,2,609072,"JASTKÓW",1976.75]
[403084,"",1868,"",19,null,null,null,null,null,null,"3022",3022000,"   rawicki",55352,554,60405,109,268,195,null,null,null,null,null,null,null,null,null,null,null,"06","09","08",2,600000,9000,80,2,609082,"KONOPNICA",2341.56]
[403085,"",15639,"",156,null,null,null,null,null,null,"3023",3023000,"   słupecki",83801,838,59371,71,168,199,null,null,null,null,null,null,null,null,null,null,null,"06","09","09",2,600000,9000,90,2,609092,"KRZCZONÓW",1344.39]
["","Powiat chełmiński  (7 gmin)",null,null,null,null,null,null,null,null,null,"3024",3024000,"   szamotulski",111929,1119,91185,81,103,95,null,null,null,null,null,null,null,null,null,null,null,"06","09","10",2,600000,9000,100,2,609102,"NIEDRZWICA DUŻA",1435.28]
["","",null,null,null,null,null,null,null,null,null,"3025",3025000,"   średzki",62386,624,58456,94,245,202,null,null,null,null,null,null,null,null,null,null,null,"06","09","11",2,600000,9000,110,2,609112,"NIEMCE",2057]
[404011,"  Chełmno..........................................................................................................................................................................................................................................................",1356,"",14,null,null,null,null,null,null,"3026",3026000,"   śremski",57410,574,61325,107,265,192,null,null,null,null,null,null,null,null,null,null,null,"06","09","12",2,600000,9000,120,2,609122,"STRZYŻEWICE",1388.19]
["","",null,null,null,null,null,null,null,null,null,"3027",3027000,"   turecki",92943,929,84101,90,147,116,null,null,null,null,null,null,null,null,null,null,null,"06","09","13",2,600000,9000,130,2,609132,"WOJCIECHÓW",1076.52]
[404022,"  Chełmno..........................................................................................................................................................................................................................................................",11371,"",114,null,null,null,null,null,null,"3028",3028000,"   wągrowiecki",103965,1040,70274,68,117,164,null,null,null,null,null,null,null,null,null,null,null,"06","09","14",2,600000,9000,140,2,609142,"WÓLKA",1662.63]
[404032,"  Kijewo Królewskie..........................................................................................................................................................................................................................................................",7184,"",72,null,null,null,null,null,null,"3029",3029000,"   wolsztyński",67973,680,57326,84,225,209,null,null,null,null,null,null,null,null,null,null,null,"06","09","15",2,600000,9000,150,2,609152,"WYSOKIE",1082.23]
[404042,"  Lisewo..........................................................................................................................................................................................................................................................",8631,"",86,null,null,null,null,null,null,"3030",3030000,"   wrzesiński",70357,704,77667,110,217,138,null,null,null,null,null,null,null,null,null,null,null,"06","09","16",2,600000,9000,160,2,609162,"ZAKRZEW",843.26]
[404052,"  Papowo Biskupie..........................................................................................................................................................................................................................................................",7045,"",70,null,null,null,null,null,null,"3031",3031000,"   złotowski",166017,1660,69606,42,22,166,null,null,null,null,null,null,null,null,null,null,null,"06","10","01",2,600000,10000,10,2,610012,"CYCÓW",2911.31]
[404062,"  Stolno..........................................................................................................................................................................................................................................................",9852,"",98,null,null,null,null,null,null,"",{"$error":"#VALUE!"}," Miasta na prawach powiatu:",null,null,null,null,null,null,null,null,null,null,null,null,null,null,null,null,null,"06","10","02",2,600000,10000,20,2,610022,"LUDWIN",2023.22]
[404072,"  Unisław..........................................................................................................................................................................................................................................................",7255,"",73,null,null,null,null,null,null,"",{"$error":"#VALUE!"}," Cities with powiat status:",null,null,null,null,null,null,null,null,null,null,null,null,null,null,null,null,null,"06","10","03",3,600000,10000,30,3,610033,"ŁĘCZNA",1506.69]
["","Powiat golubsko-dobrzyński  (6 gmin)",null,null,null,null,null,null,null,null,null,"3061",3061000,"   Kalisz",6942,69,100975,1455,43,38,null,null,null,null,null,null,null,null,null,null,null,"06","10","04",2,600000,10000,40,2,610042,"MILEJÓW",1286.55]
["","",null,null,null,null,null,null,null,null,null,"3062",3062000,"   Konin",8231,82,74151,901,36,48,null,null,null,null,null,null,null,null,null,null,null,"06","10","05",2,600000,10000,50,2,610052,"PUCHACZÓW",5210.0200000000004]
[405011,"  Golub-Dobrzyń..........................................................................................................................................................................................................................................................",750,"",8,null,null,null,null,null,null,"3063",3063000,"   Leszno",3186,32,63952,2007,61,52,null,null,null,null,null,null,null,null,null,null,null,"06","10","06",2,600000,10000,60,2,610062,"SPICZYN",1115.68]
["","",null,null,null,null,null,null,null,null,null,"3064",3064000,"   Poznań",26191,262,536438,2048,8,5,null,null,null,null,null,null,null,null,null,null,null,"06","11","01",1,600000,11000,10,1,611011,"ŁUKÓW",2005.34]
[405022,"  Ciechocin..........................................................................................................................................................................................................................................................",10123,"",101,null,null,null,null,null,null,"",{"$error":"#VALUE!"},"WOJ. ZACHODNIOPOMORSKIE",null,null,null,null,null,null,null,null,null,null,null,null,null,null,null,null,null,"06","11","02",1,600000,11000,20,1,611021,"STOCZEK ŁUKOWSKI",1781.32]
[405032,"  Golub-Dobrzyń..........................................................................................................................................................................................................................................................",19779,"",198,null,null,null,null,null,null,"",{"$error":"#VALUE!"}," Powiaty:",null,null,null,null,null,null,null,null,null,null,null,null,null,null,null,null,null,"06","11","03",2,600000,11000,30,2,611032,"ADAMÓW",885.56]
[405052,"  Radomin..........................................................................................................................................................................................................................................................",8081,"",81,null,null,null,null,null,null,"",{"$error":"#VALUE!"}," Powiats:",null,null,null,null,null,null,null,null,null,null,null,null,null,null,null,null,null,"06","11","04",2,600000,11000,40,2,611042,"KRZYWDA",946.87]
[405062,"  Zbójno..........................................................................................................................................................................................................................................................",8432,"",84,null,null,null,null,null,null,"3201",3201000,"   białogardzki",84546,845,47846,57,166,249,null,null,null,null,null,null,null,null,null,null,null,"06","11","05",2,600000,11000,50,2,611052,"ŁUKÓW",1437.92]
["","",null,null,null,null,null,null,null,null,null,"3202",3202000,"   choszczeński",132763,1328,48602,37,60,247,null,null,null,null,null,null,null,null,null,null,null,"06","11","06",2,600000,11000,60,2,611062,"SEROKOMLA",802.87]
[405043,"  Kowalewo Pomorskie..........................................................................................................................................................................................................................................................",14120,"",141,null,null,null,null,null,null,"3203",3203000,"   drawski",176424,1764,57397,33,19,208,null,null,null,null,null,null,null,null,null,null,null,"06","11","07",2,600000,11000,70,2,611072,"STANIN",1102.3399999999999]
[405044,"",445,"",4,null,null,null,null,null,null,"3204",3204000,"   goleniowski",161548,1616,82540,51,27,120,null,null,null,null,null,null,null,null,null,null,null,"06","11","08",2,600000,11000,80,2,611082,"STOCZEK ŁUKOWSKI",1636.67]
[405045,"",13675,"",137,null,null,null,null,null,null,"3205",3205000,"   gryficki",102105,1021,60617,59,122,193,null,null,null,null,null,null,null,null,null,null,null,"06","11","09",2,600000,11000,90,2,611092,"TRZEBIESZÓW",1585.09]
["","Powiat grudziądzki  (6 gmin)",null,null,null,null,null,null,null,null,null,"3206",3206000,"   gryfiński",186911,1870,82530,44,13,121,null,null,null,null,null,null,null,null,null,null,null,"06","11","10",2,600000,11000,100,2,611102,"WOJCIESZKÓW",783.34]
["","",null,null,null,null,null,null,null,null,null,"3207",3207000,"   kamieński",100716,1007,47227,47,126,253,null,null,null,null,null,null,null,null,null,null,null,"06","11","11",2,600000,11000,110,2,611112,"WOLA MYSŁOWSKA",1149.98]
[406012,"  Grudziądz..........................................................................................................................................................................................................................................................",16533,"",165,null,null,null,null,null,null,"3208",3208000,"   kołobrzeski",72466,725,79547,110,207,126,null,null,null,null,null,null,null,null,null,null,null,"06","12","01",2,600000,12000,10,2,612012,"CHODEL",988.5]
[406022,"  Gruta..........................................................................................................................................................................................................................................................",12375,"",124,null,null,null,null,null,null,"3209",3209000,"   koszaliński",165346,1653,66355,40,24,172,null,null,null,null,null,null,null,null,null,null,null,"06","12","02",3,600000,12000,20,3,612023,"JÓZEFÓW nad Wisłą",835.78]
[406052,"  Rogóźno..........................................................................................................................................................................................................................................................",11624,"",116,null,null,null,null,null,null,"3218",3218000,"   łobeski",106513,1065,37104,35,109,292,null,null,null,null,null,null,null,null,null,null,null,"06","12","03",2,600000,12000,30,2,612032,"KARCZMISKA",863.93]
[406062,"  Świecie nad Osą..........................................................................................................................................................................................................................................................",9475,"",95,null,null,null,null,null,null,"3210",3210000,"   myśliborski",118240,1182,66264,56,87,174,null,null,null,null,null,null,null,null,null,null,null,"06","12","04",2,600000,12000,40,2,612042,"ŁAZISKA",1048.52]
["","",null,null,null,null,null,null,null,null,null,"3211",3211000,"   policki",66533,665,79476,119,233,127,null,null,null,null,null,null,null,null,null,null,null,"06","12","05",3,600000,12000,50,3,612053,"OPOLE LUBELSKIE",1315.07]
[406033,"  Łasin..........................................................................................................................................................................................................................................................",13655,"",137,null,null,null,null,null,null,"3212",3212000,"   pyrzycki",72600,726,39639,55,206,285,null,null,null,null,null,null,null,null,null,null,null,"06","12","06",3,600000,12000,60,3,612063,"PONIATOWA",1243.21]
[406034,"",479,"",5,null,null,null,null,null,null,"3213",3213000,"   sławieński",104320,1043,56409,54,113,215,null,null,null,null,null,null,null,null,null,null,null,"06","12","07",2,600000,12000,70,2,612072,"WILKÓW",1226.99]
[406035,"",13176,"",132,null,null,null,null,null,null,"3214",3214000,"   stargardzki",151994,1520,120112,79,35,47,null,null,null,null,null,null,null,null,null,null,null,"06","13","01",2,{"$f":"AF456*100000","v":600000},{"$f":"AG456*1000","v":13000},{"$f":"AH456*10","v":10},{"$f":"AI456*1","v":2},{"$f":"SUM(AJ456:AM456)","v":613012},"DĘBOWA KŁODA",1160.77]
[406043,"  Radzyń Chełmiński..........................................................................................................................................................................................................................................................",9114,"",91,null,null,null,null,null,null,"3215",{"$f":"L457*1000","v":3215000},"   szczecinecki",176542,1766,77965,44,18,136,null,null,null,null,null,null,null,null,null,null,null,"06","13","02",2,600000,13000,20,2,613022,"JABŁOŃ",794.27]
[406044,"",178,"",2,null,null,null,null,null,null,"3216",3216000,"   świdwiński",109306,1093,47242,43,106,251,null,null,null,null,null,null,null,null,null,null,null,"06","13","03",2,600000,13000,30,2,613032,"MILANÓW",1112.9100000000001]
[406045,"",8936,"",89,null,null,null,null,null,null,"3217",3217000,"   wałecki",141498,1415,53462,38,45,230,null,null,null,null,null,null,null,null,null,null,null,"06","13","04",3,600000,13000,40,3,613043,"PARCZEW",1735.32]
["","Powiat inowrocławski  (9 gmin)",null,null,null,null,null,null,null,null,null,"",{"$error":"#VALUE!"}," Miasta na prawach powiatu:",null,null,null,null,null,null,null,null,null,null,null,null,null,null,null,null,null,"06","13","05",2,600000,13000,50,2,613052,"PODEDWÓRZE",1339.41]
["","",null,null,null,null,null,null,null,null,null,"",{"$error":"#VALUE!"}," Cities with powiat status:",null,null,null,null,null,null,null,null,null,null,null,null,null,null,null,null,null,"06","13","06",2,600000,13000,60,2,613062,"SIEMIEŃ",876.72]
[407011,"  Inowrocław..........................................................................................................................................................................................................................................................",3042,"",30,null,null,null,null,null,null,"3261",3261000,"   Koszalin",9834,98,107321,1091,27,37,null,null,null,null,null,null,null,null,null,null,null,"06","13","07",2,600000,13000,70,2,613072,"SOSNOWICA",1309.1600000000001]
["","",null,null,null,null,null,null,null,null,null,"3262",3262000,"   Szczecin",30060,301,402465,1339,3,7,null,null,null,null,null,null,null,null,null,null,null,"06","14","01",1,600000,14000,10,1,614011,"PUŁAWY",2744.22]
[407022,"  Dąbrowa Biskupia..........................................................................................................................................................................................................................................................",14728,"",147,null,null,null,null,null,null,"3263",3263000,"   Świnoujście",20207,202,40910,202,9,65,null,null,null,null,null,null,null,null,null,null,null,"06","14","02",2,600000,14000,20,2,614022,"BARANÓW",1204.1099999999999]
[407042,"  Inowrocław..........................................................................................................................................................................................................................................................",17165,"",172,null,null,null,null,null,null,null,null,null,null,null,null,null,null,null,null,null,null,null,null,null,null,null,null,null,null,"06","14","03",2,600000,14000,30,2,614032,"JANOWIEC",1235.92]
[407082,"  Rojewo..........................................................................................................................................................................................................................................................",11976,"",120,null,null,null,null,null,null,null,null,null,null,null,null,null,null,null,null,null,null,null,null,null,null,null,null,null,null,"06","14","04",3,600000,14000,40,3,614043,"KAZIMIERZ DOLNY",1539.65]
[407092,"  Złotniki Kujawskie..........................................................................................................................................................................................................................................................",13553,"",136,null,null,null,null,null,null,null,null,null,null,null,null,null,null,null,null,null,null,null,null,null,null,null,null,null,null,"06","14","05",2,600000,14000,50,2,614052,"KOŃSKOWOLA",1789.72]
["","",null,null,null,null,null,null,null,null,null,null,null,null,null,null,null,null,null,null,null,null,null,null,null,null,null,null,null,null,null,"06","14","06",2,600000,14000,60,2,614062,"KURÓW",1366.85]
[407033,"  Gniewkowo..........................................................................................................................................................................................................................................................",17972,"",180,null,null,null,null,null,null,null,null,null,null,null,null,null,null,null,null,null,null,null,null,null,null,null,null,null,null,"06","14","07",2,600000,14000,70,2,614072,"MARKUSZÓW",1242.95]
[407034,"",918,"",9,null,null,null,null,null,null,null,null,null,null,null,null,null,null,null,null,null,null,null,null,null,null,null,null,null,null,"06","14","08",3,600000,14000,80,3,614083,"NAŁĘCZÓW",980.13]
[407035,"",17054,"",171,null,null,null,null,null,null,null,null,null,null,null,null,null,null,null,null,null,null,null,null,null,null,null,null,null,null,"06","14","09",2,600000,14000,90,2,614092,"PUŁAWY",1598.07]
[407053,"  Janikowo..........................................................................................................................................................................................................................................................",9195,"",92,null,null,null,null,null,null,null,null,null,null,null,null,null,null,null,null,null,null,null,null,null,null,null,null,null,null,"06","14","10",2,600000,14000,100,2,614102,"WĄWOLNICA",1186.5999999999999]
[407054,"",951,"",10,null,null,null,null,null,null,null,null,null,null,null,null,null,null,null,null,null,null,null,null,null,null,null,null,null,null,"06","14","11",2,600000,14000,110,2,614112,"ŻYRZYN",1088.69]
[407055,"",8244,"",82,null,null,null,null,null,null,null,null,null,null,null,null,null,null,null,null,null,null,null,null,null,null,null,null,null,null,"06","15","01",1,600000,15000,10,1,615011,"RADZYŃ PODLASKI",1719.3]
[407063,"  Kruszwica..........................................................................................................................................................................................................................................................",26241,"",262,null,null,null,null,null,null,null,null,null,null,null,null,null,null,null,null,null,null,null,null,null,null,null,null,null,null,"06","15","02",2,600000,15000,20,2,615022,"BORKI",747.73]
[407064,"",664,"",7,null,null,null,null,null,null,null,null,null,null,null,null,null,null,null,null,null,null,null,null,null,null,null,null,null,null,"06","15","03",2,600000,15000,30,2,615032,"CZEMIERNIKI",1076.3499999999999]
[407065,"",25577,"",255,null,null,null,null,null,null,null,null,null,null,null,null,null,null,null,null,null,null,null,null,null,null,null,null,null,null,"06","15","04",2,600000,15000,40,2,615042,"KĄKOLEWNICA",1017.19]
[407073,"  Pakość..........................................................................................................................................................................................................................................................",8646,"",86,null,null,null,null,null,null,null,null,null,null,null,null,null,null,null,null,null,null,null,null,null,null,null,null,null,null,"06","15","05",2,600000,15000,50,2,615052,"KOMARÓWKA PODLASKA",947.64]
[407074,"",346,"",3,null,null,null,null,null,null,null,null,null,null,null,null,null,null,null,null,null,null,null,null,null,null,null,null,null,null,"06","15","06",2,600000,15000,60,2,615062,"RADZYŃ PODLASKI",1243.97]
[407075,"",8300,"",83,null,null,null,null,null,null,null,null,null,null,null,null,null,null,null,null,null,null,null,null,null,null,null,null,null,null,"06","15","07",2,600000,15000,70,2,615072,"ULAN-MAJORAT",877.35]
["","Powiat lipnowski  (9 gmin)",null,null,null,null,null,null,null,null,null,null,null,null,null,null,null,null,null,null,null,null,null,null,null,null,null,null,null,null,null,"06","15","08",2,600000,15000,80,2,615082,"WOHYŃ",1117.42]
["","",null,null,null,null,null,null,null,null,null,null,null,null,null,null,null,null,null,null,null,null,null,null,null,null,null,null,null,null,null,"06","16","01",1,600000,16000,10,1,616011,"DĘBLIN",1987.11]
[408011,"  Lipno..........................................................................................................................................................................................................................................................",1099,"",11,null,null,null,null,null,null,null,null,null,null,null,null,null,null,null,null,null,null,null,null,null,null,null,null,null,null,"06","16","02",2,600000,16000,20,2,616022,"KŁOCZEW",1006.94]
["","",null,null,null,null,null,null,null,null,null,null,null,null,null,null,null,null,null,null,null,null,null,null,null,null,null,null,null,null,null,"06","16","03",2,600000,16000,30,2,616032,"NOWODWÓR",666.82]
[408022,"  Bobrowniki..........................................................................................................................................................................................................................................................",9539,"",96,null,null,null,null,null,null,null,null,null,null,null,null,null,null,null,null,null,null,null,null,null,null,null,null,null,null,"06","16","04",3,600000,16000,40,3,616043,"RYKI",1646.97]
[408032,"  Chrostkowo..........................................................................................................................................................................................................................................................",7406,"",74,null,null,null,null,null,null,null,null,null,null,null,null,null,null,null,null,null,null,null,null,null,null,null,null,null,null,"06","16","05",2,600000,16000,50,2,616052,"STĘŻYCA",1663.37]
[408052,"  Kikół..........................................................................................................................................................................................................................................................",9830,"",98,null,null,null,null,null,null,null,null,null,null,null,null,null,null,null,null,null,null,null,null,null,null,null,null,null,null,"06","16","06",2,600000,16000,60,2,616062,"UŁĘŻ",1002.51]
[408062,"  Lipno..........................................................................................................................................................................................................................................................",21004,"",210,null,null,null,null,null,null,null,null,null,null,null,null,null,null,null,null,null,null,null,null,null,null,null,null,null,null,"06","17","01",1,600000,17000,10,1,617011,"ŚWIDNIK",1811.99]
[408082,"  Tłuchowo..........................................................................................................................................................................................................................................................",9935,"",99,null,null,null,null,null,null,null,null,null,null,null,null,null,null,null,null,null,null,null,null,null,null,null,null,null,null,"06","17","02",2,600000,17000,20,2,617022,"MEŁGIEW",1505.3]
[408092,"  Wielgie..........................................................................................................................................................................................................................................................",13368,"",134,null,null,null,null,null,null,null,null,null,null,null,null,null,null,null,null,null,null,null,null,null,null,null,null,null,null,"06","17","03",3,600000,17000,30,3,617033,"PIASKI",1479.85]
["","",null,null,null,null,null,null,null,null,null,null,null,null,null,null,null,null,null,null,null,null,null,null,null,null,null,null,null,null,null,"06","17","04",2,600000,17000,40,2,617042,"RYBCZEWICE",1154.3599999999999]
[408043,"  Dobrzyń nad Wisłą..........................................................................................................................................................................................................................................................",11518,"",115,null,null,null,null,null,null,null,null,null,null,null,null,null,null,null,null,null,null,null,null,null,null,null,null,null,null,"06","17","05",2,600000,17000,50,2,617052,"TRAWNIKI",1199.31]
[408044,"",541,"",5,null,null,null,null,null,null,null,null,null,null,null,null,null,null,null,null,null,null,null,null,null,null,null,null,null,null,"06","18","01",1,600000,18000,10,1,618011,"TOMASZÓW LUBELSKI",1769.36]
[408045,"",10977,"",110,null,null,null,null,null,null,null,null,null,null,null,null,null,null,null,null,null,null,null,null,null,null,null,null,null,null,"06","18","02",2,600000,18000,20,2,618022,"BEŁŻEC",1113.9000000000001]
[408073,"  Skępe..........................................................................................................................................................................................................................................................",17875,"",179,null,null,null,null,null,null,null,null,null,null,null,null,null,null,null,null,null,null,null,null,null,null,null,null,null,null,"06","18","03",2,600000,18000,30,2,618032,"JARCZÓW",1423.38]
[408074,"",748,"",8,null,null,null,null,null,null,null,null,null,null,null,null,null,null,null,null,null,null,null,null,null,null,null,null,null,null,"06","18","04",2,600000,18000,40,2,618042,"KRYNICE",1085.19]
[408075,"",17127,"",171,null,null,null,null,null,null,null,null,null,null,null,null,null,null,null,null,null,null,null,null,null,null,null,null,null,null,"06","18","05",3,600000,18000,50,3,618053,"LUBYCZA KRÓLEWSKA",1429.37]
["","Powiat mogileński  (4 gminy)",null,null,null,null,null,null,null,null,null,null,null,null,null,null,null,null,null,null,null,null,null,null,null,null,null,null,null,null,null,"06","18","06",3,600000,18000,60,3,618063,"ŁASZCZÓW",1442.79]
["","",null,null,null,null,null,null,null,null,null,null,null,null,null,null,null,null,null,null,null,null,null,null,null,null,null,null,null,null,null,"06","18","07",2,600000,18000,70,2,618072,"RACHANIE",954.46]
[409012,"  Dąbrowa..........................................................................................................................................................................................................................................................",11029,"",110,null,null,null,null,null,null,null,null,null,null,null,null,null,null,null,null,null,null,null,null,null,null,null,null,null,null,"06","18","08",2,600000,18000,80,2,618082,"SUSIEC",787.18]
[409022,"  Jeziora Wielkie..........................................................................................................................................................................................................................................................",12373,"",124,null,null,null,null,null,null,null,null,null,null,null,null,null,null,null,null,null,null,null,null,null,null,null,null,null,null,"06","18","09",2,600000,18000,90,2,618092,"TARNAWATKA",1140.48]
["","",null,null,null,null,null,null,null,null,null,null,null,null,null,null,null,null,null,null,null,null,null,null,null,null,null,null,null,null,null,"06","18","10",2,600000,18000,100,2,618102,"TELATYN",1104.3900000000001]
[409033,"  Mogilno..........................................................................................................................................................................................................................................................",25620,"",256,null,null,null,null,null,null,null,null,null,null,null,null,null,null,null,null,null,null,null,null,null,null,null,null,null,null,"06","18","11",2,600000,18000,110,2,618112,"TOMASZÓW LUBELSKI",1185.1199999999999]
[409034,"",832,"",8,null,null,null,null,null,null,null,null,null,null,null,null,null,null,null,null,null,null,null,null,null,null,null,null,null,null,"06","18","12",3,600000,18000,120,3,618123,"TYSZOWCE",1373.95]
[409035,"",24788,"",248,null,null,null,null,null,null,null,null,null,null,null,null,null,null,null,null,null,null,null,null,null,null,null,null,null,null,"06","18","13",2,600000,18000,130,2,618132,"ULHÓWEK",1121.3399999999999]
[409043,"  Strzelno..........................................................................................................................................................................................................................................................",18490,"",185,null,null,null,null,null,null,null,null,null,null,null,null,null,null,null,null,null,null,null,null,null,null,null,null,null,null,"06","19","01",1,600000,19000,10,1,619011,"WŁODAWA",1416.79]
[409044,"",446,"",5,null,null,null,null,null,null,null,null,null,null,null,null,null,null,null,null,null,null,null,null,null,null,null,null,null,null,"06","19","02",2,600000,19000,20,2,619022,"HANNA",774.99]
[409045,"",18044,"",180,null,null,null,null,null,null,null,null,null,null,null,null,null,null,null,null,null,null,null,null,null,null,null,null,null,null,"06","19","03",2,600000,19000,30,2,619032,"HAŃSK",954.83]
["","Powiat nakielski  (5 gmin)",null,null,null,null,null,null,null,null,null,null,null,null,null,null,null,null,null,null,null,null,null,null,null,null,null,null,null,null,null,"06","19","04",2,600000,19000,40,2,619042,"STARY BRUS",853.76]
["","",null,null,null,null,null,null,null,null,null,null,null,null,null,null,null,null,null,null,null,null,null,null,null,null,null,null,null,null,null,"06","19","05",2,600000,19000,50,2,619052,"URSZULIN",1399.2]
[410042,"  Sadki..........................................................................................................................................................................................................................................................",15375,"",154,null,null,null,null,null,null,null,null,null,null,null,null,null,null,null,null,null,null,null,null,null,null,null,null,null,null,"06","19","06",2,600000,19000,60,2,619062,"WŁODAWA",1609.25]
["","",null,null,null,null,null,null,null,null,null,null,null,null,null,null,null,null,null,null,null,null,null,null,null,null,null,null,null,null,null,"06","19","07",2,600000,19000,70,2,619072,"WOLA UHRUSKA",1085.22]
[410013,"  Kcynia..........................................................................................................................................................................................................................................................",29663,"",297,null,null,null,null,null,null,null,null,null,null,null,null,null,null,null,null,null,null,null,null,null,null,null,null,null,null,"06","19","08",2,600000,19000,80,2,619082,"WYRYKI",1054.3900000000001]
[410014,"",684,"",7,null,null,null,null,null,null,null,null,null,null,null,null,null,null,null,null,null,null,null,null,null,null,null,null,null,null,"06","20","01",2,600000,20000,10,2,620012,"ADAMÓW",1115.5999999999999]
[410015,"",28979,"",290,null,null,null,null,null,null,null,null,null,null,null,null,null,null,null,null,null,null,null,null,null,null,null,null,null,null,"06","20","02",2,600000,20000,20,2,620022,"GRABOWIEC",1171.27]
[410023,"  Mrocza..........................................................................................................................................................................................................................................................",15051,"",150,null,null,null,null,null,null,null,null,null,null,null,null,null,null,null,null,null,null,null,null,null,null,null,null,null,null,"06","20","03",2,600000,20000,30,2,620032,"KOMARÓW-OSADA",985.43]
[410024,"",501,"",5,null,null,null,null,null,null,null,null,null,null,null,null,null,null,null,null,null,null,null,null,null,null,null,null,null,null,"06","20","04",3,600000,20000,40,3,620043,"KRASNOBRÓD",1277.04]
[410025,"",14550,"",145,null,null,null,null,null,null,null,null,null,null,null,null,null,null,null,null,null,null,null,null,null,null,null,null,null,null,"06","20","05",2,600000,20000,50,2,620052,"ŁABUNIE",930.92]
[410033,"  Nakło nad Notecią..........................................................................................................................................................................................................................................................",18693,"",187,null,null,null,null,null,null,null,null,null,null,null,null,null,null,null,null,null,null,null,null,null,null,null,null,null,null,"06","20","06",2,600000,20000,60,2,620062,"MIĄCZYN",1072.56]
[410034,"",1082,"",11,null,null,null,null,null,null,null,null,null,null,null,null,null,null,null,null,null,null,null,null,null,null,null,null,null,null,"06","20","07",2,{"$f":"AF520*100000","v":600000},{"$f":"AG520*1000","v":20000},{"$f":"AH520*10","v":70},{"$f":"AI520*1","v":2},{"$f":"SUM(AJ520:AM520)","v":620072},"NIELISZ",869.28]
[410035,"",17611,"",176,null,null,null,null,null,null,null,null,null,null,null,null,null,null,null,null,null,null,null,null,null,null,null,null,null,null,"06","20","08",2,600000,20000,80,2,620082,"RADECZNICA",862.46]
[410053,"  Szubin..........................................................................................................................................................................................................................................................",33226,"",332,null,null,null,null,null,null,null,null,null,null,null,null,null,null,null,null,null,null,null,null,null,null,null,null,null,null,"06","20","09",2,600000,20000,90,2,620092,"SITNO",1212.7]
[410054,"",765,"",8,null,null,null,null,null,null,null,null,null,null,null,null,null,null,null,null,null,null,null,null,null,null,null,null,null,null,"06","20","10",2,600000,20000,100,2,620102,"SKIERBIESZÓW",1053.21]
[410055,"",32461,"",324,null,null,null,null,null,null,null,null,null,null,null,null,null,null,null,null,null,null,null,null,null,null,null,null,null,null,"06","20","11",2,600000,20000,110,2,620112,"STARY ZAMOŚĆ",1044.18]
["","Powiat radziejowski  (7 gmin)",null,null,null,null,null,null,null,null,null,null,null,null,null,null,null,null,null,null,null,null,null,null,null,null,null,null,null,null,null,"06","20","12",2,600000,20000,120,2,620122,"SUŁÓW",834.12]
["","",null,null,null,null,null,null,null,null,null,null,null,null,null,null,null,null,null,null,null,null,null,null,null,null,null,null,null,null,null,"06","20","13",3,600000,20000,130,3,620133,"SZCZEBRZESZYN",1369.17]
[411011,"  Radziejów..........................................................................................................................................................................................................................................................",569,"",6,null,null,null,null,null,null,null,null,null,null,null,null,null,null,null,null,null,null,null,null,null,null,null,null,null,null,"06","20","14",2,600000,20000,140,2,620142,"ZAMOŚĆ",1527.18]
["","",null,null,null,null,null,null,null,null,null,null,null,null,null,null,null,null,null,null,null,null,null,null,null,null,null,null,null,null,null,"06","20","15",3,600000,20000,150,3,620153,"ZWIERZYNIEC",1782.54]
[411022,"  Bytoń..........................................................................................................................................................................................................................................................",7337,"",73,null,null,null,null,null,null,null,null,null,null,null,null,null,null,null,null,null,null,null,null,null,null,null,null,null,null,"06","61","01",1,600000,61000,10,1,661011,"Biała Podlaska",1841.95]
[411032,"  Dobre..........................................................................................................................................................................................................................................................",7082,"",71,null,null,null,null,null,null,null,null,null,null,null,null,null,null,null,null,null,null,null,null,null,null,null,null,null,null,"06","62","01",1,600000,62000,10,1,662011,"Chełm",1770.67]
[411042,"  Osięciny..........................................................................................................................................................................................................................................................",12312,"",122,null,null,null,null,null,null,null,null,null,null,null,null,null,null,null,null,null,null,null,null,null,null,null,null,null,null,"06","63","01",1,600000,63000,10,1,663011,"Lublin",2350.7199999999998]
[411062,"  Radziejów..........................................................................................................................................................................................................................................................",9265,"",93,null,null,null,null,null,null,null,null,null,null,null,null,null,null,null,null,null,null,null,null,null,null,null,null,null,null,"06","64","01",1,600000,64000,10,1,664011,"Zamość",1749.71]
[411072,"  Topólka..........................................................................................................................................................................................................................................................",10288,"",103,null,null,null,null,null,null,null,null,null,null,null,null,null,null,null,null,null,null,null,null,null,null,null,null,null,null,"08","01","01",1,800000,1000,10,1,801011,"KOSTRZYN nad Odrą",2912.92]
["","",null,null,null,null,null,null,null,null,null,null,null,null,null,null,null,null,null,null,null,null,null,null,null,null,null,null,null,null,null,"08","01","02",2,800000,1000,20,2,801022,"BOGDANIEC",1804.51]
[411053,"  Piotrków Kujawski..........................................................................................................................................................................................................................................................",13867,"",139,null,null,null,null,null,null,null,null,null,null,null,null,null,null,null,null,null,null,null,null,null,null,null,null,null,null,"08","01","03",2,800000,1000,30,2,801032,"DESZCZNO",2144.5]
[411054,"",976,"",9,null,null,null,null,null,null,null,null,null,null,null,null,null,null,null,null,null,null,null,null,null,null,null,null,null,null,"08","01","04",2,800000,1000,40,2,801042,"KŁODAWA",2738.54]
[411055,"",12891,"",130,null,null,null,null,null,null,null,null,null,null,null,null,null,null,null,null,null,null,null,null,null,null,null,null,null,null,"08","01","05",2,800000,1000,50,2,801052,"LUBISZYN",2087.3000000000002]
["","Powiat rypiński  (6 gmin)",null,null,null,null,null,null,null,null,null,null,null,null,null,null,null,null,null,null,null,null,null,null,null,null,null,null,null,null,null,"08","01","06",2,800000,1000,60,2,801062,"SANTOK",2064.7600000000002]
["","",null,null,null,null,null,null,null,null,null,null,null,null,null,null,null,null,null,null,null,null,null,null,null,null,null,null,null,null,null,"08","01","07",3,800000,1000,70,3,801073,"WITNICA",1834.93]
[412011,"  Rypin..........................................................................................................................................................................................................................................................",1096,"",10,null,null,null,null,null,null,null,null,null,null,null,null,null,null,null,null,null,null,null,null,null,null,null,null,null,null,"08","02","01",1,800000,2000,10,1,802011,"GUBIN",1679.03]
["","",null,null,null,null,null,null,null,null,null,null,null,null,null,null,null,null,null,null,null,null,null,null,null,null,null,null,null,null,null,"08","02","02",2,800000,2000,20,2,802022,"BOBROWICE",3786.69]
[412022,"  Brzuze..........................................................................................................................................................................................................................................................",8640,"",87,null,null,null,null,null,null,null,null,null,null,null,null,null,null,null,null,null,null,null,null,null,null,null,null,null,null,"08","02","03",2,800000,2000,30,2,802032,"BYTNICA",1486.98]
[412032,"  Rogowo..........................................................................................................................................................................................................................................................",14101,"",141,null,null,null,null,null,null,null,null,null,null,null,null,null,null,null,null,null,null,null,null,null,null,null,null,null,null,"08","02","04",2,800000,2000,40,2,802042,"DĄBIE",1525.71]
[412042,"  Rypin..........................................................................................................................................................................................................................................................",13208,"",132,null,null,null,null,null,null,null,null,null,null,null,null,null,null,null,null,null,null,null,null,null,null,null,null,null,null,"08","02","05",2,800000,2000,50,2,802052,"GUBIN",1756.18]
[412052,"  Skrwilno..........................................................................................................................................................................................................................................................",12281,"",123,null,null,null,null,null,null,null,null,null,null,null,null,null,null,null,null,null,null,null,null,null,null,null,null,null,null,"08","02","06",3,800000,2000,60,3,802063,"KROSNO ODRZAŃSKIE",2079.06]
[412062,"  Wąpielsk..........................................................................................................................................................................................................................................................",9321,"",93,null,null,null,null,null,null,null,null,null,null,null,null,null,null,null,null,null,null,null,null,null,null,null,null,null,null,"08","02","07",2,800000,2000,70,2,802072,"MASZEWO",1644.52]
["","Powiat sępoleński  (4 gminy)",null,null,null,null,null,null,null,null,null,null,null,null,null,null,null,null,null,null,null,null,null,null,null,null,null,null,null,null,null,"08","03","01",2,800000,3000,10,2,803012,"BLEDZEW",1746.11]
["","",null,null,null,null,null,null,null,null,null,null,null,null,null,null,null,null,null,null,null,null,null,null,null,null,null,null,null,null,null,"08","03","02",3,800000,3000,20,3,803023,"MIĘDZYRZECZ",2118.79]
[413032,"  Sośno..........................................................................................................................................................................................................................................................",16264,"",163,null,null,null,null,null,null,null,null,null,null,null,null,null,null,null,null,null,null,null,null,null,null,null,null,null,null,"08","03","03",2,800000,3000,30,2,803032,"PRZYTOCZNA",1931.42]
["","",null,null,null,null,null,null,null,null,null,null,null,null,null,null,null,null,null,null,null,null,null,null,null,null,null,null,null,null,null,"08","03","04",2,800000,3000,40,2,803042,"PSZCZEW",2433.2800000000002]
[413013,"  Kamień Krajeński..........................................................................................................................................................................................................................................................",16331,"",163,null,null,null,null,null,null,null,null,null,null,null,null,null,null,null,null,null,null,null,null,null,null,null,null,null,null,"08","03","05",3,800000,3000,50,3,803053,"SKWIERZYNA",1951.85]
[413014,"",365,"",4,null,null,null,null,null,null,null,null,null,null,null,null,null,null,null,null,null,null,null,null,null,null,null,null,null,null,"08","03","06",3,800000,3000,60,3,803063,"TRZCIEL",1575.23]
[413015,"",15966,"",159,null,null,null,null,null,null,null,null,null,null,null,null,null,null,null,null,null,null,null,null,null,null,null,null,null,null,"08","04","01",1,800000,4000,10,1,804011,"NOWA SÓL",1932.33]
[413023,"  Sępólno Krajeńskie..........................................................................................................................................................................................................................................................",22912,"",229,null,null,null,null,null,null,null,null,null,null,null,null,null,null,null,null,null,null,null,null,null,null,null,null,null,null,"08","04","02",3,800000,4000,20,3,804023,"BYTOM ODRZAŃSKI",1607.42]
[413024,"",655,"",7,null,null,null,null,null,null,null,null,null,null,null,null,null,null,null,null,null,null,null,null,null,null,null,null,null,null,"08","04","03",2,800000,4000,30,2,804032,"KOLSKO",1346.43]
[413025,"",22257,"",222,null,null,null,null,null,null,null,null,null,null,null,null,null,null,null,null,null,null,null,null,null,null,null,null,null,null,"08","04","04",3,800000,4000,40,3,804043,"KOŻUCHÓW",1474.32]
[413043,"  Więcbork..........................................................................................................................................................................................................................................................",23602,"",236,null,null,null,null,null,null,null,null,null,null,null,null,null,null,null,null,null,null,null,null,null,null,null,null,null,null,"08","04","05",2,800000,4000,50,2,804052,"NOWA SÓL",1766.37]
[413044,"",431,"",4,null,null,null,null,null,null,null,null,null,null,null,null,null,null,null,null,null,null,null,null,null,null,null,null,null,null,"08","04","06",3,800000,4000,60,3,804063,"NOWE MIASTECZKO",1414.08]
[413045,"",23171,"",232,null,null,null,null,null,null,null,null,null,null,null,null,null,null,null,null,null,null,null,null,null,null,null,null,null,null,"08","04","07",3,800000,4000,70,3,804073,"OTYŃ",1378.91]
["","Powiat świecki  (11 gmin)",null,null,null,null,null,null,null,null,null,null,null,null,null,null,null,null,null,null,null,null,null,null,null,null,null,null,null,null,null,"08","04","08",2,800000,4000,80,2,804082,"SIEDLISKO",1187.7]
["","",null,null,null,null,null,null,null,null,null,null,null,null,null,null,null,null,null,null,null,null,null,null,null,null,null,null,null,null,null,"08","05","01",3,800000,5000,10,3,805013,"CYBINKA",1744.38]
[414012,"  Bukowiec..........................................................................................................................................................................................................................................................",11100,"",111,null,null,null,null,null,null,null,null,null,null,null,null,null,null,null,null,null,null,null,null,null,null,null,null,null,null,"08","05","02",2,800000,5000,20,2,805022,"GÓRZYCA",1833.19]
[414022,"  Dragacz..........................................................................................................................................................................................................................................................",11181,"",112,null,null,null,null,null,null,null,null,null,null,null,null,null,null,null,null,null,null,null,null,null,null,null,null,null,null,"08","05","03",3,800000,5000,30,3,805033,"OŚNO LUBUSKIE",1867.54]
[414032,"  Drzycim..........................................................................................................................................................................................................................................................",10841,"",108,null,null,null,null,null,null,null,null,null,null,null,null,null,null,null,null,null,null,null,null,null,null,null,null,null,null,"08","05","04",3,800000,5000,40,3,805043,"RZEPIN",2210.92]
[414042,"  Jeżewo..........................................................................................................................................................................................................................................................",15646,"",156,null,null,null,null,null,null,null,null,null,null,null,null,null,null,null,null,null,null,null,null,null,null,null,null,null,null,"08","05","05",3,800000,5000,50,3,805053,"SŁUBICE",2795.34]
[414052,"  Lniano..........................................................................................................................................................................................................................................................",8839,"",88,null,null,null,null,null,null,null,null,null,null,null,null,null,null,null,null,null,null,null,null,null,null,null,null,null,null,"08","06","01",3,800000,6000,10,3,806013,"DOBIEGNIEW",1578.85]
[414072,"  Osie..........................................................................................................................................................................................................................................................",20904,"",209,null,null,null,null,null,null,null,null,null,null,null,null,null,null,null,null,null,null,null,null,null,null,null,null,null,null,"08","06","02",3,800000,6000,20,3,806023,"DREZDENKO",2502.73]
[414082,"  Pruszcz..........................................................................................................................................................................................................................................................",14249,"",143,null,null,null,null,null,null,null,null,null,null,null,null,null,null,null,null,null,null,null,null,null,null,null,null,null,null,"08","06","03",2,800000,6000,30,2,806032,"STARE KUROWO",1399.5]
[414102,"  Świekatowo..........................................................................................................................................................................................................................................................",6383,"",64,null,null,null,null,null,null,null,null,null,null,null,null,null,null,null,null,null,null,null,null,null,null,null,null,null,null,"08","06","04",3,800000,6000,40,3,806043,"STRZELCE KRAJEŃSKIE",1653.57]
[414112,"  Warlubie..........................................................................................................................................................................................................................................................",20111,"",201,null,null,null,null,null,null,null,null,null,null,null,null,null,null,null,null,null,null,null,null,null,null,null,null,null,null,"08","06","05",2,800000,6000,50,2,806052,"ZWIERZYN",1458.69]
["","",null,null,null,null,null,null,null,null,null,null,null,null,null,null,null,null,null,null,null,null,null,null,null,null,null,null,null,null,null,"08","07","01",2,800000,7000,10,2,807012,"KRZESZYCE",1321.61]
[414063,"  Nowe..........................................................................................................................................................................................................................................................",10671,"",107,null,null,null,null,null,null,null,null,null,null,null,null,null,null,null,null,null,null,null,null,null,null,null,null,null,null,"08","07","02",3,800000,7000,20,3,807023,"LUBNIEWICE",2048.4]
[414064,"",357,"",3,null,null,null,null,null,null,null,null,null,null,null,null,null,null,null,null,null,null,null,null,null,null,null,null,null,null,"08","07","03",2,800000,7000,30,2,807032,"SŁOŃSK",1433.39]
[414065,"",10314,"",104,null,null,null,null,null,null,null,null,null,null,null,null,null,null,null,null,null,null,null,null,null,null,null,null,null,null,"08","07","04",3,800000,7000,40,3,807043,"SULĘCIN",2506.33]
[414093,"  Świecie..........................................................................................................................................................................................................................................................",17493,"",175,null,null,null,null,null,null,null,null,null,null,null,null,null,null,null,null,null,null,null,null,null,null,null,null,null,null,"08","07","05",3,800000,7000,50,3,807053,"TORZYM",1871.61]
[414094,"",1187,"",12,null,null,null,null,null,null,null,null,null,null,null,null,null,null,null,null,null,null,null,null,null,null,null,null,null,null,"08","08","01",2,800000,8000,10,2,808012,"LUBRZA",2006.48]
[414095,"",16306,"",163,null,null,null,null,null,null,null,null,null,null,null,null,null,null,null,null,null,null,null,null,null,null,null,null,null,null,"08","08","02",2,800000,8000,20,2,808022,"ŁAGÓW",1536.4]
["","Powiat toruński  (9 gmin)",null,null,null,null,null,null,null,null,null,null,null,null,null,null,null,null,null,null,null,null,null,null,null,null,null,null,null,null,null,"08","08","03",2,800000,8000,30,2,808032,"SKĄPE",1970.34]
["","",null,null,null,null,null,null,null,null,null,null,null,null,null,null,null,null,null,null,null,null,null,null,null,null,null,null,null,null,null,"08","08","04",2,800000,8000,40,2,808042,"SZCZANIEC",1373.85]
[415011,"  Chełmża..........................................................................................................................................................................................................................................................",784,"",7,null,null,null,null,null,null,null,null,null,null,null,null,null,null,null,null,null,null,null,null,null,null,null,null,null,null,"08","08","05",3,800000,8000,50,3,808053,"ŚWIEBODZIN",2115.67]
["","",null,null,null,null,null,null,null,null,null,null,null,null,null,null,null,null,null,null,null,null,null,null,null,null,null,null,null,null,null,"08","08","06",3,800000,8000,60,3,808063,"ZBĄSZYNEK",3034.19]
[415022,"  Chełmża..........................................................................................................................................................................................................................................................",17895,"",180,null,null,null,null,null,null,null,null,null,null,null,null,null,null,null,null,null,null,null,null,null,null,null,null,null,null,"08","09","01",3,800000,9000,10,3,809013,"BABIMOST",2609.02]
[415032,"  Czernikowo..........................................................................................................................................................................................................................................................",17014,"",170,null,null,null,null,null,null,null,null,null,null,null,null,null,null,null,null,null,null,null,null,null,null,null,null,null,null,"08","09","02",2,800000,9000,20,2,809022,"BOJADŁA",1620.86]
[415042,"  Lubicz..........................................................................................................................................................................................................................................................",10575,"",106,null,null,null,null,null,null,null,null,null,null,null,null,null,null,null,null,null,null,null,null,null,null,null,null,null,null,"08","09","03",3,{"$f":"AF584*100000","v":800000},{"$f":"AG584*1000","v":9000},{"$f":"AH584*10","v":30},{"$f":"AI584*1","v":3},{"$f":"SUM(AJ584:AM584)","v":809033},"CZERWIEŃSK",1907.39]
[415052,"  Łubianka..........................................................................................................................................................................................................................................................",8450,"",84,null,null,null,null,null,null,null,null,null,null,null,null,null,null,null,null,null,null,null,null,null,null,null,null,null,null,"08","09","04",3,800000,9000,40,3,809043,"KARGOWA",2409.0100000000002]
[415062,"  Łysomice..........................................................................................................................................................................................................................................................",12694,"",127,null,null,null,null,null,null,null,null,null,null,null,null,null,null,null,null,null,null,null,null,null,null,null,null,null,null,"08","09","05",3,800000,9000,50,3,809053,"NOWOGRÓD BOBRZAŃSKI",1936.86]
[415072,"  Obrowo..........................................................................................................................................................................................................................................................",16217,"",162,null,null,null,null,null,null,null,null,null,null,null,null,null,null,null,null,null,null,null,null,null,null,null,null,null,null,"08","09","06",3,800000,9000,60,3,809063,"SULECHÓW",2014.16]
[415082,"  Wielka Nieszawka..........................................................................................................................................................................................................................................................",21622,"",216,null,null,null,null,null,null,null,null,null,null,null,null,null,null,null,null,null,null,null,null,null,null,null,null,null,null,"08","09","07",2,800000,9000,70,2,809072,"ŚWIDNICA",2670.46]
[415092,"  Zławieś Wielka..........................................................................................................................................................................................................................................................",17791,"",178,null,null,null,null,null,null,null,null,null,null,null,null,null,null,null,null,null,null,null,null,null,null,null,null,null,null,"08","09","08",2,800000,9000,80,2,809082,"TRZEBIECHÓW",1617.83]
["","Powiat tucholski  (6 gmin)",null,null,null,null,null,null,null,null,null,null,null,null,null,null,null,null,null,null,null,null,null,null,null,null,null,null,null,null,null,"08","09","09",2,800000,9000,90,2,809092,"ZABÓR",1902.2]
["","",null,null,null,null,null,null,null,null,null,null,null,null,null,null,null,null,null,null,null,null,null,null,null,null,null,null,null,null,null,"08","10","01",1,800000,10000,10,1,810011,"GOZDNICA",1555.65]
[416012,"  Cekcyn..........................................................................................................................................................................................................................................................",25326,"",252,null,null,null,null,null,null,null,null,null,null,null,null,null,null,null,null,null,null,null,null,null,null,null,null,null,null,"08","10","02",1,800000,10000,20,1,810021,"ŻAGAŃ",1793.04]
[416022,"  Gostycyn..........................................................................................................................................................................................................................................................",13580,"",136,null,null,null,null,null,null,null,null,null,null,null,null,null,null,null,null,null,null,null,null,null,null,null,null,null,null,"08","10","03",2,800000,10000,30,2,810032,"BRZEŹNICA",1060.47]
[416032,"  Kęsowo..........................................................................................................................................................................................................................................................",10922,"",109,null,null,null,null,null,null,null,null,null,null,null,null,null,null,null,null,null,null,null,null,null,null,null,null,null,null,"08","10","04",3,800000,10000,40,3,810043,"IŁOWA",1712.37]
[416042,"  Lubiewo..........................................................................................................................................................................................................................................................",16280,"",163,null,null,null,null,null,null,null,null,null,null,null,null,null,null,null,null,null,null,null,null,null,null,null,null,null,null,"08","10","05",3,800000,10000,50,3,810053,"MAŁOMICE",1261.94]
[416052,"  Śliwice..........................................................................................................................................................................................................................................................",17472,"",175,null,null,null,null,null,null,null,null,null,null,null,null,null,null,null,null,null,null,null,null,null,null,null,null,null,null,"08","10","06",2,800000,10000,60,2,810062,"NIEGOSŁAWICE",1703.89]
["","",null,null,null,null,null,null,null,null,null,null,null,null,null,null,null,null,null,null,null,null,null,null,null,null,null,null,null,null,null,"08","10","07",3,800000,10000,70,3,810073,"SZPROTAWA",1568.59]
[416063,"  Tuchola..........................................................................................................................................................................................................................................................",23966,"",240,null,null,null,null,null,null,null,null,null,null,null,null,null,null,null,null,null,null,null,null,null,null,null,null,null,null,"08","10","08",2,800000,10000,80,2,810082,"WYMIARKI",1579.28]
[416064,"",1769,"",18,null,null,null,null,null,null,null,null,null,null,null,null,null,null,null,null,null,null,null,null,null,null,null,null,null,null,"08","10","09",2,800000,10000,90,2,810092,"ŻAGAŃ",2009.93]
[416065,"",22197,"",222,null,null,null,null,null,null,null,null,null,null,null,null,null,null,null,null,null,null,null,null,null,null,null,null,null,null,"08","11","01",1,800000,11000,10,1,811011,"ŁĘKNICA",1338.88]
["","Powiat wąbrzeski  (5 gmin)",null,null,null,null,null,null,null,null,null,null,null,null,null,null,null,null,null,null,null,null,null,null,null,null,null,null,null,null,null,"08","11","02",1,800000,11000,20,1,811021,"ŻARY",2366.79]
["","",null,null,null,null,null,null,null,null,null,null,null,null,null,null,null,null,null,null,null,null,null,null,null,null,null,null,null,null,null,"08","11","03",2,800000,11000,30,2,811032,"BRODY",1842.71]
[417011,"  Wąbrzeźno..........................................................................................................................................................................................................................................................",853,"",9,null,null,null,null,null,null,null,null,null,null,null,null,null,null,null,null,null,null,null,null,null,null,null,null,null,null,"08","11","04",3,800000,11000,40,3,811043,"JASIEŃ",1529.93]
["","",null,null,null,null,null,null,null,null,null,null,null,null,null,null,null,null,null,null,null,null,null,null,null,null,null,null,null,null,null,"08","11","05",2,800000,11000,50,2,811052,"LIPINKI ŁUŻYCKIE",1247.57]
[417022,"  Dębowa Łąka..........................................................................................................................................................................................................................................................",8612,"",86,null,null,null,null,null,null,null,null,null,null,null,null,null,null,null,null,null,null,null,null,null,null,null,null,null,null,"08","11","06",3,800000,11000,60,3,811063,"LUBSKO",1320.73]
[417032,"  Książki..........................................................................................................................................................................................................................................................",8619,"",86,null,null,null,null,null,null,null,null,null,null,null,null,null,null,null,null,null,null,null,null,null,null,null,null,null,null,"08","11","07",2,800000,11000,70,2,811072,"PRZEWÓZ",1838.39]
[417042,"  Płużnica..........................................................................................................................................................................................................................................................",12038,"",120,null,null,null,null,null,null,null,null,null,null,null,null,null,null,null,null,null,null,null,null,null,null,null,null,null,null,"08","11","08",2,800000,11000,80,2,811082,"TRZEBIEL",1212.1199999999999]
[417052,"  Ryńsk..........................................................................................................................................................................................................................................................",20073,"",201,null,null,null,null,null,null,null,null,null,null,null,null,null,null,null,null,null,null,null,null,null,null,null,null,null,null,"08","11","09",2,800000,11000,90,2,811092,"TUPLICE",1189.24]
["","Powiat włocławski  (13 gmin)",null,null,null,null,null,null,null,null,null,null,null,null,null,null,null,null,null,null,null,null,null,null,null,null,null,null,null,null,null,"08","11","10",2,800000,11000,100,2,811102,"ŻARY",2054.19]
["","",null,null,null,null,null,null,null,null,null,null,null,null,null,null,null,null,null,null,null,null,null,null,null,null,null,null,null,null,null,"08","12","01",3,800000,12000,10,3,812013,"SŁAWA",2134.31]
[418011,"  Kowal..........................................................................................................................................................................................................................................................",468,"↓",5,null,null,null,null,null,null,null,null,null,null,null,null,null,null,null,null,null,null,null,null,null,null,null,null,null,null,"08","12","02",3,800000,12000,20,3,812023,"SZLICHTYNGOWA",1579.28]
["","",null,null,null,null,null,null,null,null,null,null,null,null,null,null,null,null,null,null,null,null,null,null,null,null,null,null,null,null,null,"08","12","03",3,800000,12000,30,3,812033,"WSCHOWA",1453.44]
[418022,"  Baruchowo..........................................................................................................................................................................................................................................................",10674,"",107,null,null,null,null,null,null,null,null,null,null,null,null,null,null,null,null,null,null,null,null,null,null,null,null,null,null,"08","61","01",1,800000,61000,10,1,861011,"Gorzów Wielkopolski",2332.46]
[418032,"  Boniewo..........................................................................................................................................................................................................................................................",7762,"",78,null,null,null,null,null,null,null,null,null,null,null,null,null,null,null,null,null,null,null,null,null,null,null,null,null,null,"08","62","01",1,800000,62000,10,1,862011,"Zielona Góra",2633.55]
[418052,"  Choceń..........................................................................................................................................................................................................................................................",9985,"",100,null,null,null,null,null,null,null,null,null,null,null,null,null,null,null,null,null,null,null,null,null,null,null,null,null,null,"10","01","01",1,1000000,1000,10,1,1001011,"BEŁCHATÓW",2095.02]
[418072,"  Fabianki..........................................................................................................................................................................................................................................................",7584,"",76,null,null,null,null,null,null,null,null,null,null,null,null,null,null,null,null,null,null,null,null,null,null,null,null,null,null,"10","01","02",2,1000000,1000,20,2,1001022,"BEŁCHATÓW",2149.29]
[418092,"  Kowal..........................................................................................................................................................................................................................................................",11479,"",115,null,null,null,null,null,null,null,null,null,null,null,null,null,null,null,null,null,null,null,null,null,null,null,null,null,null,"10","01","03",2,1000000,1000,30,2,1001032,"DRUŻBICE",1307.6500000000001]
[418102,"  Lubanie..........................................................................................................................................................................................................................................................",6941,"",69,null,null,null,null,null,null,null,null,null,null,null,null,null,null,null,null,null,null,null,null,null,null,null,null,null,null,"10","01","04",2,1000000,1000,40,2,1001042,"KLESZCZÓW",32477.69]
[418132,"  Włocławek..........................................................................................................................................................................................................................................................",22062,"",220,null,null,null,null,null,null,null,null,null,null,null,null,null,null,null,null,null,null,null,null,null,null,null,null,null,null,"10","01","05",2,1000000,1000,50,2,1001052,"KLUKI",1761.78]
["","",null,null,null,null,null,null,null,null,null,null,null,null,null,null,null,null,null,null,null,null,null,null,null,null,null,null,null,null,null,"10","01","06",2,1000000,1000,60,2,1001062,"RUSIEC",1858.48]
[418043,"  Brześć Kujawski..........................................................................................................................................................................................................................................................",15095,"",151,null,null,null,null,null,null,null,null,null,null,null,null,null,null,null,null,null,null,null,null,null,null,null,null,null,null,"10","01","07",2,1000000,1000,70,2,1001072,"SZCZERCÓW",6289.34]
[418044,"",704,"",7,null,null,null,null,null,null,null,null,null,null,null,null,null,null,null,null,null,null,null,null,null,null,null,null,null,null,"10","01","08",3,1000000,1000,80,3,1001083,"ZELÓW",1339.3]
[418045,"",14391,"",144,null,null,null,null,null,null,null,null,null,null,null,null,null,null,null,null,null,null,null,null,null,null,null,null,null,null,"10","02","01",1,1000000,2000,10,1,1002011,"KUTNO",2653.41]
[418063,"  Chodecz..........................................................................................................................................................................................................................................................",12209,"",122,null,null,null,null,null,null,null,null,null,null,null,null,null,null,null,null,null,null,null,null,null,null,null,null,null,null,"10","02","02",2,1000000,2000,20,2,1002022,"BEDLNO",1838.02]
[418064,"",139,"",1,null,null,null,null,null,null,null,null,null,null,null,null,null,null,null,null,null,null,null,null,null,null,null,null,null,null,"10","02","03",2,1000000,2000,30,2,1002032,"DĄBROWICE",1847.91]
[418065,"",12070,"",121,null,null,null,null,null,null,null,null,null,null,null,null,null,null,null,null,null,null,null,null,null,null,null,null,null,null,"10","02","04",3,1000000,2000,40,3,1002043,"KROŚNIEWICE",1544.14]
[418083,"  Izbica Kujawska..........................................................................................................................................................................................................................................................",13210,"",132,null,null,null,null,null,null,null,null,null,null,null,null,null,null,null,null,null,null,null,null,null,null,null,null,null,null,"10","02","05",2,1000000,2000,50,2,1002052,"KRZYŻANÓW",2430.9899999999998]
[418084,"",224,"",2,null,null,null,null,null,null,null,null,null,null,null,null,null,null,null,null,null,null,null,null,null,null,null,null,null,null,"10","02","06",2,1000000,2000,60,2,1002062,"KUTNO",1848.66]
[418085,"",12986,"",130,null,null,null,null,null,null,null,null,null,null,null,null,null,null,null,null,null,null,null,null,null,null,null,null,null,null,"10","02","07",2,1000000,2000,70,2,1002072,"ŁANIĘTA",1227.78]
[418113,"  Lubień Kujawski..........................................................................................................................................................................................................................................................",15091,"",151,null,null,null,null,null,null,null,null,null,null,null,null,null,null,null,null,null,null,null,null,null,null,null,null,null,null,"10","02","08",2,1000000,2000,80,2,1002082,"NOWE OSTROWY",1519.9]
[418114,"",231,"",2,null,null,null,null,null,null,null,null,null,null,null,null,null,null,null,null,null,null,null,null,null,null,null,null,null,null,"10","02","09",2,1000000,2000,90,2,1002092,"OPORÓW",1349.48]
[418115,"",14860,"",149,null,null,null,null,null,null,null,null,null,null,null,null,null,null,null,null,null,null,null,null,null,null,null,null,null,null,"10","02","10",2,1000000,2000,100,2,1002102,"STRZELCE",1501.85]
[418123,"  Lubraniec..........................................................................................................................................................................................................................................................",14803,"",148,null,null,null,null,null,null,null,null,null,null,null,null,null,null,null,null,null,null,null,null,null,null,null,null,null,null,"10","02","11",3,1000000,2000,110,3,1002113,"ŻYCHLIN",1683.7]
[418124,"",197,"",2,null,null,null,null,null,null,null,null,null,null,null,null,null,null,null,null,null,null,null,null,null,null,null,null,null,null,"10","03","01",2,1000000,3000,10,2,1003012,"BUCZEK",2139.9]
[418125,"",14606,"",146,null,null,null,null,null,null,null,null,null,null,null,null,null,null,null,null,null,null,null,null,null,null,null,null,null,null,"10","03","02",3,1000000,3000,20,3,1003023,"ŁASK",1803.69]
["","Powiat żniński  (6 gmin)",null,null,null,null,null,null,null,null,null,null,null,null,null,null,null,null,null,null,null,null,null,null,null,null,null,null,null,null,null,"10","03","03",2,1000000,3000,30,2,1003032,"SĘDZIEJOWICE",1439.43]
["","",null,null,null,null,null,null,null,null,null,null,null,null,null,null,null,null,null,null,null,null,null,null,null,null,null,null,null,null,null,"10","03","04",2,1000000,3000,40,2,1003042,"WIDAWA",1388.46]
[419022,"  Gąsawa..........................................................................................................................................................................................................................................................",13584,"",136,null,null,null,null,null,null,null,null,null,null,null,null,null,null,null,null,null,null,null,null,null,null,null,null,null,null,"10","03","05",2,1000000,3000,50,2,1003052,"WODZIERADY",2324.5]
[419052,"  Rogowo..........................................................................................................................................................................................................................................................",17885,"",179,null,null,null,null,null,null,null,null,null,null,null,null,null,null,null,null,null,null,null,null,null,null,null,null,null,null,"10","04","01",1,1000000,4000,10,1,1004011,"ŁĘCZYCA",1911.31]
["","",null,null,null,null,null,null,null,null,null,null,null,null,null,null,null,null,null,null,null,null,null,null,null,null,null,null,null,null,null,"10","04","02",2,1000000,4000,20,2,1004022,"DASZYNA",2127.09]
[419013,"  Barcin..........................................................................................................................................................................................................................................................",12088,"",121,null,null,null,null,null,null,null,null,null,null,null,null,null,null,null,null,null,null,null,null,null,null,null,null,null,null,"10","04","03",2,1000000,4000,30,2,1004032,"GÓRA ŚW. MAŁGORZATY",1266.9100000000001]
[419014,"",370,"",4,null,null,null,null,null,null,null,null,null,null,null,null,null,null,null,null,null,null,null,null,null,null,null,null,null,null,"10","04","04",2,1000000,4000,40,2,1004042,"GRABÓW",1122.3]
[419015,"",11718,"",117,null,null,null,null,null,null,null,null,null,null,null,null,null,null,null,null,null,null,null,null,null,null,null,null,null,null,"10","04","05",2,1000000,4000,50,2,1004052,"ŁĘCZYCA",2272.87]
[419033,"  Janowiec Wielkopolski..........................................................................................................................................................................................................................................................",13073,"",131,null,null,null,null,null,null,null,null,null,null,null,null,null,null,null,null,null,null,null,null,null,null,null,null,null,null,"10","04","06",2,1000000,4000,60,2,1004062,"PIĄTEK",2180.71]
[419034,"",304,"",3,null,null,null,null,null,null,null,null,null,null,null,null,null,null,null,null,null,null,null,null,null,null,null,null,null,null,"10","04","07",2,1000000,4000,70,2,1004072,"ŚWINICE WARCKIE",1081.8800000000001]
[419035,"",12769,"",128,null,null,null,null,null,null,null,null,null,null,null,null,null,null,null,null,null,null,null,null,null,null,null,null,null,null,"10","04","08",2,1000000,4000,80,2,1004082,"WITONIA",1269.6099999999999]
[419043,"  Łabiszyn..........................................................................................................................................................................................................................................................",16700,"",167,null,null,null,null,null,null,null,null,null,null,null,null,null,null,null,null,null,null,null,null,null,null,null,null,null,null,"10","05","01",1,1000000,5000,10,1,1005011,"ŁOWICZ",2253.04]
[419044,"",289,"",3,null,null,null,null,null,null,null,null,null,null,null,null,null,null,null,null,null,null,null,null,null,null,null,null,null,null,"10","05","02",2,{"$f":"AF648*100000","v":1000000},{"$f":"AG648*1000","v":5000},{"$f":"AH648*10","v":20},{"$f":"AI648*1","v":2},{"$f":"SUM(AJ648:AM648)","v":1005022},"BIELAWY",1286.05]
[419045,"",16411,"",164,null,null,null,null,null,null,null,null,null,null,null,null,null,null,null,null,null,null,null,null,null,null,null,null,null,null,"10","05","03",2,1000000,5000,30,2,1005032,"CHĄŚNO",1210.76]
[419063,"  Żnin..........................................................................................................................................................................................................................................................",25147,"",251,null,null,null,null,null,null,null,null,null,null,null,null,null,null,null,null,null,null,null,null,null,null,null,null,null,null,"10","05","04",2,1000000,5000,40,2,1005042,"DOMANIEWICE",1275.1400000000001]
[419064,"",835,"",8,null,null,null,null,null,null,null,null,null,null,null,null,null,null,null,null,null,null,null,null,null,null,null,null,null,null,"10","05","05",2,1000000,5000,50,2,1005052,"KIERNOZIA",1232.6199999999999]
[419065,"",24312,"",243,null,null,null,null,null,null,null,null,null,null,null,null,null,null,null,null,null,null,null,null,null,null,null,null,null,null,"10","05","06",2,1000000,5000,60,2,1005062,"KOCIERZEW POŁUDNIOWY",1136.71]
["","",null,null,null,null,null,null,null,null,null,null,null,null,null,null,null,null,null,null,null,null,null,null,null,null,null,null,null,null,null,"10","05","07",2,1000000,5000,70,2,1005072,"ŁOWICZ",1528.52]
[461011,"  Bydgoszcz..........................................................................................................................................................................................................................................................",17598,"",176,null,null,null,null,null,null,null,null,null,null,null,null,null,null,null,null,null,null,null,null,null,null,null,null,null,null,"10","05","08",2,1000000,5000,80,2,1005082,"ŁYSZKOWICE",1650.07]
[462011,"  Grudziądz..........................................................................................................................................................................................................................................................",5776,"",58,null,null,null,null,null,null,null,null,null,null,null,null,null,null,null,null,null,null,null,null,null,null,null,null,null,null,"10","05","09",2,1000000,5000,90,2,1005092,"NIEBORÓW",1507.65]
[463011,"  Toruń..........................................................................................................................................................................................................................................................",11572,"",116,null,null,null,null,null,null,null,null,null,null,null,null,null,null,null,null,null,null,null,null,null,null,null,null,null,null,"10","05","10",2,1000000,5000,100,2,1005102,"ZDUNY",1265.5999999999999]
[464011,"  Włocławek..........................................................................................................................................................................................................................................................",8432,"",84,null,null,null,null,null,null,null,null,null,null,null,null,null,null,null,null,null,null,null,null,null,null,null,null,null,null,"10","06","02",2,1000000,6000,20,2,1006022,"ANDRESPOL",2113.9299999999998]
["","WOJ. LUBELSKIE",null,null,null,null,null,null,null,null,null,null,null,null,null,null,null,null,null,null,null,null,null,null,null,null,null,null,null,null,null,"10","06","03",2,1000000,6000,30,2,1006032,"BRÓJCE",2343.35]
["","Powiat bialski  (19 gmin)",null,null,null,null,null,null,null,null,null,null,null,null,null,null,null,null,null,null,null,null,null,null,null,null,null,null,null,null,null,"10","06","07",3,1000000,6000,70,3,1006073,"KOLUSZKI",2441.4699999999998]
["","",null,null,null,null,null,null,null,null,null,null,null,null,null,null,null,null,null,null,null,null,null,null,null,null,null,null,null,null,null,"10","06","08",2,1000000,6000,80,2,1006082,"NOWOSOLNA",4599.01]
[601011,"  Międzyrzec Podlaski..........................................................................................................................................................................................................................................................",2003,"",20,null,null,null,null,null,null,null,null,null,null,null,null,null,null,null,null,null,null,null,null,null,null,null,null,null,null,"10","06","10",3,1000000,6000,100,3,1006103,"RZGÓW",4334.1000000000004]
[601021,"  Terespol (c)..........................................................................................................................................................................................................................................................",1011,"",10,null,null,null,null,null,null,null,null,null,null,null,null,null,null,null,null,null,null,null,null,null,null,null,null,null,null,"10","06","11",3,1000000,6000,110,3,1006113,"TUSZYN",2686.95]
["","",null,null,null,null,null,null,null,null,null,null,null,null,null,null,null,null,null,null,null,null,null,null,null,null,null,null,null,null,null,"10","07","01",2,1000000,7000,10,2,1007012,"BIAŁACZÓW",913.59]
[601032,"  Biała Podlaska..........................................................................................................................................................................................................................................................",32540,"↑",325,null,null,null,null,null,null,null,null,null,null,null,null,null,null,null,null,null,null,null,null,null,null,null,null,null,null,"10","07","02",3,1000000,7000,20,3,1007023,"DRZEWICA",1089.83]
[601042,"  Drelów..........................................................................................................................................................................................................................................................",22806,"",228,null,null,null,null,null,null,null,null,null,null,null,null,null,null,null,null,null,null,null,null,null,null,null,null,null,null,"10","07","03",2,1000000,7000,30,2,1007032,"MNISZKÓW",1512.03]
[601052,"  Janów Podlaski..........................................................................................................................................................................................................................................................",13577,"",136,null,null,null,null,null,null,null,null,null,null,null,null,null,null,null,null,null,null,null,null,null,null,null,null,null,null,"10","07","04",3,1000000,7000,40,3,1007043,"OPOCZNO",1868.4]
[601062,"  Kodeń..........................................................................................................................................................................................................................................................",15104,"",151,null,null,null,null,null,null,null,null,null,null,null,null,null,null,null,null,null,null,null,null,null,null,null,null,null,null,"10","07","05",2,1000000,7000,50,2,1007052,"PARADYŻ",1318.14]
[601072,"  Konstantynów..........................................................................................................................................................................................................................................................",8692,"",87,null,null,null,null,null,null,null,null,null,null,null,null,null,null,null,null,null,null,null,null,null,null,null,null,null,null,"10","07","06",2,1000000,7000,60,2,1007062,"POŚWIĘTNE",1022.05]
[601082,"  Leśna Podlaska..........................................................................................................................................................................................................................................................",9823,"",98,null,null,null,null,null,null,null,null,null,null,null,null,null,null,null,null,null,null,null,null,null,null,null,null,null,null,"10","07","07",2,1000000,7000,70,2,1007072,"SŁAWNO",1981.09]
[601092,"  Łomazy..........................................................................................................................................................................................................................................................",19860,"",199,null,null,null,null,null,null,null,null,null,null,null,null,null,null,null,null,null,null,null,null,null,null,null,null,null,null,"10","07","08",2,1000000,7000,80,2,1007082,"ŻARNÓW",936.32]
[601102,"  Międzyrzec Podlaski..........................................................................................................................................................................................................................................................",26092,"",261,null,null,null,null,null,null,null,null,null,null,null,null,null,null,null,null,null,null,null,null,null,null,null,null,null,null,"10","08","01",1,1000000,8000,10,1,1008011,"KONSTANTYNÓW ŁÓDZKI",2335.73]
[601112,"  Piszczac..........................................................................................................................................................................................................................................................",17019,"",170,null,null,null,null,null,null,null,null,null,null,null,null,null,null,null,null,null,null,null,null,null,null,null,null,null,null,"10","08","02",1,1000000,8000,20,1,1008021,"PABIANICE",1989.51]
[601122,"  Rokitno..........................................................................................................................................................................................................................................................",14089,"",141,null,null,null,null,null,null,null,null,null,null,null,null,null,null,null,null,null,null,null,null,null,null,null,null,null,null,"10","08","03",2,1000000,8000,30,2,1008032,"DŁUTÓW",1694.27]
[601132,"  Rossosz..........................................................................................................................................................................................................................................................",7648,"",76,null,null,null,null,null,null,null,null,null,null,null,null,null,null,null,null,null,null,null,null,null,null,null,null,null,null,"10","08","04",2,1000000,8000,40,2,1008042,"DOBROŃ",2154.25]
[601142,"  Sławatycze (c)..........................................................................................................................................................................................................................................................",7189,"",72,null,null,null,null,null,null,null,null,null,null,null,null,null,null,null,null,null,null,null,null,null,null,null,null,null,null,"10","08","05",2,1000000,8000,50,2,1008052,"KSAWERÓW",3398.31]
[601152,"  Sosnówka..........................................................................................................................................................................................................................................................",14836,"",148,null,null,null,null,null,null,null,null,null,null,null,null,null,null,null,null,null,null,null,null,null,null,null,null,null,null,"10","08","06",2,1000000,8000,60,2,1008062,"LUTOMIERSK",2097.1999999999998]
[601162,"  Terespol (c)..........................................................................................................................................................................................................................................................",14149,"",142,null,null,null,null,null,null,null,null,null,null,null,null,null,null,null,null,null,null,null,null,null,null,null,null,null,null,"10","08","07",2,1000000,8000,70,2,1008072,"PABIANICE",3434.83]
[601172,"  Tuczna..........................................................................................................................................................................................................................................................",16957,"",170,null,null,null,null,null,null,null,null,null,null,null,null,null,null,null,null,null,null,null,null,null,null,null,null,null,null,"10","09","01",3,1000000,9000,10,3,1009013,"DZIAŁOSZYN",3228.24]
[601182,"  Wisznice..........................................................................................................................................................................................................................................................",17320,"",173,null,null,null,null,null,null,null,null,null,null,null,null,null,null,null,null,null,null,null,null,null,null,null,null,null,null,"10","09","02",2,1000000,9000,20,2,1009022,"KIEŁCZYGŁÓW",1685.89]
[601192,"  Zalesie..........................................................................................................................................................................................................................................................",14711,"",147,null,null,null,null,null,null,null,null,null,null,null,null,null,null,null,null,null,null,null,null,null,null,null,null,null,null,"10","09","03",2,1000000,9000,30,2,1009032,"NOWA BRZEŹNICA",1269.5999999999999]
["","Powiat biłgorajski  (14 gmin)",null,null,null,null,null,null,null,null,null,null,null,null,null,null,null,null,null,null,null,null,null,null,null,null,null,null,null,null,null,"10","09","04",3,1000000,9000,40,3,1009043,"PAJĘCZNO",1782.09]
["","",null,null,null,null,null,null,null,null,null,null,null,null,null,null,null,null,null,null,null,null,null,null,null,null,null,null,null,null,null,"10","09","05",2,1000000,9000,50,2,1009052,"RZĄŚNIA",7929.08]
[602011,"  Biłgoraj..........................................................................................................................................................................................................................................................",2110,"",21,null,null,null,null,null,null,null,null,null,null,null,null,null,null,null,null,null,null,null,null,null,null,null,null,null,null,"10","09","06",2,1000000,9000,60,2,1009062,"SIEMKOWICE",1241.6500000000001]
["","",null,null,null,null,null,null,null,null,null,null,null,null,null,null,null,null,null,null,null,null,null,null,null,null,null,null,null,null,null,"10","09","07",2,1000000,9000,70,2,1009072,"STRZELCE WIELKIE",1072.5899999999999]
[602022,"  Aleksandrów..........................................................................................................................................................................................................................................................",5426,"",54,null,null,null,null,null,null,null,null,null,null,null,null,null,null,null,null,null,null,null,null,null,null,null,null,null,null,"10","09","08",2,1000000,9000,80,2,1009082,"SULMIERZYCE",8763.8799999999992]
[602032,"  Biłgoraj..........................................................................................................................................................................................................................................................",26266,"",263,null,null,null,null,null,null,null,null,null,null,null,null,null,null,null,null,null,null,null,null,null,null,null,null,null,null,"10","10","01",2,1000000,10000,10,2,1010012,"ALEKSANDRÓW",1024.74]
[602042,"  Biszcza..........................................................................................................................................................................................................................................................",10631,"",106,null,null,null,null,null,null,null,null,null,null,null,null,null,null,null,null,null,null,null,null,null,null,null,null,null,null,"10","10","02",2,1000000,10000,20,2,1010022,"CZARNOCIN",1395.17]
[602062,"  Goraj..........................................................................................................................................................................................................................................................",6787,"",68,null,null,null,null,null,null,null,null,null,null,null,null,null,null,null,null,null,null,null,null,null,null,null,null,null,null,"10","10","03",2,1000000,10000,30,2,1010032,"GORZKOWICE",1395.94]
[602082,"  Księżpol..........................................................................................................................................................................................................................................................",14128,"",141,null,null,null,null,null,null,null,null,null,null,null,null,null,null,null,null,null,null,null,null,null,null,null,null,null,null,"10","10","04",2,1000000,10000,40,2,1010042,"GRABICA",3083.51]
[602092,"  Łukowa..........................................................................................................................................................................................................................................................",14872,"",149,null,null,null,null,null,null,null,null,null,null,null,null,null,null,null,null,null,null,null,null,null,null,null,null,null,null,"10","10","05",2,1000000,10000,50,2,1010052,"ŁĘKI SZLACHECKIE",912.24]
[602102,"  Obsza..........................................................................................................................................................................................................................................................",11323,"",113,null,null,null,null,null,null,null,null,null,null,null,null,null,null,null,null,null,null,null,null,null,null,null,null,null,null,"10","10","06",2,1000000,10000,60,2,1010062,"MOSZCZENICA",2061.23]
[602112,"  Potok Górny..........................................................................................................................................................................................................................................................",11116,"",111,null,null,null,null,null,null,null,null,null,null,null,null,null,null,null,null,null,null,null,null,null,null,null,null,null,null,"10","10","07",2,1000000,10000,70,2,1010072,"RĘCZNO",890.04]
[602132,"  Tereszpol..........................................................................................................................................................................................................................................................",14401,"",144,null,null,null,null,null,null,null,null,null,null,null,null,null,null,null,null,null,null,null,null,null,null,null,null,null,null,"10","10","08",2,1000000,10000,80,2,1010082,"ROZPRZA",1203]
[602142,"  Turobin..........................................................................................................................................................................................................................................................",16219,"",162,null,null,null,null,null,null,null,null,null,null,null,null,null,null,null,null,null,null,null,null,null,null,null,null,null,null,"10","10","09",3,1000000,10000,90,3,1010093,"SULEJÓW",1537.61]
["","",null,null,null,null,null,null,null,null,null,null,null,null,null,null,null,null,null,null,null,null,null,null,null,null,null,null,null,null,null,"10","10","10",2,1000000,10000,100,2,1010102,"WOLA KRZYSZTOPORSKA",2167.6]
[602053,"  Frampol..........................................................................................................................................................................................................................................................",10760,"",108,null,null,null,null,null,null,null,null,null,null,null,null,null,null,null,null,null,null,null,null,null,null,null,null,null,null,"10","10","11",3,1000000,10000,110,3,1010113,"WOLBÓRZ",2829.57]
[602054,"",467,"",5,null,null,null,null,null,null,null,null,null,null,null,null,null,null,null,null,null,null,null,null,null,null,null,null,null,null,"10","11","01",2,1000000,11000,10,2,1011012,"DALIKÓW",1308.21]
[602055,"",10293,"",103,null,null,null,null,null,null,null,null,null,null,null,null,null,null,null,null,null,null,null,null,null,null,null,null,null,null,"10","11","02",2,1000000,11000,20,2,1011022,"PĘCZNIEW",1619.45]
[602073,"  Józefów..........................................................................................................................................................................................................................................................",12646,"",127,null,null,null,null,null,null,null,null,null,null,null,null,null,null,null,null,null,null,null,null,null,null,null,null,null,null,"10","11","03",3,1000000,11000,30,3,1011033,"PODDĘBICE",1657.46]
[602074,"",500,"",5,null,null,null,null,null,null,null,null,null,null,null,null,null,null,null,null,null,null,null,null,null,null,null,null,null,null,"10","11","04",3,1000000,11000,40,3,1011043,"UNIEJÓW",2282.2399999999998]
[602075,"",12146,"",122,null,null,null,null,null,null,null,null,null,null,null,null,null,null,null,null,null,null,null,null,null,null,null,null,null,null,"10","11","05",2,1000000,11000,50,2,1011052,"WARTKOWICE",2626.7]
[602123,"  Tarnogród..........................................................................................................................................................................................................................................................",11425,"",114,null,null,null,null,null,null,null,null,null,null,null,null,null,null,null,null,null,null,null,null,null,null,null,null,null,null,"10","11","06",2,1000000,11000,60,2,1011062,"ZADZIM",1169.6199999999999]
[602124,"",1069,"",11,null,null,null,null,null,null,null,null,null,null,null,null,null,null,null,null,null,null,null,null,null,null,null,null,null,null,"10","12","01",1,1000000,12000,10,1,1012011,"RADOMSKO",2427.7199999999998]
[602125,"",10356,"",103,null,null,null,null,null,null,null,null,null,null,null,null,null,null,null,null,null,null,null,null,null,null,null,null,null,null,"10","12","02",2,1000000,12000,20,2,1012022,"DOBRYSZYCE",1750.05]
["","Powiat chełmski  (15 gmin)",null,null,null,null,null,null,null,null,null,null,null,null,null,null,null,null,null,null,null,null,null,null,null,null,null,null,null,null,null,"10","12","03",2,1000000,12000,30,2,1012032,"GIDLE",1071.96]
["","",null,null,null,null,null,null,null,null,null,null,null,null,null,null,null,null,null,null,null,null,null,null,null,null,null,null,null,null,null,"10","12","04",2,1000000,12000,40,2,1012042,"GOMUNICE",1355.83]
[603011,"  Rejowiec Fabryczny..........................................................................................................................................................................................................................................................",1428,"",15,null,null,null,null,null,null,null,null,null,null,null,null,null,null,null,null,null,null,null,null,null,null,null,null,null,null,"10","12","05",3,1000000,12000,50,3,1012053,"KAMIEŃSK",3037.1]
["","",null,null,null,null,null,null,null,null,null,null,null,null,null,null,null,null,null,null,null,null,null,null,null,null,null,null,null,null,null,"10","12","06",2,1000000,12000,60,2,1012062,"KOBIELE WIELKIE",1314.17]
[603022,"  Białopole..........................................................................................................................................................................................................................................................",10361,"",103,null,null,null,null,null,null,null,null,null,null,null,null,null,null,null,null,null,null,null,null,null,null,null,null,null,null,"10","12","07",2,1000000,12000,70,2,1012072,"KODRĄB",1283.6400000000001]
[603032,"  Chełm..........................................................................................................................................................................................................................................................",22180,"",223,null,null,null,null,null,null,null,null,null,null,null,null,null,null,null,null,null,null,null,null,null,null,null,null,null,null,"10","12","08",2,1000000,12000,80,2,1012082,"LGOTA WIELKA",1384.96]
[603042,"  Dorohusk (c)..........................................................................................................................................................................................................................................................",19242,"",192,null,null,null,null,null,null,null,null,null,null,null,null,null,null,null,null,null,null,null,null,null,null,null,null,null,null,"10","12","09",2,1000000,12000,90,2,1012092,"ŁADZICE",1870.95]
[603052,"  Dubienka..........................................................................................................................................................................................................................................................",9612,"",96,null,null,null,null,null,null,null,null,null,null,null,null,null,null,null,null,null,null,null,null,null,null,null,null,null,null,"10","12","10",2,{"$f":"AF712*100000","v":1000000},{"$f":"AG712*1000","v":12000},{"$f":"AH712*10","v":100},{"$f":"AI712*1","v":2},{"$f":"SUM(AJ712:AM712)","v":1012102},"MASŁOWICE",1662.66]
[603062,"  Kamień..........................................................................................................................................................................................................................................................",9683,"",97,null,null,null,null,null,null,null,null,null,null,null,null,null,null,null,null,null,null,null,null,null,null,null,null,null,null,"10","12","11",3,1000000,12000,110,3,1012113,"PRZEDBÓRZ",1286.44]
[603072,"  Leśniowice..........................................................................................................................................................................................................................................................",11766,"",118,null,null,null,null,null,null,null,null,null,null,null,null,null,null,null,null,null,null,null,null,null,null,null,null,null,null,"10","12","12",2,1000000,12000,120,2,1012122,"RADOMSKO",1890.21]
[603082,"  Rejowiec Fabryczny..........................................................................................................................................................................................................................................................",8774,"",88,null,null,null,null,null,null,null,null,null,null,null,null,null,null,null,null,null,null,null,null,null,null,null,null,null,null,"10","12","13",2,1000000,12000,130,2,1012132,"WIELGOMŁYNY",1179.76]
[603092,"  Ruda-Huta..........................................................................................................................................................................................................................................................",11221,"",112,null,null,null,null,null,null,null,null,null,null,null,null,null,null,null,null,null,null,null,null,null,null,null,null,null,null,"10","12","14",2,1000000,12000,140,2,1012142,"ŻYTNO",907.8]
[603102,"  Sawin..........................................................................................................................................................................................................................................................",19022,"",190,null,null,null,null,null,null,null,null,null,null,null,null,null,null,null,null,null,null,null,null,null,null,null,null,null,null,"10","13","01",1,1000000,13000,10,1,1013011,"RAWA MAZOWIECKA",2708.04]
[603122,"  Wierzbica..........................................................................................................................................................................................................................................................",14579,"",146,null,null,null,null,null,null,null,null,null,null,null,null,null,null,null,null,null,null,null,null,null,null,null,null,null,null,"10","13","02",3,1000000,13000,20,3,1013023,"BIAŁA RAWSKA",1624.47]
[603132,"  Wojsławice..........................................................................................................................................................................................................................................................",11046,"",110,null,null,null,null,null,null,null,null,null,null,null,null,null,null,null,null,null,null,null,null,null,null,null,null,null,null,"10","13","03",2,1000000,13000,30,2,1013032,"CIELĄDZ",1142.98]
[603142,"  Żmudź..........................................................................................................................................................................................................................................................",13607,"",136,null,null,null,null,null,null,null,null,null,null,null,null,null,null,null,null,null,null,null,null,null,null,null,null,null,null,"10","13","04",2,1000000,13000,40,2,1013042,"RAWA MAZOWIECKA",2169.16]
["","",null,null,null,null,null,null,null,null,null,null,null,null,null,null,null,null,null,null,null,null,null,null,null,null,null,null,null,null,null,"10","13","05",2,1000000,13000,50,2,1013052,"REGNÓW",1302.0899999999999]
[603153,"  Rejowiec..........................................................................................................................................................................................................................................................",10625,"",106,null,null,null,null,null,null,null,null,null,null,null,null,null,null,null,null,null,null,null,null,null,null,null,null,null,null,"10","13","06",2,1000000,13000,60,2,1013062,"SADKOWICE",1098.67]
[603154,"",650,"",6,null,null,null,null,null,null,null,null,null,null,null,null,null,null,null,null,null,null,null,null,null,null,null,null,null,null,"10","14","01",1,1000000,14000,10,1,1014011,"SIERADZ",2139.2199999999998]
[603155,"",9975,"",100,null,null,null,null,null,null,null,null,null,null,null,null,null,null,null,null,null,null,null,null,null,null,null,null,null,null,"10","14","02",3,1000000,14000,20,3,1014023,"BŁASZKI",1342.82]
[603113,"  Siedliszcze..........................................................................................................................................................................................................................................................",15414,"",154,null,null,null,null,null,null,null,null,null,null,null,null,null,null,null,null,null,null,null,null,null,null,null,null,null,null,"10","14","03",2,1000000,14000,30,2,1014032,"BRĄSZEWICE",1727.91]
[603114,"",1316,"",13,null,null,null,null,null,null,null,null,null,null,null,null,null,null,null,null,null,null,null,null,null,null,null,null,null,null,"10","14","04",2,1000000,14000,40,2,1014042,"BRZEŹNIO",1399.48]
[603115,"",14098,"",141,null,null,null,null,null,null,null,null,null,null,null,null,null,null,null,null,null,null,null,null,null,null,null,null,null,null,"10","14","05",2,1000000,14000,50,2,1014052,"BURZENIN",1260.95]
["","Powiat hrubieszowski  (8 gmin)",null,null,null,null,null,null,null,null,null,null,null,null,null,null,null,null,null,null,null,null,null,null,null,null,null,null,null,null,null,"10","14","06",2,1000000,14000,60,2,1014062,"GOSZCZANÓW",864.28]
["","",null,null,null,null,null,null,null,null,null,null,null,null,null,null,null,null,null,null,null,null,null,null,null,null,null,null,null,null,null,"10","14","07",2,1000000,14000,70,2,1014072,"KLONOWA",1332.11]
[604011,"  Hrubieszów (c)..........................................................................................................................................................................................................................................................",3303,"",33,null,null,null,null,null,null,null,null,null,null,null,null,null,null,null,null,null,null,null,null,null,null,null,null,null,null,"10","14","08",2,1000000,14000,80,2,1014082,"SIERADZ",1732.05]
["","",null,null,null,null,null,null,null,null,null,null,null,null,null,null,null,null,null,null,null,null,null,null,null,null,null,null,null,null,null,"10","14","09",3,1000000,14000,90,3,1014093,"WARTA",1130.81]
[604022,"  Dołhobyczów (c)..........................................................................................................................................................................................................................................................",21261,"",213,null,null,null,null,null,null,null,null,null,null,null,null,null,null,null,null,null,null,null,null,null,null,null,null,null,null,"10","14","10",2,1000000,14000,100,2,1014102,"WRÓBLEW",1584.5]
[604032,"  Horodło (c)..........................................................................................................................................................................................................................................................",13022,"",130,null,null,null,null,null,null,null,null,null,null,null,null,null,null,null,null,null,null,null,null,null,null,null,null,null,null,"10","14","11",3,1000000,14000,110,3,1014113,"ZŁOCZEW",1282.56]
[604042,"  Hrubieszów..........................................................................................................................................................................................................................................................",25921,"",259,null,null,null,null,null,null,null,null,null,null,null,null,null,null,null,null,null,null,null,null,null,null,null,null,null,null,"10","15","01",2,1000000,15000,10,2,1015012,"BOLIMÓW",1449.7]
[604052,"  Mircze..........................................................................................................................................................................................................................................................",23488,"",235,null,null,null,null,null,null,null,null,null,null,null,null,null,null,null,null,null,null,null,null,null,null,null,null,null,null,"10","15","02",2,1000000,15000,20,2,1015022,"GŁUCHÓW",1485.49]
[604062,"  Trzeszczany..........................................................................................................................................................................................................................................................",9029,"",90,null,null,null,null,null,null,null,null,null,null,null,null,null,null,null,null,null,null,null,null,null,null,null,null,null,null,"10","15","03",2,1000000,15000,30,2,1015032,"GODZIANÓW",1143.9000000000001]
[604072,"  Uchanie..........................................................................................................................................................................................................................................................",12063,"",121,null,null,null,null,null,null,null,null,null,null,null,null,null,null,null,null,null,null,null,null,null,null,null,null,null,null,"10","15","04",2,1000000,15000,40,2,1015042,"KOWIESY",1523.93]
[604082,"  Werbkowice..........................................................................................................................................................................................................................................................",18715,"",187,null,null,null,null,null,null,null,null,null,null,null,null,null,null,null,null,null,null,null,null,null,null,null,null,null,null,"10","15","05",2,1000000,15000,50,2,1015052,"LIPCE REYMONTOWSKIE",1235.19]
["","Powiat janowski  (7 gmin)",null,null,null,null,null,null,null,null,null,null,null,null,null,null,null,null,null,null,null,null,null,null,null,null,null,null,null,null,null,"10","15","06",2,1000000,15000,60,2,1015062,"MAKÓW",1210.53]
["","",null,null,null,null,null,null,null,null,null,null,null,null,null,null,null,null,null,null,null,null,null,null,null,null,null,null,null,null,null,"10","15","07",2,1000000,15000,70,2,1015072,"NOWY KAWĘCZYN",2056.42]
[605012,"  Batorz..........................................................................................................................................................................................................................................................",7084,"",71,null,null,null,null,null,null,null,null,null,null,null,null,null,null,null,null,null,null,null,null,null,null,null,null,null,null,"10","15","08",2,1000000,15000,80,2,1015082,"SKIERNIEWICE",1908.19]
[605022,"  Chrzanów..........................................................................................................................................................................................................................................................",7169,"",72,null,null,null,null,null,null,null,null,null,null,null,null,null,null,null,null,null,null,null,null,null,null,null,null,null,null,"10","15","09",2,1000000,15000,90,2,1015092,"SŁUPIA",1460.1]
[605032,"  Dzwola..........................................................................................................................................................................................................................................................",20037,"",200,null,null,null,null,null,null,null,null,null,null,null,null,null,null,null,null,null,null,null,null,null,null,null,null,null,null,"10","16","01",1,1000000,16000,10,1,1016011,"TOMASZÓW MAZOWIECKI",1975.69]
[605042,"  Godziszów..........................................................................................................................................................................................................................................................",10167,"",102,null,null,null,null,null,null,null,null,null,null,null,null,null,null,null,null,null,null,null,null,null,null,null,null,null,null,"10","16","02",2,1000000,16000,20,2,1016022,"BĘDKÓW",960.09]
[605072,"  Potok Wielki..........................................................................................................................................................................................................................................................",9944,"",99,null,null,null,null,null,null,null,null,null,null,null,null,null,null,null,null,null,null,null,null,null,null,null,null,null,null,"10","16","03",2,1000000,16000,30,2,1016032,"BUDZISZEWICE",1070.26]
["","",null,null,null,null,null,null,null,null,null,null,null,null,null,null,null,null,null,null,null,null,null,null,null,null,null,null,null,null,null,"10","16","04",2,1000000,16000,40,2,1016042,"CZERNIEWICE",1902.28]
[605053,"  Janów Lubelski..........................................................................................................................................................................................................................................................",17870,"",179,null,null,null,null,null,null,null,null,null,null,null,null,null,null,null,null,null,null,null,null,null,null,null,null,null,null,"10","16","05",2,1000000,16000,50,2,1016052,"INOWŁÓDZ",2603.58]
[605054,"",1480,"",15,null,null,null,null,null,null,null,null,null,null,null,null,null,null,null,null,null,null,null,null,null,null,null,null,null,null,"10","16","06",2,1000000,16000,60,2,1016062,"LUBOCHNIA",1846.8]
[605055,"",16390,"",164,null,null,null,null,null,null,null,null,null,null,null,null,null,null,null,null,null,null,null,null,null,null,null,null,null,null,"10","16","07",2,1000000,16000,70,2,1016072,"ROKICINY",1647.16]
[605063,"  Modliborzyce..........................................................................................................................................................................................................................................................",15257,"",153,null,null,null,null,null,null,null,null,null,null,null,null,null,null,null,null,null,null,null,null,null,null,null,null,null,null,"10","16","08",2,1000000,16000,80,2,1016082,"RZECZYCA",1023.52]
[605064,"",789,"",8,null,null,null,null,null,null,null,null,null,null,null,null,null,null,null,null,null,null,null,null,null,null,null,null,null,null,"10","16","09",2,1000000,16000,90,2,1016092,"TOMASZÓW MAZOWIECKI",2244.08]
[605065,"",14468,"",145,null,null,null,null,null,null,null,null,null,null,null,null,null,null,null,null,null,null,null,null,null,null,null,null,null,null,"10","16","10",2,1000000,16000,100,2,1016102,"UJAZD",3141.16]
["","Powiat krasnostawski  (10 gmin)",null,null,null,null,null,null,null,null,null,null,null,null,null,null,null,null,null,null,null,null,null,null,null,null,null,null,null,null,null,"10","16","11",2,1000000,16000,110,2,1016112,"ŻELECHLINEK",1165.73]
["","",null,null,null,null,null,null,null,null,null,null,null,null,null,null,null,null,null,null,null,null,null,null,null,null,null,null,null,null,null,"10","17","01",2,1000000,17000,10,2,1017012,"BIAŁA",1092.82]
[606011,"  Krasnystaw..........................................................................................................................................................................................................................................................",4213,"",42,null,null,null,null,null,null,null,null,null,null,null,null,null,null,null,null,null,null,null,null,null,null,null,null,null,null,"10","17","02",2,1000000,17000,20,2,1017022,"CZARNOŻYŁY",1331.05]
["","",null,null,null,null,null,null,null,null,null,null,null,null,null,null,null,null,null,null,null,null,null,null,null,null,null,null,null,null,null,"10","17","03",2,1000000,17000,30,2,1017032,"KONOPNICA",1231.99]
[606022,"  Fajsławice..........................................................................................................................................................................................................................................................",7065,"",71,null,null,null,null,null,null,null,null,null,null,null,null,null,null,null,null,null,null,null,null,null,null,null,null,null,null,"10","17","04",2,1000000,17000,40,2,1017042,"MOKRSKO",1150.68]
[606032,"  Gorzków..........................................................................................................................................................................................................................................................",9668,"",97,null,null,null,null,null,null,null,null,null,null,null,null,null,null,null,null,null,null,null,null,null,null,null,null,null,null,"10","17","05",2,1000000,17000,50,2,1017052,"OSJAKÓW",1396.77]
[606042,"  Izbica..........................................................................................................................................................................................................................................................",13827,"",138,null,null,null,null,null,null,null,null,null,null,null,null,null,null,null,null,null,null,null,null,null,null,null,null,null,null,"10","17","06",2,1000000,17000,60,2,1017062,"OSTRÓWEK",1058.4000000000001]
[606052,"  Krasnystaw..........................................................................................................................................................................................................................................................",15082,"",151,null,null,null,null,null,null,null,null,null,null,null,null,null,null,null,null,null,null,null,null,null,null,null,null,null,null,"10","17","07",2,1000000,17000,70,2,1017072,"PĄTNÓW",945.52]
[606062,"  Kraśniczyn..........................................................................................................................................................................................................................................................",11009,"",110,null,null,null,null,null,null,null,null,null,null,null,null,null,null,null,null,null,null,null,null,null,null,null,null,null,null,"10","17","08",2,1000000,17000,80,2,1017082,"SKOMLIN",1044.06]
[606072,"  Łopiennik Górny..........................................................................................................................................................................................................................................................",10619,"",106,null,null,null,null,null,null,null,null,null,null,null,null,null,null,null,null,null,null,null,null,null,null,null,null,null,null,"10","17","09",3,1000000,17000,90,3,1017093,"WIELUŃ",2506.44]
[606092,"  Rudnik..........................................................................................................................................................................................................................................................",8853,"",89,null,null,null,null,null,null,null,null,null,null,null,null,null,null,null,null,null,null,null,null,null,null,null,null,null,null,"10","17","10",2,1000000,17000,100,2,1017102,"WIERZCHLAS",1229.76]
[606102,"  Siennica Różana..........................................................................................................................................................................................................................................................",9840,"",98,null,null,null,null,null,null,null,null,null,null,null,null,null,null,null,null,null,null,null,null,null,null,null,null,null,null,"10","18","01",2,1000000,18000,10,2,1018012,"BOLESŁAWIEC",1147.3699999999999]
[606112,"  Żółkiewka..........................................................................................................................................................................................................................................................",12968,"",130,null,null,null,null,null,null,null,null,null,null,null,null,null,null,null,null,null,null,null,null,null,null,null,null,null,null,"10","18","02",2,1000000,18000,20,2,1018022,"CZASTARY",1054.3900000000001]
["","Powiat kraśnicki  (10 gmin)",null,null,null,null,null,null,null,null,null,null,null,null,null,null,null,null,null,null,null,null,null,null,null,null,null,null,null,null,null,"10","18","03",2,1000000,18000,30,2,1018032,"GALEWICE",1435.36]
["","",null,null,null,null,null,null,null,null,null,null,null,null,null,null,null,null,null,null,null,null,null,null,null,null,null,null,null,null,null,"10","18","04",2,1000000,18000,40,2,1018042,"LUTUTÓW",1267.27]
[607011,"  Kraśnik..........................................................................................................................................................................................................................................................",2610,"",26,null,null,null,null,null,null,null,null,null,null,null,null,null,null,null,null,null,null,null,null,null,null,null,null,null,null,"10","18","05",2,1000000,18000,50,2,1018052,"ŁUBNICE",1579]
["","",null,null,null,null,null,null,null,null,null,null,null,null,null,null,null,null,null,null,null,null,null,null,null,null,null,null,null,null,null,"10","18","06",2,1000000,18000,60,2,1018062,"SOKOLNIKI",1416.56]
[607032,"  Dzierzkowice..........................................................................................................................................................................................................................................................",8729,"",87,null,null,null,null,null,null,null,null,null,null,null,null,null,null,null,null,null,null,null,null,null,null,null,null,null,null,"10","18","07",3,1000000,18000,70,3,1018073,"WIERUSZÓW",2657.49]
[607042,"  Gościeradów..........................................................................................................................................................................................................................................................",15929,"",159,null,null,null,null,null,null,null,null,null,null,null,null,null,null,null,null,null,null,null,null,null,null,null,null,null,null,"10","19","01",1,1000000,19000,10,1,1019011,"ZDUŃSKA WOLA",1646.37]
[607052,"  Kraśnik..........................................................................................................................................................................................................................................................",10466,"",105,null,null,null,null,null,null,null,null,null,null,null,null,null,null,null,null,null,null,null,null,null,null,null,null,null,null,"10","19","02",3,1000000,19000,20,3,1019023,"SZADEK",1405.5]
[607062,"  Szastarka..........................................................................................................................................................................................................................................................",7331,"",73,null,null,null,null,null,null,null,null,null,null,null,null,null,null,null,null,null,null,null,null,null,null,null,null,null,null,"10","19","03",2,1000000,19000,30,2,1019032,"ZAPOLICE",1797.28]
[607072,"  Trzydnik Duży..........................................................................................................................................................................................................................................................",10411,"",104,null,null,null,null,null,null,null,null,null,null,null,null,null,null,null,null,null,null,null,null,null,null,null,null,null,null,"10","19","04",2,1000000,19000,40,2,1019042,"ZDUŃSKA WOLA",1645.98]
[607092,"  Wilkołaz..........................................................................................................................................................................................................................................................",8170,"",82,null,null,null,null,null,null,null,null,null,null,null,null,null,null,null,null,null,null,null,null,null,null,null,null,null,null,"10","20","01",1,1000000,20000,10,1,1020011,"GŁOWNO",1704.59]
[607102,"  Zakrzówek..........................................................................................................................................................................................................................................................",9917,"",99,null,null,null,null,null,null,null,null,null,null,null,null,null,null,null,null,null,null,null,null,null,null,null,null,null,null,"10","20","02",1,{"$f":"AF776*100000","v":1000000},{"$f":"AG776*1000","v":20000},{"$f":"AH776*10","v":20},{"$f":"AI776*1","v":1},{"$f":"SUM(AJ776:AM776)","v":1020021},"OZORKÓW",1711.48]
["","",null,null,null,null,null,null,null,null,null,null,null,null,null,null,null,null,null,null,null,null,null,null,null,null,null,null,null,null,null,"10","20","03",1,1000000,20000,30,1,1020031,"ZGIERZ",1962.73]
[607023,"  Annopol..........................................................................................................................................................................................................................................................",15113,"",151,null,null,null,null,null,null,null,null,null,null,null,null,null,null,null,null,null,null,null,null,null,null,null,null,null,null,"10","20","04",3,1000000,20000,40,3,1020043,"ALEKSANDRÓW ŁÓDZKI",2222.06]
[607024,"",773,"",8,null,null,null,null,null,null,null,null,null,null,null,null,null,null,null,null,null,null,null,null,null,null,null,null,null,null,"10","20","05",2,1000000,20000,50,2,1020052,"GŁOWNO",1174.58]
[607025,"",14340,"",143,null,null,null,null,null,null,null,null,null,null,null,null,null,null,null,null,null,null,null,null,null,null,null,null,null,null,"10","20","06",2,1000000,20000,60,2,1020062,"OZORKÓW",2357.34]
[607083,"  Urzędów..........................................................................................................................................................................................................................................................",11854,"",119,null,null,null,null,null,null,null,null,null,null,null,null,null,null,null,null,null,null,null,null,null,null,null,null,null,null,"10","20","07",2,1000000,20000,70,2,1020072,"PARZĘCZEW",2020.35]
[607084,"",1291,"",13,null,null,null,null,null,null,null,null,null,null,null,null,null,null,null,null,null,null,null,null,null,null,null,null,null,null,"10","20","08",3,1000000,20000,80,3,1020083,"STRYKÓW",5915.51]
[607085,"",10563,"",106,null,null,null,null,null,null,null,null,null,null,null,null,null,null,null,null,null,null,null,null,null,null,null,null,null,null,"10","20","09",2,1000000,20000,90,2,1020092,"ZGIERZ",2502.63]
["","Powiat lubartowski  (13 gmin)",null,null,null,null,null,null,null,null,null,null,null,null,null,null,null,null,null,null,null,null,null,null,null,null,null,null,null,null,null,"10","21","01",1,1000000,21000,10,1,1021011,"BRZEZINY",1625.75]
["","",null,null,null,null,null,null,null,null,null,null,null,null,null,null,null,null,null,null,null,null,null,null,null,null,null,null,null,null,null,"10","21","02",2,1000000,21000,20,2,1021022,"BRZEZINY",1786.15]
[608011,"  Lubartów..........................................................................................................................................................................................................................................................",1391,"",14,null,null,null,null,null,null,null,null,null,null,null,null,null,null,null,null,null,null,null,null,null,null,null,null,null,null,"10","21","03",2,1000000,21000,30,2,1021032,"DMOSIN",1850.89]
["","",null,null,null,null,null,null,null,null,null,null,null,null,null,null,null,null,null,null,null,null,null,null,null,null,null,null,null,null,null,"10","21","04",2,1000000,21000,40,2,1021042,"JEŻÓW",1566.32]
[608022,"  Abramów..........................................................................................................................................................................................................................................................",8460,"",85,null,null,null,null,null,null,null,null,null,null,null,null,null,null,null,null,null,null,null,null,null,null,null,null,null,null,"10","21","05",2,1000000,21000,50,2,1021052,"ROGÓW",1288.76]
[608032,"  Firlej..........................................................................................................................................................................................................................................................",12646,"",126,null,null,null,null,null,null,null,null,null,null,null,null,null,null,null,null,null,null,null,null,null,null,null,null,null,null,"10","61","01",1,1000000,61000,10,1,1061011,"Łódź",2473.64]
[608042,"  Jeziorzany..........................................................................................................................................................................................................................................................",6645,"",66,null,null,null,null,null,null,null,null,null,null,null,null,null,null,null,null,null,null,null,null,null,null,null,null,null,null,"10","62","01",1,1000000,62000,10,1,1062011,"Piotrków Trybunalski",2156.69]
[608052,"  Kamionka..........................................................................................................................................................................................................................................................",11169,"",112,null,null,null,null,null,null,null,null,null,null,null,null,null,null,null,null,null,null,null,null,null,null,null,null,null,null,"10","63","01",1,1000000,63000,10,1,1063011,"Skierniewice",2266.88]
[608072,"  Lubartów..........................................................................................................................................................................................................................................................",15870,"",158,null,null,null,null,null,null,null,null,null,null,null,null,null,null,null,null,null,null,null,null,null,null,null,null,null,null,"12","01","01",1,1200000,1000,10,1,1201011,"BOCHNIA",2428.73]
[608082,"  Michów..........................................................................................................................................................................................................................................................",13599,"",136,null,null,null,null,null,null,null,null,null,null,null,null,null,null,null,null,null,null,null,null,null,null,null,null,null,null,"12","01","02",2,1200000,1000,20,2,1201022,"BOCHNIA",1523.98]
[608092,"  Niedźwiada..........................................................................................................................................................................................................................................................",9576,"",96,null,null,null,null,null,null,null,null,null,null,null,null,null,null,null,null,null,null,null,null,null,null,null,null,null,null,"12","01","03",2,1200000,1000,30,2,1201032,"DRWINIA",1242.47]
[608112,"  Ostrówek..........................................................................................................................................................................................................................................................",8985,"",90,null,null,null,null,null,null,null,null,null,null,null,null,null,null,null,null,null,null,null,null,null,null,null,null,null,null,"12","01","04",2,1200000,1000,40,2,1201042,"LIPNICA MUROWANA",958.98]
[608122,"  Serniki..........................................................................................................................................................................................................................................................",7560,"",76,null,null,null,null,null,null,null,null,null,null,null,null,null,null,null,null,null,null,null,null,null,null,null,null,null,null,"12","01","05",2,1200000,1000,50,2,1201052,"ŁAPANÓW",1256.04]
[608132,"  Uścimów..........................................................................................................................................................................................................................................................",10708,"",107,null,null,null,null,null,null,null,null,null,null,null,null,null,null,null,null,null,null,null,null,null,null,null,null,null,null,"12","01","06",3,1200000,1000,60,3,1201063,"NOWY WIŚNICZ",1397.89]
["","",null,null,null,null,null,null,null,null,null,null,null,null,null,null,null,null,null,null,null,null,null,null,null,null,null,null,null,null,null,"12","01","07",2,1200000,1000,70,2,1201072,"RZEZAWA",1155.0899999999999]
[608063,"  Kock..........................................................................................................................................................................................................................................................",10107,"",101,null,null,null,null,null,null,null,null,null,null,null,null,null,null,null,null,null,null,null,null,null,null,null,null,null,null,"12","01","08",2,1200000,1000,80,2,1201082,"TRZCIANA",1199.03]
[608064,"",1678,"",17,null,null,null,null,null,null,null,null,null,null,null,null,null,null,null,null,null,null,null,null,null,null,null,null,null,null,"12","01","09",2,1200000,1000,90,2,1201092,"ŻEGOCINA",1103.6300000000001]
[608065,"",8429,"",84,null,null,null,null,null,null,null,null,null,null,null,null,null,null,null,null,null,null,null,null,null,null,null,null,null,null,"12","02","01",2,1200000,2000,10,2,1202012,"BORZĘCIN",1322.66]
[608103,"  Ostrów Lubelski..........................................................................................................................................................................................................................................................",12158,"",122,null,null,null,null,null,null,null,null,null,null,null,null,null,null,null,null,null,null,null,null,null,null,null,null,null,null,"12","02","02",3,1200000,2000,20,3,1202023,"BRZESKO",1951.28]
[608104,"",2977,"",30,null,null,null,null,null,null,null,null,null,null,null,null,null,null,null,null,null,null,null,null,null,null,null,null,null,null,"12","02","03",3,1200000,2000,30,3,1202033,"CZCHÓW",1099.42]
[608105,"",9181,"",92,null,null,null,null,null,null,null,null,null,null,null,null,null,null,null,null,null,null,null,null,null,null,null,null,null,null,"12","02","04",2,1200000,2000,40,2,1202042,"DĘBNO",1067.23]
["","Powiat lubelski  (16 gmin)",null,null,null,null,null,null,null,null,null,null,null,null,null,null,null,null,null,null,null,null,null,null,null,null,null,null,null,null,null,"12","02","05",2,1200000,2000,50,2,1202052,"GNOJNIK",1029.6099999999999]
["","",null,null,null,null,null,null,null,null,null,null,null,null,null,null,null,null,null,null,null,null,null,null,null,null,null,null,null,null,null,"12","02","06",2,1200000,2000,60,2,1202062,"IWKOWA",1171.73]
[609022,"  Borzechów..........................................................................................................................................................................................................................................................",6746,"",68,null,null,null,null,null,null,null,null,null,null,null,null,null,null,null,null,null,null,null,null,null,null,null,null,null,null,"12","02","07",2,1200000,2000,70,2,1202072,"SZCZUROWA",1247.26]
[609042,"  Garbów..........................................................................................................................................................................................................................................................",10262,"",103,null,null,null,null,null,null,null,null,null,null,null,null,null,null,null,null,null,null,null,null,null,null,null,null,null,null,"12","03","01",3,1200000,3000,10,3,1203013,"ALWERNIA",1969.33]
[609052,"  Głusk..........................................................................................................................................................................................................................................................",6425,"",64,null,null,null,null,null,null,null,null,null,null,null,null,null,null,null,null,null,null,null,null,null,null,null,null,null,null,"12","03","02",2,1200000,3000,20,2,1203022,"BABICE",1590.51]
[609062,"  Jabłonna..........................................................................................................................................................................................................................................................",13121,"",131,null,null,null,null,null,null,null,null,null,null,null,null,null,null,null,null,null,null,null,null,null,null,null,null,null,null,"12","03","03",3,1200000,3000,30,3,1203033,"CHRZANÓW",1950.31]
[609072,"  Jastków..........................................................................................................................................................................................................................................................",11313,"",113,null,null,null,null,null,null,null,null,null,null,null,null,null,null,null,null,null,null,null,null,null,null,null,null,null,null,"12","03","04",3,1200000,3000,40,3,1203043,"LIBIĄŻ",2070.58]
[609082,"  Konopnica..........................................................................................................................................................................................................................................................",9306,"",93,null,null,null,null,null,null,null,null,null,null,null,null,null,null,null,null,null,null,null,null,null,null,null,null,null,null,"12","03","05",3,1200000,3000,50,3,1203053,"TRZEBINIA",2396.84]
[609092,"  Krzczonów..........................................................................................................................................................................................................................................................",12795,"",128,null,null,null,null,null,null,null,null,null,null,null,null,null,null,null,null,null,null,null,null,null,null,null,null,null,null,"12","04","01",2,1200000,4000,10,2,1204012,"BOLESŁAW",978.52]
[609102,"  Niedrzwica Duża..........................................................................................................................................................................................................................................................",10673,"",107,null,null,null,null,null,null,null,null,null,null,null,null,null,null,null,null,null,null,null,null,null,null,null,null,null,null,"12","04","02",3,1200000,4000,20,3,1204023,"DĄBROWA TARNOWSKA",1222.5899999999999]
[609112,"  Niemce..........................................................................................................................................................................................................................................................",14111,"",141,null,null,null,null,null,null,null,null,null,null,null,null,null,null,null,null,null,null,null,null,null,null,null,null,null,null,"12","04","03",2,1200000,4000,30,2,1204032,"GRĘBOSZÓW",1054.75]
[609122,"  Strzyżewice..........................................................................................................................................................................................................................................................",10880,"",109,null,null,null,null,null,null,null,null,null,null,null,null,null,null,null,null,null,null,null,null,null,null,null,null,null,null,"12","04","04",2,1200000,4000,40,2,1204042,"MĘDRZECHÓW",831.76]
[609132,"  Wojciechów..........................................................................................................................................................................................................................................................",8079,"",81,null,null,null,null,null,null,null,null,null,null,null,null,null,null,null,null,null,null,null,null,null,null,null,null,null,null,"12","04","05",2,1200000,4000,50,2,1204052,"OLESNO",832.56]
[609142,"  Wólka..........................................................................................................................................................................................................................................................",7276,"",73,null,null,null,null,null,null,null,null,null,null,null,null,null,null,null,null,null,null,null,null,null,null,null,null,null,null,"12","04","06",2,1200000,4000,60,2,1204062,"RADGOSZCZ",698.89]
[609152,"  Wysokie..........................................................................................................................................................................................................................................................",11390,"",114,null,null,null,null,null,null,null,null,null,null,null,null,null,null,null,null,null,null,null,null,null,null,null,null,null,null,"12","04","07",3,1200000,4000,70,3,1204073,"SZCZUCIN",1096.68]
[609162,"  Zakrzew..........................................................................................................................................................................................................................................................",7542,"",75,null,null,null,null,null,null,null,null,null,null,null,null,null,null,null,null,null,null,null,null,null,null,null,null,null,null,"12","05","01",1,1200000,5000,10,1,1205011,"GORLICE",1924.54]
["","",null,null,null,null,null,null,null,null,null,null,null,null,null,null,null,null,null,null,null,null,null,null,null,null,null,null,null,null,null,"12","05","02",3,1200000,5000,20,3,1205023,"BIECZ",1126.3599999999999]
[609013,"  Bełżyce..........................................................................................................................................................................................................................................................",13397,"",134,null,null,null,null,null,null,null,null,null,null,null,null,null,null,null,null,null,null,null,null,null,null,null,null,null,null,"12","05","03",3,1200000,5000,30,3,1205033,"BOBOWA",790.6]
[609014,"",2346,"",23,null,null,null,null,null,null,null,null,null,null,null,null,null,null,null,null,null,null,null,null,null,null,null,null,null,null,"12","05","04",2,1200000,5000,40,2,1205042,"GORLICE",996.23]
[609015,"",11051,"",111,null,null,null,null,null,null,null,null,null,null,null,null,null,null,null,null,null,null,null,null,null,null,null,null,null,null,"12","05","05",2,1200000,5000,50,2,1205052,"LIPINKI",819.94]
[609033,"  Bychawa..........................................................................................................................................................................................................................................................",14637,"",146,null,null,null,null,null,null,null,null,null,null,null,null,null,null,null,null,null,null,null,null,null,null,null,null,null,null,"12","05","06",2,1200000,5000,60,2,1205062,"ŁUŻNA",759.8]
[609034,"",669,"",7,null,null,null,null,null,null,null,null,null,null,null,null,null,null,null,null,null,null,null,null,null,null,null,null,null,null,"12","05","07",2,1200000,5000,70,2,1205072,"MOSZCZENICA",748.03]
[609035,"",13968,"",139,null,null,null,null,null,null,null,null,null,null,null,null,null,null,null,null,null,null,null,null,null,null,null,null,null,null,"12","05","08",2,1200000,5000,80,2,1205082,"ROPA",724.31]
["","Powiat łęczyński  (6 gmin)",null,null,null,null,null,null,null,null,null,null,null,null,null,null,null,null,null,null,null,null,null,null,null,null,null,null,null,null,null,"12","05","09",2,1200000,5000,90,2,1205092,"SĘKOWA",1099.3399999999999]
["","",null,null,null,null,null,null,null,null,null,null,null,null,null,null,null,null,null,null,null,null,null,null,null,null,null,null,null,null,null,"12","05","10",2,1200000,5000,100,2,1205102,"UŚCIE GORLICKIE",1128.7]
[610012,"  Cyców..........................................................................................................................................................................................................................................................",14811,"",148,null,null,null,null,null,null,null,null,null,null,null,null,null,null,null,null,null,null,null,null,null,null,null,null,null,null,"12","06","01",2,1200000,6000,10,2,1206012,"CZERNICHÓW",1667.92]
[610022,"  Ludwin..........................................................................................................................................................................................................................................................",12217,"",122,null,null,null,null,null,null,null,null,null,null,null,null,null,null,null,null,null,null,null,null,null,null,null,null,null,null,"12","06","02",2,1200000,6000,20,2,1206022,"IGOŁOMIA-WAWRZEŃCZYCE",1517.19]
[610042,"  Milejów..........................................................................................................................................................................................................................................................",11654,"",117,null,null,null,null,null,null,null,null,null,null,null,null,null,null,null,null,null,null,null,null,null,null,null,null,null,null,"12","06","03",2,1200000,6000,30,2,1206032,"IWANOWICE",1399.8]
[610052,"  Puchaczów..........................................................................................................................................................................................................................................................",9153,"",92,null,null,null,null,null,null,null,null,null,null,null,null,null,null,null,null,null,null,null,null,null,null,null,null,null,null,"12","06","04",2,1200000,6000,40,2,1206042,"JERZMANOWICE-PRZEGINIA",1389.17]
[610062,"  Spiczyn..........................................................................................................................................................................................................................................................",8315,"",83,null,null,null,null,null,null,null,null,null,null,null,null,null,null,null,null,null,null,null,null,null,null,null,null,null,null,"12","06","05",2,1200000,6000,50,2,1206052,"KOCMYRZÓW-LUBORZYCA",2061.69]
["","",null,null,null,null,null,null,null,null,null,null,null,null,null,null,null,null,null,null,null,null,null,null,null,null,null,null,null,null,null,"12","06","06",3,1200000,6000,60,3,1206063,"KRZESZOWICE",1835.19]
[610033,"  Łęczna..........................................................................................................................................................................................................................................................",7514,"",75,null,null,null,null,null,null,null,null,null,null,null,null,null,null,null,null,null,null,null,null,null,null,null,null,null,null,"12","06","07",2,1200000,6000,70,2,1206072,"LISZKI",2030.16]
[610034,"",1900,"",19,null,null,null,null,null,null,null,null,null,null,null,null,null,null,null,null,null,null,null,null,null,null,null,null,null,null,"12","06","08",2,1200000,6000,80,2,1206082,"MICHAŁOWICE",2563.9]
[610035,"",5614,"",56,null,null,null,null,null,null,null,null,null,null,null,null,null,null,null,null,null,null,null,null,null,null,null,null,null,null,"12","06","09",2,1200000,6000,90,2,1206092,"MOGILANY",2599.37]
["","Powiat łukowski  (11 gmin)",null,null,null,null,null,null,null,null,null,null,null,null,null,null,null,null,null,null,null,null,null,null,null,null,null,null,null,null,null,"12","06","10",3,1200000,6000,100,3,1206103,"SKAŁA",1415.66]
["","",null,null,null,null,null,null,null,null,null,null,null,null,null,null,null,null,null,null,null,null,null,null,null,null,null,null,null,null,null,"12","06","11",3,{"$f":"AF840*100000","v":1200000},{"$f":"AG840*1000","v":6000},{"$f":"AH840*10","v":110},{"$f":"AI840*1","v":3},{"$f":"SUM(AJ840:AM840)","v":1206113},"SKAWINA",2634.82]
[611011,"  Łuków..........................................................................................................................................................................................................................................................",3575,"",36,null,null,null,null,null,null,null,null,null,null,null,null,null,null,null,null,null,null,null,null,null,null,null,null,null,null,"12","06","12",3,1200000,6000,120,3,1206123,"SŁOMNIKI",1557.34]
[611021,"  Stoczek Łukowski..........................................................................................................................................................................................................................................................",915,"↓",9,null,null,null,null,null,null,null,null,null,null,null,null,null,null,null,null,null,null,null,null,null,null,null,null,null,null,"12","06","13",2,1200000,6000,130,2,1206132,"SUŁOSZOWA",986.42]
["","",null,null,null,null,null,null,null,null,null,null,null,null,null,null,null,null,null,null,null,null,null,null,null,null,null,null,null,null,null,"12","06","14",3,1200000,6000,140,3,1206143,"ŚWIĄTNIKI GÓRNE",2460.41]
[611032,"  Adamów..........................................................................................................................................................................................................................................................",9867,"",99,null,null,null,null,null,null,null,null,null,null,null,null,null,null,null,null,null,null,null,null,null,null,null,null,null,null,"12","06","15",2,1200000,6000,150,2,1206152,"WIELKA WIEŚ",3826.67]
[611042,"  Krzywda..........................................................................................................................................................................................................................................................",16096,"",161,null,null,null,null,null,null,null,null,null,null,null,null,null,null,null,null,null,null,null,null,null,null,null,null,null,null,"12","06","16",2,1200000,6000,160,2,1206162,"ZABIERZÓW",3324.4]
[611052,"  Łuków..........................................................................................................................................................................................................................................................",30755,"",307,null,null,null,null,null,null,null,null,null,null,null,null,null,null,null,null,null,null,null,null,null,null,null,null,null,null,"12","06","17",2,1200000,6000,170,2,1206172,"ZIELONKI",2805.25]
[611062,"  Serokomla..........................................................................................................................................................................................................................................................",7733,"",77,null,null,null,null,null,null,null,null,null,null,null,null,null,null,null,null,null,null,null,null,null,null,null,null,null,null,"12","07","01",1,1200000,7000,10,1,1207011,"LIMANOWA",2275.5300000000002]
[611072,"  Stanin..........................................................................................................................................................................................................................................................",16082,"",161,null,null,null,null,null,null,null,null,null,null,null,null,null,null,null,null,null,null,null,null,null,null,null,null,null,null,"12","07","02",1,1200000,7000,20,1,1207021,"MSZANA DOLNA",1719.88]
[611082,"  Stoczek Łukowski..........................................................................................................................................................................................................................................................",17346,"",173,null,null,null,null,null,null,null,null,null,null,null,null,null,null,null,null,null,null,null,null,null,null,null,null,null,null,"12","07","03",2,1200000,7000,30,2,1207032,"DOBRA",956.41]
[611092,"  Trzebieszów..........................................................................................................................................................................................................................................................",14054,"",141,null,null,null,null,null,null,null,null,null,null,null,null,null,null,null,null,null,null,null,null,null,null,null,null,null,null,"12","07","04",2,1200000,7000,40,2,1207042,"JODŁOWNIK",1341.61]
[611102,"  Wojcieszków..........................................................................................................................................................................................................................................................",10891,"",109,null,null,null,null,null,null,null,null,null,null,null,null,null,null,null,null,null,null,null,null,null,null,null,null,null,null,"12","07","05",2,1200000,7000,50,2,1207052,"KAMIENICA",840.72]
[611112,"  Wola Mysłowska..........................................................................................................................................................................................................................................................",12107,"",121,null,null,null,null,null,null,null,null,null,null,null,null,null,null,null,null,null,null,null,null,null,null,null,null,null,null,"12","07","06",2,1200000,7000,60,2,1207062,"LASKOWA",1279.54]
["","Powiat opolski  (7 gmin)",null,null,null,null,null,null,null,null,null,null,null,null,null,null,null,null,null,null,null,null,null,null,null,null,null,null,null,null,null,"12","07","07",2,1200000,7000,70,2,1207072,"LIMANOWA",1133.6600000000001]
["","",null,null,null,null,null,null,null,null,null,null,null,null,null,null,null,null,null,null,null,null,null,null,null,null,null,null,null,null,null,"12","07","08",2,1200000,7000,80,2,1207082,"ŁUKOWICA",801.87]
[612012,"  Chodel..........................................................................................................................................................................................................................................................",10837,"",108,null,null,null,null,null,null,null,null,null,null,null,null,null,null,null,null,null,null,null,null,null,null,null,null,null,null,"12","07","09",2,1200000,7000,90,2,1207092,"MSZANA DOLNA",1023.83]
[612032,"  Karczmiska..........................................................................................................................................................................................................................................................",9461,"",95,null,null,null,null,null,null,null,null,null,null,null,null,null,null,null,null,null,null,null,null,null,null,null,null,null,null,"12","07","10",2,1200000,7000,100,2,1207102,"NIEDŹWIEDŹ",895.1]
[612042,"  Łaziska..........................................................................................................................................................................................................................................................",10929,"",109,null,null,null,null,null,null,null,null,null,null,null,null,null,null,null,null,null,null,null,null,null,null,null,null,null,null,"12","07","11",2,1200000,7000,110,2,1207112,"SŁOPNICE",833.65]
[612072,"  Wilków..........................................................................................................................................................................................................................................................",7794,"",78,null,null,null,null,null,null,null,null,null,null,null,null,null,null,null,null,null,null,null,null,null,null,null,null,null,null,"12","07","12",2,1200000,7000,120,2,1207122,"TYMBARK",1630.86]
["","",null,null,null,null,null,null,null,null,null,null,null,null,null,null,null,null,null,null,null,null,null,null,null,null,null,null,null,null,null,"12","08","01",2,1200000,8000,10,2,1208012,"CHARSZNICA",1185.69]
[612023,"  Józefów nad Wisłą..........................................................................................................................................................................................................................................................",14155,"",141,null,null,null,null,null,null,null,null,null,null,null,null,null,null,null,null,null,null,null,null,null,null,null,null,null,null,"12","08","02",2,1200000,8000,20,2,1208022,"GOŁCZA",1193.74]
[612024,"",365,"",3,null,null,null,null,null,null,null,null,null,null,null,null,null,null,null,null,null,null,null,null,null,null,null,null,null,null,"12","08","03",2,1200000,8000,30,2,1208032,"KOZŁÓW",955.23]
[612025,"",13790,"",138,null,null,null,null,null,null,null,null,null,null,null,null,null,null,null,null,null,null,null,null,null,null,null,null,null,null,"12","08","04",2,1200000,8000,40,2,1208042,"KSIĄŻ WIELKI",1283.48]
[612053,"  Opole Lubelskie..........................................................................................................................................................................................................................................................",19372,"",194,null,null,null,null,null,null,null,null,null,null,null,null,null,null,null,null,null,null,null,null,null,null,null,null,null,null,"12","08","05",3,1200000,8000,50,3,1208053,"MIECHÓW",1615.37]
[612054,"",1512,"",15,null,null,null,null,null,null,null,null,null,null,null,null,null,null,null,null,null,null,null,null,null,null,null,null,null,null,"12","08","06",2,1200000,8000,60,2,1208062,"RACŁAWICE",1225.68]
[612055,"",17860,"",179,null,null,null,null,null,null,null,null,null,null,null,null,null,null,null,null,null,null,null,null,null,null,null,null,null,null,"12","08","07",2,1200000,8000,70,2,1208072,"SŁABOSZÓW",1135.71]
[612063,"  Poniatowa..........................................................................................................................................................................................................................................................",8454,"",85,null,null,null,null,null,null,null,null,null,null,null,null,null,null,null,null,null,null,null,null,null,null,null,null,null,null,"12","09","01",3,1200000,9000,10,3,1209013,"DOBCZYCE",1950.45]
[612064,"",1526,"",15,null,null,null,null,null,null,null,null,null,null,null,null,null,null,null,null,null,null,null,null,null,null,null,null,null,null,"12","09","02",2,1200000,9000,20,2,1209022,"LUBIEŃ",900.8]
[612065,"",6928,"",70,null,null,null,null,null,null,null,null,null,null,null,null,null,null,null,null,null,null,null,null,null,null,null,null,null,null,"12","09","03",3,1200000,9000,30,3,1209033,"MYŚLENICE",1992.05]
["","Powiat parczewski  (7 gmin)",null,null,null,null,null,null,null,null,null,null,null,null,null,null,null,null,null,null,null,null,null,null,null,null,null,null,null,null,null,"12","09","04",2,1200000,9000,40,2,1209042,"PCIM",1280.75]
["","",null,null,null,null,null,null,null,null,null,null,null,null,null,null,null,null,null,null,null,null,null,null,null,null,null,null,null,null,null,"12","09","05",2,1200000,9000,50,2,1209052,"RACIECHOWICE",1208.6300000000001]
[613012,"  Dębowa Kłoda..........................................................................................................................................................................................................................................................",18837,"",188,null,null,null,null,null,null,null,null,null,null,null,null,null,null,null,null,null,null,null,null,null,null,null,null,null,null,"12","09","06",2,1200000,9000,60,2,1209062,"SIEPRAW",1782.85]
[613022,"  Jabłoń..........................................................................................................................................................................................................................................................",11035,"",110,null,null,null,null,null,null,null,null,null,null,null,null,null,null,null,null,null,null,null,null,null,null,null,null,null,null,"12","09","07",3,1200000,9000,70,3,1209073,"SUŁKOWICE",1237.97]
[613032,"  Milanów..........................................................................................................................................................................................................................................................",11672,"",117,null,null,null,null,null,null,null,null,null,null,null,null,null,null,null,null,null,null,null,null,null,null,null,null,null,null,"12","09","08",2,1200000,9000,80,2,1209082,"TOKARNIA",914.03]
[613052,"  Podedwórze..........................................................................................................................................................................................................................................................",10713,"",107,null,null,null,null,null,null,null,null,null,null,null,null,null,null,null,null,null,null,null,null,null,null,null,null,null,null,"12","09","09",2,1200000,9000,90,2,1209092,"WIŚNIOWA",1088.83]
[613062,"  Siemień..........................................................................................................................................................................................................................................................",11121,"",111,null,null,null,null,null,null,null,null,null,null,null,null,null,null,null,null,null,null,null,null,null,null,null,null,null,null,"12","10","01",1,1200000,10000,10,1,1210011,"GRYBÓW",1108.33]
[613072,"  Sosnowica..........................................................................................................................................................................................................................................................",17162,"",172,null,null,null,null,null,null,null,null,null,null,null,null,null,null,null,null,null,null,null,null,null,null,null,null,null,null,"12","10","02",2,1200000,10000,20,2,1210022,"CHEŁMIEC",1169.46]
["","",null,null,null,null,null,null,null,null,null,null,null,null,null,null,null,null,null,null,null,null,null,null,null,null,null,null,null,null,null,"12","10","03",2,1200000,10000,30,2,1210032,"GRÓDEK NAD DUNAJCEM",1455.5]
[613043,"  Parczew..........................................................................................................................................................................................................................................................",14680,"",147,null,null,null,null,null,null,null,null,null,null,null,null,null,null,null,null,null,null,null,null,null,null,null,null,null,null,"12","10","04",2,1200000,10000,40,2,1210042,"GRYBÓW",929.73]
[613044,"",805,"",8,null,null,null,null,null,null,null,null,null,null,null,null,null,null,null,null,null,null,null,null,null,null,null,null,null,null,"12","10","05",2,1200000,10000,50,2,1210052,"KAMIONKA WIELKA",1132.27]
[613045,"",13875,"",139,null,null,null,null,null,null,null,null,null,null,null,null,null,null,null,null,null,null,null,null,null,null,null,null,null,null,"12","10","06",2,1200000,10000,60,2,1210062,"KORZENNA",813.34]
["","Powiat puławski  (11 gmin)",null,null,null,null,null,null,null,null,null,null,null,null,null,null,null,null,null,null,null,null,null,null,null,null,null,null,null,null,null,"12","10","07",3,1200000,10000,70,3,1210073,"KRYNICA-ZDRÓJ",2018.39]
["","",null,null,null,null,null,null,null,null,null,null,null,null,null,null,null,null,null,null,null,null,null,null,null,null,null,null,null,null,null,"12","10","08",2,1200000,10000,80,2,1210082,"ŁABOWA",1148.71]
[614011,"  Puławy..........................................................................................................................................................................................................................................................",5049,"",51,null,null,null,null,null,null,null,null,null,null,null,null,null,null,null,null,null,null,null,null,null,null,null,null,null,null,"12","10","09",2,1200000,10000,90,2,1210092,"ŁĄCKO",794.28]
["","",null,null,null,null,null,null,null,null,null,null,null,null,null,null,null,null,null,null,null,null,null,null,null,null,null,null,null,null,null,"12","10","10",2,1200000,10000,100,2,1210102,"ŁOSOSINA DOLNA",1519.1]
[614022,"  Baranów..........................................................................................................................................................................................................................................................",8492,"",85,null,null,null,null,null,null,null,null,null,null,null,null,null,null,null,null,null,null,null,null,null,null,null,null,null,null,"12","10","11",3,1200000,10000,110,3,1210113,"MUSZYNA",1766.27]
[614032,"  Janowiec..........................................................................................................................................................................................................................................................",7882,"",79,null,null,null,null,null,null,null,null,null,null,null,null,null,null,null,null,null,null,null,null,null,null,null,null,null,null,"12","10","12",2,1200000,10000,120,2,1210122,"NAWOJOWA",1367.43]
[614052,"  Końskowola..........................................................................................................................................................................................................................................................",8988,"",90,null,null,null,null,null,null,null,null,null,null,null,null,null,null,null,null,null,null,null,null,null,null,null,null,null,null,"12","10","13",3,1200000,10000,130,3,1210133,"PIWNICZNA-ZDRÓJ",1079.26]
[614062,"  Kurów..........................................................................................................................................................................................................................................................",10099,"",101,null,null,null,null,null,null,null,null,null,null,null,null,null,null,null,null,null,null,null,null,null,null,null,null,null,null,"12","10","14",2,1200000,10000,140,2,1210142,"PODEGRODZIE",1203.45]
[614072,"  Markuszów..........................................................................................................................................................................................................................................................",4040,"",40,null,null,null,null,null,null,null,null,null,null,null,null,null,null,null,null,null,null,null,null,null,null,null,null,null,null,"12","10","15",2,1200000,10000,150,2,1210152,"RYTRO",1074.56]
[614092,"  Puławy..........................................................................................................................................................................................................................................................",16119,"",161,null,null,null,null,null,null,null,null,null,null,null,null,null,null,null,null,null,null,null,null,null,null,null,null,null,null,"12","10","16",3,1200000,10000,160,3,1210163,"STARY SĄCZ",1229.01]
[614102,"  Wąwolnica..........................................................................................................................................................................................................................................................",6285,"",63,null,null,null,null,null,null,null,null,null,null,null,null,null,null,null,null,null,null,null,null,null,null,null,null,null,null,"12","11","01",1,1200000,11000,10,1,1211011,"NOWY TARG",1919.47]
[614112,"  Żyrzyn..........................................................................................................................................................................................................................................................",12920,"",129,null,null,null,null,null,null,null,null,null,null,null,null,null,null,null,null,null,null,null,null,null,null,null,null,null,null,"12","11","02",3,1200000,11000,20,3,1211023,"SZCZAWNICA",1814.45]
["","",null,null,null,null,null,null,null,null,null,null,null,null,null,null,null,null,null,null,null,null,null,null,null,null,null,null,null,null,null,"12","11","03",2,1200000,11000,30,2,1211032,"CZARNY DUNAJEC",783.76]
[614043,"  Kazimierz Dolny..........................................................................................................................................................................................................................................................",7241,"",72,null,null,null,null,null,null,null,null,null,null,null,null,null,null,null,null,null,null,null,null,null,null,null,null,null,null,"12","11","04",2,1200000,11000,40,2,1211042,"CZORSZTYN",1257.53]
[614044,"",3044,"",31,null,null,null,null,null,null,null,null,null,null,null,null,null,null,null,null,null,null,null,null,null,null,null,null,null,null,"12","11","05",2,1200000,11000,50,2,1211052,"JABŁONKA",1050.79]
[614045,"",4197,"",41,null,null,null,null,null,null,null,null,null,null,null,null,null,null,null,null,null,null,null,null,null,null,null,null,null,null,"12","11","06",2,1200000,11000,60,2,1211062,"KROŚCIENKO NAD DUNAJCEM",1035.76]
[614083,"  Nałęczów..........................................................................................................................................................................................................................................................",6294,"",63,null,null,null,null,null,null,null,null,null,null,null,null,null,null,null,null,null,null,null,null,null,null,null,null,null,null,"12","11","07",2,1200000,11000,70,2,1211072,"LIPNICA WIELKA",639.15]
[614084,"",1382,"",14,null,null,null,null,null,null,null,null,null,null,null,null,null,null,null,null,null,null,null,null,null,null,null,null,null,null,"12","11","08",2,1200000,11000,80,2,1211082,"ŁAPSZE NIŻNE",1069.5]
[614085,"",4912,"",49,null,null,null,null,null,null,null,null,null,null,null,null,null,null,null,null,null,null,null,null,null,null,null,null,null,null,"12","11","09",2,1200000,11000,90,2,1211092,"NOWY TARG",879.2]
["","Powiat radzyński  (8 gmin)",null,null,null,null,null,null,null,null,null,null,null,null,null,null,null,null,null,null,null,null,null,null,null,null,null,null,null,null,null,"12","11","10",2,1200000,11000,100,2,1211102,"OCHOTNICA DOLNA",1145.8900000000001]
["","",null,null,null,null,null,null,null,null,null,null,null,null,null,null,null,null,null,null,null,null,null,null,null,null,null,null,null,null,null,"12","11","11",2,1200000,11000,110,2,1211112,"RABA WYŻNA",849.15]
[615011,"  Radzyń Podlaski..........................................................................................................................................................................................................................................................",1931,"",19,null,null,null,null,null,null,null,null,null,null,null,null,null,null,null,null,null,null,null,null,null,null,null,null,null,null,"12","11","12",3,1200000,11000,120,3,1211123,"RABKA-ZDRÓJ",1499.59]
["","",null,null,null,null,null,null,null,null,null,null,null,null,null,null,null,null,null,null,null,null,null,null,null,null,null,null,null,null,null,"12","11","13",2,1200000,11000,130,2,1211132,"SPYTKOWICE",1158.6199999999999]
[615022,"  Borki..........................................................................................................................................................................................................................................................",11182,"",112,null,null,null,null,null,null,null,null,null,null,null,null,null,null,null,null,null,null,null,null,null,null,null,null,null,null,"12","11","14",2,{"$f":"AF904*100000","v":1200000},{"$f":"AG904*1000","v":11000},{"$f":"AH904*10","v":140},{"$f":"AI904*1","v":2},{"$f":"SUM(AJ904:AM904)","v":1211142},"SZAFLARY",1116.3499999999999]
[615032,"  Czemierniki..........................................................................................................................................................................................................................................................",10749,"",107,null,null,null,null,null,null,null,null,null,null,null,null,null,null,null,null,null,null,null,null,null,null,null,null,null,null,"12","12","01",1,1200000,12000,10,1,1212011,"BUKOWNO",3110.7]
[615042,"  Kąkolewnica..........................................................................................................................................................................................................................................................",14753,"",148,null,null,null,null,null,null,null,null,null,null,null,null,null,null,null,null,null,null,null,null,null,null,null,null,null,null,"12","12","03",2,1200000,12000,30,2,1212032,"BOLESŁAW",2879.76]
[615052,"  Komarówka Podlaska..........................................................................................................................................................................................................................................................",13797,"",138,null,null,null,null,null,null,null,null,null,null,null,null,null,null,null,null,null,null,null,null,null,null,null,null,null,null,"12","12","04",2,1200000,12000,40,2,1212042,"KLUCZE",2339.2600000000002]
[615062,"  Radzyń Podlaski..........................................................................................................................................................................................................................................................",15499,"",155,null,null,null,null,null,null,null,null,null,null,null,null,null,null,null,null,null,null,null,null,null,null,null,null,null,null,"12","12","05",3,1200000,12000,50,3,1212053,"OLKUSZ",1852]
[615072,"  Ulan-Majorat..........................................................................................................................................................................................................................................................",10778,"",108,null,null,null,null,null,null,null,null,null,null,null,null,null,null,null,null,null,null,null,null,null,null,null,null,null,null,"12","12","06",2,1200000,12000,60,2,1212062,"TRZYCIĄŻ",1508.98]
[615082,"  Wohyń..........................................................................................................................................................................................................................................................",17817,"",178,null,null,null,null,null,null,null,null,null,null,null,null,null,null,null,null,null,null,null,null,null,null,null,null,null,null,"12","12","07",3,1200000,12000,70,3,1212073,"WOLBROM",2022.15]
["","Powiat rycki  (6 gmin)",null,null,null,null,null,null,null,null,null,null,null,null,null,null,null,null,null,null,null,null,null,null,null,null,null,null,null,null,null,"12","13","01",1,1200000,13000,10,1,1213011,"OŚWIĘCIM",2281.12]
["","",null,null,null,null,null,null,null,null,null,null,null,null,null,null,null,null,null,null,null,null,null,null,null,null,null,null,null,null,null,"12","13","02",3,1200000,13000,20,3,1213023,"BRZESZCZE",2076.83]
[616011,"  Dęblin..........................................................................................................................................................................................................................................................",3833,"",38,null,null,null,null,null,null,null,null,null,null,null,null,null,null,null,null,null,null,null,null,null,null,null,null,null,null,"12","13","03",3,1200000,13000,30,3,1213033,"CHEŁMEK",1789.46]
["","",null,null,null,null,null,null,null,null,null,null,null,null,null,null,null,null,null,null,null,null,null,null,null,null,null,null,null,null,null,"12","13","04",3,1200000,13000,40,3,1213043,"KĘTY",2006]
[616022,"  Kłoczew..........................................................................................................................................................................................................................................................",14306,"",143,null,null,null,null,null,null,null,null,null,null,null,null,null,null,null,null,null,null,null,null,null,null,null,null,null,null,"12","13","05",2,1200000,13000,50,2,1213052,"OSIEK",1417.48]
[616032,"  Nowodwór..........................................................................................................................................................................................................................................................",7187,"",72,null,null,null,null,null,null,null,null,null,null,null,null,null,null,null,null,null,null,null,null,null,null,null,null,null,null,"12","13","06",2,1200000,13000,60,2,1213062,"OŚWIĘCIM",1954.43]
[616052,"  Stężyca..........................................................................................................................................................................................................................................................",11604,"",116,null,null,null,null,null,null,null,null,null,null,null,null,null,null,null,null,null,null,null,null,null,null,null,null,null,null,"12","13","07",2,1200000,13000,70,2,1213072,"POLANKA WIELKA",1377.48]
[616062,"  Ułęż..........................................................................................................................................................................................................................................................",8347,"",84,null,null,null,null,null,null,null,null,null,null,null,null,null,null,null,null,null,null,null,null,null,null,null,null,null,null,"12","13","08",2,1200000,13000,80,2,1213082,"PRZECISZÓW",1603.99]
["","",null,null,null,null,null,null,null,null,null,null,null,null,null,null,null,null,null,null,null,null,null,null,null,null,null,null,null,null,null,"12","13","09",3,1200000,13000,90,3,1213093,"ZATOR",2288.3000000000002]
[616043,"  Ryki..........................................................................................................................................................................................................................................................",16176,"",162,null,null,null,null,null,null,null,null,null,null,null,null,null,null,null,null,null,null,null,null,null,null,null,null,null,null,"12","14","01",2,1200000,14000,10,2,1214012,"KONIUSZA",1309.5899999999999]
[616044,"",2722,"",28,null,null,null,null,null,null,null,null,null,null,null,null,null,null,null,null,null,null,null,null,null,null,null,null,null,null,"12","14","02",3,1200000,14000,20,3,1214023,"KOSZYCE",1141.8800000000001]
[616045,"",13454,"",134,null,null,null,null,null,null,null,null,null,null,null,null,null,null,null,null,null,null,null,null,null,null,null,null,null,null,"12","14","03",3,1200000,14000,30,3,1214033,"NOWE BRZESKO",1264.8800000000001]
["","Powiat świdnicki  (5 gmin)",null,null,null,null,null,null,null,null,null,null,null,null,null,null,null,null,null,null,null,null,null,null,null,null,null,null,null,null,null,"12","14","04",2,1200000,14000,40,2,1214042,"PAŁECZNICA",1207.0899999999999]
["","",null,null,null,null,null,null,null,null,null,null,null,null,null,null,null,null,null,null,null,null,null,null,null,null,null,null,null,null,null,"12","14","05",3,1200000,14000,50,3,1214053,"PROSZOWICE",1362.88]
[617011,"  Świdnik (a)..........................................................................................................................................................................................................................................................",2035,"",20,null,null,null,null,null,null,null,null,null,null,null,null,null,null,null,null,null,null,null,null,null,null,null,null,null,null,"12","14","06",2,1200000,14000,60,2,1214062,"RADZIEMICE",1711.54]
["","",null,null,null,null,null,null,null,null,null,null,null,null,null,null,null,null,null,null,null,null,null,null,null,null,null,null,null,null,null,"12","15","01",1,1200000,15000,10,1,1215011,"JORDANÓW",2004.13]
[617022,"  Mełgiew..........................................................................................................................................................................................................................................................",9485,"",95,null,null,null,null,null,null,null,null,null,null,null,null,null,null,null,null,null,null,null,null,null,null,null,null,null,null,"12","15","02",1,1200000,15000,20,1,1215021,"SUCHA BESKIDZKA",2032.32]
[617042,"  Rybczewice..........................................................................................................................................................................................................................................................",9913,"",99,null,null,null,null,null,null,null,null,null,null,null,null,null,null,null,null,null,null,null,null,null,null,null,null,null,null,"12","15","03",2,1200000,15000,30,2,1215032,"BUDZÓW",862.93]
[617052,"  Trawniki..........................................................................................................................................................................................................................................................",8416,"",84,null,null,null,null,null,null,null,null,null,null,null,null,null,null,null,null,null,null,null,null,null,null,null,null,null,null,"12","15","04",2,1200000,15000,40,2,1215042,"BYSTRA-SIDZINA",1258.02]
["","",null,null,null,null,null,null,null,null,null,null,null,null,null,null,null,null,null,null,null,null,null,null,null,null,null,null,null,null,null,"12","15","05",2,1200000,15000,50,2,1215052,"JORDANÓW",1072.1099999999999]
[617033,"  Piaski..........................................................................................................................................................................................................................................................",16986,"",170,null,null,null,null,null,null,null,null,null,null,null,null,null,null,null,null,null,null,null,null,null,null,null,null,null,null,"12","15","06",3,1200000,15000,60,3,1215063,"MAKÓW PODHALAŃSKI",1742.33]
[617034,"",844,"",8,null,null,null,null,null,null,null,null,null,null,null,null,null,null,null,null,null,null,null,null,null,null,null,null,null,null,"12","15","07",2,1200000,15000,70,2,1215072,"STRYSZAWA",1275.6300000000001]
[617035,"",16142,"",162,null,null,null,null,null,null,null,null,null,null,null,null,null,null,null,null,null,null,null,null,null,null,null,null,null,null,"12","15","08",2,1200000,15000,80,2,1215082,"ZAWOJA",1230.25]
["","Powiat tomaszowski  (13 gmin)",null,null,null,null,null,null,null,null,null,null,null,null,null,null,null,null,null,null,null,null,null,null,null,null,null,null,null,null,null,"12","15","09",2,1200000,15000,90,2,1215092,"ZEMBRZYCE",1300.67]
["","",null,null,null,null,null,null,null,null,null,null,null,null,null,null,null,null,null,null,null,null,null,null,null,null,null,null,null,null,null,"12","16","01",3,1200000,16000,10,3,1216013,"CIĘŻKOWICE",1025.82]
[618011,"  Tomaszów Lubelski..........................................................................................................................................................................................................................................................",1329,"",13,null,null,null,null,null,null,null,null,null,null,null,null,null,null,null,null,null,null,null,null,null,null,null,null,null,null,"12","16","02",2,1200000,16000,20,2,1216022,"GROMNIK",787.79]
["","",null,null,null,null,null,null,null,null,null,null,null,null,null,null,null,null,null,null,null,null,null,null,null,null,null,null,null,null,null,"12","16","03",2,1200000,16000,30,2,1216032,"LISIA GÓRA",1301.8599999999999]
[618022,"  Bełżec..........................................................................................................................................................................................................................................................",3353,"",33,null,null,null,null,null,null,null,null,null,null,null,null,null,null,null,null,null,null,null,null,null,null,null,null,null,null,"12","16","04",2,1200000,16000,40,2,1216042,"PLEŚNA",1042.06]
[618032,"  Jarczów..........................................................................................................................................................................................................................................................",10664,"",107,null,null,null,null,null,null,null,null,null,null,null,null,null,null,null,null,null,null,null,null,null,null,null,null,null,null,"12","16","05",3,1200000,16000,50,3,1216053,"RADŁÓW",1486.42]
[618042,"  Krynice..........................................................................................................................................................................................................................................................",7356,"",74,null,null,null,null,null,null,null,null,null,null,null,null,null,null,null,null,null,null,null,null,null,null,null,null,null,null,"12","16","06",3,1200000,16000,60,3,1216063,"RYGLICE",889.95]
[618072,"  Rachanie..........................................................................................................................................................................................................................................................",9430,"",94,null,null,null,null,null,null,null,null,null,null,null,null,null,null,null,null,null,null,null,null,null,null,null,null,null,null,"12","16","07",2,1200000,16000,70,2,1216072,"RZEPIENNIK STRZYŻEWSKI",995.58]
[618082,"  Susiec..........................................................................................................................................................................................................................................................",19075,"",191,null,null,null,null,null,null,null,null,null,null,null,null,null,null,null,null,null,null,null,null,null,null,null,null,null,null,"12","16","08",2,1200000,16000,80,2,1216082,"SKRZYSZÓW",1481.93]
[618092,"  Tarnawatka..........................................................................................................................................................................................................................................................",8283,"",83,null,null,null,null,null,null,null,null,null,null,null,null,null,null,null,null,null,null,null,null,null,null,null,null,null,null,"12","16","09",2,1200000,16000,90,2,1216092,"TARNÓW",1926.63]
[618102,"  Telatyn..........................................................................................................................................................................................................................................................",11180,"",112,null,null,null,null,null,null,null,null,null,null,null,null,null,null,null,null,null,null,null,null,null,null,null,null,null,null,"12","16","10",3,1200000,16000,100,3,1216103,"TUCHÓW",1145.25]
[618112,"  Tomaszów Lubelski..........................................................................................................................................................................................................................................................",17089,"",171,null,null,null,null,null,null,null,null,null,null,null,null,null,null,null,null,null,null,null,null,null,null,null,null,null,null,"12","16","11",2,1200000,16000,110,2,1216112,"WIERZCHOSŁAWICE",1613.51]
[618132,"  Ulhówek..........................................................................................................................................................................................................................................................",14663,"",147,null,null,null,null,null,null,null,null,null,null,null,null,null,null,null,null,null,null,null,null,null,null,null,null,null,null,"12","16","12",2,1200000,16000,120,2,1216122,"WIETRZYCHOWICE",799.82]
["","",null,null,null,null,null,null,null,null,null,null,null,null,null,null,null,null,null,null,null,null,null,null,null,null,null,null,null,null,null,"12","16","13",3,1200000,16000,130,3,1216133,"WOJNICZ",1360.93]
[618053,"  Lubycza Królewska..........................................................................................................................................................................................................................................................",20807,"",208,null,null,null,null,null,null,null,null,null,null,null,null,null,null,null,null,null,null,null,null,null,null,null,null,null,null,"12","16","14",3,1200000,16000,140,3,1216143,"ZAKLICZYN",1001.2]
[618054,"",392,"",4,null,null,null,null,null,null,null,null,null,null,null,null,null,null,null,null,null,null,null,null,null,null,null,null,null,null,"12","16","15",3,1200000,16000,150,3,1216153,"ŻABNO",1586.59]
[618055,"",20415,"",204,null,null,null,null,null,null,null,null,null,null,null,null,null,null,null,null,null,null,null,null,null,null,null,null,null,null,"12","16","16",2,1200000,16000,160,2,1216162,"SZERZYNY",800.15]
[618063,"  Łaszczów..........................................................................................................................................................................................................................................................",12829,"",128,null,null,null,null,null,null,null,null,null,null,null,null,null,null,null,null,null,null,null,null,null,null,null,null,null,null,"12","17","01",1,1200000,17000,10,1,1217011,"ZAKOPANE",2954.97]
[618064,"",501,"",5,null,null,null,null,null,null,null,null,null,null,null,null,null,null,null,null,null,null,null,null,null,null,null,null,null,null,"12","17","02",2,1200000,17000,20,2,1217022,"BIAŁY DUNAJEC",982.21]
[618065,"",12328,"",123,null,null,null,null,null,null,null,null,null,null,null,null,null,null,null,null,null,null,null,null,null,null,null,null,null,null,"12","17","03",2,1200000,17000,30,2,1217032,"BUKOWINA TATRZAŃSKA",2134.38]
[618123,"  Tyszowce..........................................................................................................................................................................................................................................................",12831,"",128,null,null,null,null,null,null,null,null,null,null,null,null,null,null,null,null,null,null,null,null,null,null,null,null,null,null,"12","17","04",2,1200000,17000,40,2,1217042,"KOŚCIELISKO",1928.12]
[618124,"",1852,"",19,null,null,null,null,null,null,null,null,null,null,null,null,null,null,null,null,null,null,null,null,null,null,null,null,null,null,"12","17","05",2,1200000,17000,50,2,1217052,"PORONIN",1271.02]
[618125,"",10979,"",109,null,null,null,null,null,null,null,null,null,null,null,null,null,null,null,null,null,null,null,null,null,null,null,null,null,null,"12","18","01",3,1200000,18000,10,3,1218013,"ANDRYCHÓW",1607.3]
["","Powiat włodawski  (8 gmin)",null,null,null,null,null,null,null,null,null,null,null,null,null,null,null,null,null,null,null,null,null,null,null,null,null,null,null,null,null,"12","18","02",2,1200000,18000,20,2,1218022,"BRZEŹNICA",1306.94]
["","",null,null,null,null,null,null,null,null,null,null,null,null,null,null,null,null,null,null,null,null,null,null,null,null,null,null,null,null,null,"12","18","03",3,1200000,18000,30,3,1218033,"KALWARIA ZEBRZYDOWSKA",1690.73]
[619011,"  Włodawa..........................................................................................................................................................................................................................................................",1797,"",18,null,null,null,null,null,null,null,null,null,null,null,null,null,null,null,null,null,null,null,null,null,null,null,null,null,null,"12","18","04",2,1200000,18000,40,2,1218042,"LANCKORONA",1184.1300000000001]
["","",null,null,null,null,null,null,null,null,null,null,null,null,null,null,null,null,null,null,null,null,null,null,null,null,null,null,null,null,null,"12","18","05",2,1200000,18000,50,2,1218052,"MUCHARZ",2023.01]
[619022,"  Hanna..........................................................................................................................................................................................................................................................",13929,"",139,null,null,null,null,null,null,null,null,null,null,null,null,null,null,null,null,null,null,null,null,null,null,null,null,null,null,"12","18","06",2,1200000,18000,60,2,1218062,"SPYTKOWICE",1328.2]
[619032,"  Hańsk..........................................................................................................................................................................................................................................................",17627,"",176,null,null,null,null,null,null,null,null,null,null,null,null,null,null,null,null,null,null,null,null,null,null,null,null,null,null,"12","18","07",2,1200000,18000,70,2,1218072,"STRYSZÓW",1138.0999999999999]
[619042,"  Stary Brus..........................................................................................................................................................................................................................................................",13167,"",132,null,null,null,null,null,null,null,null,null,null,null,null,null,null,null,null,null,null,null,null,null,null,null,null,null,null,"12","18","08",2,1200000,18000,80,2,1218082,"TOMICE",1358.82]
[619052,"  Urszulin..........................................................................................................................................................................................................................................................",17214,"",172,null,null,null,null,null,null,null,null,null,null,null,null,null,null,null,null,null,null,null,null,null,null,null,null,null,null,"12","18","09",3,1200000,18000,90,3,1218093,"WADOWICE",1904.78]
[619062,"  Włodawa..........................................................................................................................................................................................................................................................",24503,"",245,null,null,null,null,null,null,null,null,null,null,null,null,null,null,null,null,null,null,null,null,null,null,null,null,null,null,"12","18","10",2,1200000,18000,100,2,1218102,"WIEPRZ",1267.92]
[619072,"  Wola Uhruska..........................................................................................................................................................................................................................................................",15407,"",154,null,null,null,null,null,null,null,null,null,null,null,null,null,null,null,null,null,null,null,null,null,null,null,null,null,null,"12","19","01",2,1200000,19000,10,2,1219012,"BISKUPICE",1526.68]
[619082,"  Wyryki..........................................................................................................................................................................................................................................................",21998,"",220,null,null,null,null,null,null,null,null,null,null,null,null,null,null,null,null,null,null,null,null,null,null,null,null,null,null,"12","19","02",2,1200000,19000,20,2,1219022,"GDÓW",1748.06]
["","Powiat zamojski  (15 gmin)",null,null,null,null,null,null,null,null,null,null,null,null,null,null,null,null,null,null,null,null,null,null,null,null,null,null,null,null,null,"12","19","03",2,{"$f":"AF968*100000","v":1200000},{"$f":"AG968*1000","v":19000},{"$f":"AH968*10","v":30},{"$f":"AI968*1","v":2},{"$f":"SUM(AJ968:AM968)","v":1219032},"KŁAJ",2096.94]
["","",null,null,null,null,null,null,null,null,null,null,null,null,null,null,null,null,null,null,null,null,null,null,null,null,null,null,null,null,null,"12","19","04",3,1200000,19000,40,3,1219043,"NIEPOŁOMICE",3387.45]
[620012,"  Adamów..........................................................................................................................................................................................................................................................",11066,"",111,null,null,null,null,null,null,null,null,null,null,null,null,null,null,null,null,null,null,null,null,null,null,null,null,null,null,"12","19","05",3,1200000,19000,50,3,1219053,"WIELICZKA",2255.4299999999998]
[620022,"  Grabowiec..........................................................................................................................................................................................................................................................",12847,"",128,null,null,null,null,null,null,null,null,null,null,null,null,null,null,null,null,null,null,null,null,null,null,null,null,null,null,"12","61","01",1,1200000,61000,10,1,1261011,"Kraków",3177.29]
[620032,"  Komarów-Osada..........................................................................................................................................................................................................................................................",12380,"",124,null,null,null,null,null,null,null,null,null,null,null,null,null,null,null,null,null,null,null,null,null,null,null,null,null,null,"12","62","01",1,1200000,62000,10,1,1262011,"Nowy Sącz",2563.8000000000002]
[620052,"  Łabunie..........................................................................................................................................................................................................................................................",8731,"",87,null,null,null,null,null,null,null,null,null,null,null,null,null,null,null,null,null,null,null,null,null,null,null,null,null,null,"12","63","01",1,1200000,63000,10,1,1263011,"Tarnów",2253.9899999999998]
[620062,"  Miączyn..........................................................................................................................................................................................................................................................",15607,"",156,null,null,null,null,null,null,null,null,null,null,null,null,null,null,null,null,null,null,null,null,null,null,null,null,null,null,"14","01","01",3,1400000,1000,10,3,1401013,"BIAŁOBRZEGI",1965.36]
[620072,"  Nielisz..........................................................................................................................................................................................................................................................",11226,"",112,null,null,null,null,null,null,null,null,null,null,null,null,null,null,null,null,null,null,null,null,null,null,null,null,null,null,"14","01","02",2,1400000,1000,20,2,1401022,"PROMNA",1306.43]
[620082,"  Radecznica..........................................................................................................................................................................................................................................................",10995,"",110,null,null,null,null,null,null,null,null,null,null,null,null,null,null,null,null,null,null,null,null,null,null,null,null,null,null,"14","01","03",2,1400000,1000,30,2,1401032,"RADZANÓW",875.91]
[620092,"  Sitno..........................................................................................................................................................................................................................................................",11174,"",112,null,null,null,null,null,null,null,null,null,null,null,null,null,null,null,null,null,null,null,null,null,null,null,null,null,null,"14","01","04",2,1400000,1000,40,2,1401042,"STARA BŁOTNICA",1034.97]
[620102,"  Skierbieszów..........................................................................................................................................................................................................................................................",13921,"",139,null,null,null,null,null,null,null,null,null,null,null,null,null,null,null,null,null,null,null,null,null,null,null,null,null,null,"14","01","05",2,1400000,1000,50,2,1401052,"STROMIEC",976.89]
[620112,"  Stary Zamość..........................................................................................................................................................................................................................................................",9751,"",98,null,null,null,null,null,null,null,null,null,null,null,null,null,null,null,null,null,null,null,null,null,null,null,null,null,null,"14","01","06",3,1400000,1000,60,3,1401063,"WYŚMIERZYCE",1211.94]
[620122,"  Sułów..........................................................................................................................................................................................................................................................",9324,"",93,null,null,null,null,null,null,null,null,null,null,null,null,null,null,null,null,null,null,null,null,null,null,null,null,null,null,"14","02","01",1,1400000,2000,10,1,1402011,"CIECHANÓW",2045.24]
[620142,"  Zamość..........................................................................................................................................................................................................................................................",19613,"",196,null,null,null,null,null,null,null,null,null,null,null,null,null,null,null,null,null,null,null,null,null,null,null,null,null,null,"14","02","02",2,1400000,2000,20,2,1402022,"CIECHANÓW",2778.43]
["","",null,null,null,null,null,null,null,null,null,null,null,null,null,null,null,null,null,null,null,null,null,null,null,null,null,null,null,null,null,"14","02","03",3,1400000,2000,30,3,1402033,"GLINOJECK",2421.4299999999998]
[620043,"  Krasnobród..........................................................................................................................................................................................................................................................",12689,"",127,null,null,null,null,null,null,null,null,null,null,null,null,null,null,null,null,null,null,null,null,null,null,null,null,null,null,"14","02","04",2,1400000,2000,40,2,1402042,"GOŁYMIN-OŚRODEK",1338.58]
[620044,"",699,"",7,null,null,null,null,null,null,null,null,null,null,null,null,null,null,null,null,null,null,null,null,null,null,null,null,null,null,"14","02","05",2,1400000,2000,50,2,1402052,"GRUDUSK",1214.05]
[620045,"",11990,"",120,null,null,null,null,null,null,null,null,null,null,null,null,null,null,null,null,null,null,null,null,null,null,null,null,null,null,"14","02","06",2,1400000,2000,60,2,1402062,"OJRZEŃ",1004.02]
[620133,"  Szczebrzeszyn..........................................................................................................................................................................................................................................................",12350,"",123,null,null,null,null,null,null,null,null,null,null,null,null,null,null,null,null,null,null,null,null,null,null,null,null,null,null,"14","02","07",2,1400000,2000,70,2,1402072,"OPINOGÓRA GÓRNA",1828.27]
[620134,"",2912,"",29,null,null,null,null,null,null,null,null,null,null,null,null,null,null,null,null,null,null,null,null,null,null,null,null,null,null,"14","02","08",2,1400000,2000,80,2,1402082,"REGIMIN",1715.97]
[620135,"",9438,"",94,null,null,null,null,null,null,null,null,null,null,null,null,null,null,null,null,null,null,null,null,null,null,null,null,null,null,"14","02","09",2,1400000,2000,90,2,1402092,"SOŃSK",1353.95]
[620153,"  Zwierzyniec..........................................................................................................................................................................................................................................................",15355,"",154,null,null,null,null,null,null,null,null,null,null,null,null,null,null,null,null,null,null,null,null,null,null,null,null,null,null,"14","03","01",1,1400000,3000,10,1,1403011,"GARWOLIN",2340.73]
[620154,"",619,"",6,null,null,null,null,null,null,null,null,null,null,null,null,null,null,null,null,null,null,null,null,null,null,null,null,null,null,"14","03","02",1,1400000,3000,20,1,1403021,"ŁASKARZEW",1454.91]
[620155,"",14736,"",148,null,null,null,null,null,null,null,null,null,null,null,null,null,null,null,null,null,null,null,null,null,null,null,null,null,null,"14","03","03",2,1400000,3000,30,2,1403032,"BOROWIE",1333.13]
["","",null,null,null,null,null,null,null,null,null,null,null,null,null,null,null,null,null,null,null,null,null,null,null,null,null,null,null,null,null,"14","03","04",2,1400000,3000,40,2,1403042,"GARWOLIN",1846.91]
[661011,"  Biała Podlaska..........................................................................................................................................................................................................................................................",4940,"",49,null,null,null,null,null,null,null,null,null,null,null,null,null,null,null,null,null,null,null,null,null,null,null,null,null,null,"14","03","05",2,1400000,3000,50,2,1403052,"GÓRZNO",1187.6199999999999]
[662011,"  Chełm..........................................................................................................................................................................................................................................................",3528,"",35,null,null,null,null,null,null,null,null,null,null,null,null,null,null,null,null,null,null,null,null,null,null,null,null,null,null,"14","03","06",2,1400000,3000,60,2,1403062,"ŁASKARZEW",1026.31]
[663011,"  Lublin..........................................................................................................................................................................................................................................................",14747,"",148,null,null,null,null,null,null,null,null,null,null,null,null,null,null,null,null,null,null,null,null,null,null,null,null,null,null,"14","03","07",2,1400000,3000,70,2,1403072,"MACIEJOWICE",1206.3499999999999]
[664011,"  Zamość..........................................................................................................................................................................................................................................................",3034,"",30,null,null,null,null,null,null,null,null,null,null,null,null,null,null,null,null,null,null,null,null,null,null,null,null,null,null,"14","03","08",2,1400000,3000,80,2,1403082,"MIASTKÓW KOŚCIELNY",1257.97]
["","WOJ. LUBUSKIE",null,null,null,null,null,null,null,null,null,null,null,null,null,null,null,null,null,null,null,null,null,null,null,null,null,null,null,null,null,"14","03","09",2,1400000,3000,90,2,1403092,"PARYSÓW",974.04]
["","Powiat gorzowski  (7 gmin)",null,null,null,null,null,null,null,null,null,null,null,null,null,null,null,null,null,null,null,null,null,null,null,null,null,null,null,null,null,"14","03","10",3,1400000,3000,100,3,1403103,"PILAWA",1769.81]
["","",null,null,null,null,null,null,null,null,null,null,null,null,null,null,null,null,null,null,null,null,null,null,null,null,null,null,null,null,null,"14","03","11",2,1400000,3000,110,2,1403112,"SOBOLEW",1476.65]
[801011,"  Kostrzyn nad Odrą..........................................................................................................................................................................................................................................................",4614,"",46,null,null,null,null,null,null,null,null,null,null,null,null,null,null,null,null,null,null,null,null,null,null,null,null,null,null,"14","03","12",2,1400000,3000,120,2,1403122,"TROJANÓW",1100.78]
["","",null,null,null,null,null,null,null,null,null,null,null,null,null,null,null,null,null,null,null,null,null,null,null,null,null,null,null,null,null,"14","03","13",2,1400000,3000,130,2,1403132,"WILGA",1650.18]
[801062,"  Santok..........................................................................................................................................................................................................................................................",16939,"",169,null,null,null,null,null,null,null,null,null,null,null,null,null,null,null,null,null,null,null,null,null,null,null,null,null,null,"14","04","04",3,1400000,4000,40,3,1404043,"SANNIKI",1345.23]
[801074,"",824,"",8,null,null,null,null,null,null,null,null,null,null,null,null,null,null,null,null,null,null,null,null,null,null,null,null,null,null,"14","05","02",1,1400000,5000,20,1,1405021,"PODKOWA LEŚNA",4427.9399999999996]
["","Powiat krośnieński  (7 gmin)",null,null,null,null,null,null,null,null,null,null,null,null,null,null,null,null,null,null,null,null,null,null,null,null,null,null,null,null,null,"14","05","04",3,1400000,5000,40,3,1405043,"GRODZISK MAZOWIECKI",4415.83]
[802032,"  Bytnica..........................................................................................................................................................................................................................................................",20873,"",209,null,null,null,null,null,null,null,null,null,null,null,null,null,null,null,null,null,null,null,null,null,null,null,null,null,null,"14","06","03",2,1400000,6000,30,2,1406032,"CHYNÓW",1619.37]
[802063,"  Krosno Odrzańskie..........................................................................................................................................................................................................................................................",21240,"",212,null,null,null,null,null,null,null,null,null,null,null,null,null,null,null,null,null,null,null,null,null,null,null,null,null,null,"14","06","08",3,1400000,6000,80,3,1406083,"NOWE MIASTO n. PILICĄ",1837.36]
["","",null,null,null,null,null,null,null,null,null,null,null,null,null,null,null,null,null,null,null,null,null,null,null,null,null,null,null,null,null,"14","07","02",2,1400000,7000,20,2,1407022,"GŁOWACZÓW",1165.93]
[803012,"  Bledzew..........................................................................................................................................................................................................................................................",24748,"",247,null,null,null,null,null,null,null,null,null,null,null,null,null,null,null,null,null,null,null,null,null,null,null,null,null,null,"14","07","03",2,1400000,7000,30,2,1407032,"GNIEWOSZÓW",1273.69]
[803024,"",1026,"",10,null,null,null,null,null,null,null,null,null,null,null,null,null,null,null,null,null,null,null,null,null,null,null,null,null,null,"14","08","01",1,1400000,8000,10,1,1408011,"LEGIONOWO",2456.11]
[803055,"",24892,"",249,null,null,null,null,null,null,null,null,null,null,null,null,null,null,null,null,null,null,null,null,null,null,null,null,null,null,"14","08","05",2,1400000,8000,50,2,1408052,"WIELISZEW",2968.88]
[803065,"",17447,"",175,null,null,null,null,null,null,null,null,null,null,null,null,null,null,null,null,null,null,null,null,null,null,null,null,null,null,"14","09","03",3,1400000,9000,30,3,1409033,"LIPSKO",1772.96]
["","",null,null,null,null,null,null,null,null,null,null,null,null,null,null,null,null,null,null,null,null,null,null,null,null,null,null,null,null,null,"14","09","05",2,1400000,9000,50,2,1409052,"SIENNO",926.5]
[804082,"  Siedlisko..........................................................................................................................................................................................................................................................",9216,"",92,null,null,null,null,null,null,null,null,null,null,null,null,null,null,null,null,null,null,null,null,null,null,null,null,null,null,"14","10","04",2,1400000,10000,40,2,1410042,"PLATERÓW",1035.3599999999999]
[804043,"  Kożuchów..........................................................................................................................................................................................................................................................",17918,"",179,null,null,null,null,null,null,null,null,null,null,null,null,null,null,null,null,null,null,null,null,null,null,null,null,null,null,"14","11","03",2,1400000,11000,30,2,1411032,"KARNIEWO",1260.31]
[804064,"",329,"",3,null,null,null,null,null,null,null,null,null,null,null,null,null,null,null,null,null,null,null,null,null,null,null,null,null,null,"14","11","07",3,1400000,11000,70,3,1411073,"RÓŻAN",1902.4]
[804065,"",7357,"",74,null,null,null,null,null,null,null,null,null,null,null,null,null,null,null,null,null,null,null,null,null,null,null,null,null,null,"14","11","08",2,1400000,11000,80,2,1411082,"RZEWNIE",1484.27]
["","",null,null,null,null,null,null,null,null,null,null,null,null,null,null,null,null,null,null,null,null,null,null,null,null,null,null,null,null,null,"14","12","05",2,1400000,12000,50,2,1412052,"DĘBE WIELKIE",1899.9]
[805014,"",529,"",6,null,null,null,null,null,null,null,null,null,null,null,null,null,null,null,null,null,null,null,null,null,null,null,null,null,null,"14","12","09",3,1400000,12000,90,3,1412093,"KAŁUSZYN",2051.69]
[805034,"",801,"",8,null,null,null,null,null,null,null,null,null,null,null,null,null,null,null,null,null,null,null,null,null,null,null,null,null,null,"14","12","12",3,1400000,12000,120,3,1412123,"MROZY",1520.71]
[805043,"  Rzepin..........................................................................................................................................................................................................................................................",19099,"",191,null,null,null,null,null,null,null,null,null,null,null,null,null,null,null,null,null,null,null,null,null,null,null,null,null,null,"14","12","14",2,1400000,12000,140,2,1412142,"STANISŁAWÓW",1666.19]
[805055,"",16636,"",167,null,null,null,null,null,null,null,null,null,null,null,null,null,null,null,null,null,null,null,null,null,null,null,null,null,null,"14","13","04",2,1400000,13000,40,2,1413042,"RADZANÓW",1540.87]
[806032,"  Stare Kurowo..........................................................................................................................................................................................................................................................",7757,"",78,null,null,null,null,null,null,null,null,null,null,null,null,null,null,null,null,null,null,null,null,null,null,null,null,null,null,"14","13","07",2,1400000,13000,70,2,1413072,"SZREŃSK",1565.69]
[806023,"  Drezdenko..........................................................................................................................................................................................................................................................",39991,"↑",400,null,null,null,null,null,null,null,null,null,null,null,null,null,null,null,null,null,null,null,null,null,null,null,null,null,null,"14","14","03",2,1400000,14000,30,2,1414032,"LEONCIN",1747.99]
[806024,"",1072,"",11,null,null,null,null,null,null,null,null,null,null,null,null,null,null,null,null,null,null,null,null,null,null,null,null,null,null,"14","14","04",3,1400000,14000,40,3,1414043,"NASIELSK",1558.73]
["","Powiat sulęciński  (5 gmin)",null,null,null,null,null,null,null,null,null,null,null,null,null,null,null,null,null,null,null,null,null,null,null,null,null,null,null,null,null,"14","15","03",2,1400000,15000,30,2,1415032,"CZERWIN",2110.25]
["","",null,null,null,null,null,null,null,null,null,null,null,null,null,null,null,null,null,null,null,null,null,null,null,null,null,null,null,null,null,"14","15","07",2,1400000,15000,70,2,1415072,"ŁYSE",1981.19]
[807025,"",11758,"",118,null,null,null,null,null,null,null,null,null,null,null,null,null,null,null,null,null,null,null,null,null,null,null,null,null,null,"14","15","10",2,{"$f":"AF1096*100000","v":1400000},{"$f":"AG1096*1000","v":15000},{"$f":"AH1096*10","v":100},{"$f":"AI1096*1","v":2},{"$f":"SUM(AJ1096:AM1096)","v":1415102},"RZEKUŃ",2001.43]
[807044,"",856,"",9,null,null,null,null,null,null,null,null,null,null,null,null,null,null,null,null,null,null,null,null,null,null,null,null,null,null,"14","16","01",1,1400000,16000,10,1,1416011,"OSTRÓW MAZOWIECKA",2222.5]
["","Powiat świebodziński  (6 gmin)",null,null,null,null,null,null,null,null,null,null,null,null,null,null,null,null,null,null,null,null,null,null,null,null,null,null,null,null,null,"14","16","06",2,1400000,16000,60,2,1416062,"NUR",1165.94]
[808022,"  Łagów..........................................................................................................................................................................................................................................................",19914,"",200,null,null,null,null,null,null,null,null,null,null,null,null,null,null,null,null,null,null,null,null,null,null,null,null,null,null,"14","16","09",2,1400000,16000,90,2,1416092,"SZULBORZE WIELKIE",1510.35]
[808055,"",20948,"",209,null,null,null,null,null,null,null,null,null,null,null,null,null,null,null,null,null,null,null,null,null,null,null,null,null,null,"14","17","04",3,1400000,17000,40,3,1417043,"KARCZEW",2761.37]
[808063,"  Zbąszynek..........................................................................................................................................................................................................................................................",9408,"",94,null,null,null,null,null,null,null,null,null,null,null,null,null,null,null,null,null,null,null,null,null,null,null,null,null,null,"14","17","05",2,1400000,17000,50,2,1417052,"KOŁBIEL",2264.9899999999998]
[812013,"  Sława..........................................................................................................................................................................................................................................................",32700,"",327,null,null,null,null,null,null,null,null,null,null,null,null,null,null,null,null,null,null,null,null,null,null,null,null,null,null,"14","18","02",3,1400000,18000,20,3,1418023,"KONSTANCIN-JEZIORNA",4572.57]
[812024,"",155,"",2,null,null,null,null,null,null,null,null,null,null,null,null,null,null,null,null,null,null,null,null,null,null,null,null,null,null,"14","18","06",3,1400000,18000,60,3,1418063,"TARCZYN",2822.45]
[812034,"",925,"",9,null,null,null,null,null,null,null,null,null,null,null,null,null,null,null,null,null,null,null,null,null,null,null,null,null,null,"14","19","03",2,1400000,19000,30,2,1419032,"BRUDZEŃ DUŻY",1375.43]
["","Powiat zielonogórski  (9 gmin)",null,null,null,null,null,null,null,null,null,null,null,null,null,null,null,null,null,null,null,null,null,null,null,null,null,null,null,null,null,"14","19","05",3,1400000,19000,50,3,1419053,"DROBIN",1170.28]
[809092,"  Zabór..........................................................................................................................................................................................................................................................",9338,"",93,null,null,null,null,null,null,null,null,null,null,null,null,null,null,null,null,null,null,null,null,null,null,null,null,null,null,"14","19","10",2,1400000,19000,100,2,1419102,"RADZANOWO",1791]
[809014,"",365,"",4,null,null,null,null,null,null,null,null,null,null,null,null,null,null,null,null,null,null,null,null,null,null,null,null,null,null,"14","19","13",2,1400000,19000,130,2,1419132,"STARA BIAŁA",2991.22]
[809044,"",455,"",5,null,null,null,null,null,null,null,null,null,null,null,null,null,null,null,null,null,null,null,null,null,null,null,null,null,null,"14","20","04",2,1400000,20000,40,2,1420042,"CZERWIŃSK NAD WISŁĄ",898.34]
[809045,"",12398,"",124,null,null,null,null,null,null,null,null,null,null,null,null,null,null,null,null,null,null,null,null,null,null,null,null,null,null,"14","20","05",2,1400000,20000,50,2,1420052,"DZIERZĄŻNIA",1306.69]
[809064,"",688,"",7,null,null,null,null,null,null,null,null,null,null,null,null,null,null,null,null,null,null,null,null,null,null,null,null,null,null,"14","20","10",2,1400000,20000,100,2,1420102,"RACIĄŻ",1787.17]
[810011,"  Gozdnica..........................................................................................................................................................................................................................................................",2392,"",24,null,null,null,null,null,null,null,null,null,null,null,null,null,null,null,null,null,null,null,null,null,null,null,null,null,null,"14","21","02",1,1400000,21000,20,1,1421021,"PRUSZKÓW",2931.43]
[810062,"  Niegosławice..........................................................................................................................................................................................................................................................",13641,"",136,null,null,null,null,null,null,null,null,null,null,null,null,null,null,null,null,null,null,null,null,null,null,null,null,null,null,"14","21","06",2,1400000,21000,60,2,1421062,"RASZYN",4442.5600000000004]
[810082,"  Wymiarki..........................................................................................................................................................................................................................................................",6309,"",63,null,null,null,null,null,null,null,null,null,null,null,null,null,null,null,null,null,null,null,null,null,null,null,null,null,null,"14","22","01",1,1400000,22000,10,1,1422011,"PRZASNYSZ",2000.91]
[810045,"",14385,"",143,null,null,null,null,null,null,null,null,null,null,null,null,null,null,null,null,null,null,null,null,null,null,null,null,null,null,"14","22","06",2,1400000,22000,60,2,1422062,"KRZYNOWŁOGA MAŁA",1120.24]
[810055,"",7422,"",75,null,null,null,null,null,null,null,null,null,null,null,null,null,null,null,null,null,null,null,null,null,null,null,null,null,null,"14","23","02",2,1400000,23000,20,2,1423022,"GIELNIÓW",951.41]
[811011,"  Łęknica..........................................................................................................................................................................................................................................................",1643,"↓",16,null,null,null,null,null,null,null,null,null,null,null,null,null,null,null,null,null,null,null,null,null,null,null,null,null,null,"14","23","08",2,1400000,23000,80,2,1423082,"WIENIAWA",996.79]
[811021,"  Żary..........................................................................................................................................................................................................................................................",3349,"",33,null,null,null,null,null,null,null,null,null,null,null,null,null,null,null,null,null,null,null,null,null,null,null,null,null,null,"14","24","01",2,1400000,24000,10,2,1424012,"GZY",1234.17]
[811082,"  Trzebiel..........................................................................................................................................................................................................................................................",16635,"",166,null,null,null,null,null,null,null,null,null,null,null,null,null,null,null,null,null,null,null,null,null,null,null,null,null,null,"14","24","06",2,1400000,24000,60,2,1424062,"WINNICA",1460.35]
[811043,"  Jasień..........................................................................................................................................................................................................................................................",12679,"",127,null,null,null,null,null,null,null,null,null,null,null,null,null,null,null,null,null,null,null,null,null,null,null,null,null,null,"14","25","03",3,1400000,25000,30,3,1425033,"IŁŻA",1438.75]
[811064,"",1251,"",13,null,null,null,null,null,null,null,null,null,null,null,null,null,null,null,null,null,null,null,null,null,null,null,null,null,null,"14","25","07",2,1400000,25000,70,2,1425072,"KOWALA",1435.89]
[811065,"",17016,"",170,null,null,null,null,null,null,null,null,null,null,null,null,null,null,null,null,null,null,null,null,null,null,null,null,null,null,"14","25","08",2,1400000,25000,80,2,1425082,"PIONKI",1113.5]
["","Powiat bełchatowski  (8 gmin)",null,null,null,null,null,null,null,null,null,null,null,null,null,null,null,null,null,null,null,null,null,null,null,null,null,null,null,null,null,"14","25","13",2,1400000,25000,130,2,1425132,"ZAKRZEW",1370.63]
["","",null,null,null,null,null,null,null,null,null,null,null,null,null,null,null,null,null,null,null,null,null,null,null,null,null,null,null,null,null,"14","26","03",2,1400000,26000,30,2,1426032,"KOTUŃ",1309.33]
[1001072,"  Szczerców..........................................................................................................................................................................................................................................................",12895,"",129,null,null,null,null,null,null,null,null,null,null,null,null,null,null,null,null,null,null,null,null,null,null,null,null,null,null,"14","26","09",2,1400000,26000,90,2,1426092,"SKÓRZEC",1503.78]
["","",null,null,null,null,null,null,null,null,null,null,null,null,null,null,null,null,null,null,null,null,null,null,null,null,null,null,null,null,null,"14","26","10",2,1400000,26000,100,2,1426102,"SUCHOŻEBRY",1887.65]
["","",null,null,null,null,null,null,null,null,null,null,null,null,null,null,null,null,null,null,null,null,null,null,null,null,null,null,null,null,null,"14","27","02",2,1400000,27000,20,2,1427022,"GOZDOWO",1145.05]
[1021032,"  Dmosin..........................................................................................................................................................................................................................................................",10019,"",100,null,null,null,null,null,null,null,null,null,null,null,null,null,null,null,null,null,null,null,null,null,null,null,null,null,null,"14","27","06",2,1400000,27000,60,2,1427062,"SZCZUTOWO",956.91]
["","",null,null,null,null,null,null,null,null,null,null,null,null,null,null,null,null,null,null,null,null,null,null,null,null,null,null,null,null,null,"14","28","03",2,1400000,28000,30,2,1428032,"IŁÓW",1827.14]
[1002011,"  Kutno..........................................................................................................................................................................................................................................................",3359,"",34,null,null,null,null,null,null,null,null,null,null,null,null,null,null,null,null,null,null,null,null,null,null,null,null,null,null,"14","28","04",2,1400000,28000,40,2,1428042,"MŁODZIESZYN",1490.83]
[1002062,"  Kutno..........................................................................................................................................................................................................................................................",12231,"",122,null,null,null,null,null,null,null,null,null,null,null,null,null,null,null,null,null,null,null,null,null,null,null,null,null,null,"14","29","01",1,1400000,29000,10,1,1429011,"SOKOŁÓW PODLASKI",2363.0700000000002]
[1002092,"  Oporów..........................................................................................................................................................................................................................................................",6785,"",68,null,null,null,null,null,null,null,null,null,null,null,null,null,null,null,null,null,null,null,null,null,null,null,null,null,null,"14","29","04",2,1400000,29000,40,2,1429042,"JABŁONNA LACKA",1560.53]
[1002113,"  Żychlin..........................................................................................................................................................................................................................................................",7664,"",77,null,null,null,null,null,null,null,null,null,null,null,null,null,null,null,null,null,null,null,null,null,null,null,null,null,null,"14","30","01",2,1400000,30000,10,2,1430012,"CHLEWISKA",941.99]
[1002114,"",868,"",9,null,null,null,null,null,null,null,null,null,null,null,null,null,null,null,null,null,null,null,null,null,null,null,null,null,null,"14","30","02",2,1400000,30000,20,2,1430022,"JASTRZĄB",1176.93]
[1003032,"  Sędziejowice..........................................................................................................................................................................................................................................................",12004,"",120,null,null,null,null,null,null,null,null,null,null,null,null,null,null,null,null,null,null,null,null,null,null,null,null,null,null,"14","32","02",2,1400000,32000,20,2,1432022,"IZABELIN",4270.3900000000003]
[1003023,"  Łask..........................................................................................................................................................................................................................................................",14537,"",145,null,null,null,null,null,null,null,null,null,null,null,null,null,null,null,null,null,null,null,null,null,null,null,null,null,null,"14","32","06",3,1400000,32000,60,3,1432063,"OŻARÓW MAZOWIECKI",5237.84]
["","",null,null,null,null,null,null,null,null,null,null,null,null,null,null,null,null,null,null,null,null,null,null,null,null,null,null,null,null,null,"14","33","03",2,1400000,33000,30,2,1433032,"KORYTNICA",1932.43]
[1004011,"  Łęczyca..........................................................................................................................................................................................................................................................",895,"↓",9,null,null,null,null,null,null,null,null,null,null,null,null,null,null,null,null,null,null,null,null,null,null,null,null,null,null,"14","33","04",2,1400000,33000,40,2,1433042,"LIW",1799.08]
[1004052,"  Łęczyca..........................................................................................................................................................................................................................................................",15057,"",151,null,null,null,null,null,null,null,null,null,null,null,null,null,null,null,null,null,null,null,null,null,null,null,null,null,null,"14","33","09",2,1400000,33000,90,2,1433092,"WIERZBNO",1831.7]
[1004082,"  Witonia..........................................................................................................................................................................................................................................................",6045,"",60,null,null,null,null,null,null,null,null,null,null,null,null,null,null,null,null,null,null,null,null,null,null,null,null,null,null,"14","34","03",1,1400000,34000,30,1,1434031,"ZĄBKI",2162.81]
[1005032,"  Chąśno..........................................................................................................................................................................................................................................................",7183,"",72,null,null,null,null,null,null,null,null,null,null,null,null,null,null,null,null,null,null,null,null,null,null,null,null,null,null,"14","34","09",3,1400000,34000,90,3,1434093,"RADZYMIN",3152.17]
[1005042,"  Domaniewice..........................................................................................................................................................................................................................................................",8617,"",86,null,null,null,null,null,null,null,null,null,null,null,null,null,null,null,null,null,null,null,null,null,null,null,null,null,null,"14","34","10",2,1400000,34000,100,2,1434102,"STRACHÓWKA",1407.26]
[1005092,"  Nieborów..........................................................................................................................................................................................................................................................",10390,"",104,null,null,null,null,null,null,null,null,null,null,null,null,null,null,null,null,null,null,null,null,null,null,null,null,null,null,"14","35","03",2,1400000,35000,30,2,1435032,"RZĄŚNIK",1382.87]
[1006022,"  Andrespol..........................................................................................................................................................................................................................................................",2574,"",25,null,null,null,null,null,null,null,null,null,null,null,null,null,null,null,null,null,null,null,null,null,null,null,null,null,null,"14","36","01",2,1400000,36000,10,2,1436012,"KAZANÓW",681.61]
[1006073,"  Koluszki..........................................................................................................................................................................................................................................................",15480,"",155,null,null,null,null,null,null,null,null,null,null,null,null,null,null,null,null,null,null,null,null,null,null,null,null,null,null,"14","36","05",3,1400000,36000,50,3,1436053,"ZWOLEŃ",1513.52]
[1006074,"",990,"",11,null,null,null,null,null,null,null,null,null,null,null,null,null,null,null,null,null,null,null,null,null,null,null,null,null,null,"14","37","01",3,1400000,37000,10,3,1437013,"BIEŻUŃ",1405.77]
[1006113,"  Tuszyn..........................................................................................................................................................................................................................................................",12990,"",130,null,null,null,null,null,null,null,null,null,null,null,null,null,null,null,null,null,null,null,null,null,null,null,null,null,null,"14","37","06",3,1400000,37000,60,3,1437063,"ŻUROMIN",1513.85]
["","Powiat opoczyński  (8 gmin)",null,null,null,null,null,null,null,null,null,null,null,null,null,null,null,null,null,null,null,null,null,null,null,null,null,null,null,null,null,"14","38","03",2,1400000,38000,30,2,1438032,"PUSZCZA MARIAŃSKA",1557.12]
[1007072,"  Sławno..........................................................................................................................................................................................................................................................",12931,"",129,null,null,null,null,null,null,null,null,null,null,null,null,null,null,null,null,null,null,null,null,null,null,null,null,null,null,"14","64","01",1,1400000,64000,10,1,1464011,"Siedlce",2246.61]
[1007082,"  Żarnów..........................................................................................................................................................................................................................................................",14106,"",141,null,null,null,null,null,null,null,null,null,null,null,null,null,null,null,null,null,null,null,null,null,null,null,null,null,null,"14","65","01",1,1400000,65000,10,1,1465011,"m. st. Warszawa",4861.2]
[1007043,"  Opoczno..........................................................................................................................................................................................................................................................",19064,"",191,null,null,null,null,null,null,null,null,null,null,null,null,null,null,null,null,null,null,null,null,null,null,null,null,null,null,"16","01","05",2,1600000,1000,50,2,1601052,"LUBSZA",1731.27]
["","",null,null,null,null,null,null,null,null,null,null,null,null,null,null,null,null,null,null,null,null,null,null,null,null,null,null,null,null,null,"16","02","03",3,1600000,2000,30,3,1602033,"GŁUBCZYCE",1760.97]
[1008032,"  Dłutów..........................................................................................................................................................................................................................................................",10123,"",101,null,null,null,null,null,null,null,null,null,null,null,null,null,null,null,null,null,null,null,null,null,null,null,null,null,null,"16","03","03",2,1600000,3000,30,2,1603032,"CISEK",1344.49]
[1008042,"  Dobroń..........................................................................................................................................................................................................................................................",9546,"",95,null,null,null,null,null,null,null,null,null,null,null,null,null,null,null,null,null,null,null,null,null,null,null,null,null,null,"16","03","04",2,1600000,3000,40,2,1603042,"PAWŁOWICZKI",1599.42]
["","",null,null,null,null,null,null,null,null,null,null,null,null,null,null,null,null,null,null,null,null,null,null,null,null,null,null,null,null,null,"16","04","03",2,1600000,4000,30,2,1604032,"LASOWICE WIELKIE",1152.74]
[1009052,"  Rząśnia..........................................................................................................................................................................................................................................................",8614,"",86,null,null,null,null,null,null,null,null,null,null,null,null,null,null,null,null,null,null,null,null,null,null,null,null,null,null,"16","05","02",3,1600000,5000,20,3,1605023,"KRAPKOWICE",2072.5100000000002]
[1009014,"",494,"",5,null,null,null,null,null,null,null,null,null,null,null,null,null,null,null,null,null,null,null,null,null,null,null,null,null,null,"16","06","03",2,1600000,6000,30,2,1606032,"POKÓJ",1459.98]
[1009015,"",11598,"",116,null,null,null,null,null,null,null,null,null,null,null,null,null,null,null,null,null,null,null,null,null,null,null,null,null,null,"16","06","04",2,1600000,6000,40,2,1606042,"ŚWIERCZÓW",1611.39]
["","",null,null,null,null,null,null,null,null,null,null,null,null,null,null,null,null,null,null,null,null,null,null,null,null,null,null,null,null,null,"16","07","04",2,1600000,7000,40,2,1607042,"ŁAMBINOWICE",1430.37]
[1010042,"  Grabica..........................................................................................................................................................................................................................................................",12762,"",128,null,null,null,null,null,null,null,null,null,null,null,null,null,null,null,null,null,null,null,null,null,null,null,null,null,null,"16","07","08",2,1600000,7000,80,2,1607082,"PAKOSŁAWICE",1618.96]
[1010082,"  Rozprza..........................................................................................................................................................................................................................................................",16308,"",163,null,null,null,null,null,null,null,null,null,null,null,null,null,null,null,null,null,null,null,null,null,null,null,null,null,null,"16","08","03",3,1600000,8000,30,3,1608033,"OLESNO",1637.18]
[1010102,"  Wola Krzysztoporska..........................................................................................................................................................................................................................................................",17075,"",171,null,null,null,null,null,null,null,null,null,null,null,null,null,null,null,null,null,null,null,null,null,null,null,null,null,null,"16","08","04",3,1600000,8000,40,3,1608043,"PRASZKA",1707.42]
[1010113,"  Wolbórz..........................................................................................................................................................................................................................................................",15166,"",152,null,null,null,null,null,null,null,null,null,null,null,null,null,null,null,null,null,null,null,null,null,null,null,null,null,null,"16","09","02",2,1600000,9000,20,2,1609022,"DĄBROWA",2033.05]
["","Powiat poddębicki  (6 gmin)",null,null,null,null,null,null,null,null,null,null,null,null,null,null,null,null,null,null,null,null,null,null,null,null,null,null,null,null,null,"16","09","05",2,1600000,9000,50,2,1609052,"ŁUBNIANY",1891.88]
["","",null,null,null,null,null,null,null,null,null,null,null,null,null,null,null,null,null,null,null,null,null,null,null,null,null,null,null,null,null,"16","09","11",2,1600000,9000,110,2,1609112,"TARNÓW OPOLSKI",2024.61]
[1011033,"  Poddębice..........................................................................................................................................................................................................................................................",22454,"",225,null,null,null,null,null,null,null,null,null,null,null,null,null,null,null,null,null,null,null,null,null,null,null,null,null,null,"16","09","12",3,1600000,9000,120,3,1609123,"TUŁOWICE",1937.75]
[1011045,"",11678,"",117,null,null,null,null,null,null,null,null,null,null,null,null,null,null,null,null,null,null,null,null,null,null,null,null,null,null,"16","10","04",3,1600000,10000,40,3,1610043,"PRUDNIK",1444.39]
["","",null,null,null,null,null,null,null,null,null,null,null,null,null,null,null,null,null,null,null,null,null,null,null,null,null,null,null,null,null,"16","11","04",3,1600000,11000,40,3,1611043,"LEŚNICA",2134.88]
[1012062,"  Kobiele Wielkie..........................................................................................................................................................................................................................................................",10172,"",102,null,null,null,null,null,null,null,null,null,null,null,null,null,null,null,null,null,null,null,null,null,null,null,null,null,null,"16","61","01",1,1600000,61000,10,1,1661011,"Opole",3293.06]
[1012072,"  Kodrąb..........................................................................................................................................................................................................................................................",10583,"",106,null,null,null,null,null,null,null,null,null,null,null,null,null,null,null,null,null,null,null,null,null,null,null,null,null,null,"18","01","03",2,1800000,1000,30,2,1801032,"CZARNA",1465.93]
[1012132,"  Wielgomłyny..........................................................................................................................................................................................................................................................",12315,"",123,null,null,null,null,null,null,null,null,null,null,null,null,null,null,null,null,null,null,null,null,null,null,null,null,null,null,"18","02","03",2,1800000,2000,30,2,1802032,"DYDNIA",979.89]
[1012053,"  Kamieńsk..........................................................................................................................................................................................................................................................",9644,"",96,null,null,null,null,null,null,null,null,null,null,null,null,null,null,null,null,null,null,null,null,null,null,null,null,null,null,"18","02","06",2,1800000,2000,60,2,1802062,"NOZDRZEC",721.07]
["","Powiat rawski  (6 gmin)",null,null,null,null,null,null,null,null,null,null,null,null,null,null,null,null,null,null,null,null,null,null,null,null,null,null,null,null,null,"18","03","06",3,1800000,3000,60,3,1803063,"PILZNO",1611.11]
["","",null,null,null,null,null,null,null,null,null,null,null,null,null,null,null,null,null,null,null,null,null,null,null,null,null,null,null,null,null,"18","03","07",2,1800000,3000,70,2,1803072,"ŻYRAKÓW",1662.46]
[1013052,"  Regnów..........................................................................................................................................................................................................................................................",4635,"",46,null,null,null,null,null,null,null,null,null,null,null,null,null,null,null,null,null,null,null,null,null,null,null,null,null,null,"18","04","05",2,1800000,4000,50,2,1804052,"LASZKI",963.93]
[1013024,"",953,"",9,null,null,null,null,null,null,null,null,null,null,null,null,null,null,null,null,null,null,null,null,null,null,null,null,null,null,"18","04","09",2,1800000,4000,90,2,1804092,"ROKIETNICA",1233.6199999999999]
[1014011,"  Sieradz..........................................................................................................................................................................................................................................................",5122,"",51,null,null,null,null,null,null,null,null,null,null,null,null,null,null,null,null,null,null,null,null,null,null,null,null,null,null,"18","05","02",2,1800000,5000,20,2,1805022,"BRZYSKA",793.04]
["","",null,null,null,null,null,null,null,null,null,null,null,null,null,null,null,null,null,null,null,null,null,null,null,null,null,null,null,null,null,"18","05","03",2,1800000,5000,30,2,1805032,"DĘBOWIEC",790.19]
[1014072,"  Klonowa..........................................................................................................................................................................................................................................................",9498,"",95,null,null,null,null,null,null,null,null,null,null,null,null,null,null,null,null,null,null,null,null,null,null,null,null,null,null,"18","05","08",2,1800000,5000,80,2,1805082,"OSIEK JASIELSKI",870.88]
["","",null,null,null,null,null,null,null,null,null,null,null,null,null,null,null,null,null,null,null,null,null,null,null,null,null,null,null,null,null,"18","06","01",2,1800000,6000,10,2,1806012,"CMOLAS",1091.52]
[1014095,"",24349,"",243,null,null,null,null,null,null,null,null,null,null,null,null,null,null,null,null,null,null,null,null,null,null,null,null,null,null,"18","07","01",2,1800000,7000,10,2,1807012,"CHORKÓWKA",1125.1600000000001]
[1014113,"  Złoczew..........................................................................................................................................................................................................................................................",11726,"",117,null,null,null,null,null,null,null,null,null,null,null,null,null,null,null,null,null,null,null,null,null,null,null,null,null,null,"18","07","02",3,1800000,7000,20,3,1807023,"DUKLA",1148.22]
[1015012,"  Bolimów..........................................................................................................................................................................................................................................................",11171,"",112,null,null,null,null,null,null,null,null,null,null,null,null,null,null,null,null,null,null,null,null,null,null,null,null,null,null,"18","07","07",2,1800000,7000,70,2,1807072,"MIEJSCE PIASTOWE",1112.27]
[1015052,"  Lipce Reymontowskie..........................................................................................................................................................................................................................................................",4291,"",43,null,null,null,null,null,null,null,null,null,null,null,null,null,null,null,null,null,null,null,null,null,null,null,null,null,null,"18","08","01",1,1800000,8000,10,1,1808011,"LEŻAJSK",1836.64]
[1015092,"  Słupia..........................................................................................................................................................................................................................................................",4109,"",41,null,null,null,null,null,null,null,null,null,null,null,null,null,null,null,null,null,null,null,null,null,null,null,null,null,null,"18","08","05",3,{"$f":"AF1416*100000","v":1800000},{"$f":"AG1416*1000","v":8000},{"$f":"AH1416*10","v":50},{"$f":"AI1416*1","v":3},{"$f":"SUM(AJ1416:AM1416)","v":1808053},"NOWA SARZYNA",1256.17]
["","Powiat tomaszowski  (11 gmin)",null,null,null,null,null,null,null,null,null,null,null,null,null,null,null,null,null,null,null,null,null,null,null,null,null,null,null,null,null,"18","09","01",1,1800000,9000,10,1,1809011,"LUBACZÓW",1424.59]
[1016032,"  Budziszewice..........................................................................................................................................................................................................................................................",3017,"",30,null,null,null,null,null,null,null,null,null,null,null,null,null,null,null,null,null,null,null,null,null,null,null,null,null,null,"18","09","06",3,1800000,9000,60,3,1809063,"OLESZYCE",1317.69]
[1016062,"  Lubochnia..........................................................................................................................................................................................................................................................",13137,"",131,null,null,null,null,null,null,null,null,null,null,null,null,null,null,null,null,null,null,null,null,null,null,null,null,null,null,"18","10","01",1,1800000,10000,10,1,1810011,"ŁAŃCUT",2215.2399999999998]
["","Powiat wieluński  (10 gmin)",null,null,null,null,null,null,null,null,null,null,null,null,null,null,null,null,null,null,null,null,null,null,null,null,null,null,null,null,null,"18","10","07",2,1800000,10000,70,2,1810072,"ŻOŁYNIA",1206.08]
["","",null,null,null,null,null,null,null,null,null,null,null,null,null,null,null,null,null,null,null,null,null,null,null,null,null,null,null,null,null,"18","11","01",1,1800000,11000,10,1,1811011,"MIELEC",2570.12]
[1017052,"  Osjaków..........................................................................................................................................................................................................................................................",10109,"",101,null,null,null,null,null,null,null,null,null,null,null,null,null,null,null,null,null,null,null,null,null,null,null,null,null,null,"18","11","06",2,1800000,11000,60,2,1811062,"PADEW NARODOWA",1240.1400000000001]
[1017102,"  Wierzchlas..........................................................................................................................................................................................................................................................",11895,"",118,null,null,null,null,null,null,null,null,null,null,null,null,null,null,null,null,null,null,null,null,null,null,null,null,null,null,"18","11","10",2,1800000,11000,100,2,1811102,"WADOWICE GÓRNE",1277.99]
[1017095,"",11377,"",114,null,null,null,null,null,null,null,null,null,null,null,null,null,null,null,null,null,null,null,null,null,null,null,null,null,null,"18","12","04",2,1800000,12000,40,2,1812042,"KRZESZÓW",1131.23]
["","Powiat wieruszowski  (7 gmin)",null,null,null,null,null,null,null,null,null,null,null,null,null,null,null,null,null,null,null,null,null,null,null,null,null,null,null,null,null,"18","12","05",3,1800000,12000,50,3,1812053,"NISKO",1662.43]
[1018042,"  Lututów..........................................................................................................................................................................................................................................................",7612,"",76,null,null,null,null,null,null,null,null,null,null,null,null,null,null,null,null,null,null,null,null,null,null,null,null,null,null,"18","13","03",2,1800000,13000,30,2,1813032,"FREDROPOL",1281.94]
["","",null,null,null,null,null,null,null,null,null,null,null,null,null,null,null,null,null,null,null,null,null,null,null,null,null,null,null,null,null,"18","13","06",2,1800000,13000,60,2,1813062,"MEDYKA",1346.38]
[1019011,"  Zduńska Wola..........................................................................................................................................................................................................................................................",2457,"",25,null,null,null,null,null,null,null,null,null,null,null,null,null,null,null,null,null,null,null,null,null,null,null,null,null,null,"18","14","02",2,1800000,14000,20,2,1814022,"ADAMÓWKA",1052.21]
["","",null,null,null,null,null,null,null,null,null,null,null,null,null,null,null,null,null,null,null,null,null,null,null,null,null,null,null,null,null,"18","14","03",2,1800000,14000,30,2,1814032,"GAĆ",1120.19]
[1019024,"",1793,"",17,null,null,null,null,null,null,null,null,null,null,null,null,null,null,null,null,null,null,null,null,null,null,null,null,null,null,"18","14","08",2,1800000,14000,80,2,1814082,"TRYŃCZA",1475.43]
[1020011,"  Głowno..........................................................................................................................................................................................................................................................",1984,"",20,null,null,null,null,null,null,null,null,null,null,null,null,null,null,null,null,null,null,null,null,null,null,null,null,null,null,"18","15","03",3,1800000,15000,30,3,1815033,"ROPCZYCE",1418.09]
[1020062,"  Ozorków..........................................................................................................................................................................................................................................................",9551,"",96,null,null,null,null,null,null,null,null,null,null,null,null,null,null,null,null,null,null,null,null,null,null,null,null,null,null,"18","16","03",3,1800000,16000,30,3,1816033,"BOGUCHWAŁA",1551.6]
[1020072,"  Parzęczew..........................................................................................................................................................................................................................................................",10389,"",104,null,null,null,null,null,null,null,null,null,null,null,null,null,null,null,null,null,null,null,null,null,null,null,null,null,null,"18","16","04",2,1800000,16000,40,2,1816042,"CHMIELNIK",1241.4000000000001]
[1020044,"",1382,"",14,null,null,null,null,null,null,null,null,null,null,null,null,null,null,null,null,null,null,null,null,null,null,null,null,null,null,"18","16","08",2,{"$f":"AF1480*100000","v":1800000},{"$f":"AG1480*1000","v":16000},{"$f":"AH1480*10","v":80},{"$f":"AI1480*1","v":2},{"$f":"SUM(AJ1480:AM1480)","v":1816082},"KAMIEŃ",1070.1099999999999]
[1020084,"",815,"",8,null,null,null,null,null,null,null,null,null,null,null,null,null,null,null,null,null,null,null,null,null,null,null,null,null,null,"18","16","11",3,1800000,16000,110,3,1816113,"SOKOŁÓW MAŁOPOLSKI",1120.78]
["","WOJ. MAŁOPOLSKIE",null,null,null,null,null,null,null,null,null,null,null,null,null,null,null,null,null,null,null,null,null,null,null,null,null,null,null,null,null,"18","17","03",2,1800000,17000,30,2,1817032,"BUKOWSKO",1137.0899999999999]
["","Powiat bocheński  (9 gmin)",null,null,null,null,null,null,null,null,null,null,null,null,null,null,null,null,null,null,null,null,null,null,null,null,null,null,null,null,null,"18","17","04",2,1800000,17000,40,2,1817042,"KOMAŃCZA",1537.75]
[1201032,"  Drwinia..........................................................................................................................................................................................................................................................",10833,"",108,null,null,null,null,null,null,null,null,null,null,null,null,null,null,null,null,null,null,null,null,null,null,null,null,null,null,"18","18","01",1,1800000,18000,10,1,1818011,"STALOWA WOLA",2449.8000000000002]
[1201082,"  Trzciana..........................................................................................................................................................................................................................................................",4409,"",44,null,null,null,null,null,null,null,null,null,null,null,null,null,null,null,null,null,null,null,null,null,null,null,null,null,null,"18","18","05",3,1800000,18000,50,3,1818053,"ZAKLIKÓW",1212.07]
[1201065,"",7719,"",77,null,null,null,null,null,null,null,null,null,null,null,null,null,null,null,null,null,null,null,null,null,null,null,null,null,null,"18","19","04",3,1800000,19000,40,3,1819043,"STRZYŻÓW",1148.1400000000001]
["","Powiat brzeski  (7 gmin)",null,null,null,null,null,null,null,null,null,null,null,null,null,null,null,null,null,null,null,null,null,null,null,null,null,null,null,null,null,"18","19","05",2,1800000,19000,50,2,1819052,"WIŚNIOWA",868.84]
[1202052,"  Gnojnik..........................................................................................................................................................................................................................................................",5499,"",55,null,null,null,null,null,null,null,null,null,null,null,null,null,null,null,null,null,null,null,null,null,null,null,null,null,null,"18","20","04",3,1800000,20000,40,3,1820043,"NOWA DĘBA",1913.02]
["","",null,null,null,null,null,null,null,null,null,null,null,null,null,null,null,null,null,null,null,null,null,null,null,null,null,null,null,null,null,"18","21","03",3,1800000,21000,30,3,1821033,"LESKO",1245.57]
[1202035,"",5234,"",52,null,null,null,null,null,null,null,null,null,null,null,null,null,null,null,null,null,null,null,null,null,null,null,null,null,null,"18","64","01",1,1800000,64000,10,1,1864011,"Tarnobrzeg",1604.31]
["","Powiat chrzanowski  (5 gmin)",null,null,null,null,null,null,null,null,null,null,null,null,null,null,null,null,null,null,null,null,null,null,null,null,null,null,null,null,null,"20","01","01",1,2000000,1000,10,1,2001011,"AUGUSTÓW",2026.4]
[1203015,"",6529,"",65,null,null,null,null,null,null,null,null,null,null,null,null,null,null,null,null,null,null,null,null,null,null,null,null,null,null,"20","01","07",2,2000000,1000,70,2,2001072,"SZTABIN",928.9]
[1203035,"",4112,"",41,null,null,null,null,null,null,null,null,null,null,null,null,null,null,null,null,null,null,null,null,null,null,null,null,null,null,"20","02","03",2,2000000,2000,30,2,2002032,"DOBRZYNIEWO DUŻE",1575.3]
[1203054,"",3194,"",32,null,null,null,null,null,null,null,null,null,null,null,null,null,null,null,null,null,null,null,null,null,null,null,null,null,null,"20","02","08",2,2000000,2000,80,2,2002082,"POŚWIĘTNE",1374.87]
[1203055,"",7346,"",73,null,null,null,null,null,null,null,null,null,null,null,null,null,null,null,null,null,null,null,null,null,null,null,null,null,null,"20","02","09",3,2000000,2000,90,3,2002093,"SUPRAŚL",2671.88]
[1204032,"  Gręboszów..........................................................................................................................................................................................................................................................",4851,"",49,null,null,null,null,null,null,null,null,null,null,null,null,null,null,null,null,null,null,null,null,null,null,null,null,null,null,"20","02","13",3,2000000,2000,130,3,2002133,"WASILKÓW",2238.02]
[1204062,"  Radgoszcz..........................................................................................................................................................................................................................................................",8810,"",88,null,null,null,null,null,null,null,null,null,null,null,null,null,null,null,null,null,null,null,null,null,null,null,null,null,null,"20","03","01",1,2000000,3000,10,1,2003011,"BIELSK PODLASKI",2013.17]
[1204074,"",685,"",7,null,null,null,null,null,null,null,null,null,null,null,null,null,null,null,null,null,null,null,null,null,null,null,null,null,null,"20","03","07",2,2000000,3000,70,2,2003072,"RUDKA",878.8]
[1204075,"",11263,"",112,null,null,null,null,null,null,null,null,null,null,null,null,null,null,null,null,null,null,null,null,null,null,null,null,null,null,"20","03","08",2,2000000,3000,80,2,2003082,"WYSZKI",1057.44]
[1205052,"  Lipinki..........................................................................................................................................................................................................................................................",6646,"",66,null,null,null,null,null,null,null,null,null,null,null,null,null,null,null,null,null,null,null,null,null,null,null,null,null,null,"20","04","06",2,2000000,4000,60,2,2004062,"WĄSOSZ",962]
[1205082,"  Ropa..........................................................................................................................................................................................................................................................",4911,"",49,null,null,null,null,null,null,null,null,null,null,null,null,null,null,null,null,null,null,null,null,null,null,null,null,null,null,"20","05","03",2,2000000,5000,30,2,2005032,"CZEREMCHA",1354.57]
[1205024,"",1771,"",17,null,null,null,null,null,null,null,null,null,null,null,null,null,null,null,null,null,null,null,null,null,null,null,null,null,null,"20","05","08",2,2000000,5000,80,2,2005082,"NAREW",2628.75]
[1205025,"",8054,"",81,null,null,null,null,null,null,null,null,null,null,null,null,null,null,null,null,null,null,null,null,null,null,null,null,null,null,"20","05","09",2,2000000,5000,90,2,2005092,"NAREWKA",2807.49]
["","Powiat krakowski  (17 gmin)",null,null,null,null,null,null,null,null,null,null,null,null,null,null,null,null,null,null,null,null,null,null,null,null,null,null,null,null,null,"20","06","04",2,2000000,6000,40,2,2006042,"MAŁY PŁOCK",767.27]
[1206022,"  Igołomia-Wawrzeńczyce..........................................................................................................................................................................................................................................................",6279,"",63,null,null,null,null,null,null,null,null,null,null,null,null,null,null,null,null,null,null,null,null,null,null,null,null,null,null,"20","07","01",3,2000000,7000,10,3,2007013,"JEDWABNE",1128.4100000000001]
[1206092,"  Mogilany..........................................................................................................................................................................................................................................................",4363,"",44,null,null,null,null,null,null,null,null,null,null,null,null,null,null,null,null,null,null,null,null,null,null,null,null,null,null,"20","07","07",2,2000000,7000,70,2,2007072,"ŚNIADOWO",1226.8399999999999]
[1206132,"  Sułoszowa..........................................................................................................................................................................................................................................................",5338,"",53,null,null,null,null,null,null,null,null,null,null,null,null,null,null,null,null,null,null,null,null,null,null,null,null,null,null,"20","07","08",2,2000000,7000,80,2,2007082,"WIZNA",925.61]
[1206064,"",1697,"",18,null,null,null,null,null,null,null,null,null,null,null,null,null,null,null,null,null,null,null,null,null,null,null,null,null,null,"20","08","05",2,2000000,8000,50,2,2008052,"KRYPNO",709.46]
[1206104,"",297,"",3,null,null,null,null,null,null,null,null,null,null,null,null,null,null,null,null,null,null,null,null,null,null,null,null,null,null,"20","09","01",1,2000000,9000,10,1,2009011,"SEJNY",1400.77]
[1206123,"  Słomniki..........................................................................................................................................................................................................................................................",11298,"",113,null,null,null,null,null,null,null,null,null,null,null,null,null,null,null,null,null,null,null,null,null,null,null,null,null,null,"20","10","01",1,2000000,10000,10,1,2010011,"SIEMIATYCZE",1917.58]
[1206124,"",343,"",3,null,null,null,null,null,null,null,null,null,null,null,null,null,null,null,null,null,null,null,null,null,null,null,null,null,null,"20","10","02",3,2000000,10000,20,3,2010023,"DROHICZYN",1211.79]
[1206145,"",1591,"",16,null,null,null,null,null,null,null,null,null,null,null,null,null,null,null,null,null,null,null,null,null,null,null,null,null,null,"20","10","06",2,2000000,10000,60,2,2010062,"MILEJCZYCE",1312.82]
[1207021,"  Mszana Dolna..........................................................................................................................................................................................................................................................",2710,"",27,null,null,null,null,null,null,null,null,null,null,null,null,null,null,null,null,null,null,null,null,null,null,null,null,null,null,"20","11","01",3,2000000,11000,10,3,2011013,"DĄBROWA BIAŁOSTOCKA",1027.93]
[1207062,"  Laskowa..........................................................................................................................................................................................................................................................",7248,"",72,null,null,null,null,null,null,null,null,null,null,null,null,null,null,null,null,null,null,null,null,null,null,null,null,null,null,"20","11","06",2,2000000,11000,60,2,2011062,"NOWY DWÓR",703.07]
[1207072,"  Limanowa..........................................................................................................................................................................................................................................................",15223,"",152,null,null,null,null,null,null,null,null,null,null,null,null,null,null,null,null,null,null,null,null,null,null,null,null,null,null,"20","11","07",2,2000000,11000,70,2,2011072,"SIDRA",1093.56]
["","Powiat miechowski  (7 gmin)",null,null,null,null,null,null,null,null,null,null,null,null,null,null,null,null,null,null,null,null,null,null,null,null,null,null,null,null,null,"20","12","03",2,2000000,12000,30,2,2012032,"JELENIEWO",1561.68]
[1208022,"  Gołcza..........................................................................................................................................................................................................................................................",9002,"",90,null,null,null,null,null,null,null,null,null,null,null,null,null,null,null,null,null,null,null,null,null,null,null,null,null,null,"20","12","06",2,2000000,12000,60,2,2012062,"RUTKA-TARTAK",953.63]
["","",null,null,null,null,null,null,null,null,null,null,null,null,null,null,null,null,null,null,null,null,null,null,null,null,null,null,null,null,null,"20","13","02",3,2000000,13000,20,3,2013023,"CIECHANOWIEC",1098.3900000000001]
[1208053,"  Miechów..........................................................................................................................................................................................................................................................",14836,"",148,null,null,null,null,null,null,null,null,null,null,null,null,null,null,null,null,null,null,null,null,null,null,null,null,null,null,"20","13","03",3,2000000,13000,30,3,2013033,"CZYŻEW",1777.17]
["","",null,null,null,null,null,null,null,null,null,null,null,null,null,null,null,null,null,null,null,null,null,null,null,null,null,null,null,null,null,"20","13","07",2,2000000,13000,70,2,2013072,"NOWE PIEKUTY",1150.77]
[1209062,"  Siepraw..........................................................................................................................................................................................................................................................",3185,"",32,null,null,null,null,null,null,null,null,null,null,null,null,null,null,null,null,null,null,null,null,null,null,null,null,null,null,"20","14","01",1,2000000,14000,10,1,2014011,"ZAMBRÓW",1507.09]
[1209014,"",1297,"",14,null,null,null,null,null,null,null,null,null,null,null,null,null,null,null,null,null,null,null,null,null,null,null,null,null,null,"20","61","01",1,2000000,61000,10,1,2061011,"Białystok",2105.7800000000002]
[1209015,"",5342,"",52,null,null,null,null,null,null,null,null,null,null,null,null,null,null,null,null,null,null,null,null,null,null,null,null,null,null,"20","62","01",1,2000000,62000,10,1,2062011,"Łomża",1813.47]
[1209075,"",4392,"",44,null,null,null,null,null,null,null,null,null,null,null,null,null,null,null,null,null,null,null,null,null,null,null,null,null,null,"22","01","05",2,2200000,1000,50,2,2201052,"LIPNICA",1956.7]
[1210011,"  Grybów..........................................................................................................................................................................................................................................................",1695,"↓",17,null,null,null,null,null,null,null,null,null,null,null,null,null,null,null,null,null,null,null,null,null,null,null,null,null,null,"22","01","08",2,2200000,1000,80,2,2201082,"STUDZIENICE",1980.27]
[1210052,"  Kamionka Wielka..........................................................................................................................................................................................................................................................",6498,"",65,null,null,null,null,null,null,null,null,null,null,null,null,null,null,null,null,null,null,null,null,null,null,null,null,null,null,"22","02","03",2,2200000,2000,30,2,2202032,"CHOJNICE",1924.4]
[1210062,"  Korzenna..........................................................................................................................................................................................................................................................",10695,"",107,null,null,null,null,null,null,null,null,null,null,null,null,null,null,null,null,null,null,null,null,null,null,null,null,null,null,"22","02","04",3,2200000,2000,40,3,2202043,"CZERSK",1372.34]
[1210122,"  Nawojowa..........................................................................................................................................................................................................................................................",5021,"",50,null,null,null,null,null,null,null,null,null,null,null,null,null,null,null,null,null,null,null,null,null,null,null,null,null,null,"22","03","03",2,2200000,3000,30,2,2203032,"CZŁUCHÓW",1490.15]
[1210073,"  Krynica-Zdrój..........................................................................................................................................................................................................................................................",14513,"",145,null,null,null,null,null,null,null,null,null,null,null,null,null,null,null,null,null,null,null,null,null,null,null,null,null,null,"22","03","07",2,2200000,3000,70,2,2203072,"RZECZENICA",1806.56]
[1210115,"",11701,"",117,null,null,null,null,null,null,null,null,null,null,null,null,null,null,null,null,null,null,null,null,null,null,null,null,null,null,"22","04","05",2,2200000,4000,50,2,2204052,"PRZYWIDZ",1502.21]
[1210133,"  Piwniczna-Zdrój..........................................................................................................................................................................................................................................................",12646,"",126,null,null,null,null,null,null,null,null,null,null,null,null,null,null,null,null,null,null,null,null,null,null,null,null,null,null,"22","04","06",2,2200000,4000,60,2,2204062,"PSZCZÓŁKI",1996.14]
["","Powiat nowotarski  (14 gmin)",null,null,null,null,null,null,null,null,null,null,null,null,null,null,null,null,null,null,null,null,null,null,null,null,null,null,null,null,null,"22","05","04",2,2200000,5000,40,2,2205042,"SIERAKOWICE",1332.79]
["","",null,null,null,null,null,null,null,null,null,null,null,null,null,null,null,null,null,null,null,null,null,null,null,null,null,null,null,null,null,"22","05","07",2,2200000,5000,70,2,2205072,"SULĘCZYNO",1633.95]
[1211072,"  Lipnica Wielka..........................................................................................................................................................................................................................................................",6736,"",67,null,null,null,null,null,null,null,null,null,null,null,null,null,null,null,null,null,null,null,null,null,null,null,null,null,null,"22","06","04",2,2200000,6000,40,2,2206042,"KOŚCIERZYNA",2047.73]
[1211082,"  Łapsze Niżne..........................................................................................................................................................................................................................................................",12579,"",126,null,null,null,null,null,null,null,null,null,null,null,null,null,null,null,null,null,null,null,null,null,null,null,null,null,null,"22","06","05",2,2200000,6000,50,2,2206052,"LINIEWO",1407.77]
[1211132,"  Spytkowice..........................................................................................................................................................................................................................................................",3218,"",32,null,null,null,null,null,null,null,null,null,null,null,null,null,null,null,null,null,null,null,null,null,null,null,null,null,null,"22","07","01",1,2200000,7000,10,1,2207011,"KWIDZYN",3335.69]
[1211124,"",3631,"",36,null,null,null,null,null,null,null,null,null,null,null,null,null,null,null,null,null,null,null,null,null,null,null,null,null,null,"22","07","05",2,2200000,7000,50,2,2207052,"RYJEWO",1009.04]
["","Powiat olkuski  (6 gmin)",null,null,null,null,null,null,null,null,null,null,null,null,null,null,null,null,null,null,null,null,null,null,null,null,null,null,null,null,null,"22","08","04",2,2200000,8000,40,2,2208042,"NOWA WIEŚ LĘBORSKA",1683.14]
["","",null,null,null,null,null,null,null,null,null,null,null,null,null,null,null,null,null,null,null,null,null,null,null,null,null,null,null,null,null,"22","08","05",2,2200000,8000,50,2,2208052,"WICKO",2545.8200000000002]
["","",null,null,null,null,null,null,null,null,null,null,null,null,null,null,null,null,null,null,null,null,null,null,null,null,null,null,null,null,null,"22","09","08",2,2200000,9000,80,2,2209082,"STARE POLE",2525.8000000000002]
[1212055,"",12515,"",126,null,null,null,null,null,null,null,null,null,null,null,null,null,null,null,null,null,null,null,null,null,null,null,null,null,null,"22","10","03",2,2200000,10000,30,2,2210032,"OSTASZEWO",1382.7]
["","",null,null,null,null,null,null,null,null,null,null,null,null,null,null,null,null,null,null,null,null,null,null,null,null,null,null,null,null,null,"22","11","03",1,2200000,11000,30,1,2211031,"PUCK",1757.77]
[1213011,"  Oświęcim..........................................................................................................................................................................................................................................................",3000,"",30,null,null,null,null,null,null,null,null,null,null,null,null,null,null,null,null,null,null,null,null,null,null,null,null,null,null,"22","11","04",3,2200000,11000,40,3,2211043,"WŁADYSŁAWOWO",3006.66]
[1213072,"  Polanka Wielka..........................................................................................................................................................................................................................................................",2389,"",24,null,null,null,null,null,null,null,null,null,null,null,null,null,null,null,null,null,null,null,null,null,null,null,null,null,null,"22","12","01",1,2200000,12000,10,1,2212011,"USTKA",1768.65]
[1213024,"",1904,"",19,null,null,null,null,null,null,null,null,null,null,null,null,null,null,null,null,null,null,null,null,null,null,null,null,null,null,"22","12","05",3,2200000,12000,50,3,2212053,"KĘPICE",1466.7]
[1213043,"  Kęty..........................................................................................................................................................................................................................................................",7608,"",76,null,null,null,null,null,null,null,null,null,null,null,null,null,null,null,null,null,null,null,null,null,null,null,null,null,null,"22","12","10",2,2200000,12000,100,2,2212102,"USTKA",3503.31]
[1213044,"",2305,"",23,null,null,null,null,null,null,null,null,null,null,null,null,null,null,null,null,null,null,null,null,null,null,null,null,null,null,"22","13","01",3,2200000,13000,10,3,2213013,"CZARNA WODA",2462.2600000000002]
["","",null,null,null,null,null,null,null,null,null,null,null,null,null,null,null,null,null,null,null,null,null,null,null,null,null,null,null,null,null,"22","13","07",2,2200000,13000,70,2,2213072,"OSIECZNA",1254.73]
[1214062,"  Radziemice..........................................................................................................................................................................................................................................................",5797,"",58,null,null,null,null,null,null,null,null,null,null,null,null,null,null,null,null,null,null,null,null,null,null,null,null,null,null,"22","13","10",2,2200000,13000,100,2,2213102,"SKÓRCZ",1490.84]
[1214033,"  Nowe Brzesko..........................................................................................................................................................................................................................................................",5442,"",54,null,null,null,null,null,null,null,null,null,null,null,null,null,null,null,null,null,null,null,null,null,null,null,null,null,null,"22","14","02",3,{"$f":"AF1736*100000","v":2200000},{"$f":"AG1736*1000","v":14000},{"$f":"AH1736*10","v":20},{"$f":"AI1736*1","v":3},{"$f":"SUM(AJ1736:AM1736)","v":2214023},"GNIEW",1400.7]
[1214034,"",726,"",8,null,null,null,null,null,null,null,null,null,null,null,null,null,null,null,null,null,null,null,null,null,null,null,null,null,null,"22","14","03",2,2200000,14000,30,2,2214032,"MORZESZCZYN",1369.22]
[1214055,"",9269,"",93,null,null,null,null,null,null,null,null,null,null,null,null,null,null,null,null,null,null,null,null,null,null,null,null,null,null,"22","15","01",1,2200000,15000,10,1,2215011,"REDA",1631.92]
[1215021,"  Sucha Beskidzka..........................................................................................................................................................................................................................................................",2765,"",28,null,null,null,null,null,null,null,null,null,null,null,null,null,null,null,null,null,null,null,null,null,null,null,null,null,null,"22","15","05",2,2200000,15000,50,2,2215052,"GNIEWINO",3358.26]
[1215072,"  Stryszawa..........................................................................................................................................................................................................................................................",11381,"",114,null,null,null,null,null,null,null,null,null,null,null,null,null,null,null,null,null,null,null,null,null,null,null,null,null,null,"22","15","10",2,2200000,15000,100,2,2215102,"WEJHEROWO",1880.96]
[1215082,"  Zawoja..........................................................................................................................................................................................................................................................",12878,"",128,null,null,null,null,null,null,null,null,null,null,null,null,null,null,null,null,null,null,null,null,null,null,null,null,null,null,"22","16","01",3,2200000,16000,10,3,2216013,"DZIERZGOŃ",1205.6400000000001]
["","Powiat tarnowski  (16 gmin)",null,null,null,null,null,null,null,null,null,null,null,null,null,null,null,null,null,null,null,null,null,null,null,null,null,null,null,null,null,"22","62","01",1,2200000,62000,10,1,2262011,"Gdynia",2640.87]
[1216032,"  Lisia Góra..........................................................................................................................................................................................................................................................",10432,"",105,null,null,null,null,null,null,null,null,null,null,null,null,null,null,null,null,null,null,null,null,null,null,null,null,null,null,"24","01","01",1,2400000,1000,10,1,2401011,"BĘDZIN",2216.23]
[1216092,"  Tarnów..........................................................................................................................................................................................................................................................",8272,"",83,null,null,null,null,null,null,null,null,null,null,null,null,null,null,null,null,null,null,null,null,null,null,null,null,null,null,"24","01","06",2,2400000,1000,60,2,2401062,"PSARY",2691.02]
[1216112,"  Wierzchosławice..........................................................................................................................................................................................................................................................",7515,"",75,null,null,null,null,null,null,null,null,null,null,null,null,null,null,null,null,null,null,null,null,null,null,null,null,null,null,"24","01","07",3,2400000,1000,70,3,2401073,"SIEWIERZ",2908.59]
[1216014,"",999,"",11,null,null,null,null,null,null,null,null,null,null,null,null,null,null,null,null,null,null,null,null,null,null,null,null,null,null,"24","02","03",2,2400000,2000,30,2,2402032,"BUCZKOWICE",1827.34]
[1216055,"",6936,"",69,null,null,null,null,null,null,null,null,null,null,null,null,null,null,null,null,null,null,null,null,null,null,null,null,null,null,"24","02","07",2,2400000,2000,70,2,2402072,"KOZY",2295.09]
[1216104,"",1810,"",18,null,null,null,null,null,null,null,null,null,null,null,null,null,null,null,null,null,null,null,null,null,null,null,null,null,null,"24","03","02",1,2400000,3000,20,1,2403021,"USTROŃ",2873.02]
[1216105,"",8176,"",82,null,null,null,null,null,null,null,null,null,null,null,null,null,null,null,null,null,null,null,null,null,null,null,null,null,null,"24","03","03",1,2400000,3000,30,1,2403031,"WISŁA",2845.28]
[1216145,"",11804,"",118,null,null,null,null,null,null,null,null,null,null,null,null,null,null,null,null,null,null,null,null,null,null,null,null,null,null,"24","03","09",2,2400000,3000,90,2,2403092,"ISTEBNA",1300.56]
[1216155,"",9043,"",91,null,null,null,null,null,null,null,null,null,null,null,null,null,null,null,null,null,null,null,null,null,null,null,null,null,null,"24","03","12",2,2400000,3000,120,2,2403122,"ZEBRZYDOWICE",1480.7]
[1217022,"  Biały Dunajec..........................................................................................................................................................................................................................................................",3523,"",35,null,null,null,null,null,null,null,null,null,null,null,null,null,null,null,null,null,null,null,null,null,null,null,null,null,null,"24","04","05",2,2400000,4000,50,2,2404052,"KŁOMNICE",1495.89]
[1217032,"  Bukowina Tatrzańska..........................................................................................................................................................................................................................................................",13186,"",132,null,null,null,null,null,null,null,null,null,null,null,null,null,null,null,null,null,null,null,null,null,null,null,null,null,null,"24","04","06",3,2400000,4000,60,3,2404063,"KONIECPOL",1676.5]
["","",null,null,null,null,null,null,null,null,null,null,null,null,null,null,null,null,null,null,null,null,null,null,null,null,null,null,null,null,null,"24","04","10",2,2400000,4000,100,2,2404102,"MSTÓW",1772.68]
[1218062,"  Spytkowice..........................................................................................................................................................................................................................................................",5138,"",52,null,null,null,null,null,null,null,null,null,null,null,null,null,null,null,null,null,null,null,null,null,null,null,null,null,null,"24","04","14",2,2400000,4000,140,2,2404142,"PRZYRÓW",1366.75]
[1218013,"  Andrychów..........................................................................................................................................................................................................................................................",10039,"",100,null,null,null,null,null,null,null,null,null,null,null,null,null,null,null,null,null,null,null,null,null,null,null,null,null,null,"24","05","03",2,2400000,5000,30,2,2405032,"GIERAŁTOWICE",3024.69]
[1218014,"",1033,"",10,null,null,null,null,null,null,null,null,null,null,null,null,null,null,null,null,null,null,null,null,null,null,null,null,null,null,"24","05","04",2,2400000,5000,40,2,2405042,"PILCHOWICE",2151.1799999999998]
[1218094,"",1054,"",11,null,null,null,null,null,null,null,null,null,null,null,null,null,null,null,null,null,null,null,null,null,null,null,null,null,null,"24","06","02",3,2400000,6000,20,3,2406023,"KRZEPICE",1889.14]
["","",null,null,null,null,null,null,null,null,null,null,null,null,null,null,null,null,null,null,null,null,null,null,null,null,null,null,null,null,null,"24","06","05",2,2400000,6000,50,2,2406052,"OPATÓW",1265.44]
[1219043,"  Niepołomice..........................................................................................................................................................................................................................................................",9627,"",96,null,null,null,null,null,null,null,null,null,null,null,null,null,null,null,null,null,null,null,null,null,null,null,null,null,null,"24","07","01",1,2400000,7000,10,1,2407011,"LUBLINIEC",2410.5300000000002]
[1219044,"",2740,"",28,null,null,null,null,null,null,null,null,null,null,null,null,null,null,null,null,null,null,null,null,null,null,null,null,null,null,"24","07","02",2,2400000,7000,20,2,2407022,"BORONÓW",2653.84]
[1219055,"",8626,"",87,null,null,null,null,null,null,null,null,null,null,null,null,null,null,null,null,null,null,null,null,null,null,null,null,null,null,"24","07","06",2,2400000,7000,60,2,2407062,"KOSZĘCIN",1484.14]
[1263011,"  Tarnów..........................................................................................................................................................................................................................................................",7238,"",72,null,null,null,null,null,null,null,null,null,null,null,null,null,null,null,null,null,null,null,null,null,null,null,null,null,null,"24","08","02",1,2400000,8000,20,1,2408021,"MIKOŁÓW",2967.25]
[1401032,"  Radzanów..........................................................................................................................................................................................................................................................",8252,"",83,null,null,null,null,null,null,null,null,null,null,null,null,null,null,null,null,null,null,null,null,null,null,null,null,null,null,"24","09","02",3,2400000,9000,20,3,2409023,"KOZIEGŁOWY",1765.57]
[1401042,"  Stara Błotnica..........................................................................................................................................................................................................................................................",9605,"",96,null,null,null,null,null,null,null,null,null,null,null,null,null,null,null,null,null,null,null,null,null,null,null,null,null,null,"24","09","03",2,2400000,9000,30,2,2409032,"NIEGOWA",1217.9000000000001]
[1401063,"  Wyśmierzyce..........................................................................................................................................................................................................................................................",10579,"",106,null,null,null,null,null,null,null,null,null,null,null,null,null,null,null,null,null,null,null,null,null,null,null,null,null,null,"24","10","04",2,2400000,10000,40,2,2410042,"PAWŁOWICE",3310.72]
["","Powiat ciechanowski  (9 gmin)",null,null,null,null,null,null,null,null,null,null,null,null,null,null,null,null,null,null,null,null,null,null,null,null,null,null,null,null,null,"24","11","01",1,2400000,11000,10,1,2411011,"RACIBÓRZ",2015.34]
[1402042,"  Gołymin-Ośrodek..........................................................................................................................................................................................................................................................",11071,"",111,null,null,null,null,null,null,null,null,null,null,null,null,null,null,null,null,null,null,null,null,null,null,null,null,null,null,"24","11","06",2,2400000,11000,60,2,2411062,"NĘDZA",1335.17]
[1402052,"  Grudusk..........................................................................................................................................................................................................................................................",9675,"",97,null,null,null,null,null,null,null,null,null,null,null,null,null,null,null,null,null,null,null,null,null,null,null,null,null,null,"24","11","07",2,2400000,11000,70,2,2411072,"PIETROWICE WIELKIE",2981.96]
[1402092,"  Sońsk..........................................................................................................................................................................................................................................................",15471,"",154,null,null,null,null,null,null,null,null,null,null,null,null,null,null,null,null,null,null,null,null,null,null,null,null,null,null,"24","12","03",2,2400000,12000,30,2,2412032,"JEJKOWICE",1806.06]
[1402035,"",14648,"",147,null,null,null,null,null,null,null,null,null,null,null,null,null,null,null,null,null,null,null,null,null,null,null,null,null,null,"24","13","02",1,2400000,13000,20,1,2413021,"MIASTECZKO ŚLĄSKIE",3141.55]
["","",null,null,null,null,null,null,null,null,null,null,null,null,null,null,null,null,null,null,null,null,null,null,null,null,null,null,null,null,null,"24","13","07",2,2400000,13000,70,2,2413072,"ŚWIERKLANIEC",2207.5500000000002]
[1403032,"  Borowie..........................................................................................................................................................................................................................................................",8022,"",80,null,null,null,null,null,null,null,null,null,null,null,null,null,null,null,null,null,null,null,null,null,null,null,null,null,null,"24","13","08",2,2400000,13000,80,2,2413082,"TWORÓG",1924.82]
[1403092,"  Parysów..........................................................................................................................................................................................................................................................",6415,"",64,null,null,null,null,null,null,null,null,null,null,null,null,null,null,null,null,null,null,null,null,null,null,null,null,null,null,"24","14","05",2,2400000,14000,50,2,2414052,"CHEŁM ŚLĄSKI",3067.78]
[1403132,"  Wilga..........................................................................................................................................................................................................................................................",11840,"",118,null,null,null,null,null,null,null,null,null,null,null,null,null,null,null,null,null,null,null,null,null,null,null,null,null,null,"24","15","03",1,2400000,15000,30,1,2415031,"RYDUŁTOWY",1642.9]
[1403143,"  Żelechów..........................................................................................................................................................................................................................................................",8749,"",87,null,null,null,null,null,null,null,null,null,null,null,null,null,null,null,null,null,null,null,null,null,null,null,null,null,null,"24","15","08",2,2400000,15000,80,2,2415082,"MARKLOWICE",2661.32]
[1403144,"",1213,"",12,null,null,null,null,null,null,null,null,null,null,null,null,null,null,null,null,null,null,null,null,null,null,null,null,null,null,"24","15","09",2,2400000,15000,90,2,2415092,"MSZANA",2100.2199999999998]
[1404011,"  Gostynin..........................................................................................................................................................................................................................................................",3240,"",32,null,null,null,null,null,null,null,null,null,null,null,null,null,null,null,null,null,null,null,null,null,null,null,null,null,null,"24","16","04",2,2400000,16000,40,2,2416042,"KROCZYCE",1390.21]
[1404052,"  Szczawin Kościelny..........................................................................................................................................................................................................................................................",12716,"",127,null,null,null,null,null,null,null,null,null,null,null,null,null,null,null,null,null,null,null,null,null,null,null,null,null,null,"24","16","08",3,2400000,16000,80,3,2416083,"SZCZEKOCINY",1725.34]
["","Powiat grodziski  (6 gmin)",null,null,null,null,null,null,null,null,null,null,null,null,null,null,null,null,null,null,null,null,null,null,null,null,null,null,null,null,null,"24","17","03",2,2400000,17000,30,2,2417032,"GILOWICE",1429.32]
["","",null,null,null,null,null,null,null,null,null,null,null,null,null,null,null,null,null,null,null,null,null,null,null,null,null,null,null,null,null,"24","17","04",2,2400000,17000,40,2,2417042,"JELEŚNIA",1510.68]
[1405062,"  Żabia Wola..........................................................................................................................................................................................................................................................",10543,"",106,null,null,null,null,null,null,null,null,null,null,null,null,null,null,null,null,null,null,null,null,null,null,null,null,null,null,"24","17","10",2,2400000,17000,100,2,2417102,"RADZIECHOWY-WIEPRZ",1208.3800000000001]
[1405044,"",1319,"",14,null,null,null,null,null,null,null,null,null,null,null,null,null,null,null,null,null,null,null,null,null,null,null,null,null,null,"24","17","13",2,2400000,17000,130,2,2417132,"ŚWINNA",1270.79]
[1406022,"  Błędów..........................................................................................................................................................................................................................................................",13405,"",134,null,null,null,null,null,null,null,null,null,null,null,null,null,null,null,null,null,null,null,null,null,null,null,null,null,null,"24","63","01",1,2400000,63000,10,1,2463011,"Chorzów",2368.67]
[1406032,"  Chynów..........................................................................................................................................................................................................................................................",13499,"",135,null,null,null,null,null,null,null,null,null,null,null,null,null,null,null,null,null,null,null,null,null,null,null,null,null,null,"24","64","01",1,2400000,64000,10,1,2464011,"Częstochowa",2263.4]
["","",null,null,null,null,null,null,null,null,null,null,null,null,null,null,null,null,null,null,null,null,null,null,null,null,null,null,null,null,null,"24","68","01",1,2400000,68000,10,1,2468011,"Jaworzno",2511.0700000000002]
[1406074,"",1298,"",13,null,null,null,null,null,null,null,null,null,null,null,null,null,null,null,null,null,null,null,null,null,null,null,null,null,null,"24","73","01",1,2400000,73000,10,1,2473011,"Rybnik",2197.63]
[1406085,"",14726,"",148,null,null,null,null,null,null,null,null,null,null,null,null,null,null,null,null,null,null,null,null,null,null,null,null,null,null,"24","77","01",1,2400000,77000,10,1,2477011,"Tychy",2876.89]
[1406113,"  Warka..........................................................................................................................................................................................................................................................",20227,"",202,null,null,null,null,null,null,null,null,null,null,null,null,null,null,null,null,null,null,null,null,null,null,null,null,null,null,"24","78","01",1,2400000,78000,10,1,2478011,"Zabrze",1784.4]
[1407022,"  Głowaczów..........................................................................................................................................................................................................................................................",18584,"",186,null,null,null,null,null,null,null,null,null,null,null,null,null,null,null,null,null,null,null,null,null,null,null,null,null,null,"26","01","05",2,2600000,1000,50,2,2601052,"SOLEC-ZDRÓJ",1215.58]
[1407062,"  Magnuszew..........................................................................................................................................................................................................................................................",14106,"",141,null,null,null,null,null,null,null,null,null,null,null,null,null,null,null,null,null,null,null,null,null,null,null,null,null,null,"26","01","08",3,2600000,1000,80,3,2601083,"WIŚLICA",1001.12]
[1407055,"",23358,"",234,null,null,null,null,null,null,null,null,null,null,null,null,null,null,null,null,null,null,null,null,null,null,null,null,null,null,"26","02","05",2,2600000,2000,50,2,2602052,"OKSA",785.2]
["","Powiat legionowski  (5 gmin)",null,null,null,null,null,null,null,null,null,null,null,null,null,null,null,null,null,null,null,null,null,null,null,null,null,null,null,null,null,"26","02","06",3,2600000,2000,60,3,2602063,"SĘDZISZÓW",1746.65]
[1408022,"  Jabłonna..........................................................................................................................................................................................................................................................",6480,"",65,null,null,null,null,null,null,null,null,null,null,null,null,null,null,null,null,null,null,null,null,null,null,null,null,null,null,"26","03","01",2,2600000,3000,10,2,2603012,"BEJSCE",872.68]
[1408044,"",1343,"",13,null,null,null,null,null,null,null,null,null,null,null,null,null,null,null,null,null,null,null,null,null,null,null,null,null,null,"26","04","01",2,2600000,4000,10,2,2604012,"BIELINY",868.91]
[1409012,"  Chotcza..........................................................................................................................................................................................................................................................",8982,"",90,null,null,null,null,null,null,null,null,null,null,null,null,null,null,null,null,null,null,null,null,null,null,null,null,null,null,"26","04","05",3,2600000,4000,50,3,2604053,"DALESZYCE",2205.42]
[1409022,"  Ciepielów..........................................................................................................................................................................................................................................................",13477,"",135,null,null,null,null,null,null,null,null,null,null,null,null,null,null,null,null,null,null,null,null,null,null,null,null,null,null,"26","04","06",2,2600000,4000,60,2,2604062,"GÓRNO",1222.6500000000001]
[1409034,"",1570,"",16,null,null,null,null,null,null,null,null,null,null,null,null,null,null,null,null,null,null,null,null,null,null,null,null,null,null,"26","04","12",3,2600000,4000,120,3,2604123,"MORAWICA",2351.83]
["","",null,null,null,null,null,null,null,null,null,null,null,null,null,null,null,null,null,null,null,null,null,null,null,null,null,null,null,null,null,"26","04","15",3,2600000,4000,150,3,2604153,"PIERZCHNICA",1087.99]
[1410062,"  Stara Kornica..........................................................................................................................................................................................................................................................",11884,"",119,null,null,null,null,null,null,null,null,null,null,null,null,null,null,null,null,null,null,null,null,null,null,null,null,null,null,"26","05","01",2,2600000,5000,10,2,2605012,"FAŁKÓW",1069.3800000000001]
["","",null,null,null,null,null,null,null,null,null,null,null,null,null,null,null,null,null,null,null,null,null,null,null,null,null,null,null,null,null,"26","05","02",2,2600000,5000,20,2,2605022,"GOWARCZÓW",1098.6500000000001]
["","Powiat makowski  (10 gmin)",null,null,null,null,null,null,null,null,null,null,null,null,null,null,null,null,null,null,null,null,null,null,null,null,null,null,null,null,null,"26","05","06",2,2600000,5000,60,2,2605062,"SŁUPIA KONECKA",933.16]
[1411032,"  Karniewo..........................................................................................................................................................................................................................................................",12906,"",129,null,null,null,null,null,null,null,null,null,null,null,null,null,null,null,null,null,null,null,null,null,null,null,null,null,null,"26","06","03",2,2600000,6000,30,2,2606032,"LIPNIK",1148.93]
[1411082,"  Rzewnie..........................................................................................................................................................................................................................................................",11175,"",112,null,null,null,null,null,null,null,null,null,null,null,null,null,null,null,null,null,null,null,null,null,null,null,null,null,null,"26","06","07",2,2600000,6000,70,2,2606072,"TARŁÓW",926.26]
[1411092,"  Sypniewo..........................................................................................................................................................................................................................................................",12845,"",128,null,null,null,null,null,null,null,null,null,null,null,null,null,null,null,null,null,null,null,null,null,null,null,null,null,null,"26","06","08",2,2600000,6000,80,2,2606082,"WOJCIECHOWICE",1422.64]
["","Powiat miński  (13 gmin)",null,null,null,null,null,null,null,null,null,null,null,null,null,null,null,null,null,null,null,null,null,null,null,null,null,null,null,null,null,"26","07","06",2,2600000,7000,60,2,2607062,"WAŚNIÓW",886.28]
[1412151,"  Sulejówek..........................................................................................................................................................................................................................................................",1931,"",19,null,null,null,null,null,null,null,null,null,null,null,null,null,null,null,null,null,null,null,null,null,null,null,null,null,null,"26","08","03",2,{"$f":"AF1992*100000","v":2600000},{"$f":"AG1992*1000","v":8000},{"$f":"AH1992*10","v":30},{"$f":"AI1992*1","v":2},{"$f":"SUM(AJ1992:AM1992)","v":2608032},"MICHAŁÓW",1110.33]
[1412082,"  Jakubów..........................................................................................................................................................................................................................................................",8698,"",87,null,null,null,null,null,null,null,null,null,null,null,null,null,null,null,null,null,null,null,null,null,null,null,null,null,null,"26","09","03",2,2600000,9000,30,2,2609032,"KLIMONTÓW",877.06]
[1412112,"  Mińsk Mazowiecki..........................................................................................................................................................................................................................................................",11231,"",112,null,null,null,null,null,null,null,null,null,null,null,null,null,null,null,null,null,null,null,null,null,null,null,null,null,null,"26","09","05",2,2600000,9000,50,2,2609052,"ŁONIÓW",1190.02]
["","",null,null,null,null,null,null,null,null,null,null,null,null,null,null,null,null,null,null,null,null,null,null,null,null,null,null,null,null,null,"26","09","08",2,2600000,9000,80,2,2609082,"WILCZYCE",1076.24]
[1412094,"",1230,"",12,null,null,null,null,null,null,null,null,null,null,null,null,null,null,null,null,null,null,null,null,null,null,null,null,null,null,"26","10","04",2,2600000,10000,40,2,2610042,"SKARŻYSKO-KOŚCIELNE",1227.06]
[1412125,"",13719,"",137,null,null,null,null,null,null,null,null,null,null,null,null,null,null,null,null,null,null,null,null,null,null,null,null,null,null,"26","11","03",2,2600000,11000,30,2,2611032,"MIRZEC",1032.18]
["","Powiat mławski  (10 gmin)",null,null,null,null,null,null,null,null,null,null,null,null,null,null,null,null,null,null,null,null,null,null,null,null,null,null,null,null,null,"26","11","04",2,2600000,11000,40,2,2611042,"PAWŁÓW",1011.32]
[1413042,"  Radzanów..........................................................................................................................................................................................................................................................",9886,"",99,null,null,null,null,null,null,null,null,null,null,null,null,null,null,null,null,null,null,null,null,null,null,null,null,null,null,"26","12","05",3,2600000,12000,50,3,2612053,"POŁANIEC",3349.9]
[1413072,"  Szreńsk..........................................................................................................................................................................................................................................................",10939,"",109,null,null,null,null,null,null,null,null,null,null,null,null,null,null,null,null,null,null,null,null,null,null,null,null,null,null,"26","12","08",3,2600000,12000,80,3,2612083,"SZYDŁÓW",1092.78]
["","",null,null,null,null,null,null,null,null,null,null,null,null,null,null,null,null,null,null,null,null,null,null,null,null,null,null,null,null,null,"26","13","05",2,2600000,13000,50,2,2613052,"SECEMIN",1254.48]
["","",null,null,null,null,null,null,null,null,null,null,null,null,null,null,null,null,null,null,null,null,null,null,null,null,null,null,null,null,null,"26","61","01",1,2600000,61000,10,1,2661011,"Kielce",2197.62]
[1414052,"  Pomiechówek..........................................................................................................................................................................................................................................................",10268,"",103,null,null,null,null,null,null,null,null,null,null,null,null,null,null,null,null,null,null,null,null,null,null,null,null,null,null,"28","01","03",2,2800000,1000,30,2,2801032,"BARTOSZYCE",1828.41]
[1414063,"  Zakroczym..........................................................................................................................................................................................................................................................",7170,"",72,null,null,null,null,null,null,null,null,null,null,null,null,null,null,null,null,null,null,null,null,null,null,null,null,null,null,"28","02","02",2,2800000,2000,20,2,2802022,"BRANIEWO",1721.13]
["","",null,null,null,null,null,null,null,null,null,null,null,null,null,null,null,null,null,null,null,null,null,null,null,null,null,null,null,null,null,"28","02","06",2,2800000,2000,60,2,2802062,"PŁOSKINIA",2637.55]
[1415012,"  Baranowo..........................................................................................................................................................................................................................................................",19757,"",197,null,null,null,null,null,null,null,null,null,null,null,null,null,null,null,null,null,null,null,null,null,null,null,null,null,null,"28","02","07",2,2800000,2000,70,2,2802072,"WILCZĘTA",1537.47]
[1415052,"  Kadzidło..........................................................................................................................................................................................................................................................",25888,"",259,null,null,null,null,null,null,null,null,null,null,null,null,null,null,null,null,null,null,null,null,null,null,null,null,null,null,"28","03","04",3,2800000,3000,40,3,2803043,"LIDZBARK",1319.97]
[1415112,"  Troszyn..........................................................................................................................................................................................................................................................",15630,"",156,null,null,null,null,null,null,null,null,null,null,null,null,null,null,null,null,null,null,null,null,null,null,null,null,null,null,"28","04","03",2,2800000,4000,30,2,2804032,"GRONOWO ELBLĄSKIE",1405.86]
["","Powiat ostrowski  (11 gmin)",null,null,null,null,null,null,null,null,null,null,null,null,null,null,null,null,null,null,null,null,null,null,null,null,null,null,null,null,null,"28","04","08",2,2800000,4000,80,2,2804082,"RYCHLIKI",1205.1600000000001]
[1416011,"  Ostrów Mazowiecka..........................................................................................................................................................................................................................................................",2227,"",22,null,null,null,null,null,null,null,null,null,null,null,null,null,null,null,null,null,null,null,null,null,null,null,null,null,null,"28","05","01",1,2800000,5000,10,1,2805011,"EŁK",1493.92]
[1416032,"  Boguty-Pianki..........................................................................................................................................................................................................................................................",8909,"",89,null,null,null,null,null,null,null,null,null,null,null,null,null,null,null,null,null,null,null,null,null,null,null,null,null,null,"28","05","04",2,2800000,5000,40,2,2805042,"PROSTKI",1394.1]
[1416092,"  Szulborze Wielkie..........................................................................................................................................................................................................................................................",4672,"",47,null,null,null,null,null,null,null,null,null,null,null,null,null,null,null,null,null,null,null,null,null,null,null,null,null,null,"28","06","06",2,2800000,6000,60,2,2806062,"MIŁKI",1511]
[1416043,"  Brok..........................................................................................................................................................................................................................................................",10991,"",110,null,null,null,null,null,null,null,null,null,null,null,null,null,null,null,null,null,null,null,null,null,null,null,null,null,null,"28","07","02",1,2800000,7000,20,1,2807021,"LUBAWA",2553.13]
[1416044,"",2806,"",28,null,null,null,null,null,null,null,null,null,null,null,null,null,null,null,null,null,null,null,null,null,null,null,null,null,null,"28","07","03",2,2800000,7000,30,2,2807032,"IŁAWA",1976.75]
[1417011,"  Józefów..........................................................................................................................................................................................................................................................",2391,"",24,null,null,null,null,null,null,null,null,null,null,null,null,null,null,null,null,null,null,null,null,null,null,null,null,null,null,"28","07","07",3,2800000,7000,70,3,2807073,"ZALEWO",1823.73]
[1417062,"  Osieck..........................................................................................................................................................................................................................................................",6798,"",68,null,null,null,null,null,null,null,null,null,null,null,null,null,null,null,null,null,null,null,null,null,null,null,null,null,null,"28","08","05",3,2800000,8000,50,3,2808053,"RESZEL",1394.06]
[1417044,"",2812,"",28,null,null,null,null,null,null,null,null,null,null,null,null,null,null,null,null,null,null,null,null,null,null,null,null,null,null,"28","09","04",2,2800000,9000,40,2,2809042,"LUBOMINO",1224]
["","Powiat piaseczyński  (6 gmin)",null,null,null,null,null,null,null,null,null,null,null,null,null,null,null,null,null,null,null,null,null,null,null,null,null,null,null,null,null,"28","10","01",1,2800000,10000,10,1,2810011,"MRĄGOWO",1987.31]
[1418052,"  Prażmów..........................................................................................................................................................................................................................................................",8647,"",87,null,null,null,null,null,null,null,null,null,null,null,null,null,null,null,null,null,null,null,null,null,null,null,null,null,null,"28","10","04",2,2800000,10000,40,2,2810042,"PIECKI",1555.49]
[1418023,"  Konstancin-Jeziorna..........................................................................................................................................................................................................................................................",7858,"",79,null,null,null,null,null,null,null,null,null,null,null,null,null,null,null,null,null,null,null,null,null,null,null,null,null,null,"28","11","04",3,2800000,11000,40,3,2811043,"NIDZICA",1648.32]
[1418044,"",1622,"",16,null,null,null,null,null,null,null,null,null,null,null,null,null,null,null,null,null,null,null,null,null,null,null,null,null,null,"28","12","04",2,2800000,12000,40,2,2812042,"KURZĘTNIK",1453.1]
[1418045,"",11204,"",112,null,null,null,null,null,null,null,null,null,null,null,null,null,null,null,null,null,null,null,null,null,null,null,null,null,null,"28","12","05",2,2800000,12000,50,2,2812052,"NOWE MIASTO LUBAWSKIE",1206.6600000000001]
["","Powiat płocki  (15 gmin)",null,null,null,null,null,null,null,null,null,null,null,null,null,null,null,null,null,null,null,null,null,null,null,null,null,null,null,null,null,"28","13","06",2,2800000,13000,60,2,2813062,"WIELICZKI",1472.2]
[1419042,"  Bulkowo..........................................................................................................................................................................................................................................................",11693,"",117,null,null,null,null,null,null,null,null,null,null,null,null,null,null,null,null,null,null,null,null,null,null,null,null,null,null,"28","14","05",2,2800000,14000,50,2,2814052,"GIETRZWAŁD",2315.86]
[1419112,"  Słubice..........................................................................................................................................................................................................................................................",9582,"",96,null,null,null,null,null,null,null,null,null,null,null,null,null,null,null,null,null,null,null,null,null,null,null,null,null,null,"28","14","10",2,2800000,14000,100,2,2814102,"PURDA",1998.63]
[1419132,"  Stara Biała..........................................................................................................................................................................................................................................................",11112,"",111,null,null,null,null,null,null,null,null,null,null,null,null,null,null,null,null,null,null,null,null,null,null,null,null,null,null,"28","14","12",2,2800000,14000,120,2,2814122,"ŚWIĄTKI",1428.73]
[1419053,"  Drobin..........................................................................................................................................................................................................................................................",14350,"",144,null,null,null,null,null,null,null,null,null,null,null,null,null,null,null,null,null,null,null,null,null,null,null,null,null,null,"28","15","03",2,2800000,15000,30,2,2815032,"GRUNWALD",1175]
[1419065,"",11826,"",118,null,null,null,null,null,null,null,null,null,null,null,null,null,null,null,null,null,null,null,null,null,null,null,null,null,null,"28","15","08",3,2800000,15000,80,3,2815083,"MORĄG",1654.36]
["","Powiat płoński  (12 gmin)",null,null,null,null,null,null,null,null,null,null,null,null,null,null,null,null,null,null,null,null,null,null,null,null,null,null,null,null,null,"28","16","03",3,2800000,16000,30,3,2816033,"PISZ",1589.38]
["","",null,null,null,null,null,null,null,null,null,null,null,null,null,null,null,null,null,null,null,null,null,null,null,null,null,null,null,null,null,"28","16","04",3,2800000,16000,40,3,2816043,"RUCIANE-NIDA",1838.94]
[1420032,"  Baboszewo..........................................................................................................................................................................................................................................................",16223,"",162,null,null,null,null,null,null,null,null,null,null,null,null,null,null,null,null,null,null,null,null,null,null,null,null,null,null,"28","17","04",3,2800000,17000,40,3,2817043,"PASYM",2407.39]
[1420082,"  Nowe Miasto..........................................................................................................................................................................................................................................................",11785,"",118,null,null,null,null,null,null,null,null,null,null,null,null,null,null,null,null,null,null,null,null,null,null,null,null,null,null,"28","18","01",2,2800000,18000,10,2,2818012,"BANIE MAZURSKIE",1158.99]
["","Powiat pruszkowski  (6 gmin)",null,null,null,null,null,null,null,null,null,null,null,null,null,null,null,null,null,null,null,null,null,null,null,null,null,null,null,null,null,"28","19","03",3,2800000,19000,30,3,2819033,"WĘGORZEWO",1632.36]
[1421011,"  Piastów..........................................................................................................................................................................................................................................................",576,"↓",6,null,null,null,null,null,null,null,null,null,null,null,null,null,null,null,null,null,null,null,null,null,null,null,null,null,null,"28","62","01",1,2800000,62000,10,1,2862011,"Olsztyn",2452.81]
[1421042,"  Michałowice..........................................................................................................................................................................................................................................................",3473,"",35,null,null,null,null,null,null,null,null,null,null,null,null,null,null,null,null,null,null,null,null,null,null,null,null,null,null,"30","01","03",2,3000000,1000,30,2,3001032,"CHODZIEŻ",2581.2800000000002]
[1421034,"",1010,"",10,null,null,null,null,null,null,null,null,null,null,null,null,null,null,null,null,null,null,null,null,null,null,null,null,null,null,"30","02","03",2,3000000,2000,30,2,3002032,"DRAWSKO",1362.75]
[1422011,"  Przasnysz..........................................................................................................................................................................................................................................................",2516,"",25,null,null,null,null,null,null,null,null,null,null,null,null,null,null,null,null,null,null,null,null,null,null,null,null,null,null,"30","02","07",3,3000000,2000,70,3,3002073,"TRZCIANKA",1728.94]
["","",null,null,null,null,null,null,null,null,null,null,null,null,null,null,null,null,null,null,null,null,null,null,null,null,null,null,null,null,null,"30","02","08",3,3000000,2000,80,3,3002083,"WIELEŃ",1515.2]
[1422062,"  Krzynowłoga Mała..........................................................................................................................................................................................................................................................",18487,"",185,null,null,null,null,null,null,null,null,null,null,null,null,null,null,null,null,null,null,null,null,null,null,null,null,null,null,"30","03","04",2,3000000,3000,40,2,3003042,"KISZKOWO",2080.12]
[1422025,"",35318,"",353,null,null,null,null,null,null,null,null,null,null,null,null,null,null,null,null,null,null,null,null,null,null,null,null,null,null,"30","03","09",3,3000000,3000,90,3,3003093,"TRZEMESZNO",2142.88]
[1423032,"  Klwów..........................................................................................................................................................................................................................................................",8675,"",87,null,null,null,null,null,null,null,null,null,null,null,null,null,null,null,null,null,null,null,null,null,null,null,null,null,null,"30","04","04",2,3000000,4000,40,2,3004042,"PĘPOWO",2063.4]
[1423052,"  Potworów..........................................................................................................................................................................................................................................................",8170,"",82,null,null,null,null,null,null,null,null,null,null,null,null,null,null,null,null,null,null,null,null,null,null,null,null,null,null,"30","04","06",3,3000000,4000,60,3,3004063,"POGORZELA",1621.17]
["","",null,null,null,null,null,null,null,null,null,null,null,null,null,null,null,null,null,null,null,null,null,null,null,null,null,null,null,null,null,"30","05","02",3,3000000,5000,20,3,3005023,"GRODZISK WIELKOPOLSKI",2192.77]
["","",null,null,null,null,null,null,null,null,null,null,null,null,null,null,null,null,null,null,null,null,null,null,null,null,null,null,null,null,null,"30","06","02",3,3000000,6000,20,3,3006023,"JAROCIN",2036.3]
[1424052,"  Świercze..........................................................................................................................................................................................................................................................",9337,"",93,null,null,null,null,null,null,null,null,null,null,null,null,null,null,null,null,null,null,null,null,null,null,null,null,null,null,"30","07","02",2,3000000,7000,20,2,3007022,"BRZEZINY",1277.6400000000001]
[1424062,"  Winnica..........................................................................................................................................................................................................................................................",11504,"",115,null,null,null,null,null,null,null,null,null,null,null,null,null,null,null,null,null,null,null,null,null,null,null,null,null,null,"30","07","03",2,3000000,7000,30,2,3007032,"CEKÓW-KOLONIA",1735.41]
[1424044,"",2307,"",23,null,null,null,null,null,null,null,null,null,null,null,null,null,null,null,null,null,null,null,null,null,null,null,null,null,null,"30","07","07",2,3000000,7000,70,2,3007072,"MYCIELIN",947.34]
["","",null,null,null,null,null,null,null,null,null,null,null,null,null,null,null,null,null,null,null,null,null,null,null,null,null,null,null,null,null,"30","08","01",2,3000000,8000,10,2,3008012,"BARANÓW",4946.87]
[1425072,"  Kowala..........................................................................................................................................................................................................................................................",7468,"",75,null,null,null,null,null,null,null,null,null,null,null,null,null,null,null,null,null,null,null,null,null,null,null,null,null,null,"30","08","06",2,3000000,8000,60,2,3008062,"RYCHTAL",1254.51]
[1425092,"  Przytyk..........................................................................................................................................................................................................................................................",13437,"",134,null,null,null,null,null,null,null,null,null,null,null,null,null,null,null,null,null,null,null,null,null,null,null,null,null,null,"30","09","01",1,3000000,9000,10,1,3009011,"KOŁO",2400.2800000000002]
[1425132,"  Zakrzew..........................................................................................................................................................................................................................................................",9630,"",96,null,null,null,null,null,null,null,null,null,null,null,null,null,null,null,null,null,null,null,null,null,null,null,null,null,null,"30","09","04",3,3000000,9000,40,3,3009043,"DĄBIE",1115.3399999999999]
[1425103,"  Skaryszew..........................................................................................................................................................................................................................................................",17127,"",171,null,null,null,null,null,null,null,null,null,null,null,null,null,null,null,null,null,null,null,null,null,null,null,null,null,null,"30","09","09",2,3000000,9000,90,2,3009092,"OLSZÓWKA",1058.06]
["","",null,null,null,null,null,null,null,null,null,null,null,null,null,null,null,null,null,null,null,null,null,null,null,null,null,null,null,null,null,"30","10","02",2,3000000,10000,20,2,3010022,"GRODZIEC",842.26]
[1426012,"  Domanice..........................................................................................................................................................................................................................................................",4697,"",47,null,null,null,null,null,null,null,null,null,null,null,null,null,null,null,null,null,null,null,null,null,null,null,null,null,null,"30","10","03",2,3000000,10000,30,2,3010032,"KAZIMIERZ BISKUPI",2271.0700000000002]
[1426062,"  Paprotnia..........................................................................................................................................................................................................................................................",8143,"",81,null,null,null,null,null,null,null,null,null,null,null,null,null,null,null,null,null,null,null,null,null,null,null,null,null,null,"30","10","07",3,3000000,10000,70,3,3010073,"RYCHWAŁ",1222.29]
[1426112,"  Wiśniew..........................................................................................................................................................................................................................................................",12600,"",126,null,null,null,null,null,null,null,null,null,null,null,null,null,null,null,null,null,null,null,null,null,null,null,null,null,null,"30","10","12",3,3000000,10000,120,3,3010123,"ŚLESIN",2153.58]
[1426054,"",454,"",5,null,null,null,null,null,null,null,null,null,null,null,null,null,null,null,null,null,null,null,null,null,null,null,null,null,null,"30","11","03",2,3000000,11000,30,2,3011032,"KOŚCIAN",2647.91]
["","Powiat sierpecki  (7 gmin)",null,null,null,null,null,null,null,null,null,null,null,null,null,null,null,null,null,null,null,null,null,null,null,null,null,null,null,null,null,"30","11","05",3,3000000,11000,50,3,3011053,"ŚMIGIEL",2075.13]
["","",null,null,null,null,null,null,null,null,null,null,null,null,null,null,null,null,null,null,null,null,null,null,null,null,null,null,null,null,null,"30","12","03",3,3000000,12000,30,3,3012033,"KOŹMIN WIELKOPOLSKI",1810.97]
[1427062,"  Szczutowo..........................................................................................................................................................................................................................................................",11268,"",113,null,null,null,null,null,null,null,null,null,null,null,null,null,null,null,null,null,null,null,null,null,null,null,null,null,null,"30","13","02",2,3000000,13000,20,2,3013022,"LIPNO",2432.1999999999998]
[1428011,"  Sochaczew..........................................................................................................................................................................................................................................................",2619,"",26,null,null,null,null,null,null,null,null,null,null,null,null,null,null,null,null,null,null,null,null,null,null,null,null,null,null,"30","13","06",2,3000000,13000,60,2,3013062,"WIJEWO",1591.8]
["","",null,null,null,null,null,null,null,null,null,null,null,null,null,null,null,null,null,null,null,null,null,null,null,null,null,null,null,null,null,"30","13","07",2,3000000,13000,70,2,3013072,"WŁOSZAKOWICE",2402.27]
[1428052,"  Nowa Sucha..........................................................................................................................................................................................................................................................",9015,"",90,null,null,null,null,null,null,null,null,null,null,null,null,null,null,null,null,null,null,null,null,null,null,null,null,null,null,"30","14","04",3,{"$f":"AF2248*100000","v":3000000},{"$f":"AG2248*1000","v":14000},{"$f":"AH2248*10","v":40},{"$f":"AI2248*1","v":3},{"$f":"SUM(AJ2248:AM2248)","v":3014043},"SIERAKÓW",2158.11]
["","",null,null,null,null,null,null,null,null,null,null,null,null,null,null,null,null,null,null,null,null,null,null,null,null,null,null,null,null,null,"30","15","05",3,3000000,15000,50,3,3015053,"OPALENICA",2149.5300000000002]
[1429042,"  Jabłonna Lacka..........................................................................................................................................................................................................................................................",14927,"",149,null,null,null,null,null,null,null,null,null,null,null,null,null,null,null,null,null,null,null,null,null,null,null,null,null,null,"30","17","01",1,3000000,17000,10,1,3017011,"OSTRÓW WIELKOPOLSKI",2151.0500000000002]
[1429072,"  Sabnie..........................................................................................................................................................................................................................................................",10798,"",108,null,null,null,null,null,null,null,null,null,null,null,null,null,null,null,null,null,null,null,null,null,null,null,null,null,null,"30","17","03",3,3000000,17000,30,3,3017033,"ODOLANÓW",2173.8200000000002]
["","",null,null,null,null,null,null,null,null,null,null,null,null,null,null,null,null,null,null,null,null,null,null,null,null,null,null,null,null,null,"30","17","06",3,3000000,17000,60,3,3017063,"RASZKÓW",1894.98]
["","",null,null,null,null,null,null,null,null,null,null,null,null,null,null,null,null,null,null,null,null,null,null,null,null,null,null,null,null,null,"30","18","03",3,3000000,18000,30,3,3018033,"GRABÓW NAD PROSNĄ",1636.12]
[1430042,"  Orońsko..........................................................................................................................................................................................................................................................",8195,"",82,null,null,null,null,null,null,null,null,null,null,null,null,null,null,null,null,null,null,null,null,null,null,null,null,null,null,"30","18","07",3,3000000,18000,70,3,3018073,"OSTRZESZÓW",1961.44]
["","",null,null,null,null,null,null,null,null,null,null,null,null,null,null,null,null,null,null,null,null,null,null,null,null,null,null,null,null,null,"30","19","01",1,3000000,19000,10,1,3019011,"PIŁA",2279.9899999999998]
["","Powiat warszawski zachodni  (7 gmin)",null,null,null,null,null,null,null,null,null,null,null,null,null,null,null,null,null,null,null,null,null,null,null,null,null,null,null,null,null,"30","19","05",2,3000000,19000,50,2,3019052,"MIASTECZKO KRAJEŃSKIE",1445.31]
[1432072,"  Stare Babice..........................................................................................................................................................................................................................................................",6342,"",63,null,null,null,null,null,null,null,null,null,null,null,null,null,null,null,null,null,null,null,null,null,null,null,null,null,null,"30","20","01",3,3000000,20000,10,3,3020013,"CHOCZ",956.27]
[1432053,"  Łomianki..........................................................................................................................................................................................................................................................",3883,"",39,null,null,null,null,null,null,null,null,null,null,null,null,null,null,null,null,null,null,null,null,null,null,null,null,null,null,"30","20","06",3,3000000,20000,60,3,3020063,"PLESZEW",1924.51]
[1432055,"",3043,"",31,null,null,null,null,null,null,null,null,null,null,null,null,null,null,null,null,null,null,null,null,null,null,null,null,null,null,"30","21","02",1,3000000,21000,20,1,3021021,"PUSZCZYKOWO",3379.36]
[1432065,"",6314,"",63,null,null,null,null,null,null,null,null,null,null,null,null,null,null,null,null,null,null,null,null,null,null,null,null,null,null,"30","21","05",2,3000000,21000,50,2,3021052,"DOPIEWO",3317.92]
[1433022,"  Grębków..........................................................................................................................................................................................................................................................",13076,"",131,null,null,null,null,null,null,null,null,null,null,null,null,null,null,null,null,null,null,null,null,null,null,null,null,null,null,"30","21","10",3,3000000,21000,100,3,3021103,"MOSINA",2306.9]
[1433072,"  Sadowne..........................................................................................................................................................................................................................................................",14473,"",145,null,null,null,null,null,null,null,null,null,null,null,null,null,null,null,null,null,null,null,null,null,null,null,null,null,null,"30","21","14",3,3000000,21000,140,3,3021143,"STĘSZEW",2771.64]
[1433082,"  Stoczek..........................................................................................................................................................................................................................................................",14454,"",145,null,null,null,null,null,null,null,null,null,null,null,null,null,null,null,null,null,null,null,null,null,null,null,null,null,null,"30","21","15",2,3000000,21000,150,2,3021152,"SUCHY LAS",7046.95]
[1433054,"",1339,"",13,null,null,null,null,null,null,null,null,null,null,null,null,null,null,null,null,null,null,null,null,null,null,null,null,null,null,"30","22","02",3,3000000,22000,20,3,3022023,"JUTROSIN",1451.97]
[1434021,"  Marki..........................................................................................................................................................................................................................................................",2615,"",26,null,null,null,null,null,null,null,null,null,null,null,null,null,null,null,null,null,null,null,null,null,null,null,null,null,null,"30","23","02",2,3000000,23000,20,2,3023022,"LĄDEK",1202.58]
[1434062,"  Jadów..........................................................................................................................................................................................................................................................",11658,"",117,null,null,null,null,null,null,null,null,null,null,null,null,null,null,null,null,null,null,null,null,null,null,null,null,null,null,"30","23","07",2,3000000,23000,70,2,3023072,"STRZAŁKOWO",1981.93]
[1434082,"  Poświętne..........................................................................................................................................................................................................................................................",10395,"",104,null,null,null,null,null,null,null,null,null,null,null,null,null,null,null,null,null,null,null,null,null,null,null,null,null,null,"30","24","01",1,3000000,24000,10,1,3024011,"OBRZYCKO",1506.6]
[1434093,"  Radzymin..........................................................................................................................................................................................................................................................",12946,"",129,null,null,null,null,null,null,null,null,null,null,null,null,null,null,null,null,null,null,null,null,null,null,null,null,null,null,"30","24","04",2,3000000,24000,40,2,3024042,"OBRZYCKO",1422.22]
[1434115,"",9510,"",95,null,null,null,null,null,null,null,null,null,null,null,null,null,null,null,null,null,null,null,null,null,null,null,null,null,null,"30","25","01",2,3000000,25000,10,2,3025012,"DOMINOWO",1801.64]
["","Powiat wyszkowski  (6 gmin)",null,null,null,null,null,null,null,null,null,null,null,null,null,null,null,null,null,null,null,null,null,null,null,null,null,null,null,null,null,"30","25","05",2,3000000,25000,50,2,3025052,"ZANIEMYŚL",2174.87]
["","",null,null,null,null,null,null,null,null,null,null,null,null,null,null,null,null,null,null,null,null,null,null,null,null,null,null,null,null,null,"30","26","01",2,3000000,26000,10,2,3026012,"BRODNICA",1496.8]
[1435042,"  Somianka..........................................................................................................................................................................................................................................................",11769,"",118,null,null,null,null,null,null,null,null,null,null,null,null,null,null,null,null,null,null,null,null,null,null,null,null,null,null,"30","27","01",1,3000000,27000,10,1,3027011,"TUREK",2139.9899999999998]
[1435055,"",14440,"",144,null,null,null,null,null,null,null,null,null,null,null,null,null,null,null,null,null,null,null,null,null,null,null,null,null,null,"30","27","06",2,3000000,27000,60,2,3027062,"PRZYKONA",4237.7299999999996]
[1436032,"  Przyłęk..........................................................................................................................................................................................................................................................",13157,"",131,null,null,null,null,null,null,null,null,null,null,null,null,null,null,null,null,null,null,null,null,null,null,null,null,null,null,"30","28","02",2,3000000,28000,20,2,3028022,"DAMASŁAWEK",1252.4000000000001]
["","",null,null,null,null,null,null,null,null,null,null,null,null,null,null,null,null,null,null,null,null,null,null,null,null,null,null,null,null,null,"30","28","04",2,3000000,28000,40,2,3028042,"MIEŚCISKO",1836.25]
[1436055,"",14623,"",146,null,null,null,null,null,null,null,null,null,null,null,null,null,null,null,null,null,null,null,null,null,null,null,null,null,null,"30","28","07",2,3000000,28000,70,2,3028072,"WĄGROWIEC",1403.68]
[1437052,"  Siemiątkowo..........................................................................................................................................................................................................................................................",11340,"",113,null,null,null,null,null,null,null,null,null,null,null,null,null,null,null,null,null,null,null,null,null,null,null,null,null,null,"30","30","02",3,3000000,30000,20,3,3030023,"MIŁOSŁAW",1624.59]
[1437015,"",10939,"",109,null,null,null,null,null,null,null,null,null,null,null,null,null,null,null,null,null,null,null,null,null,null,null,null,null,null,"30","31","01",1,3000000,31000,10,1,3031011,"ZŁOTÓW",2215.4299999999998]
[1437033,"  Lubowidz..........................................................................................................................................................................................................................................................",19078,"",192,null,null,null,null,null,null,null,null,null,null,null,null,null,null,null,null,null,null,null,null,null,null,null,null,null,null,"30","31","02",3,3000000,31000,20,3,3031023,"JASTROWIE",1625.09]
[1437065,"",12174,"",122,null,null,null,null,null,null,null,null,null,null,null,null,null,null,null,null,null,null,null,null,null,null,null,null,null,null,"30","31","07",2,3000000,31000,70,2,3031072,"ZAKRZEWO",1456.3]
["","",null,null,null,null,null,null,null,null,null,null,null,null,null,null,null,null,null,null,null,null,null,null,null,null,null,null,null,null,null,"30","63","01",1,3000000,63000,10,1,3063011,"Leszno",2352.5100000000002]
[1438023,"  Mszczonów..........................................................................................................................................................................................................................................................",15185,"",152,null,null,null,null,null,null,null,null,null,null,null,null,null,null,null,null,null,null,null,null,null,null,null,null,null,null,"32","01","04",3,3200000,1000,40,3,3201043,"TYCHOWO",1606.17]
[1438025,"",14329,"",143,null,null,null,null,null,null,null,null,null,null,null,null,null,null,null,null,null,null,null,null,null,null,null,null,null,null,"32","02","02",3,{"$f":"AF2376*100000","v":3200000},{"$f":"AG2376*1000","v":2000},{"$f":"AH2376*10","v":20},{"$f":"AI2376*1","v":3},{"$f":"SUM(AJ2376:AM2376)","v":3202023},"CHOSZCZNO",1538.63]
[1462011,"  Płock..........................................................................................................................................................................................................................................................",8804,"",88,null,null,null,null,null,null,null,null,null,null,null,null,null,null,null,null,null,null,null,null,null,null,null,null,null,null,"32","02","05",3,3200000,2000,50,3,3202053,"PEŁCZYCE",1348.63]
[1465028,"  Bemowo..........................................................................................................................................................................................................................................................",2495,"",25,null,null,null,null,null,null,null,null,null,null,null,null,null,null,null,null,null,null,null,null,null,null,null,null,null,null,"32","03","05",2,3200000,3000,50,2,3203052,"WIERZCHOWO",1696.74]
[1465068,"  Ochota..........................................................................................................................................................................................................................................................",972,"",10,null,null,null,null,null,null,null,null,null,null,null,null,null,null,null,null,null,null,null,null,null,null,null,null,null,null,"32","04","04",3,3200000,4000,40,3,3204043,"NOWOGARD",1601.17]
[1465078,"  Praga-Południe..........................................................................................................................................................................................................................................................",2238,"",22,null,null,null,null,null,null,null,null,null,null,null,null,null,null,null,null,null,null,null,null,null,null,null,null,null,null,"32","04","05",2,3200000,4000,50,2,3204052,"OSINA",1602.21]
[1465128,"  Ursus..........................................................................................................................................................................................................................................................",936,"",9,null,null,null,null,null,null,null,null,null,null,null,null,null,null,null,null,null,null,null,null,null,null,null,null,null,null,"32","05","03",2,3200000,5000,30,2,3205032,"KARNICE",1953.95]
[1465168,"  Wilanów..........................................................................................................................................................................................................................................................",3673,"",37,null,null,null,null,null,null,null,null,null,null,null,null,null,null,null,null,null,null,null,null,null,null,null,null,null,null,"32","06","01",2,3200000,6000,10,2,3206012,"BANIE",1339.91]
["","Powiat brzeski  (6 gmin)",null,null,null,null,null,null,null,null,null,null,null,null,null,null,null,null,null,null,null,null,null,null,null,null,null,null,null,null,null,"32","06","06",3,3200000,6000,60,3,3206063,"MORYŃ",1442.51]
[1601011,"  Brzeg..........................................................................................................................................................................................................................................................",1461,"↓",15,null,null,null,null,null,null,null,null,null,null,null,null,null,null,null,null,null,null,null,null,null,null,null,null,null,null,"32","06","08",3,3200000,6000,80,3,3206083,"TRZCIŃSKO-ZDRÓJ",1282.05]
[1601062,"  Olszanka..........................................................................................................................................................................................................................................................",9276,"",93,null,null,null,null,null,null,null,null,null,null,null,null,null,null,null,null,null,null,null,null,null,null,null,null,null,null,"32","07","02",3,3200000,7000,20,3,3207023,"GOLCZEWO",1999.94]
[1601035,"",27607,"",277,null,null,null,null,null,null,null,null,null,null,null,null,null,null,null,null,null,null,null,null,null,null,null,null,null,null,"32","08","01",1,3200000,8000,10,1,3208011,"KOŁOBRZEG",2227.66]
["","Powiat głubczycki  (4 gminy)",null,null,null,null,null,null,null,null,null,null,null,null,null,null,null,null,null,null,null,null,null,null,null,null,null,null,null,null,null,"32","08","05",2,3200000,8000,50,2,3208052,"RYMAŃ",2149.67]
["","",null,null,null,null,null,null,null,null,null,null,null,null,null,null,null,null,null,null,null,null,null,null,null,null,null,null,null,null,null,"32","08","06",2,3200000,8000,60,2,3208062,"SIEMYŚL",1794.81]
[1602015,"",10517,"",105,null,null,null,null,null,null,null,null,null,null,null,null,null,null,null,null,null,null,null,null,null,null,null,null,null,null,"32","09","04",2,3200000,9000,40,2,3209042,"MANOWO",1839.43]
[1602043,"  Kietrz..........................................................................................................................................................................................................................................................",13963,"",140,null,null,null,null,null,null,null,null,null,null,null,null,null,null,null,null,null,null,null,null,null,null,null,null,null,null,"32","09","08",2,3200000,9000,80,2,3209082,"ŚWIESZYNO",2199.7199999999998]
[1603011,"  Kędzierzyn-Koźle..........................................................................................................................................................................................................................................................",12371,"",124,null,null,null,null,null,null,null,null,null,null,null,null,null,null,null,null,null,null,null,null,null,null,null,null,null,null,"32","10","05",2,3200000,10000,50,2,3210052,"NOWOGRÓDEK POMORSKI",1651.26]
[1603022,"  Bierawa..........................................................................................................................................................................................................................................................",11856,"",119,null,null,null,null,null,null,null,null,null,null,null,null,null,null,null,null,null,null,null,null,null,null,null,null,null,null,"32","11","02",2,3200000,11000,20,2,3211022,"KOŁBASKOWO",3440.77]
[1603052,"  Polska Cerekiew..........................................................................................................................................................................................................................................................",6012,"",60,null,null,null,null,null,null,null,null,null,null,null,null,null,null,null,null,null,null,null,null,null,null,null,null,null,null,"32","12","01",2,3200000,12000,10,2,3212012,"BIELICE",1456.52]
["","",null,null,null,null,null,null,null,null,null,null,null,null,null,null,null,null,null,null,null,null,null,null,null,null,null,null,null,null,null,"32","12","06",2,3200000,12000,60,2,3212062,"WARNICE",1477.57]
[1604014,"",579,"",6,null,null,null,null,null,null,null,null,null,null,null,null,null,null,null,null,null,null,null,null,null,null,null,null,null,null,"32","13","02",1,3200000,13000,20,1,3213021,"SŁAWNO",1549.42]
[1604024,"",1235,"",12,null,null,null,null,null,null,null,null,null,null,null,null,null,null,null,null,null,null,null,null,null,null,null,null,null,null,"32","13","05",2,3200000,13000,50,2,3213052,"POSTOMINO",3931.72]
["","Powiat krapkowicki  (5 gmin)",null,null,null,null,null,null,null,null,null,null,null,null,null,null,null,null,null,null,null,null,null,null,null,null,null,null,null,null,null,"32","14","04",2,3200000,14000,40,2,3214042,"DOLICE",1262.26]
["","",null,null,null,null,null,null,null,null,null,null,null,null,null,null,null,null,null,null,null,null,null,null,null,null,null,null,null,null,null,"32","14","09",2,3200000,14000,90,2,3214092,"STARA DĄBROWA",1686.94]
[1605024,"",2101,"",21,null,null,null,null,null,null,null,null,null,null,null,null,null,null,null,null,null,null,null,null,null,null,null,null,null,null,"32","15","03",3,3200000,15000,30,3,3215033,"BIAŁY BÓR",2203.69]
[1605053,"  Zdzieszowice..........................................................................................................................................................................................................................................................",5744,"",57,null,null,null,null,null,null,null,null,null,null,null,null,null,null,null,null,null,null,null,null,null,null,null,null,null,null,"32","15","05",2,3200000,15000,50,2,3215052,"GRZMIĄCA",1504.64]
["","Powiat namysłowski  (5 gmin)",null,null,null,null,null,null,null,null,null,null,null,null,null,null,null,null,null,null,null,null,null,null,null,null,null,null,null,null,null,"32","16","02",2,3200000,16000,20,2,3216022,"BRZEŻNO",1493.66]
[1606052,"  Wilków..........................................................................................................................................................................................................................................................",10074,"",101,null,null,null,null,null,null,null,null,null,null,null,null,null,null,null,null,null,null,null,null,null,null,null,null,null,null,"32","17","01",1,3200000,17000,10,1,3217011,"WAŁCZ",1943.4]
[1606023,"  Namysłów..........................................................................................................................................................................................................................................................",29015,"",290,null,null,null,null,null,null,null,null,null,null,null,null,null,null,null,null,null,null,null,null,null,null,null,null,null,null,"32","17","03",3,3200000,17000,30,3,3217033,"MIROSŁAWIEC",2466.42]
["","Powiat nyski  (9 gmin)",null,null,null,null,null,null,null,null,null,null,null,null,null,null,null,null,null,null,null,null,null,null,null,null,null,null,null,null,null,"32","18","01",3,3200000,18000,10,3,3218013,"DOBRA",1159.52]
[1607092,"  Skoroszyce..........................................................................................................................................................................................................................................................",10386,"",104,null,null,null,null,null,null,null,null,null,null,null,null,null,null,null,null,null,null,null,null,null,null,null,null,null,null,"32","61","01",1,3200000,61000,10,1,3261011,"Koszalin",2298.0100000000002]
[1607015,"",16124,"",162,null,null,null,null,null,null,null,null,null,null,null,null,null,null,null,null,null,null,null,null,null,null,null,null,null,null,null,null,null,null,null,null,null,null,null,"Wskaźnik Gg dla kraju",2246.66]
[1607054,"",2751,"",28,null,null,null,null,null,null,null,null,null,null,null,null,null,null,null,null,null,null,null,null,null,null,null,null,null,null,null,null,null,null,null,null,null,null,null,"POTOK GÓRNY",{"$f":"MIN(AP7:AP2483)","v":541.25}]
[1607063,"  Otmuchów..........................................................................................................................................................................................................................................................",18740,"",187,null,null,null,null,null,null,null,null,null,null,null,null,null,null,null,null,null,null,null,null,null,null,null,null,null,null,null,null,null,null,null,null,null,null,null,"KLESZCZÓW",{"$f":"MAX(AP7:AP2483)","v":32477.69}]
[1607073,"  Paczków..........................................................................................................................................................................................................................................................",7998,"",80]
[1608052,"  Radłów..........................................................................................................................................................................................................................................................",11687,"",116]
[1608072,"  Zębowice..........................................................................................................................................................................................................................................................",9565,"",96]
[1608014,"",1953,"",19]
[1608033,"  Olesno..........................................................................................................................................................................................................................................................",24090,"",241]
[1608044,"",935,"",9]
[1609022,"  Dąbrowa..........................................................................................................................................................................................................................................................",11411,"",114]
[1609052,"  Łubniany..........................................................................................................................................................................................................................................................",12605,"",126]
[1609092,"  Popielów..........................................................................................................................................................................................................................................................",17549,"",176]
[1609074,"",1311,"",13]
[1609083,"  Ozimek..........................................................................................................................................................................................................................................................",12567,"",126]
[1609103,"  Prószków..........................................................................................................................................................................................................................................................",11826,"",118]
[1609125,"",7202,"",72]
["",""]
[1610024,"",2206,"",22]
[1610044,"",2050,"",20]
["","Powiat strzelecki  (7 gmin)"]
[1611033,"  Kolonowskie..........................................................................................................................................................................................................................................................",8357,"",84]
[1611035,"",2787,"",28]
[1611045,"",8025,"",80]
[1611064,"",1476,"",15]
[1611075,"",6568,"",66]
["",""]
["",""]
[1801084,"",1679,"",17]
[1802032,"  Dydnia..........................................................................................................................................................................................................................................................",13029,"",130]
[1802052,"  Jasienica Rosielna..........................................................................................................................................................................................................................................................",5706,"",57]
[1802013,"  Brzozów..........................................................................................................................................................................................................................................................",10307,"",103]
[1803011,"  Dębica..........................................................................................................................................................................................................................................................",3383,"",34]
[1803052,"  Jodłowa..........................................................................................................................................................................................................................................................",5992,"",60]
[1803025,"",11357,"",113]
[1803065,"",14909,"",149]
["",""]
[1804042,"  Jarosław..........................................................................................................................................................................................................................................................",11348,"",113]
[1804062,"  Pawłosiów..........................................................................................................................................................................................................................................................",4742,"",47]
[1804102,"  Roźwienica..........................................................................................................................................................................................................................................................",6875,"",69]
[1804075,"",6044,"",60]
["",""]
[1805072,"  Nowy Żmigród..........................................................................................................................................................................................................................................................",10359,"",104]
[1805112,"  Tarnowiec..........................................................................................................................................................................................................................................................",6250,"",62]
[1805053,"  Kołaczyce..........................................................................................................................................................................................................................................................",6110,"",61]
[1806012,"  Cmolas..........................................................................................................................................................................................................................................................",13399,"",134]
[1806032,"  Majdan Królewski..........................................................................................................................................................................................................................................................",15526,"",155]
["",""]
["",""]
[1807062,"  Krościenko Wyżne..........................................................................................................................................................................................................................................................",1631,"",16]
[1807024,"",548,"",5]
[1807034,"",589,"",6]
[1807043,"  Jedlicze..........................................................................................................................................................................................................................................................",5857,"",59]
[1807085,"",15424,"",155]
["",""]
[1821042,"  Olszanica..........................................................................................................................................................................................................................................................",9354,"",94]
[1821035,"",9606,"",96]
["",""]
[1808053,"  Nowa Sarzyna..........................................................................................................................................................................................................................................................",14373,"",144]
["","Powiat lubaczowski  (8 gmin)"]
[1809011,"  Lubaczów..........................................................................................................................................................................................................................................................",2573,"",26]
[1809082,"  Wielkie Oczy..........................................................................................................................................................................................................................................................",14624,"",146]
[1809023,"  Cieszanów..........................................................................................................................................................................................................................................................",21944,"",219]
[1809053,"  Narol..........................................................................................................................................................................................................................................................",20347,"",203]
[1809065,"",14676,"",147]
["",""]
[1810062,"  Rakszawa..........................................................................................................................................................................................................................................................",6646,"",66]
["",""]
["",""]
[1811062,"  Padew Narodowa..........................................................................................................................................................................................................................................................",7125,"",71]
[1811102,"  Wadowice Górne..........................................................................................................................................................................................................................................................",8690,"",87]
[1811074,"",1604,"",16]
["","Powiat niżański  (7 gmin)"]
[1812032,"  Jeżowe..........................................................................................................................................................................................................................................................",12393,"",124]
[1812055,"",8141,"",81]
[1812065,"",4209,"",42]
[1812074,"",820,"",8]
[1813022,"  Dubiecko..........................................................................................................................................................................................................................................................",15425,"",154]
[1813042,"  Krasiczyn..........................................................................................................................................................................................................................................................",12436,"",124]
[1813072,"  Orły..........................................................................................................................................................................................................................................................",7047,"",70]
["",""]
[1814032,"  Gać..........................................................................................................................................................................................................................................................",3596,"",36]
["",""]
[1814055,"",9743,"",97]
[1814074,"",674,"",7]
[1815022,"  Ostrów..........................................................................................................................................................................................................................................................",9619,"",96]
["",""]
[1815035,"",9198,"",92]
["",""]
[1816052,"  Dynów..........................................................................................................................................................................................................................................................",11902,"",118]
[1816122,"  Świlcza..........................................................................................................................................................................................................................................................",10818,"",108]
[1816132,"  Trzebownisko (a) ..........................................................................................................................................................................................................................................................",9028,"",90]
[1816034,"",911,"",8]
[1816064,"",1371,"",14]
[1816113,"  Sokołów Małopolski..........................................................................................................................................................................................................................................................",13420,"",134]
[1816143,"  Tyczyn..........................................................................................................................................................................................................................................................",5372,"",54]
[1817011,"  Sanok..........................................................................................................................................................................................................................................................",3808,"",38]
[1817042,"  Komańcza..........................................................................................................................................................................................................................................................",38770,"",388]
[1817073,"  Zagórz..........................................................................................................................................................................................................................................................",15989,"",160]
[1817074,"",2229,"",22]
[1818011,"  Stalowa Wola..........................................................................................................................................................................................................................................................",8252,"",83]
[1818062,"  Zaleszany..........................................................................................................................................................................................................................................................",8717,"",87]
[1818053,"  Zaklików..........................................................................................................................................................................................................................................................",20213,"",202]
["","Powiat strzyżowski  (5 gmin)"]
[1819052,"  Wiśniowa..........................................................................................................................................................................................................................................................",8338,"",83]
[1819045,"",12643,"",126]
["",""]
[1820013,"  Baranów Sandomierski..........................................................................................................................................................................................................................................................",12155,"",122]
[1820044,"",1670,"",17]
[1863011,"  Rzeszów ..........................................................................................................................................................................................................................................................",12661,"",126]
["","WOJ. PODLASKIE"]
[2001011,"  Augustów..........................................................................................................................................................................................................................................................",8090,"",81]
[2001062,"  Płaska (c)..........................................................................................................................................................................................................................................................",37267,"",372]
[2001045,"",17923,"",179]
[2002042,"  Gródek (c)..........................................................................................................................................................................................................................................................",42970,"",429]
[2002052,"  Juchnowiec Kościelny..........................................................................................................................................................................................................................................................",17177,"",171]
["",""]
[2002024,"",1428,"",14]
[2002063,"  Łapy..........................................................................................................................................................................................................................................................",12765,"",128]
[2002073,"  Michałowo..........................................................................................................................................................................................................................................................",41002,"",409]
[2002095,"",18287,"",183]
[2002124,"",2897,"",29]
[2002135,"",9886,"",99]
[2002143,"  Zabłudów..........................................................................................................................................................................................................................................................",33974,"",340]
["",""]
[2003042,"  Boćki..........................................................................................................................................................................................................................................................",23189,"",232]
[2003062,"  Orla..........................................................................................................................................................................................................................................................",15990,"",160]
["","Powiat grajewski  (6 gmin)"]
[2004032,"  Radziłów..........................................................................................................................................................................................................................................................",19954,"",200]
[2004045,"",17198,"",172]
["","Powiat hajnowski  (9 gmin)"]
["",""]
[2005032,"  Czeremcha (c)..........................................................................................................................................................................................................................................................",9682,"",97]
[2005092,"  Narewka (c)..........................................................................................................................................................................................................................................................",33898,"",339]
[2005074,"",4671,"",47]
["","Powiat kolneński  (6 gmin)"]
[2006032,"  Kolno..........................................................................................................................................................................................................................................................",28228,"",281]
[2006054,"",1324,"",13]
[2007022,"  Łomża..........................................................................................................................................................................................................................................................",20695,"",207]
[2007032,"  Miastkowo..........................................................................................................................................................................................................................................................",11485,"",115]
[2007082,"  Wizna..........................................................................................................................................................................................................................................................",13338,"",133]
[2007015,"",15467,"",155]
[2007045,"",8066,"",80]
["",""]
["",""]
[2008044,"",2368,"",24]
[2008065,"",15389,"",154]
["","Powiat sejneński  (5 gmin)"]
[2009022,"  Giby..........................................................................................................................................................................................................................................................",32320,"",323]
["",""]
[2010032,"  Dziadkowice..........................................................................................................................................................................................................................................................",11611,"",116]
[2010052,"  Mielnik..........................................................................................................................................................................................................................................................",19639,"",196]
["",""]
["",""]
[2011062,"  Nowy Dwór..........................................................................................................................................................................................................................................................",12114,"",121]
[2011072,"  Sidra..........................................................................................................................................................................................................................................................",17409,"",174]
[2011014,"",2264,"",23]
[2011083,"  Sokółka..........................................................................................................................................................................................................................................................",31356,"",314]
[2011093,"  Suchowola..........................................................................................................................................................................................................................................................",25570,"",256]
[2011095,"",22975,"",230]
[2012032,"  Jeleniewo..........................................................................................................................................................................................................................................................",13137,"",131]
[2012082,"  Szypliszki..........................................................................................................................................................................................................................................................",15643,"",156]
[2013011,"  Wysokie Mazowieckie..........................................................................................................................................................................................................................................................",1524,"",15]
["",""]
[2013072,"  Nowe Piekuty..........................................................................................................................................................................................................................................................",10970,"",110]
[2013024,"",1953,"",20]
[2013034,"",523,"",5]
[2013093,"  Szepietowo..........................................................................................................................................................................................................................................................",15172,"",152]
[2014011,"  Zambrów..........................................................................................................................................................................................................................................................",1902,"",19]
[2014052,"  Zambrów..........................................................................................................................................................................................................................................................",29940,"",299]
[2063011,"  Suwałki..........................................................................................................................................................................................................................................................",6551,"",66]
["","WOJ. POMORSKIE"]
[2201032,"  Czarna Dąbrówka..........................................................................................................................................................................................................................................................",29806,"",298]
[2201092,"  Trzebielino..........................................................................................................................................................................................................................................................",22597,"",226]
[2201023,"  Bytów..........................................................................................................................................................................................................................................................",19692,"",197]
[2201025,"",18820,"",188]
["",""]
["",""]
[2202043,"  Czersk..........................................................................................................................................................................................................................................................",38011,"",380]
[2202044,"",973,"",10]
[2203011,"  Człuchów..........................................................................................................................................................................................................................................................",1278,"",13]
[2203072,"  Rzeczenica..........................................................................................................................................................................................................................................................",27480,"",275]
[2203024,"",4643,"",46]
[2203043,"  Debrzno..........................................................................................................................................................................................................................................................",22403,"",224]
[2204011,"  Pruszcz Gdański..........................................................................................................................................................................................................................................................",1647,"",16]
[2204052,"  Przywidz..........................................................................................................................................................................................................................................................",12934,"",129]
["","Powiat kartuski  (8 gmin)"]
["",""]
[2205052,"  Somonino..........................................................................................................................................................................................................................................................",11211,"",112]
[2205024,"",735,"",7]
[2205084,"",473,"",5]
["","Powiat kościerski  (8 gmin)"]
[2206032,"  Karsin..........................................................................................................................................................................................................................................................",16943,"",169]
[2206082,"  Stara Kiszewa..........................................................................................................................................................................................................................................................",21273,"",213]
["",""]
[2207022,"  Gardeja..........................................................................................................................................................................................................................................................",19270,"",193]
["",""]
["",""]
["",""]
[2208042,"  Nowa Wieś Lęborska..........................................................................................................................................................................................................................................................",27045,"",270]
["",""]
["",""]
["","Powiat nowodworski  (5 gmin)"]
["",""]
[2210042,"  Stegna..........................................................................................................................................................................................................................................................",17009,"",170]
[2210025,"",20813,"",208]
[2211011,"  Hel (b)..........................................................................................................................................................................................................................................................",2295,"",23]
["",""]
[2211023,"  Jastarnia..........................................................................................................................................................................................................................................................",998,"",10]
[2211045,"",2852,"",29]
["",""]
[2212022,"  Damnica..........................................................................................................................................................................................................................................................",16766,"",168]
[2212072,"  Potęgowo..........................................................................................................................................................................................................................................................",22846,"",228]
[2212053,"  Kępice..........................................................................................................................................................................................................................................................",29305,"",293]
["","Powiat starogardzki  (13 gmin)"]
[2213021,"  Skórcz..........................................................................................................................................................................................................................................................",363,"↓",4]
[2213062,"  Lubichowo..........................................................................................................................................................................................................................................................",16090,"",160]
[2213122,"  Starogard Gdański..........................................................................................................................................................................................................................................................",19621,"",195]
[2213014,"",994,"",10]
[2213015,"",1779,"",18]
["","Powiat sztumski  (5 gmin)"]
["",""]
[2216054,"",459,"",5]
["",""]
["",""]
[2214023,"  Gniew..........................................................................................................................................................................................................................................................",19412,"",194]
[2214044,"",442,"",4]
[2214045,"",13660,"",137]
[2215021,"  Rumia..........................................................................................................................................................................................................................................................",3010,"",30]
[2215062,"  Linia..........................................................................................................................................................................................................................................................",11981,"",120]
["",""]
[2263011,"  Słupsk..........................................................................................................................................................................................................................................................",4315,"",43]
["","WOJ. ŚLĄSKIE"]
[2401081,"  Sławków..........................................................................................................................................................................................................................................................",3667,"",37]
[2401052,"  Mierzęcice..........................................................................................................................................................................................................................................................",4943,"",49]
[2401062,"  Psary..........................................................................................................................................................................................................................................................",4616,"",46]
[2401075,"",7519,"",75]
[2402022,"  Bestwina..........................................................................................................................................................................................................................................................",3792,"",38]
[2402082,"  Porąbka..........................................................................................................................................................................................................................................................",6443,"",65]
[2402043,"  Czechowice-Dziedzice..........................................................................................................................................................................................................................................................",6648,"",66]
[2402045,"",3357,"",33]
["",""]
["",""]
[2414042,"  Bojszowy..........................................................................................................................................................................................................................................................",3469,"",35]
[2403021,"  Ustroń..........................................................................................................................................................................................................................................................",5903,"",59]
[2403052,"  Chybie..........................................................................................................................................................................................................................................................",3175,"",32]
[2403122,"  Zebrzydowice..........................................................................................................................................................................................................................................................",4142,"",41]
[2403104,"",985,"",10]
[2403113,"  Strumień..........................................................................................................................................................................................................................................................",5854,"",59]
[2404022,"  Dąbrowa Zielona..........................................................................................................................................................................................................................................................",10021,"",100]
[2404072,"  Konopiska..........................................................................................................................................................................................................................................................",7851,"",79]
[2404082,"  Kruszyna..........................................................................................................................................................................................................................................................",9355,"",94]
[2404132,"  Poczesna..........................................................................................................................................................................................................................................................",5998,"",60]
["",""]
[2404064,"",3692,"",37]
["",""]
[2405021,"  Pyskowice..........................................................................................................................................................................................................................................................",3089,"",31]
[2405042,"  Pilchowice..........................................................................................................................................................................................................................................................",6983,"",70]
[2405065,"",10483,"",105]
[2405073,"  Toszek..........................................................................................................................................................................................................................................................",9982,"",100]
[2406032,"  Lipie..........................................................................................................................................................................................................................................................",9905,"",99]
[2406072,"  Popów..........................................................................................................................................................................................................................................................",10229,"",102]
[2406014,"",4746,"",47]
[2406024,"",2766,"",28]
["","Powiat lubliniecki  (8 gmin)"]
["",""]
[2407072,"  Pawonków..........................................................................................................................................................................................................................................................",11893,"",119]
["",""]
["",""]
["",""]
[2409011,"  Myszków..........................................................................................................................................................................................................................................................",7359,"",74]
[2409042,"  Poraj..........................................................................................................................................................................................................................................................",5706,"",57]
[2409023,"  Koziegłowy..........................................................................................................................................................................................................................................................",15964,"",160]
[2409053,"  Żarki..........................................................................................................................................................................................................................................................",10100,"",101]
[2410022,"  Kobiór..........................................................................................................................................................................................................................................................",4819,"",48]
[2410032,"  Miedźna..........................................................................................................................................................................................................................................................",5009,"",50]
[2410054,"",2249,"",22]
[2411011,"  Racibórz..........................................................................................................................................................................................................................................................",7501,"",75]
[2411072,"  Pietrowice Wielkie..........................................................................................................................................................................................................................................................",6793,"",68]
[2411033,"  Krzanowice..........................................................................................................................................................................................................................................................",4720,"",47]
[2411035,"",4412,"",43]
[2411055,"",9513,"",96]
[2412052,"  Świerklany..........................................................................................................................................................................................................................................................",2417,"",24]
["",""]
["",""]
[2413041,"  Tarnowskie Góry..........................................................................................................................................................................................................................................................",8388,"",84]
[2413082,"  Tworóg..........................................................................................................................................................................................................................................................",12504,"",125]
["",""]
[2415021,"  Radlin..........................................................................................................................................................................................................................................................",1253,"",13]
["",""]
["","Powiat zawierciański  (10 gmin)"]
["",""]
[2416042,"  Kroczyce..........................................................................................................................................................................................................................................................",11005,"",110]
[2416053,"  Łazy..........................................................................................................................................................................................................................................................",13293,"",133]
[2416065,"",5617,"",56]
[2416075,"",13454,"",135]
[2416084,"",1803,"",18]
["",""]
[2417052,"  Koszarawa..........................................................................................................................................................................................................................................................",3156,"",32]
[2417062,"  Lipowa..........................................................................................................................................................................................................................................................",5872,"",59]
[2417112,"  Rajcza..........................................................................................................................................................................................................................................................",13142,"",131]
[2417152,"  Węgierska Górka..........................................................................................................................................................................................................................................................",7647,"",76]
[2464011,"  Częstochowa..........................................................................................................................................................................................................................................................",15971,"",160]
[2467011,"  Jastrzębie-Zdrój..........................................................................................................................................................................................................................................................",8533,"",85]
[2469011,"  Katowice ..........................................................................................................................................................................................................................................................",16464,"",165]
[2472011,"  Ruda Śląska..........................................................................................................................................................................................................................................................",7773,"",78]
[2478011,"  Zabrze..........................................................................................................................................................................................................................................................",8040,"",80]
[2479011,"  Żory..........................................................................................................................................................................................................................................................",6464,"",65]
[2601052,"  Solec-Zdrój..........................................................................................................................................................................................................................................................",8504,"",85]
[2601014,"",1228,"",12]
[2601043,"  Pacanów..........................................................................................................................................................................................................................................................",12458,"",125]
[2601063,"  Stopnica..........................................................................................................................................................................................................................................................",12596,"",125]
[2601065,"",12141,"",121]
[2601085,"",9561,"",95]
[2602072,"  Słupia..........................................................................................................................................................................................................................................................",10842,"",108]
[2602082,"  Sobków..........................................................................................................................................................................................................................................................",14431,"",144]
[2602025,"",21525,"",216]
[2602063,"  Sędziszów..........................................................................................................................................................................................................................................................",14565,"",146]
[2603012,"  Bejsce..........................................................................................................................................................................................................................................................",5748,"",57]
[2603033,"  Kazimierza Wielka..........................................................................................................................................................................................................................................................",13986,"",140]
[2603035,"",13453,"",135]
[2603045,"",6311,"",63]
[2604012,"  Bieliny..........................................................................................................................................................................................................................................................",8822,"",88]
[2604062,"  Górno..........................................................................................................................................................................................................................................................",8316,"",83]
[2604142,"  Piekoszów..........................................................................................................................................................................................................................................................",10297,"",103]
[2604192,"  Zagnańsk..........................................................................................................................................................................................................................................................",12487,"",125]
[2604033,"  Chęciny..........................................................................................................................................................................................................................................................",12739,"",127]
[2604043,"  Chmielnik..........................................................................................................................................................................................................................................................",14219,"",142]
[2604045,"",13439,"",134]
[2604055,"",20689,"",206]
[2604125,"",13600,"",136]
[2604133,"  Nowa Słupia..........................................................................................................................................................................................................................................................",8576,"",86]
[2604155,"",9777,"",98]
[2605022,"  Gowarczów..........................................................................................................................................................................................................................................................",10096,"",101]
[2605033,"  Końskie..........................................................................................................................................................................................................................................................",25014,"",250]
[2605043,"  Radoszyce..........................................................................................................................................................................................................................................................",14664,"",146]
[2605045,"",12947,"",129]
[2605085,"",22073,"",221]
[2606062,"  Sadowie..........................................................................................................................................................................................................................................................",8181,"",82]
[2606072,"  Tarłów..........................................................................................................................................................................................................................................................",16335,"",164]
[2606045,"",10416,"",105]
["","Powiat ostrowiecki  (6 gmin)"]
[2607032,"  Bodzechów..........................................................................................................................................................................................................................................................",12219,"",122]
[2607043,"  Ćmielów..........................................................................................................................................................................................................................................................",11791,"",118]
[2607045,"",10457,"",104]
["",""]
[2608052,"  Złota..........................................................................................................................................................................................................................................................",8201,"",82]
[2608013,"  Działoszyce..........................................................................................................................................................................................................................................................",10576,"",106]
[2608045,"",19849,"",199]
["",""]
[2609072,"  Samborzec..........................................................................................................................................................................................................................................................",8524,"",85]
[2609043,"  Koprzywnica..........................................................................................................................................................................................................................................................",6933,"",69]
[2609045,"",5143,"",51]
["",""]
[2610022,"  Bliżyn..........................................................................................................................................................................................................................................................",14120,"",141]
[2610042,"  Skarżysko Kościelne..........................................................................................................................................................................................................................................................",5324,"",53]
["","Powiat starachowicki  (5 gmin)"]
[2611022,"  Brody..........................................................................................................................................................................................................................................................",16127,"",161]
[2611054,"",1602,"",16]
["",""]
[2612022,"  Łubnice..........................................................................................................................................................................................................................................................",8414,"",84]
[2612035,"",4334,"",43]
[2612045,"",11187,"",111]
[2612054,"",1741,"",17]
[2612083,"  Szydłów..........................................................................................................................................................................................................................................................",10790,"",108]
["",""]
[2613052,"  Secemin..........................................................................................................................................................................................................................................................",16260,"",163]
["",""]
["",""]
[2801011,"  Bartoszyce..........................................................................................................................................................................................................................................................",1179,"",11]
[2801032,"  Bartoszyce (c)..........................................................................................................................................................................................................................................................",42721,"",428]
["",""]
[2801064,"",463,"",5]
[2802011,"  Braniewo..........................................................................................................................................................................................................................................................",1241,"",12]
[2802072,"  Wilczęta..........................................................................................................................................................................................................................................................",14785,"",148]
["",""]
[2802053,"  Pieniężno..........................................................................................................................................................................................................................................................",24294,"",243]
[2803011,"  Działdowo..........................................................................................................................................................................................................................................................",1147,"",11]
[2803032,"  Iłowo-Osada..........................................................................................................................................................................................................................................................",10377,"",104]
[2803062,"  Rybno..........................................................................................................................................................................................................................................................",14841,"",148]
["","Powiat elbląski  (9 gmin)"]
[2804032,"  Gronowo Elbląskie..........................................................................................................................................................................................................................................................",8915,"",89]
[2804063,"  Młynary..........................................................................................................................................................................................................................................................",15841,"",158]
[2804064,"",276,"",3]
[2804075,"",25328,"",253]
["",""]
[2805022,"  Ełk..........................................................................................................................................................................................................................................................",37918,"",380]
[2805042,"  Prostki..........................................................................................................................................................................................................................................................",23108,"",231]
[2806042,"  Giżycko..........................................................................................................................................................................................................................................................",29706,"",296]
[2806102,"  Wydminy..........................................................................................................................................................................................................................................................",23299,"",233]
["","Powiat gołdapski  (3 gminy)"]
["",""]
[2818033,"  Gołdap..........................................................................................................................................................................................................................................................",36204,"",362]
[2807011,"  Iława..........................................................................................................................................................................................................................................................",2188,"",22]
[2807032,"  Iława..........................................................................................................................................................................................................................................................",42421,"",424]
["",""]
[2807065,"",25238,"",252]
[2807075,"",24571,"",246]
[2808022,"  Barciany (c)..........................................................................................................................................................................................................................................................",29408,"",295]
[2808032,"  Kętrzyn..........................................................................................................................................................................................................................................................",28536,"",285]
[2808044,"",403,"",4]
["","Powiat lidzbarski  (5 gmin)"]
["",""]
[2809032,"  Lidzbark Warmiński..........................................................................................................................................................................................................................................................",37212,"",373]
["","Powiat mrągowski  (5 gmin)"]
["",""]
[2810023,"  Mikołajki..........................................................................................................................................................................................................................................................",25630,"",256]
[2810024,"",932,"",9]
[2811012,"  Janowiec Kościelny..........................................................................................................................................................................................................................................................",13592,"",136]
[2811044,"",686,"",7]
["",""]
["",""]
["",""]
[2813062,"  Wieliczki..........................................................................................................................................................................................................................................................",14080,"",141]
["","Powiat olsztyński  (12 gmin)"]
["",""]
[2814082,"  Kolno..........................................................................................................................................................................................................................................................",17859,"",179]
[2814013,"  Barczewo..........................................................................................................................................................................................................................................................",32001,"",320]
[2814023,"  Biskupiec..........................................................................................................................................................................................................................................................",29041,"",290]
[2814025,"",28541,"",285]
[2814065,"",20808,"",208]
[2814095,"",36382,"",364]
[2815022,"  Dąbrówno..........................................................................................................................................................................................................................................................",16574,"",166]
[2815032,"  Grunwald..........................................................................................................................................................................................................................................................",17994,"",180]
["",""]
[2815074,"",1238,"",12]
[2815084,"",611,"",6]
["","Powiat piski  (4 gminy)"]
[2816024,"",817,"",8]
[2816034,"",1008,"",10]
["","Powiat szczycieński  (8 gmin)"]
["",""]
[2817032,"  Jedwabno..........................................................................................................................................................................................................................................................",31190,"",312]
[2817043,"  Pasym..........................................................................................................................................................................................................................................................",14920,"",149]
[2817083,"  Wielbark..........................................................................................................................................................................................................................................................",34795,"",348]
[2817085,"",32953,"",330]
[2819033,"  Węgorzewo..........................................................................................................................................................................................................................................................",34147,"",341]
["",""]
["",""]
[3001011,"  Chodzież..........................................................................................................................................................................................................................................................",1277,"",13]
["",""]
[3001054,"",467,"",5]
["",""]
["",""]
[3002043,"  Krzyż Wielkopolski..........................................................................................................................................................................................................................................................",17428,"",174]
[3002073,"  Trzcianka..........................................................................................................................................................................................................................................................",37398,"",374]
[3002085,"",42563,"",426]
["","Powiat gnieźnieński  (10 gmin)"]
[3003032,"  Gniezno..........................................................................................................................................................................................................................................................",17816,"",178]
["",""]
[3003025,"",10175,"",102]
[3003054,"",962,"",10]
[3003104,"",831,"",8]
["",""]
[3004014,"",629,"",7]
[3004015,"",12135,"",121]
[3004033,"  Krobia..........................................................................................................................................................................................................................................................",12954,"",130]
[3004065,"",9218,"",93]
[3004075,"",12845,"",129]
["",""]
[3005025,"",11438,"",115]
[3005045,"",19764,"",198]
["",""]
[3006032,"  Kotlin..........................................................................................................................................................................................................................................................",8392,"",84]
[3006015,"",12302,"",123]
[3006044,"",216,"",2]
["",""]
[3007022,"  Brzeziny..........................................................................................................................................................................................................................................................",12695,"",127]
[3007072,"  Mycielin..........................................................................................................................................................................................................................................................",11089,"",111]
[3007084,"",868,"",9]
[3007095,"",7751,"",77]
["","Powiat kępiński  (7 gmin)"]
[3008042,"  Łęka Opatowska..........................................................................................................................................................................................................................................................",7771,"",78]
[3008033,"  Kępno..........................................................................................................................................................................................................................................................",12387,"",124]
["","Powiat kolski  (11 gmin)"]
[3009011,"  Koło..........................................................................................................................................................................................................................................................",1385,"",14]
[3009072,"  Koło..........................................................................................................................................................................................................................................................",10258,"",103]
[3009102,"  Osiek Mały..........................................................................................................................................................................................................................................................",8732,"",87]
[3009064,"",431,"",4]
[3009065,"",12462,"",125]
["","Powiat koniński  (14 gmin)"]
[3010062,"  Krzymów..........................................................................................................................................................................................................................................................",9250,"",92]
[3010112,"  Stare Miasto..........................................................................................................................................................................................................................................................",9773,"",98]
[3010142,"  Wilczyn..........................................................................................................................................................................................................................................................",8320,"",83]
[3010043,"  Kleczew..........................................................................................................................................................................................................................................................",11028,"",110]
[3010073,"  Rychwał..........................................................................................................................................................................................................................................................",11790,"",118]
[3010123,"  Ślesin..........................................................................................................................................................................................................................................................",14563,"",146]
[3010124,"",718,"",7]
[3011011,"  Kościan..........................................................................................................................................................................................................................................................",901,"",9]
[3011024,"",332,"",3]
[3011045,"",17668,"",177]
[3011053,"  Śmigiel..........................................................................................................................................................................................................................................................",18977,"",190]
[3012011,"  Sulmierzyce..........................................................................................................................................................................................................................................................",2929,"",29]
["",""]
[3012035,"",14653,"",146]
[3012043,"  Krotoszyn..........................................................................................................................................................................................................................................................",25580,"",256]
[3012064,"",620,"",6]
[3013022,"  Lipno..........................................................................................................................................................................................................................................................",10385,"",104]
["",""]
[3013033,"  Osieczna..........................................................................................................................................................................................................................................................",12864,"",129]
[3013045,"",13340,"",134]
[3014012,"  Chrzypsko Wielkie..........................................................................................................................................................................................................................................................",8452,"",85]
[3014043,"  Sieraków..........................................................................................................................................................................................................................................................",20312,"",203]
[3014044,"",1408,"",14]
[3015012,"  Kuślin..........................................................................................................................................................................................................................................................",10648,"",106]
[3015025,"",18038,"",181]
[3015053,"  Opalenica..........................................................................................................................................................................................................................................................",14891,"",149]
[3015054,"",642,"",6]
["","Powiat obornicki  (3 gminy)"]
["",""]
[3016025,"",20500,"",205]
["",""]
[3017042,"  Ostrów Wielkopolski..........................................................................................................................................................................................................................................................",20786,"",208]
[3017023,"  Nowe Skalmierzyce..........................................................................................................................................................................................................................................................",12542,"",125]
[3017034,"",476,"",5]
[3017035,"",13133,"",131]
["",""]
[3018042,"  Kobyla Góra..........................................................................................................................................................................................................................................................",12921,"",130]
[3018063,"  Mikstat..........................................................................................................................................................................................................................................................",8718,"",87]
[3018065,"",8466,"",84]
[3018075,"",17526,"",175]
[3019022,"  Białośliwie..........................................................................................................................................................................................................................................................",7557,"",76]
["",""]
[3019043,"  Łobżenica..........................................................................................................................................................................................................................................................",19078,"",191]
[3019075,"",12235,"",122]
[3019085,"",15493,"",155]
[3020022,"  Czermin..........................................................................................................................................................................................................................................................",9809,"",98]
[3020052,"  Gołuchów..........................................................................................................................................................................................................................................................",13588,"",136]
[3020014,"",688,"",7]
[3020063,"  Pleszew..........................................................................................................................................................................................................................................................",18033,"",180]
["",""]
[3021011,"  Luboń..........................................................................................................................................................................................................................................................",1351,"",14]
[3021062,"  Kleszczewo..........................................................................................................................................................................................................................................................",7446,"",74]
[3021152,"  Suchy Las..........................................................................................................................................................................................................................................................",11601,"",117]
[3021083,"  Kostrzyn..........................................................................................................................................................................................................................................................",15481,"",155]
[3021085,"",14683,"",147]
[3021095,"",18013,"",180]
[3021114,"",862,"",9]
[3021125,"",17934,"",179]
[3021143,"  Stęszew..........................................................................................................................................................................................................................................................",17502,"",175]
[3021165,"",9355,"",93]
[3022042,"  Pakosław..........................................................................................................................................................................................................................................................",7750,"",78]
[3022024,"",162,"",2]
[3022033,"  Miejska Górka..........................................................................................................................................................................................................................................................",10348,"",103]
[3022053,"  Rawicz..........................................................................................................................................................................................................................................................",13417,"",134]
[3023011,"  Słupca..........................................................................................................................................................................................................................................................",1030,"",10]
[3023042,"  Ostrowite..........................................................................................................................................................................................................................................................",10355,"",104]
[3023052,"  Powidz..........................................................................................................................................................................................................................................................",8069,"",81]
[3023084,"",344,"",4]
["",""]
["",""]
[3024054,"",125,"",1]
[3024064,"",932,"",9]
[3024083,"  Wronki..........................................................................................................................................................................................................................................................",30172,"",302]
["",""]
[3025012,"  Dominowo..........................................................................................................................................................................................................................................................",7936,"",79]
[3025043,"  Środa Wielkopolska..........................................................................................................................................................................................................................................................",20716,"",207]
["","Powiat śremski  (4 gminy)"]
[3026025,"",11828,"",118]
[3026034,"",196,"",2]
[3026044,"",1237,"",12]
["",""]
[3027062,"  Przykona..........................................................................................................................................................................................................................................................",11092,"",111]
[3027082,"  Turek..........................................................................................................................................................................................................................................................",10925,"",109]
[3027035,"",12996,"",130]
[3027075,"",14266,"",143]
[3028042,"  Mieścisko..........................................................................................................................................................................................................................................................",13506,"",135]
[3028072,"  Wągrowiec..........................................................................................................................................................................................................................................................",34785,"",348]
[3028034,"",1264,"",13]
["","Powiat wolsztyński  (3 gminy)"]
["",""]
[3029033,"  Wolsztyn..........................................................................................................................................................................................................................................................",24995,"",250]
[3030012,"  Kołaczkowo..........................................................................................................................................................................................................................................................",11592,"",116]
[3030024,"",407,"",4]
[3030044,"",1216,"",12]
[3030053,"  Września..........................................................................................................................................................................................................................................................",22185,"",222]
["","Powiat złotowski  (8 gmin)"]
[3031062,"  Tarnówka..........................................................................................................................................................................................................................................................",13245,"",132]
[3031023,"  Jastrowie..........................................................................................................................................................................................................................................................",35312,"",353]
[3031024,"",7230,"",72]
[3031053,"  Okonek..........................................................................................................................................................................................................................................................",32599,"",326]
["",""]
["","Powiat białogardzki  (4 gminy)"]
[3201011,"  Białogard..........................................................................................................................................................................................................................................................",2573,"",26]
["",""]
[3201044,"",396,"",4]
[3202012,"  Bierzwnik..........................................................................................................................................................................................................................................................",23906,"",240]
[3202042,"  Krzęcin..........................................................................................................................................................................................................................................................",14026,"",140]
[3202033,"  Drawno..........................................................................................................................................................................................................................................................",32091,"",321]
[3202053,"  Pełczyce..........................................................................................................................................................................................................................................................",20072,"",201]
["","Powiat drawski  (5 gmin)"]
["",""]
[3203014,"",1362,"",14]
[3203015,"",35122,"",351]
[3203023,"  Drawsko Pomorskie..........................................................................................................................................................................................................................................................",40949,"",409]
[3203024,"",2233,"",22]
[3203025,"",38716,"",387]
[3203033,"  Kalisz Pomorski..........................................................................................................................................................................................................................................................",48087,"",481]
[3203034,"",1196,"",12]
[3203035,"",46891,"",469]
[3203063,"  Złocieniec..........................................................................................................................................................................................................................................................",27985,"",280]
[3203064,"",3228,"",32]
[3203065,"",24757,"",248]
["","Powiat goleniowski  (6 gmin)"]
["",""]
[3204052,"  Osina..........................................................................................................................................................................................................................................................",10166,"",102]
[3204062,"  Przybiernów..........................................................................................................................................................................................................................................................",22887,"",229]
["",""]
[3204023,"  Goleniów..........................................................................................................................................................................................................................................................",44280,"",443]
[3204024,"",1178,"",12]
[3204025,"",43102,"",431]
[3204033,"  Maszewo..........................................................................................................................................................................................................................................................",21035,"",210]
[3204034,"",554,"",6]
[3204035,"",20481,"",204]
[3204043,"  Nowogard..........................................................................................................................................................................................................................................................",33867,"",339]
[3204044,"",1257,"",13]
[3204045,"",32610,"",326]
[3204073,"  Stepnica..........................................................................................................................................................................................................................................................",29313,"",293]
[3204074,"",340,"",3]
[3204075,"",28973,"",290]
["","Powiat gryficki  (6 gmin)"]
["",""]
[3205012,"  Brojce..........................................................................................................................................................................................................................................................",11797,"",118]
[3205032,"  Karnice..........................................................................................................................................................................................................................................................",13312,"",133]
[3205072,"  Rewal..........................................................................................................................................................................................................................................................",4270,"",43]
["",""]
[3205023,"  Gryfice..........................................................................................................................................................................................................................................................",26130,"",261]
[3205024,"",1240,"",12]
[3205025,"",24890,"",249]
[3205043,"  Płoty..........................................................................................................................................................................................................................................................",23919,"",239]
[3205044,"",412,"",4]
[3205045,"",23507,"",235]
[3205083,"  Trzebiatów..........................................................................................................................................................................................................................................................",22677,"",227]
[3205084,"",1025,"",10]
[3205085,"",21652,"",217]
["","Powiat gryfiński  (9 gmin)"]
["",""]
[3206012,"  Banie..........................................................................................................................................................................................................................................................",20630,"",206]
[3206072,"  Stare Czarnowo..........................................................................................................................................................................................................................................................",15288,"",153]
[3206092,"  Widuchowa..........................................................................................................................................................................................................................................................",20945,"",210]
["",""]
[3206023,"  Cedynia..........................................................................................................................................................................................................................................................",18061,"",181]
[3206024,"",167,"",2]
[3206025,"",17894,"",179]
[3206033,"  Chojna..........................................................................................................................................................................................................................................................",33230,"",332]
[3206034,"",1258,"",12]
[3206035,"",31972,"",320]
[3206043,"  Gryfino..........................................................................................................................................................................................................................................................",25390,"",254]
[3206044,"",1181,"",12]
[3206045,"",24209,"",242]
[3206053,"  Mieszkowice..........................................................................................................................................................................................................................................................",23865,"",239]
[3206054,"",525,"",5]
[3206055,"",23340,"",234]
[3206063,"  Moryń..........................................................................................................................................................................................................................................................",12457,"",125]
[3206064,"",554,"",6]
[3206065,"",11903,"",119]
[3206083,"  Trzcińsko-Zdrój..........................................................................................................................................................................................................................................................",17045,"",170]
[3206084,"",233,"",2]
[3206085,"",16812,"",168]
["","Powiat kamieński  (6 gmin)"]
["",""]
[3207052,"  Świerzno..........................................................................................................................................................................................................................................................",14013,"",140]
["",""]
[3207013,"  Dziwnów..........................................................................................................................................................................................................................................................",3949,"",40]
[3207014,"",652,"",7]
[3207015,"",3297,"",33]
[3207023,"  Golczewo..........................................................................................................................................................................................................................................................",17531,"",175]
[3207024,"",742,"",7]
[3207025,"",16789,"",168]
[3207033,"  Kamień Pomorski..........................................................................................................................................................................................................................................................",20854,"",209]
[3207034,"",1074,"",11]
[3207035,"",19780,"",198]
[3207043,"  Międzyzdroje..........................................................................................................................................................................................................................................................",11607,"",116]
[3207044,"",516,"",5]
[3207045,"",11091,"",111]
[3207063,"  Wolin..........................................................................................................................................................................................................................................................",32762,"",327]
[3207064,"",1447,"",14]
[3207065,"",31315,"",313]
["","Powiat kołobrzeski  (7 gmin)"]
["",""]
[3208011,"  Kołobrzeg (b)..........................................................................................................................................................................................................................................................",2567,"",26]
["",""]
[3208022,"  Dygowo..........................................................................................................................................................................................................................................................",12852,"",129]
[3208042,"  Kołobrzeg..........................................................................................................................................................................................................................................................",14403,"",144]
[3208052,"  Rymań..........................................................................................................................................................................................................................................................",14615,"",146]
[3208062,"  Siemyśl..........................................................................................................................................................................................................................................................",10731,"",107]
[3208072,"  Ustronie Morskie..........................................................................................................................................................................................................................................................",5698,"",57]
["",""]
[3208033,"  Gościno..........................................................................................................................................................................................................................................................",11600,"",116]
[3208034,"",570,"",6]
[3208035,"",11030,"",110]
["","Powiat koszaliński  (8 gmin)"]
["",""]
[3209012,"  Będzino..........................................................................................................................................................................................................................................................",16619,"",166]
[3209022,"  Biesiekierz..........................................................................................................................................................................................................................................................",11660,"",116]
[3209042,"  Manowo..........................................................................................................................................................................................................................................................",18831,"",188]
[3209082,"  Świeszyno..........................................................................................................................................................................................................................................................",13256,"",133]
["",""]
[3209033,"  Bobolice..........................................................................................................................................................................................................................................................",36756,"",368]
[3209034,"",477,"",5]
[3209035,"",36279,"",363]
[3209053,"  Mielno..........................................................................................................................................................................................................................................................",6213,"",62]
[3209054,"",3345,"",33]
[3209055,"",2868,"",29]
[3209063,"  Polanów..........................................................................................................................................................................................................................................................",39335,"",393]
[3209064,"",737,"",7]
[3209065,"",38598,"",386]
[3209073,"  Sianów..........................................................................................................................................................................................................................................................",22676,"",227]
[3209074,"",1588,"",16]
[3209075,"",21088,"",211]
["","Powiat łobeski  (5 gmin)"]
["",""]
[3218032,"  Radowo Małe..........................................................................................................................................................................................................................................................",18046,"",181]
["",""]
[3218013,"  Dobra..........................................................................................................................................................................................................................................................",11590,"",116]
[3218014,"",237,"",2]
[3218015,"",11353,"",114]
[3218023,"  Łobez..........................................................................................................................................................................................................................................................",22739,"",227]
[3218024,"",1284,"",13]
[3218025,"",21455,"",214]
[3218043,"  Resko..........................................................................................................................................................................................................................................................",28520,"",285]
[3218044,"",449,"",4]
[3218045,"",28071,"",281]
[3218053,"  Węgorzyno..........................................................................................................................................................................................................................................................",25618,"",256]
[3218054,"",685,"",7]
[3218055,"",24933,"",249]
["","Powiat myśliborski  (5 gmin)"]
["",""]
[3210022,"  Boleszkowice..........................................................................................................................................................................................................................................................",13049,"",130]
[3210052,"  Nowogródek Pomorski..........................................................................................................................................................................................................................................................",14590,"",146]
["",""]
[3210013,"  Barlinek..........................................................................................................................................................................................................................................................",25872,"",259]
[3210014,"",1755,"",18]
[3210015,"",24117,"",241]
[3210033,"  Dębno..........................................................................................................................................................................................................................................................",31843,"",318]
[3210034,"",1951,"",20]
[3210035,"",29892,"",298]
[3210043,"  Myślibórz..........................................................................................................................................................................................................................................................",32886,"",329]
[3210044,"",1504,"",15]
[3210045,"",31382,"",314]
["","Powiat policki  (4 gminy)"]
["",""]
[3211012,"  Dobra (Szczecińska)..........................................................................................................................................................................................................................................................",11028,"",110]
[3211022,"  Kołbaskowo..........................................................................................................................................................................................................................................................",10546,"",105]
["",""]
[3211033,"  Nowe Warpno..........................................................................................................................................................................................................................................................",19788,"",198]
[3211034,"",2451,"",25]
[3211035,"",17337,"",173]
[3211043,"  Police..........................................................................................................................................................................................................................................................",25171,"",252]
[3211044,"",3731,"",37]
[3211045,"",21440,"",215]
["","Powiat pyrzycki  (6 gmin)"]
["",""]
[3212012,"  Bielice..........................................................................................................................................................................................................................................................",8419,"",84]
[3212022,"  Kozielice..........................................................................................................................................................................................................................................................",9453,"",95]
[3212042,"  Przelewice..........................................................................................................................................................................................................................................................",16201,"",162]
[3212062,"  Warnice..........................................................................................................................................................................................................................................................",8614,"",86]
["",""]
[3212033,"  Lipiany..........................................................................................................................................................................................................................................................",9491,"",95]
[3212034,"",554,"",6]
[3212035,"",8937,"",89]
[3212053,"  Pyrzyce..........................................................................................................................................................................................................................................................",20422,"",204]
[3212054,"",3879,"",39]
[3212055,"",16543,"",165]
["","Powiat sławieński  (6 gmin)"]
["",""]
[3213011,"  Darłowo (b)..........................................................................................................................................................................................................................................................",2021,"",20]
[3213021,"  Sławno..........................................................................................................................................................................................................................................................",1583,"↓",16]
["",""]
[3213032,"  Darłowo..........................................................................................................................................................................................................................................................",26945,"",269]
[3213042,"  Malechowo..........................................................................................................................................................................................................................................................",22646,"",227]
[3213052,"  Postomino..........................................................................................................................................................................................................................................................",22686,"",227]
[3213062,"  Sławno..........................................................................................................................................................................................................................................................",28439,"",284]
["","Powiat stargardzki  (10 gmin)"]
["",""]
[3214011,"  Stargard..........................................................................................................................................................................................................................................................",4808,"",48]
["",""]
[3214042,"  Dolice..........................................................................................................................................................................................................................................................",23717,"",237]
[3214062,"  Kobylanka..........................................................................................................................................................................................................................................................",12168,"",122]
[3214082,"  Marianowo..........................................................................................................................................................................................................................................................",10194,"",102]
[3214092,"  Stara Dąbrowa..........................................................................................................................................................................................................................................................",11259,"",113]
[3214102,"  Stargard..........................................................................................................................................................................................................................................................",31888,"",318]
["",""]
[3214023,"  Chociwel..........................................................................................................................................................................................................................................................",16082,"",161]
[3214024,"",367,"",4]
[3214025,"",15715,"",157]
[3214033,"  Dobrzany..........................................................................................................................................................................................................................................................",13472,"",135]
[3214034,"",534,"",5]
[3214035,"",12938,"",130]
[3214053,"  Ińsko..........................................................................................................................................................................................................................................................",15101,"",151]
[3214054,"",748,"",7]
[3214055,"",14353,"",144]
[3214113,"  Suchań..........................................................................................................................................................................................................................................................",13305,"",133]
[3214114,"",357,"",4]
[3214115,"",12948,"",129]
["","Powiat szczecinecki  (6 gmin)"]
["",""]
[3215011,"  Szczecinek..........................................................................................................................................................................................................................................................",4848,"",48]
["",""]
[3215052,"  Grzmiąca..........................................................................................................................................................................................................................................................",20512,"",205]
[3215062,"  Szczecinek..........................................................................................................................................................................................................................................................",49887,"",500]
["",""]
[3215023,"  Barwice..........................................................................................................................................................................................................................................................",25852,"",259]
[3215024,"",752,"",8]
[3215025,"",25100,"",251]
[3215033,"  Biały Bór..........................................................................................................................................................................................................................................................",26993,"",270]
[3215034,"",1282,"",13]
[3215035,"",25711,"",257]
[3215043,"  Borne Sulinowo..........................................................................................................................................................................................................................................................",48450,"",484]
[3215044,"",1815,"",18]
[3215045,"",46635,"",466]
["","Powiat świdwiński  (6 gmin)"]
["",""]
[3216011,"  Świdwin..........................................................................................................................................................................................................................................................",2238,"",22]
["",""]
[3216022,"  Brzeżno..........................................................................................................................................................................................................................................................",11081,"",111]
[3216042,"  Rąbino..........................................................................................................................................................................................................................................................",17968,"",180]
[3216052,"  Sławoborze..........................................................................................................................................................................................................................................................",18866,"",189]
[3216062,"  Świdwin..........................................................................................................................................................................................................................................................",24725,"",247]
["",""]
[3216033,"  Połczyn-Zdrój..........................................................................................................................................................................................................................................................",34428,"",344]
[3216034,"",721,"",8]
[3216035,"",33707,"",336]
["","Powiat wałecki  (5 gmin)"]
["",""]
[3217011,"  Wałcz..........................................................................................................................................................................................................................................................",3817,"",38]
["",""]
[3217052,"  Wałcz..........................................................................................................................................................................................................................................................",57491,"↑",575]
["",""]
[3217023,"  Człopa..........................................................................................................................................................................................................................................................",34905,"",349]
[3217024,"",627,"",6]
[3217025,"",34278,"",343]
[3217033,"  Mirosławiec..........................................................................................................................................................................................................................................................",20335,"",203]
[3217034,"",241,"",2]
[3217035,"",20094,"",201]
[3217043,"  Tuczno..........................................................................................................................................................................................................................................................",24950,"",250]
[3217044,"",921,"",9]
[3217045,"",24029,"",241]
["",""]
[3261011,"  Koszalin..........................................................................................................................................................................................................................................................",9834,"",98]
[3262011,"  Szczecin (b)..........................................................................................................................................................................................................................................................",30060,"",301]
[3263011,"  Świnoujście (b)..........................................................................................................................................................................................................................................................",20207,"",202]