{"text_format":"1","workbook":"xlsx","n_sheets":6,"sheets":["WNIOSEK CZĘŚĆ I","WNIOSEK CZĘŚĆ II","WYCIĄG Z WNIOSKU","DANE DO UMOWY","Arkusz2","Arkusz3"],"not_rendered":{"charts":0,"images":0,"macros":1,"external_links":0,"defined_names":1,"comments":0,"pivot_tables":0},"unopened":[],"bounds":{"document_bytes":16777216,"sheet_cells":100000,"rows_first":2000,"rows_last":500,"rows_between":2000,"halvings":0,"cell_chars":16384,"cell_head_chars":4096},"cells_cut":0,"cells_raw":0,"read":"whole","date_system":"1900"}

{"sheet":"WNIOSEK CZĘŚĆ I","index":0,"n_rows":57,"n_cols":6,"rows_kept":57,"cut":false,"hidden":false,"merged":[[54,0,54,3],[56,0,56,3],[32,0,32,1],[0,0,0,3],[2,0,2,3],[3,1,3,3],[26,2,26,3],[28,2,28,3],[25,0,25,1],[26,0,26,1],[24,0,24,1],[23,0,23,1],[27,0,27,1],[9,0,9,3],[13,0,13,3],[47,0,47,3],[43,0,43,1],[44,0,44,1],[53,0,53,3],[18,0,18,3],[28,0,28,1],[20,0,20,2],[19,0,19,3],[42,0,42,1],[40,0,40,3],[37,0,38,1],[35,0,36,1],[30,0,30,1],[30,2,30,3],[32,2,32,3],[55,0,55,3],[22,0,22,3],[41,0,41,1],[42,2,42,3],[43,2,43,3],[44,2,44,3],[41,2,41,3],[49,0,49,3],[51,0,51,3],[33,1,34,1],[29,0,29,1],[31,2,31,3],[31,0,31,1],[29,2,29,3],[48,0,48,3],[46,0,46,3]]}
["WNIOSEK O ZAWARCIE UMOWY O DOPŁATĘ Z FUNDUSZU ROZWOJU PRZEWOZÓW AUTOBUSOWYCH O CHARAKTERZE UŻYTECZNOŚCI PUBLICZNEJ"]
[]
["INFORMACJE SZCZEGÓŁOWE ORGANIZATORA"]
["NIP ORGANIZATORA"]
["Pełna nazwa Organizatora (dane uzupełnione automatycznie)",{"$f":"IFERROR(VLOOKUP($B$4,Arkusz2!$A$2:$K$203,2,0),\"\")","v":""},"Rodzaj Organizatora (dane uzupełnione automatycznie)",{"$f":"IFERROR(VLOOKUP($B$4,Arkusz2!$A$2:$K$203,11,0),\"\")","v":""}]
["Adres (dane uzupełnione automatycznie)",{"$f":"IFERROR(IF(B9=0,D7,B9),\"\")","v":""},"Nr budynku (dane uzupełnione automatycznie)",{"$f":"IFERROR(VLOOKUP($B$4,Arkusz2!$A$2:$K$203,10,0),\"\")","v":""}]
["Kod pocztowy (dane uzupełnione automatycznie)",{"$f":"IFERROR(VLOOKUP(B$4,Arkusz2!$A$2:$K$203,6,0),\"\")","v":""},"Miejscowość (dane uzupełnione automatycznie)",{"$f":"IFERROR(VLOOKUP($B$4,Arkusz2!$A$2:$K$203,8,0),\"\")","v":""}]
["Telefon ",null,"Adres e-mail"]
[null,{"$f":"VLOOKUP(B$4,Arkusz2!$A$2:$K$203,9,0)","v":{"$error":"#N/A"}}]
["Dane osoby wskazanej do kontaktowania się w sprawie wniosku "]
["Imię i Nazwisko",null,"Komórka organizacyjna"]
["Adres e-mail",null,"Telefon"]
[]
["Dane osób upoważnionych do podpisania umowy o dopłatę"]
["Imię","Nazwisko","Funkcja","Adres email"]
[]
[]
[]
[]
["NUMER WYODRĘBNIONEGO RACHUNKU BANKOWEGO DO DOPŁATY"]
[null,null,null,{"$f":"IF(F21,\"\",\"SPRAWDŹ POPRAWNOŚĆ NUMERU RACHUNKU BANKOWEGO\")","v":"SPRAWDŹ POPRAWNOŚĆ NUMERU RACHUNKU BANKOWEGO"},null,{"$f":"CzyNRBOk(A21,\"PL\")","v":false}]
[]
["INFORMACJE OGÓLNE"]
["Powierzchnia obszaru właściwości organizatora (dane uzupełnione automatycznie)",null,{"$f":"IFERROR(VLOOKUP(B$4,Arkusz2!A:Q,15,0),\"\")","v":""},"km2"]
["Liczba mieszkańców obszaru właściwości organizatora (dane uzupełnione automatycznie)",null,{"$f":"IFERROR(VLOOKUP(B$4,Arkusz2!A:Q,16,0),\"\")","v":""},"osób"]
["Gęstość zaludnienia (dane uzupełnione automatycznie)",null,{"$f":"IFERROR(VLOOKUP(B$4,Arkusz2!A:Q,17,0),\"\")","v":""},"os./km2"]
["Liczba linii komunikacyjnych w przewozach autobusowych o charakterze użyteczności publicznej, które nie funkcjonowały co najmniej 3 miesiące przed dniem wejścia w życie ustawy (dane uzupełnione automatycznie)",null,{"$f":"'WNIOSEK CZĘŚĆ II'!A2","v":0}]
["Łączna długość linii komunikacyjnych w przewozach autobusowych o charakterze użyteczności publicznej, które nie funkcjonowały co najmniej 3 miesiące przed dniem wejścia w życie ustawy (dane uzupełnione automatycznie)",null,{"$f":"'WNIOSEK CZĘŚĆ II'!A4","v":0},"km"]
["Łączna liczba zatrzymań autobusów na przystankach komunikacyjnych na liniach komunikacyjnych w przewozach autobusowych o charakterze użyteczności publicznej,  które nie funkcjonowały co najmniej 3 miesiące przed dniem wejścia w życie ustawy (dane uzupełnione automatycznie)",null,{"$f":"'WNIOSEK CZĘŚĆ II'!A6","v":0}]
["Łączna planowana wielkość pracy eksplotacyjnej wykonywanej na liniach objętych wnioskiem w wozokilometrach (dane uzupełnione automatycznie)",null,{"$f":"'WNIOSEK CZĘŚĆ II'!A8","v":0}]
["Łączna planowana liczba przejazdów (dane uzupełnione automatycznie)",null,{"$f":"'WNIOSEK CZĘŚĆ II'!A14","v":0}]
["Wskaźnik dochodów podatkowych na jednego mieszkańca, o którym mowa w przepisach ustawy z dnia 13 listopada 2003 r. o dochodach jednostek samorządu terytorialnego (Dz.U. z 2021 r.poz.38), jednostki samorządu terytorialnego będącej organizatorem, a w przypadku związku tych jednostek - średnią arytmetyczną dochodu jednostek wchodzących w skład związku - zgodnie z danymi Ministerstwa Finansów (dane uzupełnione automatycznie)",null,{"$f":"IFERROR(VLOOKUP(B$4,Arkusz2!A:R,18,0),\"\")","v":""},{"$f":"VLOOKUP(C$4,Arkusz2!B:R,15,0)","v":{"$error":"#N/A"}}]
["Liczba gmin, na obszarze których będą realizowane przewozy "]
[null,"Dostosowanie autobusów, którymi będą realizowane przewozy na liniach komunikacyjnych w przewozach autobusowych o charakterze użyteczności publicznej (ilość linii)","DOSTOSOWANO"]
[null,null,"NIEDOSTOSOWANO"]
["Dostosowanie przystanków komunikacyjnych i dworców, które zostały uwzględnione w rozkładzie jazdy  linii komunikacyjnych w przewozach autobusowych o charakterze użyteczności publicznej (ilość przystanków)",null,"LICZBA PRZYSTANKÓW DOSTOSOWANYCH                                          (dane uzupełnione automatycznie)",{"$f":"'WNIOSEK CZĘŚĆ II'!A10","v":0}]
[null,null,"ŁĄCZNA LICZBA PRZYSTANKÓW     (dane uzupełnione automatycznie)",{"$f":"'WNIOSEK CZĘŚĆ II'!A12","v":0}]
["Zapewnienie dostępności komunikacyjnej terenów objętych przedsięwzięciami lub inwestycjami powiązanymi z przedsięwzięciem infrastrukturalnym, o którym mowa w art.. 5c ust. 1 ustawy z dnia 8 grudnia 2006 r. o finansowym wsparciu niektórych przedsięwzięć mieszkaniowych (Dz.U z 2022 r. poz. 377 z późn. zm.)",null,"LICZBA PRZYSTANKÓW ZLOKALIZOWANYCH W ODLEGŁOŚCI NIE WIĘKSZEJ NIŻ 500M                            (dane uzupełnione automatycznie)",{"$f":"'WNIOSEK CZĘŚĆ II'!A16","v":0}]
[null,null,"ŁĄCZNA LICZBA PRZYSTANKÓW     (dane uzupełnione automatycznie)",{"$f":"D37","v":0}]
[null,null,{"$f":"C30*3","v":0}]
["DANE FINANSOWE"]
["Łączna planowana kwota deficytu wszystkich linii komunikacyjnych  w roku budżetowym",null,{"$f":"'WNIOSEK CZĘŚĆ II'!A18","v":0}]
["Środki własne organizatora finansujące część deficytu wszystkich linii komunikacyjnych w wysokości nie mniejszej niż 10%",null,{"$f":"'WNIOSEK CZĘŚĆ II'!A20","v":0}]
["Planowana łączna kwota dopłaty w roku budżetowym",null,{"$f":"'WNIOSEK CZĘŚĆ II'!A22","v":0}]
["Suma środków własnych organizatora finansujących część ceny usługi w wysokości nie mniejszej niż 10% oraz planowana łączna kwota dopłaty w roku budżetowym",null,{"$f":"C43+C44","v":0}]
[]
["WNIOSKOWANA KWOTA DOPŁATY"]
[{"$f":"C44","v":0}]
["OŚWIADCZENIA"]
["OŚWIADCZAM, ŻE ZAPOZNAŁEM SIĘ Z PRZEPISAMI USTAWY Z DNIA 16 MAJA 2019 R. O FUNDUSZU ROZWOJU PRZEWOZÓW AUTOBUSOWYCH O CHARAKTERZE UŻYTECZNOŚCI PUBLICZNEJ (t.j. DZ. U Z 2021 R. POZ. 717 ze zm.) ORAZ AKTAMI WYKONAWCZYMI DO USTAWY I BĘDĘ STOSOWAŁ SIĘ DO WARUNKÓW Z NICH WYNIKAJĄCYCH"]
[]
["OŚWIADCZAM, ŻE ORGANIZATOR UZYSKA ZGODĘ SWOJEGO ORGANU STANOWIĄCEGO NA ZAWARCIE UMOWY O ŚWIADCZENIE USŁUG W ZAKRESIE PUBLICZNEGO TRANSPORTU ZBIOROWEGO"]
[]
["OŚWIADCZAM, ŻE ZE ŚRODKÓW WŁASNYCH ORGANIZATORA ZOSTANIE SFINANSOWANA CZĘŚĆ DEFICYTU KAŻDEJ LINII KOMUNIKACYJNEJ W WYSOKOŚCI NIE MNIEJSZEJ NIŻ 10%"]
["OŚWIADCZAM, ŻE WNIOSEK OBEJMUJE WYŁĄCZNIE LINIE KOMUNIKACYJNE O CHARAKTERZE UŻYTECZNOŚCI PUBLICZNEJNIEFUNKCJONUJACE CO NAJMNIEJ 3 MIESIACE PRZED DNIE WEJSCIA W ZYCIE USTAWY Z DNIA 16 MAJA 2019 R. O FUNDUSZU ROZWOJU PRZEWOZÓW AUTOBUSOWYCH O CHARAKTERZE UŻYTECZNOŚCI PUBLICZNEJ"]
["OŚWIADCZAM, ŻE LINIE KOMUNIKACYJNE O CHARAKTERZE UZYTECZNOSCI PUBLICZNEJ OBJĘTE WNIOSKIEM NIE STANOWIĄ KOMUNIKACJI MIEJSKIEJ W ROZUMIENIU USTAWY Z DNIA 16 GRUDNIA 2010 R. O PUBLICZNYM TRANSPORCIE ZBIOROWYM "]
["OŚWIADCZAM, ŻE WSZYSTKIE PRZEDSTAWIONE WE WNIOSKU DANE SĄ RZETELNE I ZGODNE ZE STANEM FAKTYCZNYM "]

{"sheet":"WNIOSEK CZĘŚĆ II","index":1,"n_rows":2024,"n_cols":315,"rows_kept":281,"cut":true,"hidden":false,"merged":[[2030,60,2030,62],[2030,69,2030,71],[2030,78,2030,80],[2030,87,2030,89],[2030,96,2030,98],[2030,105,2030,107],[2033,51,2033,53],[2033,60,2033,62],[2033,69,2033,71],[2033,78,2033,80],[2033,87,2033,89],[2033,96,2033,98],[2033,105,2033,107],[2031,51,2031,53],[2031,60,2031,62],[2031,69,2031,71],[2031,78,2031,80],[2031,87,2031,89],[2031,96,2031,98],[2031,105,2031,107],[2032,51,2032,53],[2032,60,2032,62],[2032,69,2032,71],[2032,78,2032,80],[2032,87,2032,89],[2032,96,2032,98],[2032,105,2032,107],[2026,78,2026,80],[2026,87,2026,89],[2026,96,2026,98],[2026,105,2026,107],[2027,51,2027,53],[2027,60,2027,62],[2027,69,2027,71],[2027,78,2027,80],[2027,87,2027,89],[2027,96,2027,98],[2027,105,2027,107],[2028,51,2028,53],[2028,60,2028,62],[2028,69,2028,71],[2028,78,2028,80],[2028,87,2028,89],[2028,96,2028,98],[2028,105,2028,107],[2029,51,2029,53],[2029,60,2029,62],[2029,69,2029,71],[2029,78,2029,80],[2029,87,2029,89],[2029,96,2029,98],[2029,105,2029,107],[2030,51,2030,53],[55,45,55,53],[55,54,55,62],[55,63,55,71],[55,72,55,80],[55,81,55,89],[55,90,55,98],[55,99,55,107],[2024,51,2024,53],[2024,60,2024,62],[2024,69,2024,71],[2024,78,2024,80],[2024,87,2024,89],[2024,96,2024,98],[2024,105,2024,107],[2025,51,2025,53],[2025,60,2025,62],[2025,69,2025,71],[2025,78,2025,80],[2025,87,2025,89],[2025,96,2025,98],[2025,105,2025,107],[2026,51,2026,53],[2026,60,2026,62],[2026,69,2026,71],[54,87,54,89],[54,90,54,92],[54,96,54,98],[54,99,54,101],[54,105,54,107],[53,45,53,47],[53,51,53,53],[53,54,53,56],[53,60,53,62],[53,63,53,65],[54,45,54,47],[54,51,54,53],[54,54,54,56],[54,60,54,62],[54,63,54,65],[54,69,54,71],[54,72,54,74],[54,78,54,80],[54,81,54,83],[53,69,53,71],[53,72,53,74],[53,78,53,80],[53,81,53,83],[53,87,53,89],[51,45,51,47],[51,51,51,53],[51,54,51,56],[51,60,51,62],[51,63,51,65],[51,69,51,71],[51,72,51,74],[51,78,51,80],[51,81,51,83],[53,90,53,92],[53,96,53,98],[53,99,53,101],[53,105,53,107],[52,45,52,47],[52,51,52,53],[52,54,52,56],[52,60,52,62],[52,63,52,65],[52,69,52,71],[52,72,52,74],[52,78,52,80],[52,81,52,83],[51,87,51,89],[51,90,51,92],[51,96,51,98],[51,99,51,101],[51,105,51,107],[52,87,52,89],[52,90,52,92],[52,96,52,98],[52,99,52,101],[52,105,52,107],[50,87,50,89],[50,90,50,92],[50,96,50,98],[50,99,50,101],[50,105,50,107],[49,45,49,47],[49,51,49,53],[49,54,49,56],[49,60,49,62],[49,63,49,65],[50,45,50,47],[50,51,50,53],[50,54,50,56],[50,60,50,62],[50,63,50,65],[50,69,50,71],[50,72,50,74],[50,78,50,80],[50,81,50,83],[49,69,49,71],[49,72,49,74],[49,78,49,80],[49,81,49,83],[49,87,49,89],[47,54,47,56],[47,60,47,62],[47,63,47,65],[47,69,47,71],[47,72,47,74],[47,78,47,80],[47,81,47,83],[49,90,49,92],[49,96,49,98],[49,99,49,101],[49,105,49,107],[48,45,48,47],[48,51,48,53],[48,54,48,56],[48,60,48,62],[48,63,48,65],[48,69,48,71],[48,72,48,74],[48,78,48,80],[48,81,48,83],[47,87,47,89],[47,90,47,92],[47,96,47,98],[47,99,47,101],[47,105,47,107],[48,87,48,89],[48,90,48,92],[48,96,48,98],[48,99,48,101],[48,105,48,107],[28,6,28,8],[31,0,31,2],[31,6,31,8],[32,0,32,8],[33,0,45,0],[0,0,0,8],[24,6,24,8],[25,0,25,8],[26,0,26,1],[26,6,26,8],[27,0,27,8],[32,63,32,71],[32,72,32,80],[32,81,32,89],[32,90,32,98],[32,99,32,107],[31,45,31,47],[31,51,31,53],[31,54,31,56],[31,60,31,62],[31,63,31,65],[31,69,31,71],[31,72,31,74],[31,78,31,80],[31,81,31,83],[31,87,31,89],[31,90,31,92],[31,96,31,98],[31,99,31,101],[31,105,31,107],[33,45,45,45],[33,54,45,54],[54,0,54,2],[54,6,54,8],[51,6,51,8],[52,0,52,2],[53,0,53,2],[53,6,53,8],[52,6,52,8],[46,0,46,8],[2029,6,2029,8],[2030,6,2030,8],[2031,6,2031,8],[2032,6,2032,8],[2033,6,2033,8],[47,0,47,2],[48,0,48,2],[49,0,49,2],[47,6,47,8],[48,6,48,8],[2024,6,2024,8],[2025,6,2025,8],[2026,6,2026,8],[2027,6,2027,8],[2028,6,2028,8],[49,6,49,8],[50,0,50,2],[50,6,50,8],[51,0,51,2],[55,0,55,8],[2032,15,2032,17],[2033,15,2033,17],[0,9,0,17],[0,18,0,26],[24,15,24,17],[24,24,24,26],[25,9,25,17],[25,18,25,26],[26,9,26,10],[26,15,26,17],[2026,15,2026,17],[2027,15,2027,17],[2028,15,2028,17],[2029,15,2029,17],[2030,15,2030,17],[2031,15,2031,17],[2024,15,2024,17],[2025,15,2025,17],[53,9,53,11],[53,15,53,17],[54,9,54,11],[54,15,54,17],[50,9,50,11],[50,15,50,17],[31,15,31,17],[32,9,32,17],[33,9,45,9],[46,9,46,17],[26,18,26,19],[26,24,26,26],[27,9,27,17],[27,18,27,26],[28,15,28,17],[28,24,28,26],[51,9,51,11],[51,15,51,17],[52,9,52,11],[52,15,52,17],[55,9,55,17],[47,9,47,11],[47,15,47,17],[48,9,48,11],[48,15,48,17],[49,9,49,11],[49,15,49,17],[31,9,31,11],[48,24,48,26],[49,18,49,20],[53,18,53,20],[53,24,53,26],[54,18,54,20],[54,24,54,26],[50,18,50,20],[50,24,50,26],[51,18,51,20],[51,24,51,26],[52,18,52,20],[52,24,52,26],[49,24,49,26],[55,18,55,26],[31,18,31,20],[31,24,31,26],[32,18,32,26],[33,18,45,18],[31,27,31,29],[31,33,31,35],[31,36,31,38],[31,42,31,44],[26,36,26,37],[26,42,26,44],[27,27,27,35],[27,36,27,44],[28,33,28,35],[28,42,28,44],[2032,24,2032,26],[2033,24,2033,26],[0,27,0,35],[0,36,0,44],[24,33,24,35],[24,42,24,44],[25,27,25,35],[25,36,25,44],[26,27,26,28],[26,33,26,35],[2026,24,2026,26],[2027,24,2027,26],[2028,24,2028,26],[2029,24,2029,26],[2030,24,2030,26],[2031,24,2031,26],[2024,24,2024,26],[2025,24,2025,26],[46,18,46,26],[47,18,47,20],[47,24,47,26],[48,18,48,20],[48,27,48,29],[48,33,48,35],[48,36,48,38],[48,42,48,44],[49,27,49,29],[49,33,49,35],[49,36,49,38],[49,42,49,44],[46,27,46,35],[46,36,46,44],[47,27,47,29],[47,33,47,35],[47,36,47,38],[47,42,47,44],[32,27,32,35],[32,36,32,44],[33,27,45,27],[33,36,45,36],[54,27,54,29],[54,33,54,35],[54,36,54,38],[54,42,54,44],[55,27,55,35],[55,36,55,44],[52,27,52,29],[52,33,52,35],[52,36,52,38],[52,42,52,44],[53,27,53,29],[53,33,53,35],[53,36,53,38],[53,42,53,44],[50,27,50,29],[50,33,50,35],[50,36,50,38],[50,42,50,44],[51,27,51,29],[51,33,51,35],[51,36,51,38],[51,42,51,44],[2032,33,2032,35],[2032,42,2032,44],[2033,33,2033,35],[2033,42,2033,44],[2028,33,2028,35],[2028,42,2028,44],[2029,33,2029,35],[2029,42,2029,44],[2030,33,2030,35],[2030,42,2030,44],[2025,33,2025,35],[2025,42,2025,44],[2026,33,2026,35],[2026,42,2026,44],[2027,33,2027,35],[2027,42,2027,44],[2024,33,2024,35],[2024,42,2024,44],[26,72,26,73],[26,78,26,80],[27,72,27,80],[28,78,28,80],[0,81,0,89],[24,87,24,89],[25,81,25,89],[27,81,27,89],[28,87,28,89],[0,99,0,107],[26,81,26,82],[26,87,26,89],[26,90,26,91],[26,96,26,98],[26,99,26,100],[26,105,26,107],[2031,33,2031,35],[2031,42,2031,44],[46,45,46,53],[46,54,46,62],[46,63,46,71],[46,72,46,80],[46,81,46,89],[46,90,46,98],[46,99,46,107],[33,63,45,63],[33,72,45,72],[33,81,45,81],[33,90,45,90],[33,99,45,99],[47,45,47,47],[47,51,47,53],[50,108,50,110],[50,114,50,116],[51,108,51,110],[51,114,51,116],[52,108,52,110],[52,114,52,116],[0,45,0,53],[24,51,24,53],[25,45,25,53],[26,45,26,46],[26,51,26,53],[27,45,27,53],[28,51,28,53],[32,45,32,53],[0,54,0,62],[24,60,24,62],[25,54,25,62],[26,54,26,55],[26,60,26,62],[27,54,27,62],[28,60,28,62],[32,54,32,62],[0,63,0,71],[24,69,24,71],[25,63,25,71],[26,63,26,64],[26,69,26,71],[27,63,27,71],[28,69,28,71],[0,72,0,80],[24,78,24,80],[25,72,25,80],[53,117,53,119],[53,123,53,125],[54,117,54,119],[54,123,54,125],[55,117,55,125],[0,90,0,98],[24,96,24,98],[25,90,25,98],[27,90,27,98],[28,96,28,98],[24,105,24,107],[25,99,25,107],[27,99,27,107],[28,105,28,107],[0,108,0,116],[24,114,24,116],[25,108,25,116],[26,108,26,109],[26,114,26,116],[27,108,27,116],[28,114,28,116],[31,108,31,110],[31,114,31,116],[32,108,32,116],[33,108,45,108],[46,108,46,116],[47,108,47,110],[47,114,47,116],[48,108,48,110],[48,114,48,116],[49,108,49,110],[49,114,49,116],[54,135,54,137],[54,141,54,143],[55,135,55,143],[53,108,53,110],[53,114,53,116],[54,108,54,110],[54,114,54,116],[55,108,55,116],[0,117,0,125],[24,123,24,125],[25,117,25,125],[26,117,26,118],[26,123,26,125],[27,117,27,125],[28,123,28,125],[31,117,31,119],[31,123,31,125],[32,117,32,125],[33,117,45,117],[46,117,46,125],[47,117,47,119],[47,123,47,125],[48,117,48,119],[48,123,48,125],[49,117,49,119],[49,123,49,125],[50,117,50,119],[50,123,50,125],[51,117,51,119],[51,123,51,125],[52,117,52,119],[52,123,52,125],[52,132,52,134],[53,126,53,128],[53,132,53,134],[54,126,54,128],[54,132,54,134],[55,126,55,134],[0,135,0,143],[24,141,24,143],[25,135,25,143],[26,135,26,136],[26,141,26,143],[27,135,27,143],[28,141,28,143],[31,135,31,137],[31,141,31,143],[32,135,32,143],[33,135,45,135],[46,135,46,143],[47,135,47,137],[47,141,47,143],[48,135,48,137],[48,141,48,143],[49,135,49,137],[49,141,49,143],[50,135,50,137],[50,141,50,143],[51,135,51,137],[51,141,51,143],[52,135,52,137],[52,141,52,143],[53,135,53,137],[53,141,53,143],[51,153,51,155],[51,159,51,161],[52,153,52,155],[52,159,52,161],[53,153,53,155],[53,159,53,161],[54,153,54,155],[54,159,54,161],[55,153,55,161],[0,126,0,134],[24,132,24,134],[25,126,25,134],[26,126,26,127],[26,132,26,134],[27,126,27,134],[28,132,28,134],[31,126,31,128],[31,132,31,134],[32,126,32,134],[33,126,45,126],[46,126,46,134],[47,126,47,128],[47,132,47,134],[48,126,48,128],[48,132,48,134],[49,126,49,128],[49,132,49,134],[50,126,50,128],[50,132,50,134],[51,126,51,128],[51,132,51,134],[52,126,52,128],[25,153,25,161],[26,153,26,154],[26,159,26,161],[27,153,27,161],[28,159,28,161],[31,153,31,155],[31,159,31,161],[32,153,32,161],[33,153,45,153],[46,153,46,161],[47,153,47,155],[47,159,47,161],[48,153,48,155],[48,159,48,161],[49,153,49,155],[49,159,49,161],[50,153,50,155],[50,159,50,161],[55,171,55,179],[0,144,0,152],[24,150,24,152],[25,144,25,152],[26,144,26,145],[26,150,26,152],[27,144,27,152],[28,150,28,152],[31,144,31,146],[31,150,31,152],[32,144,32,152],[33,144,45,144],[46,144,46,152],[47,144,47,146],[47,150,47,152],[48,144,48,146],[48,150,48,152],[49,144,49,146],[49,150,49,152],[50,144,50,146],[50,150,50,152],[51,144,51,146],[51,150,51,152],[52,144,52,146],[52,150,52,152],[53,144,53,146],[53,150,53,152],[54,144,54,146],[54,150,54,152],[55,144,55,152],[0,153,0,161],[24,159,24,161],[54,168,54,170],[0,171,0,179],[24,177,24,179],[25,171,25,179],[26,171,26,172],[26,177,26,179],[27,171,27,179],[28,177,28,179],[31,171,31,173],[31,177,31,179],[32,171,32,179],[33,171,45,171],[46,171,46,179],[47,171,47,173],[47,177,47,179],[48,171,48,173],[48,177,48,179],[49,171,49,173],[49,177,49,179],[50,171,50,173],[50,177,50,179],[51,171,51,173],[51,177,51,179],[52,171,52,173],[52,177,52,179],[53,171,53,173],[53,177,53,179],[54,171,54,173],[54,177,54,179],[52,195,52,197],[53,189,53,191],[53,195,53,197],[54,189,54,191],[54,195,54,197],[0,162,0,170],[24,168,24,170],[25,162,25,170],[26,162,26,163],[26,168,26,170],[27,162,27,170],[28,168,28,170],[31,162,31,164],[31,168,31,170],[32,162,32,170],[33,162,45,162],[46,162,46,170],[47,162,47,164],[47,168,47,170],[48,162,48,164],[48,168,48,170],[49,162,49,164],[49,168,49,170],[50,162,50,164],[50,168,50,170],[51,162,51,164],[51,168,51,170],[52,162,52,164],[52,168,52,170],[53,162,53,164],[53,168,53,170],[54,162,54,164],[50,180,50,182],[50,186,50,188],[51,180,51,182],[51,186,51,188],[52,180,52,182],[52,186,52,188],[53,180,53,182],[53,186,53,188],[54,180,54,182],[54,186,54,188],[0,189,0,197],[24,195,24,197],[25,189,25,197],[26,189,26,190],[26,195,26,197],[27,189,27,197],[28,195,28,197],[31,189,31,191],[31,195,31,197],[32,189,32,197],[33,189,45,189],[46,189,46,197],[47,189,47,191],[47,195,47,197],[48,189,48,191],[48,195,48,197],[49,189,49,191],[49,195,49,197],[50,189,50,191],[50,195,50,197],[51,189,51,191],[51,195,51,197],[0,180,0,188],[24,186,24,188],[25,180,25,188],[26,180,26,181],[26,186,26,188],[27,180,27,188],[28,186,28,188],[31,180,31,182],[31,186,31,188],[32,180,32,188],[33,180,45,180],[46,180,46,188],[47,180,47,182],[47,186,47,188],[48,180,48,182],[48,186,48,188],[49,180,49,182],[49,186,49,188],[50,198,50,200],[50,204,50,206],[51,198,51,200],[51,204,51,206],[52,198,52,200],[52,204,52,206],[53,198,53,200],[53,204,53,206],[54,198,54,200],[54,204,54,206],[0,207,0,215],[24,213,24,215],[25,207,25,215],[26,207,26,208],[26,213,26,215],[27,207,27,215],[28,213,28,215],[31,207,31,209],[31,213,31,215],[32,207,32,215],[33,207,45,207],[46,207,46,215],[47,207,47,209],[47,213,47,215],[48,207,48,209],[48,213,48,215],[49,207,49,209],[49,213,49,215],[50,207,50,209],[50,213,50,215],[51,207,51,209],[51,213,51,215],[0,198,0,206],[24,204,24,206],[25,198,25,206],[26,198,26,199],[26,204,26,206],[27,198,27,206],[28,204,28,206],[31,198,31,200],[31,204,31,206],[32,198,32,206],[33,198,45,198],[46,198,46,206],[47,198,47,200],[47,204,47,206],[48,198,48,200],[48,204,48,206],[49,198,49,200],[49,204,49,206],[52,216,52,218],[52,222,52,224],[53,216,53,218],[53,222,53,224],[54,216,54,218],[54,222,54,224],[55,216,55,224],[2024,114,2024,116],[2024,123,2024,125],[2024,132,2024,134],[2024,141,2024,143],[2024,150,2024,152],[2024,159,2024,161],[2024,168,2024,170],[2024,177,2024,179],[2024,186,2024,188],[2024,195,2024,197],[2024,204,2024,206],[2024,213,2024,215],[2024,222,2024,224],[55,198,55,206],[55,207,55,215],[55,180,55,188],[55,189,55,197],[55,162,55,170],[52,207,52,209],[52,213,52,215],[53,207,53,209],[53,213,53,215],[54,207,54,209],[54,213,54,215],[52,189,52,191],[2027,114,2027,116],[2027,123,2027,125],[2027,132,2027,134],[2027,141,2027,143],[2027,150,2027,152],[2027,159,2027,161],[2027,168,2027,170],[2027,177,2027,179],[2027,186,2027,188],[2027,222,2027,224],[0,216,0,224],[24,222,24,224],[25,216,25,224],[26,216,26,217],[26,222,26,224],[27,216,27,224],[28,222,28,224],[31,216,31,218],[31,222,31,224],[32,216,32,224],[33,216,45,216],[46,216,46,224],[47,216,47,218],[47,222,47,224],[48,216,48,218],[48,222,48,224],[49,216,49,218],[49,222,49,224],[50,216,50,218],[50,222,50,224],[51,216,51,218],[51,222,51,224],[2025,222,2025,224],[2026,114,2026,116],[2026,123,2026,125],[2026,132,2026,134],[2026,141,2026,143],[2026,150,2026,152],[2026,159,2026,161],[2026,168,2026,170],[2026,177,2026,179],[2026,186,2026,188],[2026,195,2026,197],[2026,204,2026,206],[2026,213,2026,215],[2026,222,2026,224],[2025,114,2025,116],[2025,123,2025,125],[2025,132,2025,134],[2025,141,2025,143],[2025,150,2025,152],[2025,159,2025,161],[2025,168,2025,170],[2025,177,2025,179],[2025,186,2025,188],[2025,195,2025,197],[2033,132,2033,134],[2025,204,2025,206],[2025,213,2025,215],[2027,195,2027,197],[2027,204,2027,206],[2027,213,2027,215],[2033,177,2033,179],[2033,186,2033,188],[2033,195,2033,197],[2033,204,2033,206],[2033,213,2033,215],[2029,222,2029,224],[2030,114,2030,116],[2030,123,2030,125],[2030,132,2030,134],[2030,141,2030,143],[2030,150,2030,152],[2030,159,2030,161],[2030,168,2030,170],[2030,177,2030,179],[2030,186,2030,188],[2030,195,2030,197],[2030,204,2030,206],[2030,213,2030,215],[2030,222,2030,224],[2029,159,2029,161],[2029,168,2029,170],[2029,177,2029,179],[2029,186,2029,188],[2029,195,2029,197],[2029,204,2029,206],[2029,213,2029,215],[2033,141,2033,143],[2033,150,2033,152],[2033,159,2033,161],[2033,168,2033,170],[2031,177,2031,179],[2031,186,2031,188],[2031,195,2031,197],[2031,204,2031,206],[2031,213,2031,215],[2033,222,2033,224],[2028,114,2028,116],[2028,123,2028,125],[2028,132,2028,134],[2028,141,2028,143],[2028,150,2028,152],[2028,159,2028,161],[2028,168,2028,170],[2028,177,2028,179],[2028,186,2028,188],[2028,195,2028,197],[2028,204,2028,206],[2028,213,2028,215],[2028,222,2028,224],[2029,114,2029,116],[2029,123,2029,125],[2029,132,2029,134],[2029,141,2029,143],[2029,150,2029,152],[2031,159,2031,161],[2031,168,2031,170],[2033,114,2033,116],[2033,123,2033,125],[2031,222,2031,224],[2032,114,2032,116],[2032,123,2032,125],[2032,132,2032,134],[2032,141,2032,143],[2032,150,2032,152],[2032,159,2032,161],[2032,168,2032,170],[2032,177,2032,179],[2032,186,2032,188],[2032,195,2032,197],[2032,204,2032,206],[2032,213,2032,215],[2032,222,2032,224],[2031,114,2031,116],[2031,123,2031,125],[2031,132,2031,134],[2031,141,2031,143],[2031,150,2031,152],[32,225,32,233],[33,225,45,225],[46,225,46,233],[47,225,47,227],[47,231,47,233],[48,225,48,227],[48,231,48,233],[49,225,49,227],[49,231,49,233],[0,225,0,233],[24,231,24,233],[25,225,25,233],[26,225,26,226],[26,231,26,233],[27,225,27,233],[28,231,28,233],[31,225,31,227],[31,231,31,233],[55,225,55,233],[2024,231,2024,233],[2025,231,2025,233],[2026,231,2026,233],[2027,231,2027,233],[2028,231,2028,233],[2029,231,2029,233]],"bounds":{"rows_first":125,"rows_last":31,"rows_between":125,"halvings":4},"merged_total":1365,"flags":["merged_cut"]}
["WYKAZ LINII",null,null,null,null,null,null,null,null,"WYKAZ LINII",null,null,null,null,null,null,null,null,"WYKAZ LINII",null,null,null,null,null,null,null,null,"WYKAZ LINII",null,null,null,null,null,null,null,null,"WYKAZ LINII",null,null,null,null,null,null,null,null,"WYKAZ LINII",null,null,null,null,null,null,null,null,"WYKAZ LINII",null,null,null,null,null,null,null,null,"WYKAZ LINII",null,null,null,null,null,null,null,null,"WYKAZ LINII",null,null,null,null,null,null,null,null,"WYKAZ LINII",null,null,null,null,null,null,null,null,"WYKAZ LINII",null,null,null,null,null,null,null,null,"WYKAZ LINII",null,null,null,null,null,null,null,null,"WYKAZ LINII",null,null,null,null,null,null,null,null,"WYKAZ LINII",null,null,null,null,null,null,null,null,"WYKAZ LINII",null,null,null,null,null,null,null,null,"WYKAZ LINII",null,null,null,null,null,null,null,null,"WYKAZ LINII",null,null,null,null,null,null,null,null,"WYKAZ LINII",null,null,null,null,null,null,null,null,"WYKAZ LINII",null,null,null,null,null,null,null,null,"WYKAZ LINII",null,null,null,null,null,null,null,null,"WYKAZ LINII",null,null,null,null,null,null,null,null,"WYKAZ LINII",null,null,null,null,null,null,null,null,"WYKAZ LINII",null,null,null,null,null,null,null,null,"WYKAZ LINII",null,null,null,null,null,null,null,null,"WYKAZ LINII",null,null,null,null,null,null,null,null,"WYKAZ LINII",null,null,null,null,null,null,null,null,"WYKAZ LINII",null,null,null,null,null,null,null,null,"WYKAZ LINII",null,null,null,null,null,null,null,null,"WYKAZ LINII",null,null,null,null,null,null,null,null,"WYKAZ LINII",null,null,null,null,null,null,null,null,"WYKAZ LINII",null,null,null,null,null,null,null,null,"WYKAZ LINII",null,null,null,null,null,null,null,null,"WYKAZ LINII",null,null,null,null,null,null,null,null,"WYKAZ LINII",null,null,null,null,null,null,null,null,"WYKAZ LINII"]
[{"$f":"SUM(3:3)","v":0},"ILOŚĆ LINII",null,null,null,null,null,null,null,{"$f":"SUM(3:3)","v":0},"ILOŚĆ LINII",null,null,null,null,null,null,null,{"$f":"SUM(3:3)","v":0},"ILOŚĆ LINII",null,null,null,null,null,null,null,{"$f":"SUM(3:3)","v":0},"ILOŚĆ LINII",null,null,null,null,null,null,null,{"$f":"SUM(3:3)","v":0},"ILOŚĆ LINII",null,null,null,null,null,null,null,{"$f":"SUM(3:3)","v":0},"ILOŚĆ LINII",null,null,null,null,null,null,null,{"$f":"SUM(3:3)","v":0},"ILOŚĆ LINII",null,null,null,null,null,null,null,{"$f":"SUM(3:3)","v":0},"ILOŚĆ LINII",null,null,null,null,null,null,null,{"$f":"SUM(3:3)","v":0},"ILOŚĆ LINII",null,null,null,null,null,null,null,{"$f":"SUM(3:3)","v":0},"ILOŚĆ LINII",null,null,null,null,null,null,null,{"$f":"SUM(3:3)","v":0},"ILOŚĆ LINII",null,null,null,null,null,null,null,{"$f":"SUM(3:3)","v":0},"ILOŚĆ LINII",null,null,null,null,null,null,null,{"$f":"SUM(3:3)","v":0},"ILOŚĆ LINII",null,null,null,null,null,null,null,{"$f":"SUM(3:3)","v":0},"ILOŚĆ LINII",null,null,null,null,null,null,null,{"$f":"SUM(3:3)","v":0},"ILOŚĆ LINII",null,null,null,null,null,null,null,{"$f":"SUM(3:3)","v":0},"ILOŚĆ LINII",null,null,null,null,null,null,null,{"$f":"SUM(3:3)","v":0},"ILOŚĆ LINII",null,null,null,null,null,null,null,{"$f":"SUM(3:3)","v":0},"ILOŚĆ LINII",null,null,null,null,null,null,null,{"$f":"SUM(3:3)","v":0},"ILOŚĆ LINII",null,null,null,null,null,null,null,{"$f":"SUM(3:3)","v":0},"ILOŚĆ LINII",null,null,null,null,null,null,null,{"$f":"SUM(3:3)","v":0},"ILOŚĆ LINII",null,null,null,null,null,null,null,{"$f":"SUM(3:3)","v":0},"ILOŚĆ LINII",null,null,null,null,null,null,null,{"$f":"SUM(3:3)","v":0},"ILOŚĆ LINII",null,null,null,null,null,null,null,{"$f":"SUM(3:3)","v":0},"ILOŚĆ LINII",null,null,null,null,null,null,null,{"$f":"SUM(3:3)","v":0},"ILOŚĆ LINII",null,null,null,null,null,null,null,{"$f":"SUM(3:3)","v":0},"ILOŚĆ LINII",null,null,null,null,null,null,null,{"$f":"SUM(3:3)","v":0},"ILOŚĆ LINII",null,null,null,null,null,null,null,{"$f":"SUM(3:3)","v":0},"ILOŚĆ LINII",null,null,null,null,null,null,null,{"$f":"SUM(3:3)","v":0},"ILOŚĆ LINII",null,null,null,null,null,null,null,{"$f":"SUM(3:3)","v":0},"ILOŚĆ LINII",null,null,null,null,null,null,null,{"$f":"SUM(3:3)","v":0},"ILOŚĆ LINII",null,null,null,null,null,null,null,{"$f":"SUM(3:3)","v":0},"ILOŚĆ LINII",null,null,null,null,null,null,null,{"$f":"SUM(3:3)","v":0},"ILOŚĆ LINII",null,null,null,null,null,null,null,{"$f":"SUM(3:3)","v":0},"ILOŚĆ LINII",null,null,null,null,null,null,null,{"$f":"SUM(3:3)","v":0},"ILOŚĆ LINII"]
[null,{"$f":"IF(B25=\"\",0,1)","v":0},null,null,null,null,null,null,null,null,{"$f":"IF(K25=\"\",0,1)","v":0},null,null,null,null,null,null,null,null,{"$f":"IF(T25=\"\",0,1)","v":0},null,null,null,null,null,null,null,null,{"$f":"IF(AC25=\"\",0,1)","v":0},null,null,null,null,null,null,null,null,{"$f":"IF(AL25=\"\",0,1)","v":0},null,null,null,null,null,null,null,null,{"$f":"IF(AU25=\"\",0,1)","v":0},null,null,null,null,null,null,null,null,{"$f":"IF(BD25=\"\",0,1)","v":0},null,null,null,null,null,null,null,null,{"$f":"IF(BM25=\"\",0,1)","v":0},null,null,null,null,null,null,null,null,{"$f":"IF(BV25=\"\",0,1)","v":0},null,null,null,null,null,null,null,null,{"$f":"IF(CE25=\"\",0,1)","v":0},null,null,null,null,null,null,null,null,{"$f":"IF(CN25=\"\",0,1)","v":0},null,null,null,null,null,null,null,null,{"$f":"IF(CW25=\"\",0,1)","v":0},null,null,null,null,null,null,null,null,{"$f":"IF(DF25=\"\",0,1)","v":0},null,null,null,null,null,null,null,null,{"$f":"IF(DO25=\"\",0,1)","v":0},null,null,null,null,null,null,null,null,{"$f":"IF(DX25=\"\",0,1)","v":0},null,null,null,null,null,null,null,null,{"$f":"IF(EG25=\"\",0,1)","v":0},null,null,null,null,null,null,null,null,{"$f":"IF(EP25=\"\",0,1)","v":0},null,null,null,null,null,null,null,null,{"$f":"IF(EY25=\"\",0,1)","v":0},null,null,null,null,null,null,null,null,{"$f":"IF(FH25=\"\",0,1)","v":0},null,null,null,null,null,null,null,null,{"$f":"IF(FQ25=\"\",0,1)","v":0},null,null,null,null,null,null,null,null,{"$f":"IF(FZ25=\"\",0,1)","v":0},null,null,null,null,null,null,null,null,{"$f":"IF(GI25=\"\",0,1)","v":0},null,null,null,null,null,null,null,null,{"$f":"IF(GR25=\"\",0,1)","v":0},null,null,null,null,null,null,null,null,{"$f":"IF(HA25=\"\",0,1)","v":0},null,null,null,null,null,null,null,null,{"$f":"IF(HJ25=\"\",0,1)","v":0},null,null,null,null,null,null,null,null,{"$f":"IF(HS25=\"\",0,1)","v":0},null,null,null,null,null,null,null,null,{"$f":"IF(IB25=\"\",0,1)","v":0},null,null,null,null,null,null,null,null,{"$f":"IF(IK25=\"\",0,1)","v":0},null,null,null,null,null,null,null,null,{"$f":"IF(IT25=\"\",0,1)","v":0},null,null,null,null,null,null,null,null,{"$f":"IF(JC25=\"\",0,1)","v":0},null,null,null,null,null,null,null,null,{"$f":"IF(JL25=\"\",0,1)","v":0},null,null,null,null,null,null,null,null,{"$f":"IF(JU25=\"\",0,1)","v":0},null,null,null,null,null,null,null,null,{"$f":"IF(KD25=\"\",0,1)","v":0},null,null,null,null,null,null,null,null,{"$f":"IF(KM25=\"\",0,1)","v":0},null,null,null,null,null,null,null,null,{"$f":"IF(KV25=\"\",0,1)","v":0}]
[{"$f":"SUM(5:5)","v":0},"DŁUGOŚĆ LINII",null,null,null,null,null,null,null,{"$f":"SUM(5:5)","v":0},"DŁUGOŚĆ LINII",null,null,null,null,null,null,null,{"$f":"SUM(5:5)","v":0},"DŁUGOŚĆ LINII",null,null,null,null,null,null,null,{"$f":"SUM(5:5)","v":0},"DŁUGOŚĆ LINII",null,null,null,null,null,null,null,{"$f":"SUM(5:5)","v":0},"DŁUGOŚĆ LINII",null,null,null,null,null,null,null,{"$f":"SUM(5:5)","v":0},"DŁUGOŚĆ LINII",null,null,null,null,null,null,null,{"$f":"SUM(5:5)","v":0},"DŁUGOŚĆ LINII",null,null,null,null,null,null,null,{"$f":"SUM(5:5)","v":0},"DŁUGOŚĆ LINII",null,null,null,null,null,null,null,{"$f":"SUM(5:5)","v":0},"DŁUGOŚĆ LINII",null,null,null,null,null,null,null,{"$f":"SUM(5:5)","v":0},"DŁUGOŚĆ LINII",null,null,null,null,null,null,null,{"$f":"SUM(5:5)","v":0},"DŁUGOŚĆ LINII",null,null,null,null,null,null,null,{"$f":"SUM(5:5)","v":0},"DŁUGOŚĆ LINII",null,null,null,null,null,null,null,{"$f":"SUM(5:5)","v":0},"DŁUGOŚĆ LINII",null,null,null,null,null,null,null,{"$f":"SUM(5:5)","v":0},"DŁUGOŚĆ LINII",null,null,null,null,null,null,null,{"$f":"SUM(5:5)","v":0},"DŁUGOŚĆ LINII",null,null,null,null,null,null,null,{"$f":"SUM(5:5)","v":0},"DŁUGOŚĆ LINII",null,null,null,null,null,null,null,{"$f":"SUM(5:5)","v":0},"DŁUGOŚĆ LINII",null,null,null,null,null,null,null,{"$f":"SUM(5:5)","v":0},"DŁUGOŚĆ LINII",null,null,null,null,null,null,null,{"$f":"SUM(5:5)","v":0},"DŁUGOŚĆ LINII",null,null,null,null,null,null,null,{"$f":"SUM(5:5)","v":0},"DŁUGOŚĆ LINII",null,null,null,null,null,null,null,{"$f":"SUM(5:5)","v":0},"DŁUGOŚĆ LINII",null,null,null,null,null,null,null,{"$f":"SUM(5:5)","v":0},"DŁUGOŚĆ LINII",null,null,null,null,null,null,null,{"$f":"SUM(5:5)","v":0},"DŁUGOŚĆ LINII",null,null,null,null,null,null,null,{"$f":"SUM(5:5)","v":0},"DŁUGOŚĆ LINII",null,null,null,null,null,null,null,{"$f":"SUM(5:5)","v":0},"DŁUGOŚĆ LINII",null,null,null,null,null,null,null,{"$f":"SUM(5:5)","v":0},"DŁUGOŚĆ LINII",null,null,null,null,null,null,null,{"$f":"SUM(5:5)","v":0},"DŁUGOŚĆ LINII",null,null,null,null,null,null,null,{"$f":"SUM(5:5)","v":0},"DŁUGOŚĆ LINII",null,null,null,null,null,null,null,{"$f":"SUM(5:5)","v":0},"DŁUGOŚĆ LINII",null,null,null,null,null,null,null,{"$f":"SUM(5:5)","v":0},"DŁUGOŚĆ LINII",null,null,null,null,null,null,null,{"$f":"SUM(5:5)","v":0},"DŁUGOŚĆ LINII",null,null,null,null,null,null,null,{"$f":"SUM(5:5)","v":0},"DŁUGOŚĆ LINII",null,null,null,null,null,null,null,{"$f":"SUM(5:5)","v":0},"DŁUGOŚĆ LINII",null,null,null,null,null,null,null,{"$f":"SUM(5:5)","v":0},"DŁUGOŚĆ LINII",null,null,null,null,null,null,null,{"$f":"SUM(5:5)","v":0},"DŁUGOŚĆ LINII"]
[null,{"$f":"C27","v":0},null,null,null,null,null,null,null,null,{"$f":"L27","v":0},null,null,null,null,null,null,null,null,{"$f":"U27","v":0},null,null,null,null,null,null,null,null,{"$f":"AD27","v":0},null,null,null,null,null,null,null,null,{"$f":"AM27","v":0},null,null,null,null,null,null,null,null,{"$f":"AV27","v":0},null,null,null,null,null,null,null,null,{"$f":"BE27","v":0},null,null,null,null,null,null,null,null,{"$f":"BN27","v":0},null,null,null,null,null,null,null,null,{"$f":"BW27","v":0},null,null,null,null,null,null,null,null,{"$f":"CF27","v":0},null,null,null,null,null,null,null,null,{"$f":"CO27","v":0},null,null,null,null,null,null,null,null,{"$f":"CX27","v":0},null,null,null,null,null,null,null,null,{"$f":"DG27","v":0},null,null,null,null,null,null,null,null,{"$f":"DP27","v":0},null,null,null,null,null,null,null,null,{"$f":"DY27","v":0},null,null,null,null,null,null,null,null,{"$f":"EH27","v":0},null,null,null,null,null,null,null,null,{"$f":"EQ27","v":0},null,null,null,null,null,null,null,null,{"$f":"EZ27","v":0},null,null,null,null,null,null,null,null,{"$f":"FI27","v":0},null,null,null,null,null,null,null,null,{"$f":"FR27","v":0},null,null,null,null,null,null,null,null,{"$f":"GA27","v":0},null,null,null,null,null,null,null,null,{"$f":"GJ27","v":0},null,null,null,null,null,null,null,null,{"$f":"GS27","v":0},null,null,null,null,null,null,null,null,{"$f":"HB27","v":0},null,null,null,null,null,null,null,null,{"$f":"HK27","v":0},null,null,null,null,null,null,null,null,{"$f":"HT27","v":0},null,null,null,null,null,null,null,null,{"$f":"IC27","v":0},null,null,null,null,null,null,null,null,{"$f":"IL27","v":0},null,null,null,null,null,null,null,null,{"$f":"IU27","v":0},null,null,null,null,null,null,null,null,{"$f":"JD27","v":0},null,null,null,null,null,null,null,null,{"$f":"JM27","v":0},null,null,null,null,null,null,null,null,{"$f":"JV27","v":0},null,null,null,null,null,null,null,null,{"$f":"KE27","v":0},null,null,null,null,null,null,null,null,{"$f":"KN27","v":0},null,null,null,null,null,null,null,null,{"$f":"KW27","v":0}]
[{"$f":"SUM(7:7)","v":0},"LICZBA ZATRZYMAŃ",null,null,null,null,null,null,null,{"$f":"SUM(7:7)","v":0},"LICZBA ZATRZYMAŃ",null,null,null,null,null,null,null,{"$f":"SUM(7:7)","v":0},"LICZBA ZATRZYMAŃ",null,null,null,null,null,null,null,{"$f":"SUM(7:7)","v":0},"LICZBA ZATRZYMAŃ",null,null,null,null,null,null,null,{"$f":"SUM(7:7)","v":0},"LICZBA ZATRZYMAŃ",null,null,null,null,null,null,null,{"$f":"SUM(7:7)","v":0},"LICZBA ZATRZYMAŃ",null,null,null,null,null,null,null,{"$f":"SUM(7:7)","v":0},"LICZBA ZATRZYMAŃ",null,null,null,null,null,null,null,{"$f":"SUM(7:7)","v":0},"LICZBA ZATRZYMAŃ",null,null,null,null,null,null,null,{"$f":"SUM(7:7)","v":0},"LICZBA ZATRZYMAŃ",null,null,null,null,null,null,null,{"$f":"SUM(7:7)","v":0},"LICZBA ZATRZYMAŃ",null,null,null,null,null,null,null,{"$f":"SUM(7:7)","v":0},"LICZBA ZATRZYMAŃ",null,null,null,null,null,null,null,{"$f":"SUM(7:7)","v":0},"LICZBA ZATRZYMAŃ",null,null,null,null,null,null,null,{"$f":"SUM(7:7)","v":0},"LICZBA ZATRZYMAŃ",null,null,null,null,null,null,null,{"$f":"SUM(7:7)","v":0},"LICZBA ZATRZYMAŃ",null,null,null,null,null,null,null,{"$f":"SUM(7:7)","v":0},"LICZBA ZATRZYMAŃ",null,null,null,null,null,null,null,{"$f":"SUM(7:7)","v":0},"LICZBA ZATRZYMAŃ",null,null,null,null,null,null,null,{"$f":"SUM(7:7)","v":0},"LICZBA ZATRZYMAŃ",null,null,null,null,null,null,null,{"$f":"SUM(7:7)","v":0},"LICZBA ZATRZYMAŃ",null,null,null,null,null,null,null,{"$f":"SUM(7:7)","v":0},"LICZBA ZATRZYMAŃ",null,null,null,null,null,null,null,{"$f":"SUM(7:7)","v":0},"LICZBA ZATRZYMAŃ",null,null,null,null,null,null,null,{"$f":"SUM(7:7)","v":0},"LICZBA ZATRZYMAŃ",null,null,null,null,null,null,null,{"$f":"SUM(7:7)","v":0},"LICZBA ZATRZYMAŃ",null,null,null,null,null,null,null,{"$f":"SUM(7:7)","v":0},"LICZBA ZATRZYMAŃ",null,null,null,null,null,null,null,{"$f":"SUM(7:7)","v":0},"LICZBA ZATRZYMAŃ",null,null,null,null,null,null,null,{"$f":"SUM(7:7)","v":0},"LICZBA ZATRZYMAŃ",null,null,null,null,null,null,null,{"$f":"SUM(7:7)","v":0},"LICZBA ZATRZYMAŃ",null,null,null,null,null,null,null,{"$f":"SUM(7:7)","v":0},"LICZBA ZATRZYMAŃ",null,null,null,null,null,null,null,{"$f":"SUM(7:7)","v":0},"LICZBA ZATRZYMAŃ",null,null,null,null,null,null,null,{"$f":"SUM(7:7)","v":0},"LICZBA ZATRZYMAŃ",null,null,null,null,null,null,null,{"$f":"SUM(7:7)","v":0},"LICZBA ZATRZYMAŃ",null,null,null,null,null,null,null,{"$f":"SUM(7:7)","v":0},"LICZBA ZATRZYMAŃ",null,null,null,null,null,null,null,{"$f":"SUM(7:7)","v":0},"LICZBA ZATRZYMAŃ",null,null,null,null,null,null,null,{"$f":"SUM(7:7)","v":0},"LICZBA ZATRZYMAŃ",null,null,null,null,null,null,null,{"$f":"SUM(7:7)","v":0},"LICZBA ZATRZYMAŃ",null,null,null,null,null,null,null,{"$f":"SUM(7:7)","v":0},"LICZBA ZATRZYMAŃ"]
[null,{"$f":"D58*C34","v":0},null,null,null,null,null,null,null,null,{"$f":"M58*L34","v":0},null,null,null,null,null,null,null,null,{"$f":"V58*U34","v":0},null,null,null,null,null,null,null,null,{"$f":"AE58*AD34","v":0},null,null,null,null,null,null,null,null,{"$f":"AN58*AM34","v":0},null,null,null,null,null,null,null,null,{"$f":"AW58*AV34","v":0},null,null,null,null,null,null,null,null,{"$f":"BF58*BE34","v":0},null,null,null,null,null,null,null,null,{"$f":"BO58*BN34","v":0},null,null,null,null,null,null,null,null,{"$f":"BX58*BW34","v":0},null,null,null,null,null,null,null,null,{"$f":"CG58*CF34","v":0},null,null,null,null,null,null,null,null,{"$f":"CP58*CO34","v":0},null,null,null,null,null,null,null,null,{"$f":"CY58*CX34","v":0},null,null,null,null,null,null,null,null,{"$f":"DH58*DG34","v":0},null,null,null,null,null,null,null,null,{"$f":"DQ58*DP34","v":0},null,null,null,null,null,null,null,null,{"$f":"DZ58*DY34","v":0},null,null,null,null,null,null,null,null,{"$f":"EI58*EH34","v":0},null,null,null,null,null,null,null,null,{"$f":"ER58*EQ34","v":0},null,null,null,null,null,null,null,null,{"$f":"FA58*EZ34","v":0},null,null,null,null,null,null,null,null,{"$f":"FJ58*FI34","v":0},null,null,null,null,null,null,null,null,{"$f":"FS58*FR34","v":0},null,null,null,null,null,null,null,null,{"$f":"GB58*GA34","v":0},null,null,null,null,null,null,null,null,{"$f":"GK58*GJ34","v":0},null,null,null,null,null,null,null,null,{"$f":"GT58*GS34","v":0},null,null,null,null,null,null,null,null,{"$f":"HC58*HB34","v":0},null,null,null,null,null,null,null,null,{"$f":"HL58*HK34","v":0},null,null,null,null,null,null,null,null,{"$f":"HU58*HT34","v":0},null,null,null,null,null,null,null,null,{"$f":"ID58*IC34","v":0},null,null,null,null,null,null,null,null,{"$f":"IM58*IL34","v":0},null,null,null,null,null,null,null,null,{"$f":"IV58*IU34","v":0},null,null,null,null,null,null,null,null,{"$f":"JE58*JD34","v":0},null,null,null,null,null,null,null,null,{"$f":"JN58*JM34","v":0},null,null,null,null,null,null,null,null,{"$f":"JW58*JV34","v":0},null,null,null,null,null,null,null,null,{"$f":"KF58*KE34","v":0},null,null,null,null,null,null,null,null,{"$f":"KO58*KN34","v":0},null,null,null,null,null,null,null,null,{"$f":"KX58*KW34","v":0}]
[{"$f":"SUM(9:9)","v":0},"WIELKOŚĆ PRACY",null,null,null,null,null,null,null,{"$f":"SUM(9:9)","v":0},"WIELKOŚĆ PRACY",null,null,null,null,null,null,null,{"$f":"SUM(9:9)","v":0},"WIELKOŚĆ PRACY",null,null,null,null,null,null,null,{"$f":"SUM(9:9)","v":0},"WIELKOŚĆ PRACY",null,null,null,null,null,null,null,{"$f":"SUM(9:9)","v":0},"WIELKOŚĆ PRACY",null,null,null,null,null,null,null,{"$f":"SUM(9:9)","v":0},"WIELKOŚĆ PRACY",null,null,null,null,null,null,null,{"$f":"SUM(9:9)","v":0},"WIELKOŚĆ PRACY",null,null,null,null,null,null,null,{"$f":"SUM(9:9)","v":0},"WIELKOŚĆ PRACY",null,null,null,null,null,null,null,{"$f":"SUM(9:9)","v":0},"WIELKOŚĆ PRACY",null,null,null,null,null,null,null,{"$f":"SUM(9:9)","v":0},"WIELKOŚĆ PRACY",null,null,null,null,null,null,null,{"$f":"SUM(9:9)","v":0},"WIELKOŚĆ PRACY",null,null,null,null,null,null,null,{"$f":"SUM(9:9)","v":0},"WIELKOŚĆ PRACY",null,null,null,null,null,null,null,{"$f":"SUM(9:9)","v":0},"WIELKOŚĆ PRACY",null,null,null,null,null,null,null,{"$f":"SUM(9:9)","v":0},"WIELKOŚĆ PRACY",null,null,null,null,null,null,null,{"$f":"SUM(9:9)","v":0},"WIELKOŚĆ PRACY",null,null,null,null,null,null,null,{"$f":"SUM(9:9)","v":0},"WIELKOŚĆ PRACY",null,null,null,null,null,null,null,{"$f":"SUM(9:9)","v":0},"WIELKOŚĆ PRACY",null,null,null,null,null,null,null,{"$f":"SUM(9:9)","v":0},"WIELKOŚĆ PRACY",null,null,null,null,null,null,null,{"$f":"SUM(9:9)","v":0},"WIELKOŚĆ PRACY",null,null,null,null,null,null,null,{"$f":"SUM(9:9)","v":0},"WIELKOŚĆ PRACY",null,null,null,null,null,null,null,{"$f":"SUM(9:9)","v":0},"WIELKOŚĆ PRACY",null,null,null,null,null,null,null,{"$f":"SUM(9:9)","v":0},"WIELKOŚĆ PRACY",null,null,null,null,null,null,null,{"$f":"SUM(9:9)","v":0},"WIELKOŚĆ PRACY",null,null,null,null,null,null,null,{"$f":"SUM(9:9)","v":0},"WIELKOŚĆ PRACY",null,null,null,null,null,null,null,{"$f":"SUM(9:9)","v":0},"WIELKOŚĆ PRACY",null,null,null,null,null,null,null,{"$f":"SUM(9:9)","v":0},"WIELKOŚĆ PRACY",null,null,null,null,null,null,null,{"$f":"SUM(9:9)","v":0},"WIELKOŚĆ PRACY",null,null,null,null,null,null,null,{"$f":"SUM(9:9)","v":0},"WIELKOŚĆ PRACY",null,null,null,null,null,null,null,{"$f":"SUM(9:9)","v":0},"WIELKOŚĆ PRACY",null,null,null,null,null,null,null,{"$f":"SUM(9:9)","v":0},"WIELKOŚĆ PRACY",null,null,null,null,null,null,null,{"$f":"SUM(9:9)","v":0},"WIELKOŚĆ PRACY",null,null,null,null,null,null,null,{"$f":"SUM(9:9)","v":0},"WIELKOŚĆ PRACY",null,null,null,null,null,null,null,{"$f":"SUM(9:9)","v":0},"WIELKOŚĆ PRACY",null,null,null,null,null,null,null,{"$f":"SUM(9:9)","v":0},"WIELKOŚĆ PRACY",null,null,null,null,null,null,null,{"$f":"SUM(9:9)","v":0},"WIELKOŚĆ PRACY"]
[null,{"$f":"G32","v":0},null,null,null,null,null,null,null,null,{"$f":"P32","v":0},null,null,null,null,null,null,null,null,{"$f":"Y32","v":0},null,null,null,null,null,null,null,null,{"$f":"AH32","v":0},null,null,null,null,null,null,null,null,{"$f":"AQ32","v":0},null,null,null,null,null,null,null,null,{"$f":"AZ32","v":0},null,null,null,null,null,null,null,null,{"$f":"BI32","v":0},null,null,null,null,null,null,null,null,{"$f":"BR32","v":0},null,null,null,null,null,null,null,null,{"$f":"CA32","v":0},null,null,null,null,null,null,null,null,{"$f":"CJ32","v":0},null,null,null,null,null,null,null,null,{"$f":"CS32","v":0},null,null,null,null,null,null,null,null,{"$f":"DB32","v":0},null,null,null,null,null,null,null,null,{"$f":"DK32","v":0},null,null,null,null,null,null,null,null,{"$f":"DT32","v":0},null,null,null,null,null,null,null,null,{"$f":"EC32","v":0},null,null,null,null,null,null,null,null,{"$f":"EL32","v":0},null,null,null,null,null,null,null,null,{"$f":"EU32","v":0},null,null,null,null,null,null,null,null,{"$f":"FD32","v":0},null,null,null,null,null,null,null,null,{"$f":"FM32","v":0},null,null,null,null,null,null,null,null,{"$f":"FV32","v":0},null,null,null,null,null,null,null,null,{"$f":"GE32","v":0},null,null,null,null,null,null,null,null,{"$f":"GN32","v":0},null,null,null,null,null,null,null,null,{"$f":"GW32","v":0},null,null,null,null,null,null,null,null,{"$f":"HF32","v":0},null,null,null,null,null,null,null,null,{"$f":"HO32","v":0},null,null,null,null,null,null,null,null,{"$f":"HX32","v":0},null,null,null,null,null,null,null,null,{"$f":"IG32","v":0},null,null,null,null,null,null,null,null,{"$f":"IP32","v":0},null,null,null,null,null,null,null,null,{"$f":"IY32","v":0},null,null,null,null,null,null,null,null,{"$f":"JH32","v":0},null,null,null,null,null,null,null,null,{"$f":"JQ32","v":0},null,null,null,null,null,null,null,null,{"$f":"JZ32","v":0},null,null,null,null,null,null,null,null,{"$f":"KI32","v":0},null,null,null,null,null,null,null,null,{"$f":"KR32","v":0},null,null,null,null,null,null,null,null,{"$f":"LA32","v":0}]
[{"$f":"SUM(11:11)","v":0},"ILOŚĆ PRZYSTANKÓW NPŁNSPR TAK ",null,null,null,null,null,null,null,{"$f":"SUM(11:11)","v":0},"ILOŚĆ PRZYSTANKÓW NPŁNSPR TAK ",null,null,null,null,null,null,null,{"$f":"SUM(11:11)","v":0},"ILOŚĆ PRZYSTANKÓW NPŁNSPR TAK ",null,null,null,null,null,null,null,{"$f":"SUM(11:11)","v":0},"ILOŚĆ PRZYSTANKÓW NPŁNSPR TAK ",null,null,null,null,null,null,null,{"$f":"SUM(11:11)","v":0},"ILOŚĆ PRZYSTANKÓW NPŁNSPR TAK ",null,null,null,null,null,null,null,{"$f":"SUM(11:11)","v":0},"ILOŚĆ PRZYSTANKÓW NPŁNSPR TAK ",null,null,null,null,null,null,null,{"$f":"SUM(11:11)","v":0},"ILOŚĆ PRZYSTANKÓW NPŁNSPR TAK ",null,null,null,null,null,null,null,{"$f":"SUM(11:11)","v":0},"ILOŚĆ PRZYSTANKÓW NPŁNSPR TAK ",null,null,null,null,null,null,null,{"$f":"SUM(11:11)","v":0},"ILOŚĆ PRZYSTANKÓW NPŁNSPR TAK ",null,null,null,null,null,null,null,{"$f":"SUM(11:11)","v":0},"ILOŚĆ PRZYSTANKÓW NPŁNSPR TAK ",null,null,null,null,null,null,null,{"$f":"SUM(11:11)","v":0},"ILOŚĆ PRZYSTANKÓW NPŁNSPR TAK ",null,null,null,null,null,null,null,{"$f":"SUM(11:11)","v":0},"ILOŚĆ PRZYSTANKÓW NPŁNSPR TAK ",null,null,null,null,null,null,null,{"$f":"SUM(11:11)","v":0},"ILOŚĆ PRZYSTANKÓW NPŁNSPR TAK ",null,null,null,null,null,null,null,{"$f":"SUM(11:11)","v":0},"ILOŚĆ PRZYSTANKÓW NPŁNSPR TAK ",null,null,null,null,null,null,null,{"$f":"SUM(11:11)","v":0},"ILOŚĆ PRZYSTANKÓW NPŁNSPR TAK ",null,null,null,null,null,null,null,{"$f":"SUM(11:11)","v":0},"ILOŚĆ PRZYSTANKÓW NPŁNSPR TAK ",null,null,null,null,null,null,null,{"$f":"SUM(11:11)","v":0},"ILOŚĆ PRZYSTANKÓW NPŁNSPR TAK ",null,null,null,null,null,null,null,{"$f":"SUM(11:11)","v":0},"ILOŚĆ PRZYSTANKÓW NPŁNSPR TAK ",null,null,null,null,null,null,null,{"$f":"SUM(11:11)","v":0},"ILOŚĆ PRZYSTANKÓW NPŁNSPR TAK ",null,null,null,null,null,null,null,{"$f":"SUM(11:11)","v":0},"ILOŚĆ PRZYSTANKÓW NPŁNSPR TAK ",null,null,null,null,null,null,null,{"$f":"SUM(11:11)","v":0},"ILOŚĆ PRZYSTANKÓW NPŁNSPR TAK ",null,null,null,null,null,null,null,{"$f":"SUM(11:11)","v":0},"ILOŚĆ PRZYSTANKÓW NPŁNSPR TAK ",null,null,null,null,null,null,null,{"$f":"SUM(11:11)","v":0},"ILOŚĆ PRZYSTANKÓW NPŁNSPR TAK ",null,null,null,null,null,null,null,{"$f":"SUM(11:11)","v":0},"ILOŚĆ PRZYSTANKÓW NPŁNSPR TAK ",null,null,null,null,null,null,null,{"$f":"SUM(11:11)","v":0},"ILOŚĆ PRZYSTANKÓW NPŁNSPR TAK ",null,null,null,null,null,null,null,{"$f":"SUM(11:11)","v":0},"ILOŚĆ PRZYSTANKÓW NPŁNSPR TAK ",null,null,null,null,null,null,null,{"$f":"SUM(11:11)","v":0},"ILOŚĆ PRZYSTANKÓW NPŁNSPR TAK ",null,null,null,null,null,null,null,{"$f":"SUM(11:11)","v":0},"ILOŚĆ PRZYSTANKÓW NPŁNSPR TAK ",null,null,null,null,null,null,null,{"$f":"SUM(11:11)","v":0},"ILOŚĆ PRZYSTANKÓW NPŁNSPR TAK ",null,null,null,null,null,null,null,{"$f":"SUM(11:11)","v":0},"ILOŚĆ PRZYSTANKÓW NPŁNSPR TAK ",null,null,null,null,null,null,null,{"$f":"SUM(11:11)","v":0},"ILOŚĆ PRZYSTANKÓW NPŁNSPR TAK ",null,null,null,null,null,null,null,{"$f":"SUM(11:11)","v":0},"ILOŚĆ PRZYSTANKÓW NPŁNSPR TAK ",null,null,null,null,null,null,null,{"$f":"SUM(11:11)","v":0},"ILOŚĆ PRZYSTANKÓW NPŁNSPR TAK ",null,null,null,null,null,null,null,{"$f":"SUM(11:11)","v":0},"ILOŚĆ PRZYSTANKÓW NPŁNSPR TAK ",null,null,null,null,null,null,null,{"$f":"SUM(11:11)","v":0},"ILOŚĆ PRZYSTANKÓW NPŁNSPR TAK "]
[null,{"$f":"H57","v":0},null,null,null,null,null,null,null,null,{"$f":"Q57","v":0},null,null,null,null,null,null,null,null,{"$f":"Z57","v":0},null,null,null,null,null,null,null,null,{"$f":"AI57","v":0},null,null,null,null,null,null,null,null,{"$f":"AR57","v":0},null,null,null,null,null,null,null,null,{"$f":"BA57","v":0},null,null,null,null,null,null,null,null,{"$f":"BJ57","v":0},null,null,null,null,null,null,null,null,{"$f":"BS57","v":0},null,null,null,null,null,null,null,null,{"$f":"CB57","v":0},null,null,null,null,null,null,null,null,{"$f":"CK57","v":0},null,null,null,null,null,null,null,null,{"$f":"CT57","v":0},null,null,null,null,null,null,null,null,{"$f":"DC57","v":0},null,null,null,null,null,null,null,null,{"$f":"DL57","v":0},null,null,null,null,null,null,null,null,{"$f":"DU57","v":0},null,null,null,null,null,null,null,null,{"$f":"ED57","v":0},null,null,null,null,null,null,null,null,{"$f":"EM57","v":0},null,null,null,null,null,null,null,null,{"$f":"EV57","v":0},null,null,null,null,null,null,null,null,{"$f":"FE57","v":0},null,null,null,null,null,null,null,null,{"$f":"FN57","v":0},null,null,null,null,null,null,null,null,{"$f":"FW57","v":0},null,null,null,null,null,null,null,null,{"$f":"GF57","v":0},null,null,null,null,null,null,null,null,{"$f":"GO57","v":0},null,null,null,null,null,null,null,null,{"$f":"GX57","v":0},null,null,null,null,null,null,null,null,{"$f":"HG57","v":0},null,null,null,null,null,null,null,null,{"$f":"HP57","v":0},null,null,null,null,null,null,null,null,{"$f":"HY57","v":0},null,null,null,null,null,null,null,null,{"$f":"IH57","v":0},null,null,null,null,null,null,null,null,{"$f":"IQ57","v":0},null,null,null,null,null,null,null,null,{"$f":"IZ57","v":0},null,null,null,null,null,null,null,null,{"$f":"JI57","v":0},null,null,null,null,null,null,null,null,{"$f":"JR57","v":0},null,null,null,null,null,null,null,null,{"$f":"KA57","v":0},null,null,null,null,null,null,null,null,{"$f":"KJ57","v":0},null,null,null,null,null,null,null,null,{"$f":"KS57","v":0},null,null,null,null,null,null,null,null,{"$f":"LB57","v":0}]
[{"$f":"SUM(13:13)","v":0},"ILOŚĆ PRZYSTANKÓW",null,null,null,null,null,null,null,{"$f":"SUM(13:13)","v":0},"ILOŚĆ PRZYSTANKÓW",null,null,null,null,null,null,null,{"$f":"SUM(13:13)","v":0},"ILOŚĆ PRZYSTANKÓW",null,null,null,null,null,null,null,{"$f":"SUM(13:13)","v":0},"ILOŚĆ PRZYSTANKÓW",null,null,null,null,null,null,null,{"$f":"SUM(13:13)","v":0},"ILOŚĆ PRZYSTANKÓW",null,null,null,null,null,null,null,{"$f":"SUM(13:13)","v":0},"ILOŚĆ PRZYSTANKÓW",null,null,null,null,null,null,null,{"$f":"SUM(13:13)","v":0},"ILOŚĆ PRZYSTANKÓW",null,null,null,null,null,null,null,{"$f":"SUM(13:13)","v":0},"ILOŚĆ PRZYSTANKÓW",null,null,null,null,null,null,null,{"$f":"SUM(13:13)","v":0},"ILOŚĆ PRZYSTANKÓW",null,null,null,null,null,null,null,{"$f":"SUM(13:13)","v":0},"ILOŚĆ PRZYSTANKÓW",null,null,null,null,null,null,null,{"$f":"SUM(13:13)","v":0},"ILOŚĆ PRZYSTANKÓW",null,null,null,null,null,null,null,{"$f":"SUM(13:13)","v":0},"ILOŚĆ PRZYSTANKÓW",null,null,null,null,null,null,null,{"$f":"SUM(13:13)","v":0},"ILOŚĆ PRZYSTANKÓW",null,null,null,null,null,null,null,{"$f":"SUM(13:13)","v":0},"ILOŚĆ PRZYSTANKÓW",null,null,null,null,null,null,null,{"$f":"SUM(13:13)","v":0},"ILOŚĆ PRZYSTANKÓW",null,null,null,null,null,null,null,{"$f":"SUM(13:13)","v":0},"ILOŚĆ PRZYSTANKÓW",null,null,null,null,null,null,null,{"$f":"SUM(13:13)","v":0},"ILOŚĆ PRZYSTANKÓW",null,null,null,null,null,null,null,{"$f":"SUM(13:13)","v":0},"ILOŚĆ PRZYSTANKÓW",null,null,null,null,null,null,null,{"$f":"SUM(13:13)","v":0},"ILOŚĆ PRZYSTANKÓW",null,null,null,null,null,null,null,{"$f":"SUM(13:13)","v":0},"ILOŚĆ PRZYSTANKÓW",null,null,null,null,null,null,null,{"$f":"SUM(13:13)","v":0},"ILOŚĆ PRZYSTANKÓW",null,null,null,null,null,null,null,{"$f":"SUM(13:13)","v":0},"ILOŚĆ PRZYSTANKÓW",null,null,null,null,null,null,null,{"$f":"SUM(13:13)","v":0},"ILOŚĆ PRZYSTANKÓW",null,null,null,null,null,null,null,{"$f":"SUM(13:13)","v":0},"ILOŚĆ PRZYSTANKÓW",null,null,null,null,null,null,null,{"$f":"SUM(13:13)","v":0},"ILOŚĆ PRZYSTANKÓW",null,null,null,null,null,null,null,{"$f":"SUM(13:13)","v":0},"ILOŚĆ PRZYSTANKÓW",null,null,null,null,null,null,null,{"$f":"SUM(13:13)","v":0},"ILOŚĆ PRZYSTANKÓW",null,null,null,null,null,null,null,{"$f":"SUM(13:13)","v":0},"ILOŚĆ PRZYSTANKÓW",null,null,null,null,null,null,null,{"$f":"SUM(13:13)","v":0},"ILOŚĆ PRZYSTANKÓW",null,null,null,null,null,null,null,{"$f":"SUM(13:13)","v":0},"ILOŚĆ PRZYSTANKÓW",null,null,null,null,null,null,null,{"$f":"SUM(13:13)","v":0},"ILOŚĆ PRZYSTANKÓW",null,null,null,null,null,null,null,{"$f":"SUM(13:13)","v":0},"ILOŚĆ PRZYSTANKÓW",null,null,null,null,null,null,null,{"$f":"SUM(13:13)","v":0},"ILOŚĆ PRZYSTANKÓW",null,null,null,null,null,null,null,{"$f":"SUM(13:13)","v":0},"ILOŚĆ PRZYSTANKÓW",null,null,null,null,null,null,null,{"$f":"SUM(13:13)","v":0},"ILOŚĆ PRZYSTANKÓW"]
[null,{"$f":"G57","v":0},null,null,null,null,null,null,null,null,{"$f":"P57","v":0},null,null,null,null,null,null,null,null,{"$f":"Y57","v":0},null,null,null,null,null,null,null,null,{"$f":"AH57","v":0},null,null,null,null,null,null,null,null,{"$f":"AQ57","v":0},null,null,null,null,null,null,null,null,{"$f":"AZ57","v":0},null,null,null,null,null,null,null,null,{"$f":"BI57","v":0},null,null,null,null,null,null,null,null,{"$f":"BR57","v":0},null,null,null,null,null,null,null,null,{"$f":"CA57","v":0},null,null,null,null,null,null,null,null,{"$f":"CJ57","v":0},null,null,null,null,null,null,null,null,{"$f":"CS57","v":0},null,null,null,null,null,null,null,null,{"$f":"DB57","v":0},null,null,null,null,null,null,null,null,{"$f":"DK57","v":0},null,null,null,null,null,null,null,null,{"$f":"DT57","v":0},null,null,null,null,null,null,null,null,{"$f":"EC57","v":0},null,null,null,null,null,null,null,null,{"$f":"EL57","v":0},null,null,null,null,null,null,null,null,{"$f":"EU57","v":0},null,null,null,null,null,null,null,null,{"$f":"FD57","v":0},null,null,null,null,null,null,null,null,{"$f":"FM57","v":0},null,null,null,null,null,null,null,null,{"$f":"FV57","v":0},null,null,null,null,null,null,null,null,{"$f":"GE57","v":0},null,null,null,null,null,null,null,null,{"$f":"GN57","v":0},null,null,null,null,null,null,null,null,{"$f":"GW57","v":0},null,null,null,null,null,null,null,null,{"$f":"HF57","v":0},null,null,null,null,null,null,null,null,{"$f":"HO57","v":0},null,null,null,null,null,null,null,null,{"$f":"HX57","v":0},null,null,null,null,null,null,null,null,{"$f":"IG57","v":0},null,null,null,null,null,null,null,null,{"$f":"IP57","v":0},null,null,null,null,null,null,null,null,{"$f":"IY57","v":0},null,null,null,null,null,null,null,null,{"$f":"JH57","v":0},null,null,null,null,null,null,null,null,{"$f":"JQ57","v":0},null,null,null,null,null,null,null,null,{"$f":"JZ57","v":0},null,null,null,null,null,null,null,null,{"$f":"KI57","v":0},null,null,null,null,null,null,null,null,{"$f":"KR57","v":0},null,null,null,null,null,null,null,null,{"$f":"LA57","v":0}]
[{"$f":"SUM(15:15)","v":0},"LICZBA PRZEJAZDÓW",null,null,null,null,null,null,null,{"$f":"SUM(15:15)","v":0},"LICZBA PRZEJAZDÓW",null,null,null,null,null,null,null,{"$f":"SUM(15:15)","v":0},"LICZBA PRZEJAZDÓW",null,null,null,null,null,null,null,{"$f":"SUM(15:15)","v":0},"LICZBA PRZEJAZDÓW",null,null,null,null,null,null,null,{"$f":"SUM(15:15)","v":0},"LICZBA PRZEJAZDÓW",null,null,null,null,null,null,null,{"$f":"SUM(15:15)","v":0},"LICZBA PRZEJAZDÓW",null,null,null,null,null,null,null,{"$f":"SUM(15:15)","v":0},"LICZBA PRZEJAZDÓW",null,null,null,null,null,null,null,{"$f":"SUM(15:15)","v":0},"LICZBA PRZEJAZDÓW",null,null,null,null,null,null,null,{"$f":"SUM(15:15)","v":0},"LICZBA PRZEJAZDÓW",null,null,null,null,null,null,null,{"$f":"SUM(15:15)","v":0},"LICZBA PRZEJAZDÓW",null,null,null,null,null,null,null,{"$f":"SUM(15:15)","v":0},"LICZBA PRZEJAZDÓW",null,null,null,null,null,null,null,{"$f":"SUM(15:15)","v":0},"LICZBA PRZEJAZDÓW",null,null,null,null,null,null,null,{"$f":"SUM(15:15)","v":0},"LICZBA PRZEJAZDÓW",null,null,null,null,null,null,null,{"$f":"SUM(15:15)","v":0},"LICZBA PRZEJAZDÓW",null,null,null,null,null,null,null,{"$f":"SUM(15:15)","v":0},"LICZBA PRZEJAZDÓW",null,null,null,null,null,null,null,{"$f":"SUM(15:15)","v":0},"LICZBA PRZEJAZDÓW",null,null,null,null,null,null,null,{"$f":"SUM(15:15)","v":0},"LICZBA PRZEJAZDÓW",null,null,null,null,null,null,null,{"$f":"SUM(15:15)","v":0},"LICZBA PRZEJAZDÓW",null,null,null,null,null,null,null,{"$f":"SUM(15:15)","v":0},"LICZBA PRZEJAZDÓW",null,null,null,null,null,null,null,{"$f":"SUM(15:15)","v":0},"LICZBA PRZEJAZDÓW",null,null,null,null,null,null,null,{"$f":"SUM(15:15)","v":0},"LICZBA PRZEJAZDÓW",null,null,null,null,null,null,null,{"$f":"SUM(15:15)","v":0},"LICZBA PRZEJAZDÓW",null,null,null,null,null,null,null,{"$f":"SUM(15:15)","v":0},"LICZBA PRZEJAZDÓW",null,null,null,null,null,null,null,{"$f":"SUM(15:15)","v":0},"LICZBA PRZEJAZDÓW",null,null,null,null,null,null,null,{"$f":"SUM(15:15)","v":0},"LICZBA PRZEJAZDÓW",null,null,null,null,null,null,null,{"$f":"SUM(15:15)","v":0},"LICZBA PRZEJAZDÓW",null,null,null,null,null,null,null,{"$f":"SUM(15:15)","v":0},"LICZBA PRZEJAZDÓW",null,null,null,null,null,null,null,{"$f":"SUM(15:15)","v":0},"LICZBA PRZEJAZDÓW",null,null,null,null,null,null,null,{"$f":"SUM(15:15)","v":0},"LICZBA PRZEJAZDÓW",null,null,null,null,null,null,null,{"$f":"SUM(15:15)","v":0},"LICZBA PRZEJAZDÓW",null,null,null,null,null,null,null,{"$f":"SUM(15:15)","v":0},"LICZBA PRZEJAZDÓW",null,null,null,null,null,null,null,{"$f":"SUM(15:15)","v":0},"LICZBA PRZEJAZDÓW",null,null,null,null,null,null,null,{"$f":"SUM(15:15)","v":0},"LICZBA PRZEJAZDÓW",null,null,null,null,null,null,null,{"$f":"SUM(15:15)","v":0},"LICZBA PRZEJAZDÓW",null,null,null,null,null,null,null,{"$f":"SUM(15:15)","v":0},"LICZBA PRZEJAZDÓW"]
[null,{"$f":"C34","v":0},null,null,null,null,null,null,null,null,{"$f":"L34","v":0},null,null,null,null,null,null,null,null,{"$f":"U34","v":0},null,null,null,null,null,null,null,null,{"$f":"AD34","v":0},null,null,null,null,null,null,null,null,{"$f":"AM34","v":0},null,null,null,null,null,null,null,null,{"$f":"AV34","v":0},null,null,null,null,null,null,null,null,{"$f":"BE34","v":0},null,null,null,null,null,null,null,null,{"$f":"BN34","v":0},null,null,null,null,null,null,null,null,{"$f":"BW34","v":0},null,null,null,null,null,null,null,null,{"$f":"CF34","v":0},null,null,null,null,null,null,null,null,{"$f":"CO34","v":0},null,null,null,null,null,null,null,null,{"$f":"CX34","v":0},null,null,null,null,null,null,null,null,{"$f":"DG34","v":0},null,null,null,null,null,null,null,null,{"$f":"DP34","v":0},null,null,null,null,null,null,null,null,{"$f":"DY34","v":0},null,null,null,null,null,null,null,null,{"$f":"EH34","v":0},null,null,null,null,null,null,null,null,{"$f":"EQ34","v":0},null,null,null,null,null,null,null,null,{"$f":"EZ34","v":0},null,null,null,null,null,null,null,null,{"$f":"FI34","v":0},null,null,null,null,null,null,null,null,{"$f":"FR34","v":0},null,null,null,null,null,null,null,null,{"$f":"GA34","v":0},null,null,null,null,null,null,null,null,{"$f":"GJ34","v":0},null,null,null,null,null,null,null,null,{"$f":"GS34","v":0},null,null,null,null,null,null,null,null,{"$f":"HB34","v":0},null,null,null,null,null,null,null,null,{"$f":"HK34","v":0},null,null,null,null,null,null,null,null,{"$f":"HT34","v":0},null,null,null,null,null,null,null,null,{"$f":"IC34","v":0},null,null,null,null,null,null,null,null,{"$f":"IL34","v":0},null,null,null,null,null,null,null,null,{"$f":"IU34","v":0},null,null,null,null,null,null,null,null,{"$f":"JD34","v":0},null,null,null,null,null,null,null,null,{"$f":"JM34","v":0},null,null,null,null,null,null,null,null,{"$f":"JV34","v":0},null,null,null,null,null,null,null,null,{"$f":"KE34","v":0},null,null,null,null,null,null,null,null,{"$f":"KN34","v":0},null,null,null,null,null,null,null,null,{"$f":"KW34","v":0}]
[{"$f":"SUM(17:17)","v":0},"ILOŚĆ PRZYSTANKÓW 500 TAK",null,null,null,null,null,null,null,{"$f":"SUM(17:17)","v":0},"ILOŚĆ PRZYSTANKÓW 500 TAK",null,null,null,null,null,null,null,{"$f":"SUM(17:17)","v":0},"ILOŚĆ PRZYSTANKÓW 500 TAK",null,null,null,null,null,null,null,{"$f":"SUM(17:17)","v":0},"ILOŚĆ PRZYSTANKÓW 500 TAK",null,null,null,null,null,null,null,{"$f":"SUM(17:17)","v":0},"ILOŚĆ PRZYSTANKÓW 500 TAK",null,null,null,null,null,null,null,{"$f":"SUM(17:17)","v":0},"ILOŚĆ PRZYSTANKÓW 500 TAK",null,null,null,null,null,null,null,{"$f":"SUM(17:17)","v":0},"ILOŚĆ PRZYSTANKÓW 500 TAK",null,null,null,null,null,null,null,{"$f":"SUM(17:17)","v":0},"ILOŚĆ PRZYSTANKÓW 500 TAK",null,null,null,null,null,null,null,{"$f":"SUM(17:17)","v":0},"ILOŚĆ PRZYSTANKÓW 500 TAK",null,null,null,null,null,null,null,{"$f":"SUM(17:17)","v":0},"ILOŚĆ PRZYSTANKÓW 500 TAK",null,null,null,null,null,null,null,{"$f":"SUM(17:17)","v":0},"ILOŚĆ PRZYSTANKÓW 500 TAK",null,null,null,null,null,null,null,{"$f":"SUM(17:17)","v":0},"ILOŚĆ PRZYSTANKÓW 500 TAK",null,null,null,null,null,null,null,{"$f":"SUM(17:17)","v":0},"ILOŚĆ PRZYSTANKÓW 500 TAK",null,null,null,null,null,null,null,{"$f":"SUM(17:17)","v":0},"ILOŚĆ PRZYSTANKÓW 500 TAK",null,null,null,null,null,null,null,{"$f":"SUM(17:17)","v":0},"ILOŚĆ PRZYSTANKÓW 500 TAK",null,null,null,null,null,null,null,{"$f":"SUM(17:17)","v":0},"ILOŚĆ PRZYSTANKÓW 500 TAK",null,null,null,null,null,null,null,{"$f":"SUM(17:17)","v":0},"ILOŚĆ PRZYSTANKÓW 500 TAK",null,null,null,null,null,null,null,{"$f":"SUM(17:17)","v":0},"ILOŚĆ PRZYSTANKÓW 500 TAK",null,null,null,null,null,null,null,{"$f":"SUM(17:17)","v":0},"ILOŚĆ PRZYSTANKÓW 500 TAK",null,null,null,null,null,null,null,{"$f":"SUM(17:17)","v":0},"ILOŚĆ PRZYSTANKÓW 500 TAK",null,null,null,null,null,null,null,{"$f":"SUM(17:17)","v":0},"ILOŚĆ PRZYSTANKÓW 500 TAK",null,null,null,null,null,null,null,{"$f":"SUM(17:17)","v":0},"ILOŚĆ PRZYSTANKÓW 500 TAK",null,null,null,null,null,null,null,{"$f":"SUM(17:17)","v":0},"ILOŚĆ PRZYSTANKÓW 500 TAK",null,null,null,null,null,null,null,{"$f":"SUM(17:17)","v":0},"ILOŚĆ PRZYSTANKÓW 500 TAK",null,null,null,null,null,null,null,{"$f":"SUM(17:17)","v":0},"ILOŚĆ PRZYSTANKÓW 500 TAK",null,null,null,null,null,null,null,{"$f":"SUM(17:17)","v":0},"ILOŚĆ PRZYSTANKÓW 500 TAK",null,null,null,null,null,null,null,{"$f":"SUM(17:17)","v":0},"ILOŚĆ PRZYSTANKÓW 500 TAK",null,null,null,null,null,null,null,{"$f":"SUM(17:17)","v":0},"ILOŚĆ PRZYSTANKÓW 500 TAK",null,null,null,null,null,null,null,{"$f":"SUM(17:17)","v":0},"ILOŚĆ PRZYSTANKÓW 500 TAK",null,null,null,null,null,null,null,{"$f":"SUM(17:17)","v":0},"ILOŚĆ PRZYSTANKÓW 500 TAK",null,null,null,null,null,null,null,{"$f":"SUM(17:17)","v":0},"ILOŚĆ PRZYSTANKÓW 500 TAK",null,null,null,null,null,null,null,{"$f":"SUM(17:17)","v":0},"ILOŚĆ PRZYSTANKÓW 500 TAK",null,null,null,null,null,null,null,{"$f":"SUM(17:17)","v":0},"ILOŚĆ PRZYSTANKÓW 500 TAK",null,null,null,null,null,null,null,{"$f":"SUM(17:17)","v":0},"ILOŚĆ PRZYSTANKÓW 500 TAK",null,null,null,null,null,null,null,{"$f":"SUM(17:17)","v":0},"ILOŚĆ PRZYSTANKÓW 500 TAK"]
[null,{"$f":"I57","v":0},null,null,null,null,null,null,null,null,{"$f":"R57","v":0},null,null,null,null,null,null,null,null,{"$f":"AA57","v":0},null,null,null,null,null,null,null,null,{"$f":"AJ57","v":0},null,null,null,null,null,null,null,null,{"$f":"AS57","v":0},null,null,null,null,null,null,null,null,{"$f":"BB57","v":0},null,null,null,null,null,null,null,null,{"$f":"BK57","v":0},null,null,null,null,null,null,null,null,{"$f":"BT57","v":0},null,null,null,null,null,null,null,null,{"$f":"CC57","v":0},null,null,null,null,null,null,null,null,{"$f":"CL57","v":0},null,null,null,null,null,null,null,null,{"$f":"CU57","v":0},null,null,null,null,null,null,null,null,{"$f":"DD57","v":0},null,null,null,null,null,null,null,null,{"$f":"DM57","v":0},null,null,null,null,null,null,null,null,{"$f":"DV57","v":0},null,null,null,null,null,null,null,null,{"$f":"EE57","v":0},null,null,null,null,null,null,null,null,{"$f":"EN57","v":0},null,null,null,null,null,null,null,null,{"$f":"EW57","v":0},null,null,null,null,null,null,null,null,{"$f":"FF57","v":0},null,null,null,null,null,null,null,null,{"$f":"FO57","v":0},null,null,null,null,null,null,null,null,{"$f":"FX57","v":0},null,null,null,null,null,null,null,null,{"$f":"GG57","v":0},null,null,null,null,null,null,null,null,{"$f":"GP57","v":0},null,null,null,null,null,null,null,null,{"$f":"GY57","v":0},null,null,null,null,null,null,null,null,{"$f":"HH57","v":0},null,null,null,null,null,null,null,null,{"$f":"HQ57","v":0},null,null,null,null,null,null,null,null,{"$f":"HZ57","v":0},null,null,null,null,null,null,null,null,{"$f":"II57","v":0},null,null,null,null,null,null,null,null,{"$f":"IR57","v":0},null,null,null,null,null,null,null,null,{"$f":"JA57","v":0},null,null,null,null,null,null,null,null,{"$f":"JJ57","v":0},null,null,null,null,null,null,null,null,{"$f":"JS57","v":0},null,null,null,null,null,null,null,null,{"$f":"KB57","v":0},null,null,null,null,null,null,null,null,{"$f":"KK57","v":0},null,null,null,null,null,null,null,null,{"$f":"KT57","v":0},null,null,null,null,null,null,null,null,{"$f":"LC57","v":0}]
[{"$f":"SUM(19:19)","v":0},"KWOTA DEFICYTU",null,null,null,null,null,null,null,{"$f":"SUM(19:19)","v":0},"KWOTA DEFICYTU",null,null,null,null,null,null,null,{"$f":"SUM(19:19)","v":0},"KWOTA DEFICYTU",null,null,null,null,null,null,null,{"$f":"SUM(19:19)","v":0},"KWOTA DEFICYTU",null,null,null,null,null,null,null,{"$f":"SUM(19:19)","v":0},"KWOTA DEFICYTU",null,null,null,null,null,null,null,{"$f":"SUM(19:19)","v":0},"KWOTA DEFICYTU",null,null,null,null,null,null,null,{"$f":"SUM(19:19)","v":0},"KWOTA DEFICYTU",null,null,null,null,null,null,null,{"$f":"SUM(19:19)","v":0},"KWOTA DEFICYTU",null,null,null,null,null,null,null,{"$f":"SUM(19:19)","v":0},"KWOTA DEFICYTU",null,null,null,null,null,null,null,{"$f":"SUM(19:19)","v":0},"KWOTA DEFICYTU",null,null,null,null,null,null,null,{"$f":"SUM(19:19)","v":0},"KWOTA DEFICYTU",null,null,null,null,null,null,null,{"$f":"SUM(19:19)","v":0},"KWOTA DEFICYTU",null,null,null,null,null,null,null,{"$f":"SUM(19:19)","v":0},"KWOTA DEFICYTU",null,null,null,null,null,null,null,{"$f":"SUM(19:19)","v":0},"KWOTA DEFICYTU",null,null,null,null,null,null,null,{"$f":"SUM(19:19)","v":0},"KWOTA DEFICYTU",null,null,null,null,null,null,null,{"$f":"SUM(19:19)","v":0},"KWOTA DEFICYTU",null,null,null,null,null,null,null,{"$f":"SUM(19:19)","v":0},"KWOTA DEFICYTU",null,null,null,null,null,null,null,{"$f":"SUM(19:19)","v":0},"KWOTA DEFICYTU",null,null,null,null,null,null,null,{"$f":"SUM(19:19)","v":0},"KWOTA DEFICYTU",null,null,null,null,null,null,null,{"$f":"SUM(19:19)","v":0},"KWOTA DEFICYTU",null,null,null,null,null,null,null,{"$f":"SUM(19:19)","v":0},"KWOTA DEFICYTU",null,null,null,null,null,null,null,{"$f":"SUM(19:19)","v":0},"KWOTA DEFICYTU",null,null,null,null,null,null,null,{"$f":"SUM(19:19)","v":0},"KWOTA DEFICYTU",null,null,null,null,null,null,null,{"$f":"SUM(19:19)","v":0},"KWOTA DEFICYTU",null,null,null,null,null,null,null,{"$f":"SUM(19:19)","v":0},"KWOTA DEFICYTU",null,null,null,null,null,null,null,{"$f":"SUM(19:19)","v":0},"KWOTA DEFICYTU",null,null,null,null,null,null,null,{"$f":"SUM(19:19)","v":0},"KWOTA DEFICYTU",null,null,null,null,null,null,null,{"$f":"SUM(19:19)","v":0},"KWOTA DEFICYTU",null,null,null,null,null,null,null,{"$f":"SUM(19:19)","v":0},"KWOTA DEFICYTU",null,null,null,null,null,null,null,{"$f":"SUM(19:19)","v":0},"KWOTA DEFICYTU",null,null,null,null,null,null,null,{"$f":"SUM(19:19)","v":0},"KWOTA DEFICYTU",null,null,null,null,null,null,null,{"$f":"SUM(19:19)","v":0},"KWOTA DEFICYTU",null,null,null,null,null,null,null,{"$f":"SUM(19:19)","v":0},"KWOTA DEFICYTU",null,null,null,null,null,null,null,{"$f":"SUM(19:19)","v":0},"KWOTA DEFICYTU",null,null,null,null,null,null,null,{"$f":"SUM(19:19)","v":0},"KWOTA DEFICYTU"]
[null,{"$f":"G50","v":0},null,null,null,null,null,null,null,null,{"$f":"P50","v":0},null,null,null,null,null,null,null,null,{"$f":"Y50","v":0},null,null,null,null,null,null,null,null,{"$f":"AH50","v":0},null,null,null,null,null,null,null,null,{"$f":"AQ50","v":0},null,null,null,null,null,null,null,null,{"$f":"AZ50","v":0},null,null,null,null,null,null,null,null,{"$f":"BI50","v":0},null,null,null,null,null,null,null,null,{"$f":"BR50","v":0},null,null,null,null,null,null,null,null,{"$f":"CA50","v":0},null,null,null,null,null,null,null,null,{"$f":"CJ50","v":0},null,null,null,null,null,null,null,null,{"$f":"CS50","v":0},null,null,null,null,null,null,null,null,{"$f":"DB50","v":0},null,null,null,null,null,null,null,null,{"$f":"DK50","v":0},null,null,null,null,null,null,null,null,{"$f":"DT50","v":0},null,null,null,null,null,null,null,null,{"$f":"EC50","v":0},null,null,null,null,null,null,null,null,{"$f":"EL50","v":0},null,null,null,null,null,null,null,null,{"$f":"EU50","v":0},null,null,null,null,null,null,null,null,{"$f":"FD50","v":0},null,null,null,null,null,null,null,null,{"$f":"FM50","v":0},null,null,null,null,null,null,null,null,{"$f":"FV50","v":0},null,null,null,null,null,null,null,null,{"$f":"GE50","v":0},null,null,null,null,null,null,null,null,{"$f":"GN50","v":0},null,null,null,null,null,null,null,null,{"$f":"GW50","v":0},null,null,null,null,null,null,null,null,{"$f":"HF50","v":0},null,null,null,null,null,null,null,null,{"$f":"HO50","v":0},null,null,null,null,null,null,null,null,{"$f":"HX50","v":0},null,null,null,null,null,null,null,null,{"$f":"IG50","v":0},null,null,null,null,null,null,null,null,{"$f":"IP50","v":0},null,null,null,null,null,null,null,null,{"$f":"IY50","v":0},null,null,null,null,null,null,null,null,{"$f":"JH50","v":0},null,null,null,null,null,null,null,null,{"$f":"JQ50","v":0},null,null,null,null,null,null,null,null,{"$f":"JZ50","v":0},null,null,null,null,null,null,null,null,{"$f":"KI50","v":0},null,null,null,null,null,null,null,null,{"$f":"KR50","v":0},null,null,null,null,null,null,null,null,{"$f":"LA50","v":0}]
[{"$f":"SUM(21:21)","v":0},"KWOTA WŁASNA",null,null,null,null,null,null,null,{"$f":"SUM(21:21)","v":0},"KWOTA WŁASNA",null,null,null,null,null,null,null,{"$f":"SUM(21:21)","v":0},"KWOTA WŁASNA",null,null,null,null,null,null,null,{"$f":"SUM(21:21)","v":0},"KWOTA WŁASNA",null,null,null,null,null,null,null,{"$f":"SUM(21:21)","v":0},"KWOTA WŁASNA",null,null,null,null,null,null,null,{"$f":"SUM(21:21)","v":0},"KWOTA WŁASNA",null,null,null,null,null,null,null,{"$f":"SUM(21:21)","v":0},"KWOTA WŁASNA",null,null,null,null,null,null,null,{"$f":"SUM(21:21)","v":0},"KWOTA WŁASNA",null,null,null,null,null,null,null,{"$f":"SUM(21:21)","v":0},"KWOTA WŁASNA",null,null,null,null,null,null,null,{"$f":"SUM(21:21)","v":0},"KWOTA WŁASNA",null,null,null,null,null,null,null,{"$f":"SUM(21:21)","v":0},"KWOTA WŁASNA",null,null,null,null,null,null,null,{"$f":"SUM(21:21)","v":0},"KWOTA WŁASNA",null,null,null,null,null,null,null,{"$f":"SUM(21:21)","v":0},"KWOTA WŁASNA",null,null,null,null,null,null,null,{"$f":"SUM(21:21)","v":0},"KWOTA WŁASNA",null,null,null,null,null,null,null,{"$f":"SUM(21:21)","v":0},"KWOTA WŁASNA",null,null,null,null,null,null,null,{"$f":"SUM(21:21)","v":0},"KWOTA WŁASNA",null,null,null,null,null,null,null,{"$f":"SUM(21:21)","v":0},"KWOTA WŁASNA",null,null,null,null,null,null,null,{"$f":"SUM(21:21)","v":0},"KWOTA WŁASNA",null,null,null,null,null,null,null,{"$f":"SUM(21:21)","v":0},"KWOTA WŁASNA",null,null,null,null,null,null,null,{"$f":"SUM(21:21)","v":0},"KWOTA WŁASNA",null,null,null,null,null,null,null,{"$f":"SUM(21:21)","v":0},"KWOTA WŁASNA",null,null,null,null,null,null,null,{"$f":"SUM(21:21)","v":0},"KWOTA WŁASNA",null,null,null,null,null,null,null,{"$f":"SUM(21:21)","v":0},"KWOTA WŁASNA",null,null,null,null,null,null,null,{"$f":"SUM(21:21)","v":0},"KWOTA WŁASNA",null,null,null,null,null,null,null,{"$f":"SUM(21:21)","v":0},"KWOTA WŁASNA",null,null,null,null,null,null,null,{"$f":"SUM(21:21)","v":0},"KWOTA WŁASNA",null,null,null,null,null,null,null,{"$f":"SUM(21:21)","v":0},"KWOTA WŁASNA",null,null,null,null,null,null,null,{"$f":"SUM(21:21)","v":0},"KWOTA WŁASNA",null,null,null,null,null,null,null,{"$f":"SUM(21:21)","v":0},"KWOTA WŁASNA",null,null,null,null,null,null,null,{"$f":"SUM(21:21)","v":0},"KWOTA WŁASNA",null,null,null,null,null,null,null,{"$f":"SUM(21:21)","v":0},"KWOTA WŁASNA",null,null,null,null,null,null,null,{"$f":"SUM(21:21)","v":0},"KWOTA WŁASNA",null,null,null,null,null,null,null,{"$f":"SUM(21:21)","v":0},"KWOTA WŁASNA",null,null,null,null,null,null,null,{"$f":"SUM(21:21)","v":0},"KWOTA WŁASNA",null,null,null,null,null,null,null,{"$f":"SUM(21:21)","v":0},"KWOTA WŁASNA"]
[null,{"$f":"G54","v":0},null,null,null,null,null,null,null,null,{"$f":"P54","v":0},null,null,null,null,null,null,null,null,{"$f":"Y54","v":0},null,null,null,null,null,null,null,null,{"$f":"AH54","v":0},null,null,null,null,null,null,null,null,{"$f":"AQ54","v":0},null,null,null,null,null,null,null,null,{"$f":"AZ54","v":0},null,null,null,null,null,null,null,null,{"$f":"BI54","v":0},null,null,null,null,null,null,null,null,{"$f":"BR54","v":0},null,null,null,null,null,null,null,null,{"$f":"CA54","v":0},null,null,null,null,null,null,null,null,{"$f":"CJ54","v":0},null,null,null,null,null,null,null,null,{"$f":"CS54","v":0},null,null,null,null,null,null,null,null,{"$f":"DB54","v":0},null,null,null,null,null,null,null,null,{"$f":"DK54","v":0},null,null,null,null,null,null,null,null,{"$f":"DT54","v":0},null,null,null,null,null,null,null,null,{"$f":"EC54","v":0},null,null,null,null,null,null,null,null,{"$f":"EL54","v":0},null,null,null,null,null,null,null,null,{"$f":"EU54","v":0},null,null,null,null,null,null,null,null,{"$f":"FD54","v":0},null,null,null,null,null,null,null,null,{"$f":"FM54","v":0},null,null,null,null,null,null,null,null,{"$f":"FV54","v":0},null,null,null,null,null,null,null,null,{"$f":"GE54","v":0},null,null,null,null,null,null,null,null,{"$f":"GN54","v":0},null,null,null,null,null,null,null,null,{"$f":"GW54","v":0},null,null,null,null,null,null,null,null,{"$f":"HF54","v":0},null,null,null,null,null,null,null,null,{"$f":"HO54","v":0},null,null,null,null,null,null,null,null,{"$f":"HX54","v":0},null,null,null,null,null,null,null,null,{"$f":"IG54","v":0},null,null,null,null,null,null,null,null,{"$f":"IP54","v":0},null,null,null,null,null,null,null,null,{"$f":"IY54","v":0},null,null,null,null,null,null,null,null,{"$f":"JH54","v":0},null,null,null,null,null,null,null,null,{"$f":"JQ54","v":0},null,null,null,null,null,null,null,null,{"$f":"JZ54","v":0},null,null,null,null,null,null,null,null,{"$f":"KI54","v":0},null,null,null,null,null,null,null,null,{"$f":"KR54","v":0},null,null,null,null,null,null,null,null,{"$f":"LA54","v":0}]
[{"$f":"SUM(23:23)","v":0},"KWOTA Z FUNDUSZU",null,null,null,null,null,null,null,{"$f":"SUM(23:23)","v":0},"KWOTA Z FUNDUSZU",null,null,null,null,null,null,null,{"$f":"SUM(23:23)","v":0},"KWOTA Z FUNDUSZU",null,null,null,null,null,null,null,{"$f":"SUM(23:23)","v":0},"KWOTA Z FUNDUSZU",null,null,null,null,null,null,null,{"$f":"SUM(23:23)","v":0},"KWOTA Z FUNDUSZU",null,null,null,null,null,null,null,{"$f":"SUM(23:23)","v":0},"KWOTA Z FUNDUSZU",null,null,null,null,null,null,null,{"$f":"SUM(23:23)","v":0},"KWOTA Z FUNDUSZU",null,null,null,null,null,null,null,{"$f":"SUM(23:23)","v":0},"KWOTA Z FUNDUSZU",null,null,null,null,null,null,null,{"$f":"SUM(23:23)","v":0},"KWOTA Z FUNDUSZU",null,null,null,null,null,null,null,{"$f":"SUM(23:23)","v":0},"KWOTA Z FUNDUSZU",null,null,null,null,null,null,null,{"$f":"SUM(23:23)","v":0},"KWOTA Z FUNDUSZU",null,null,null,null,null,null,null,{"$f":"SUM(23:23)","v":0},"KWOTA Z FUNDUSZU",null,null,null,null,null,null,null,{"$f":"SUM(23:23)","v":0},"KWOTA Z FUNDUSZU",null,null,null,null,null,null,null,{"$f":"SUM(23:23)","v":0},"KWOTA Z FUNDUSZU",null,null,null,null,null,null,null,{"$f":"SUM(23:23)","v":0},"KWOTA Z FUNDUSZU",null,null,null,null,null,null,null,{"$f":"SUM(23:23)","v":0},"KWOTA Z FUNDUSZU",null,null,null,null,null,null,null,{"$f":"SUM(23:23)","v":0},"KWOTA Z FUNDUSZU",null,null,null,null,null,null,null,{"$f":"SUM(23:23)","v":0},"KWOTA Z FUNDUSZU",null,null,null,null,null,null,null,{"$f":"SUM(23:23)","v":0},"KWOTA Z FUNDUSZU",null,null,null,null,null,null,null,{"$f":"SUM(23:23)","v":0},"KWOTA Z FUNDUSZU",null,null,null,null,null,null,null,{"$f":"SUM(23:23)","v":0},"KWOTA Z FUNDUSZU",null,null,null,null,null,null,null,{"$f":"SUM(23:23)","v":0},"KWOTA Z FUNDUSZU",null,null,null,null,null,null,null,{"$f":"SUM(23:23)","v":0},"KWOTA Z FUNDUSZU",null,null,null,null,null,null,null,{"$f":"SUM(23:23)","v":0},"KWOTA Z FUNDUSZU",null,null,null,null,null,null,null,{"$f":"SUM(23:23)","v":0},"KWOTA Z FUNDUSZU",null,null,null,null,null,null,null,{"$f":"SUM(23:23)","v":0},"KWOTA Z FUNDUSZU",null,null,null,null,null,null,null,{"$f":"SUM(23:23)","v":0},"KWOTA Z FUNDUSZU",null,null,null,null,null,null,null,{"$f":"SUM(23:23)","v":0},"KWOTA Z FUNDUSZU",null,null,null,null,null,null,null,{"$f":"SUM(23:23)","v":0},"KWOTA Z FUNDUSZU",null,null,null,null,null,null,null,{"$f":"SUM(23:23)","v":0},"KWOTA Z FUNDUSZU",null,null,null,null,null,null,null,{"$f":"SUM(23:23)","v":0},"KWOTA Z FUNDUSZU",null,null,null,null,null,null,null,{"$f":"SUM(23:23)","v":0},"KWOTA Z FUNDUSZU",null,null,null,null,null,null,null,{"$f":"SUM(23:23)","v":0},"KWOTA Z FUNDUSZU",null,null,null,null,null,null,null,{"$f":"SUM(23:23)","v":0},"KWOTA Z FUNDUSZU",null,null,null,null,null,null,null,{"$f":"SUM(23:23)","v":0},"KWOTA Z FUNDUSZU"]
[null,{"$f":"G55","v":0},null,null,null,null,null,null,null,null,{"$f":"P55","v":0},null,null,null,null,null,null,null,null,{"$f":"Y55","v":0},null,null,null,null,null,null,null,null,{"$f":"AH55","v":0},null,null,null,null,null,null,null,null,{"$f":"AQ55","v":0},null,null,null,null,null,null,null,null,{"$f":"AZ55","v":0},null,null,null,null,null,null,null,null,{"$f":"BI55","v":0},null,null,null,null,null,null,null,null,{"$f":"BR55","v":0},null,null,null,null,null,null,null,null,{"$f":"CA55","v":0},null,null,null,null,null,null,null,null,{"$f":"CJ55","v":0},null,null,null,null,null,null,null,null,{"$f":"CS55","v":0},null,null,null,null,null,null,null,null,{"$f":"DB55","v":0},null,null,null,null,null,null,null,null,{"$f":"DK55","v":0},null,null,null,null,null,null,null,null,{"$f":"DT55","v":0},null,null,null,null,null,null,null,null,{"$f":"EC55","v":0},null,null,null,null,null,null,null,null,{"$f":"EL55","v":0},null,null,null,null,null,null,null,null,{"$f":"EU55","v":0},null,null,null,null,null,null,null,null,{"$f":"FD55","v":0},null,null,null,null,null,null,null,null,{"$f":"FM55","v":0},null,null,null,null,null,null,null,null,{"$f":"FV55","v":0},null,null,null,null,null,null,null,null,{"$f":"GE55","v":0},null,null,null,null,null,null,null,null,{"$f":"GN55","v":0},null,null,null,null,null,null,null,null,{"$f":"GW55","v":0},null,null,null,null,null,null,null,null,{"$f":"HF55","v":0},null,null,null,null,null,null,null,null,{"$f":"HO55","v":0},null,null,null,null,null,null,null,null,{"$f":"HX55","v":0},null,null,null,null,null,null,null,null,{"$f":"IG55","v":0},null,null,null,null,null,null,null,null,{"$f":"IP55","v":0},null,null,null,null,null,null,null,null,{"$f":"IY55","v":0},null,null,null,null,null,null,null,null,{"$f":"JH55","v":0},null,null,null,null,null,null,null,null,{"$f":"JQ55","v":0},null,null,null,null,null,null,null,null,{"$f":"JZ55","v":0},null,null,null,null,null,null,null,null,{"$f":"KI55","v":0},null,null,null,null,null,null,null,null,{"$f":"KR55","v":0},null,null,null,null,null,null,null,null,{"$f":"LA55","v":0}]
[]
["LP LINII KOMUNIKACYJNEJ",null,"NAZWA LINII KOMUNIKACYJNEJ",null,null,null,null,null,null,"LP LINII KOMUNIKACYJNEJ",null,"NAZWA LINII KOMUNIKACYJNEJ",null,null,null,null,null,null,"LP LINII KOMUNIKACYJNEJ",null,"NAZWA LINII KOMUNIKACYJNEJ",null,null,null,null,null,null,"LP LINII KOMUNIKACYJNEJ",null,"NAZWA LINII KOMUNIKACYJNEJ",null,null,null,null,null,null,"LP LINII KOMUNIKACYJNEJ",null,"NAZWA LINII KOMUNIKACYJNEJ",null,null,null,null,null,null,"LP LINII KOMUNIKACYJNEJ",null,"NAZWA LINII KOMUNIKACYJNEJ",null,null,null,null,null,null,"LP LINII KOMUNIKACYJNEJ",null,"NAZWA LINII KOMUNIKACYJNEJ",null,null,null,null,null,null,"LP LINII KOMUNIKACYJNEJ",null,"NAZWA LINII KOMUNIKACYJNEJ",null,null,null,null,null,null,"LP LINII KOMUNIKACYJNEJ",null,"NAZWA LINII KOMUNIKACYJNEJ",null,null,null,null,null,null,"LP LINII KOMUNIKACYJNEJ",null,"NAZWA LINII KOMUNIKACYJNEJ",null,null,null,null,null,null,"LP LINII KOMUNIKACYJNEJ",null,"NAZWA LINII KOMUNIKACYJNEJ",null,null,null,null,null,null,"LP LINII KOMUNIKACYJNEJ",null,"NAZWA LINII KOMUNIKACYJNEJ",null,null,null,null,null,null,"LP LINII KOMUNIKACYJNEJ",null,"NAZWA LINII KOMUNIKACYJNEJ",null,null,null,null,null,null,"LP LINII KOMUNIKACYJNEJ",null,"NAZWA LINII KOMUNIKACYJNEJ",null,null,null,null,null,null,"LP LINII KOMUNIKACYJNEJ",null,"NAZWA LINII KOMUNIKACYJNEJ",null,null,null,null,null,null,"LP LINII KOMUNIKACYJNEJ",null,"NAZWA LINII KOMUNIKACYJNEJ",null,null,null,null,null,null,"LP LINII KOMUNIKACYJNEJ",null,"NAZWA LINII KOMUNIKACYJNEJ",null,null,null,null,null,null,"LP LINII KOMUNIKACYJNEJ",null,"NAZWA LINII KOMUNIKACYJNEJ",null,null,null,null,null,null,"LP LINII KOMUNIKACYJNEJ",null,"NAZWA LINII KOMUNIKACYJNEJ",null,null,null,null,null,null,"LP LINII KOMUNIKACYJNEJ",null,"NAZWA LINII KOMUNIKACYJNEJ",null,null,null,null,null,null,"LP LINII KOMUNIKACYJNEJ",null,"NAZWA LINII KOMUNIKACYJNEJ",null,null,null,null,null,null,"LP LINII KOMUNIKACYJNEJ",null,"NAZWA LINII KOMUNIKACYJNEJ",null,null,null,null,null,null,"LP LINII KOMUNIKACYJNEJ",null,"NAZWA LINII KOMUNIKACYJNEJ",null,null,null,null,null,null,"LP LINII KOMUNIKACYJNEJ",null,"NAZWA LINII KOMUNIKACYJNEJ",null,null,null,null,null,null,"LP LINII KOMUNIKACYJNEJ",null,"NAZWA LINII KOMUNIKACYJNEJ",null,null,null,null,null,null,"LP LINII KOMUNIKACYJNEJ",null,"NAZWA LINII KOMUNIKACYJNEJ",null,null,null,null,null,null,"LP LINII KOMUNIKACYJNEJ",null,"NAZWA LINII KOMUNIKACYJNEJ",null,null,null,null,null,null,"LP LINII KOMUNIKACYJNEJ",null,"NAZWA LINII KOMUNIKACYJNEJ",null,null,null,null,null,null,"LP LINII KOMUNIKACYJNEJ",null,"NAZWA LINII KOMUNIKACYJNEJ",null,null,null,null,null,null,"LP LINII KOMUNIKACYJNEJ",null,"NAZWA LINII KOMUNIKACYJNEJ",null,null,null,null,null,null,"LP LINII KOMUNIKACYJNEJ",null,"NAZWA LINII KOMUNIKACYJNEJ",null,null,null,null,null,null,"LP LINII KOMUNIKACYJNEJ",null,"NAZWA LINII KOMUNIKACYJNEJ",null,null,null,null,null,null,"LP LINII KOMUNIKACYJNEJ",null,"NAZWA LINII KOMUNIKACYJNEJ",null,null,null,null,null,null,"LP LINII KOMUNIKACYJNEJ",null,"NAZWA LINII KOMUNIKACYJNEJ",null,null,null,null,null,null,"LP LINII KOMUNIKACYJNEJ",null,"NAZWA LINII KOMUNIKACYJNEJ"]
[]
["DŁUGOŚĆ LINII KOMUNIKACYJNEJ W KM",null,null,null,null,null,null,null,null,"DŁUGOŚĆ LINII KOMUNIKACYJNEJ W KM",null,null,null,null,null,null,null,null,"DŁUGOŚĆ LINII KOMUNIKACYJNEJ W KM",null,null,null,null,null,null,null,null,"DŁUGOŚĆ LINII KOMUNIKACYJNEJ W KM",null,null,null,null,null,null,null,null,"DŁUGOŚĆ LINII KOMUNIKACYJNEJ W KM",null,null,null,null,null,null,null,null,"DŁUGOŚĆ LINII KOMUNIKACYJNEJ W KM",null,null,null,null,null,null,null,null,"DŁUGOŚĆ LINII KOMUNIKACYJNEJ W KM",null,null,null,null,null,null,null,null,"DŁUGOŚĆ LINII KOMUNIKACYJNEJ W KM",null,null,null,null,null,null,null,null,"DŁUGOŚĆ LINII KOMUNIKACYJNEJ W KM",null,null,null,null,null,null,null,null,"DŁUGOŚĆ LINII KOMUNIKACYJNEJ W KM",null,null,null,null,null,null,null,null,"DŁUGOŚĆ LINII KOMUNIKACYJNEJ W KM",null,null,null,null,null,null,null,null,"DŁUGOŚĆ LINII KOMUNIKACYJNEJ W KM",null,null,null,null,null,null,null,null,"DŁUGOŚĆ LINII KOMUNIKACYJNEJ W KM",null,null,null,null,null,null,null,null,"DŁUGOŚĆ LINII KOMUNIKACYJNEJ W KM",null,null,null,null,null,null,null,null,"DŁUGOŚĆ LINII KOMUNIKACYJNEJ W KM",null,null,null,null,null,null,null,null,"DŁUGOŚĆ LINII KOMUNIKACYJNEJ W KM",null,null,null,null,null,null,null,null,"DŁUGOŚĆ LINII KOMUNIKACYJNEJ W KM",null,null,null,null,null,null,null,null,"DŁUGOŚĆ LINII KOMUNIKACYJNEJ W KM",null,null,null,null,null,null,null,null,"DŁUGOŚĆ LINII KOMUNIKACYJNEJ W KM",null,null,null,null,null,null,null,null,"DŁUGOŚĆ LINII KOMUNIKACYJNEJ W KM",null,null,null,null,null,null,null,null,"DŁUGOŚĆ LINII KOMUNIKACYJNEJ W KM",null,null,null,null,null,null,null,null,"DŁUGOŚĆ LINII KOMUNIKACYJNEJ W KM",null,null,null,null,null,null,null,null,"DŁUGOŚĆ LINII KOMUNIKACYJNEJ W KM",null,null,null,null,null,null,null,null,"DŁUGOŚĆ LINII KOMUNIKACYJNEJ W KM",null,null,null,null,null,null,null,null,"DŁUGOŚĆ LINII KOMUNIKACYJNEJ W KM",null,null,null,null,null,null,null,null,"DŁUGOŚĆ LINII KOMUNIKACYJNEJ W KM",null,null,null,null,null,null,null,null,"DŁUGOŚĆ LINII KOMUNIKACYJNEJ W KM",null,null,null,null,null,null,null,null,"DŁUGOŚĆ LINII KOMUNIKACYJNEJ W KM",null,null,null,null,null,null,null,null,"DŁUGOŚĆ LINII KOMUNIKACYJNEJ W KM",null,null,null,null,null,null,null,null,"DŁUGOŚĆ LINII KOMUNIKACYJNEJ W KM",null,null,null,null,null,null,null,null,"DŁUGOŚĆ LINII KOMUNIKACYJNEJ W KM",null,null,null,null,null,null,null,null,"DŁUGOŚĆ LINII KOMUNIKACYJNEJ W KM",null,null,null,null,null,null,null,null,"DŁUGOŚĆ LINII KOMUNIKACYJNEJ W KM",null,null,null,null,null,null,null,null,"DŁUGOŚĆ LINII KOMUNIKACYJNEJ W KM",null,null,null,null,null,null,null,null,"DŁUGOŚĆ LINII KOMUNIKACYJNEJ W KM"]
[]
["data rozpoczęcia ruchu w danym okresie",null,"data zakończenia ruchu w danym roku",{"$f":"IF(G29=\"\",\"\",G29)","v":""},null,null,null,null,null,"data rozpoczęcia ruchu w danym okresie",null,"data zakończenia ruchu w danym roku",{"$f":"IF(P29=\"\",\"\",P29)","v":""},null,null,null,null,null,"data rozpoczęcia ruchu w danym okresie",null,"data zakończenia ruchu w danym roku",{"$f":"IF(Y29=\"\",\"\",Y29)","v":""},null,null,null,null,null,"data rozpoczęcia ruchu w danym okresie",null,"data zakończenia ruchu w danym roku",{"$f":"IF(AH29=\"\",\"\",AH29)","v":""},null,null,null,null,null,"data rozpoczęcia ruchu w danym okresie",null,"data zakończenia ruchu w danym roku",{"$f":"IF(AQ29=\"\",\"\",AQ29)","v":""},null,null,null,null,null,"data rozpoczęcia ruchu w danym okresie",null,"data zakończenia ruchu w danym roku",{"$f":"IF(AZ29=\"\",\"\",AZ29)","v":""},null,null,null,null,null,"data rozpoczęcia ruchu w danym okresie",null,"data zakończenia ruchu w danym roku",{"$f":"IF(BI29=\"\",\"\",BI29)","v":""},null,null,null,null,null,"data rozpoczęcia ruchu w danym okresie",null,"data zakończenia ruchu w danym roku",{"$f":"IF(BR29=\"\",\"\",BR29)","v":""},null,null,null,null,null,"data rozpoczęcia ruchu w danym okresie",null,"data zakończenia ruchu w danym roku",{"$f":"IF(CA29=\"\",\"\",CA29)","v":""},null,null,null,null,null,"data rozpoczęcia ruchu w danym okresie",null,"data zakończenia ruchu w danym roku",{"$f":"IF(CJ29=\"\",\"\",CJ29)","v":""},null,null,null,null,null,"data rozpoczęcia ruchu w danym okresie",null,"data zakończenia ruchu w danym roku",{"$f":"IF(CS29=\"\",\"\",CS29)","v":""},null,null,null,null,null,"data rozpoczęcia ruchu w danym okresie",null,"data zakończenia ruchu w danym roku",{"$f":"IF(DB29=\"\",\"\",DB29)","v":""},null,null,null,null,null,"data rozpoczęcia ruchu w danym okresie",null,"data zakończenia ruchu w danym roku",{"$f":"IF(DK29=\"\",\"\",DK29)","v":""},null,null,null,null,null,"data rozpoczęcia ruchu w danym okresie",null,"data zakończenia ruchu w danym roku",{"$f":"IF(DT29=\"\",\"\",DT29)","v":""},null,null,null,null,null,"data rozpoczęcia ruchu w danym okresie",null,"data zakończenia ruchu w danym roku",{"$f":"IF(EC29=\"\",\"\",EC29)","v":""},null,null,null,null,null,"data rozpoczęcia ruchu w danym okresie",null,"data zakończenia ruchu w danym roku",{"$f":"IF(EL29=\"\",\"\",EL29)","v":""},null,null,null,null,null,"data rozpoczęcia ruchu w danym okresie",null,"data zakończenia ruchu w danym roku",{"$f":"IF(EU29=\"\",\"\",EU29)","v":""},null,null,null,null,null,"data rozpoczęcia ruchu w danym okresie",null,"data zakończenia ruchu w danym roku",{"$f":"IF(FD29=\"\",\"\",FD29)","v":""},null,null,null,null,null,"data rozpoczęcia ruchu w danym okresie",null,"data zakończenia ruchu w danym roku",{"$f":"IF(FM29=\"\",\"\",FM29)","v":""},null,null,null,null,null,"data rozpoczęcia ruchu w danym okresie",null,"data zakończenia ruchu w danym roku",{"$f":"IF(FV29=\"\",\"\",FV29)","v":""},null,null,null,null,null,"data rozpoczęcia ruchu w danym okresie",null,"data zakończenia ruchu w danym roku",{"$f":"IF(GE29=\"\",\"\",GE29)","v":""},null,null,null,null,null,"data rozpoczęcia ruchu w danym okresie",null,"data zakończenia ruchu w danym roku",{"$f":"IF(GN29=\"\",\"\",GN29)","v":""},null,null,null,null,null,"data rozpoczęcia ruchu w danym okresie",null,"data zakończenia ruchu w danym roku",{"$f":"IF(GW29=\"\",\"\",GW29)","v":""},null,null,null,null,null,"data rozpoczęcia ruchu w danym okresie",null,"data zakończenia ruchu w danym roku",{"$f":"IF(HF29=\"\",\"\",HF29)","v":""},null,null,null,null,null,"data rozpoczęcia ruchu w danym okresie",null,"data zakończenia ruchu w danym roku",{"$f":"IF(HO29=\"\",\"\",HO29)","v":""},null,null,null,null,null,"data rozpoczęcia ruchu w danym okresie",null,"data zakończenia ruchu w danym roku",{"$f":"IF(HX29=\"\",\"\",HX29)","v":""},null,null,null,null,null,"data rozpoczęcia ruchu w danym okresie",null,"data zakończenia ruchu w danym roku",{"$f":"IF(IG29=\"\",\"\",IG29)","v":""},null,null,null,null,null,"data rozpoczęcia ruchu w danym okresie",null,"data zakończenia ruchu w danym roku",{"$f":"IF(IP29=\"\",\"\",IP29)","v":""},null,null,null,null,null,"data rozpoczęcia ruchu w danym okresie",null,"data zakończenia ruchu w danym roku",{"$f":"IF(IY29=\"\",\"\",IY29)","v":""},null,null,null,null,null,"data rozpoczęcia ruchu w danym okresie",null,"data zakończenia ruchu w danym roku",{"$f":"IF(JH29=\"\",\"\",JH29)","v":""},null,null,null,null,null,"data rozpoczęcia ruchu w danym okresie",null,"data zakończenia ruchu w danym roku",{"$f":"IF(JQ29=\"\",\"\",JQ29)","v":""},null,null,null,null,null,"data rozpoczęcia ruchu w danym okresie",null,"data zakończenia ruchu w danym roku",{"$f":"IF(JZ29=\"\",\"\",JZ29)","v":""},null,null,null,null,null,"data rozpoczęcia ruchu w danym okresie",null,"data zakończenia ruchu w danym roku",{"$f":"IF(KI29=\"\",\"\",KI29)","v":""},null,null,null,null,null,"data rozpoczęcia ruchu w danym okresie",null,"data zakończenia ruchu w danym roku",{"$f":"IF(KR29=\"\",\"\",KR29)","v":""},null,null,null,null,null,"data rozpoczęcia ruchu w danym okresie",null,"data zakończenia ruchu w danym roku",{"$f":"IF(LA29=\"\",\"\",LA29)","v":""}]
[{"$f":"IF(B29=\"\",\"\",B29)","v":""},{"$f":"MONTH(A30)","v":{"$error":"#VALUE!"}},{"$f":"IF(D29=\"\",\"\",D29)","v":""},{"$f":"MONTH(D29)","v":{"$error":"#VALUE!"}},null,null,null,null,null,{"$f":"IF(K29=\"\",\"\",K29)","v":""},{"$f":"MONTH(J30)","v":{"$error":"#VALUE!"}},{"$f":"IF(M29=\"\",\"\",M29)","v":""},{"$f":"MONTH(M29)","v":{"$error":"#VALUE!"}},null,null,null,null,null,{"$f":"IF(T29=\"\",\"\",T29)","v":""},{"$f":"MONTH(S30)","v":{"$error":"#VALUE!"}},{"$f":"IF(V29=\"\",\"\",V29)","v":""},{"$f":"MONTH(V29)","v":{"$error":"#VALUE!"}},null,null,null,null,null,{"$f":"IF(AC29=\"\",\"\",AC29)","v":""},{"$f":"MONTH(AB30)","v":{"$error":"#VALUE!"}},{"$f":"IF(AE29=\"\",\"\",AE29)","v":""},{"$f":"MONTH(AE29)","v":{"$error":"#VALUE!"}},null,null,null,null,null,{"$f":"IF(AL29=\"\",\"\",AL29)","v":""},{"$f":"MONTH(AK30)","v":{"$error":"#VALUE!"}},{"$f":"IF(AN29=\"\",\"\",AN29)","v":""},{"$f":"MONTH(AN29)","v":{"$error":"#VALUE!"}},null,null,null,null,null,{"$f":"IF(AU29=\"\",\"\",AU29)","v":""},{"$f":"MONTH(AT30)","v":{"$error":"#VALUE!"}},{"$f":"IF(AW29=\"\",\"\",AW29)","v":""},{"$f":"MONTH(AW29)","v":{"$error":"#VALUE!"}},null,null,null,null,null,{"$f":"IF(BD29=\"\",\"\",BD29)","v":""},{"$f":"MONTH(BC30)","v":{"$error":"#VALUE!"}},{"$f":"IF(BF29=\"\",\"\",BF29)","v":""},{"$f":"MONTH(BF29)","v":{"$error":"#VALUE!"}},null,null,null,null,null,{"$f":"IF(BM29=\"\",\"\",BM29)","v":""},{"$f":"MONTH(BL30)","v":{"$error":"#VALUE!"}},{"$f":"IF(BO29=\"\",\"\",BO29)","v":""},{"$f":"MONTH(BO29)","v":{"$error":"#VALUE!"}},null,null,null,null,null,{"$f":"IF(BV29=\"\",\"\",BV29)","v":""},{"$f":"MONTH(BU30)","v":{"$error":"#VALUE!"}},{"$f":"IF(BX29=\"\",\"\",BX29)","v":""},{"$f":"MONTH(BX29)","v":{"$error":"#VALUE!"}},null,null,null,null,null,{"$f":"IF(CE29=\"\",\"\",CE29)","v":""},{"$f":"MONTH(CD30)","v":{"$error":"#VALUE!"}},{"$f":"IF(CG29=\"\",\"\",CG29)","v":""},{"$f":"MONTH(CG29)","v":{"$error":"#VALUE!"}},null,null,null,null,null,{"$f":"IF(CN29=\"\",\"\",CN29)","v":""},{"$f":"MONTH(CM30)","v":{"$error":"#VALUE!"}},{"$f":"IF(CP29=\"\",\"\",CP29)","v":""},{"$f":"MONTH(CP29)","v":{"$error":"#VALUE!"}},null,null,null,null,null,{"$f":"IF(CW29=\"\",\"\",CW29)","v":""},{"$f":"MONTH(CV30)","v":{"$error":"#VALUE!"}},{"$f":"IF(CY29=\"\",\"\",CY29)","v":""},{"$f":"MONTH(CY29)","v":{"$error":"#VALUE!"}},null,null,null,null,null,{"$f":"IF(DF29=\"\",\"\",DF29)","v":""},{"$f":"MONTH(DE30)","v":{"$error":"#VALUE!"}},{"$f":"IF(DH29=\"\",\"\",DH29)","v":""},{"$f":"MONTH(DH29)","v":{"$error":"#VALUE!"}},null,null,null,null,null,{"$f":"IF(DO29=\"\",\"\",DO29)","v":""},{"$f":"MONTH(DN30)","v":{"$error":"#VALUE!"}},{"$f":"IF(DQ29=\"\",\"\",DQ29)","v":""},{"$f":"MONTH(DQ29)","v":{"$error":"#VALUE!"}},null,null,null,null,null,{"$f":"IF(DX29=\"\",\"\",DX29)","v":""},{"$f":"MONTH(DW30)","v":{"$error":"#VALUE!"}},{"$f":"IF(DZ29=\"\",\"\",DZ29)","v":""},{"$f":"MONTH(DZ29)","v":{"$error":"#VALUE!"}},null,null,null,null,null,{"$f":"IF(EG29=\"\",\"\",EG29)","v":""},{"$f":"MONTH(EF30)","v":{"$error":"#VALUE!"}},{"$f":"IF(EI29=\"\",\"\",EI29)","v":""},{"$f":"MONTH(EI29)","v":{"$error":"#VALUE!"}},null,null,null,null,null,{"$f":"IF(EP29=\"\",\"\",EP29)","v":""},{"$f":"MONTH(EO30)","v":{"$error":"#VALUE!"}},{"$f":"IF(ER29=\"\",\"\",ER29)","v":""},{"$f":"MONTH(ER29)","v":{"$error":"#VALUE!"}},null,null,null,null,null,{"$f":"IF(EY29=\"\",\"\",EY29)","v":""},{"$f":"MONTH(EX30)","v":{"$error":"#VALUE!"}},{"$f":"IF(FA29=\"\",\"\",FA29)","v":""},{"$f":"MONTH(FA29)","v":{"$error":"#VALUE!"}},null,null,null,null,null,{"$f":"IF(FH29=\"\",\"\",FH29)","v":""},{"$f":"MONTH(FG30)","v":{"$error":"#VALUE!"}},{"$f":"IF(FJ29=\"\",\"\",FJ29)","v":""},{"$f":"MONTH(FJ29)","v":{"$error":"#VALUE!"}},null,null,null,null,null,{"$f":"IF(FQ29=\"\",\"\",FQ29)","v":""},{"$f":"MONTH(FP30)","v":{"$error":"#VALUE!"}},{"$f":"IF(FS29=\"\",\"\",FS29)","v":""},{"$f":"MONTH(FS29)","v":{"$error":"#VALUE!"}},null,null,null,null,null,{"$f":"IF(FZ29=\"\",\"\",FZ29)","v":""},{"$f":"MONTH(FY30)","v":{"$error":"#VALUE!"}},{"$f":"IF(GB29=\"\",\"\",GB29)","v":""},{"$f":"MONTH(GB29)","v":{"$error":"#VALUE!"}},null,null,null,null,null,{"$f":"IF(GI29=\"\",\"\",GI29)","v":""},{"$f":"MONTH(GH30)","v":{"$error":"#VALUE!"}},{"$f":"IF(GK29=\"\",\"\",GK29)","v":""},{"$f":"MONTH(GK29)","v":{"$error":"#VALUE!"}},null,null,null,null,null,{"$f":"IF(GR29=\"\",\"\",GR29)","v":""},{"$f":"MONTH(GQ30)","v":{"$error":"#VALUE!"}},{"$f":"IF(GT29=\"\",\"\",GT29)","v":""},{"$f":"MONTH(GT29)","v":{"$error":"#VALUE!"}},null,null,null,null,null,{"$f":"IF(HA29=\"\",\"\",HA29)","v":""},{"$f":"MONTH(GZ30)","v":{"$error":"#VALUE!"}},{"$f":"IF(HC29=\"\",\"\",HC29)","v":""},{"$f":"MONTH(HC29)","v":{"$error":"#VALUE!"}},null,null,null,null,null,{"$f":"IF(HJ29=\"\",\"\",HJ29)","v":""},{"$f":"MONTH(HI30)","v":{"$error":"#VALUE!"}},{"$f":"IF(HL29=\"\",\"\",HL29)","v":""},{"$f":"MONTH(HL29)","v":{"$error":"#VALUE!"}},null,null,null,null,null,{"$f":"IF(HS29=\"\",\"\",HS29)","v":""},{"$f":"MONTH(HR30)","v":{"$error":"#VALUE!"}},{"$f":"IF(HU29=\"\",\"\",HU29)","v":""},{"$f":"MONTH(HU29)","v":{"$error":"#VALUE!"}},null,null,null,null,null,{"$f":"IF(IB29=\"\",\"\",IB29)","v":""},{"$f":"MONTH(IA30)","v":{"$error":"#VALUE!"}},{"$f":"IF(ID29=\"\",\"\",ID29)","v":""},{"$f":"MONTH(ID29)","v":{"$error":"#VALUE!"}},null,null,null,null,null,{"$f":"IF(IK29=\"\",\"\",IK29)","v":""},{"$f":"MONTH(IJ30)","v":{"$error":"#VALUE!"}},{"$f":"IF(IM29=\"\",\"\",IM29)","v":""},{"$f":"MONTH(IM29)","v":{"$error":"#VALUE!"}},null,null,null,null,null,{"$f":"IF(IT29=\"\",\"\",IT29)","v":""},{"$f":"MONTH(IS30)","v":{"$error":"#VALUE!"}},{"$f":"IF(IV29=\"\",\"\",IV29)","v":""},{"$f":"MONTH(IV29)","v":{"$error":"#VALUE!"}},null,null,null,null,null,{"$f":"IF(JC29=\"\",\"\",JC29)","v":""},{"$f":"MONTH(JB30)","v":{"$error":"#VALUE!"}},{"$f":"IF(JE29=\"\",\"\",JE29)","v":""},{"$f":"MONTH(JE29)","v":{"$error":"#VALUE!"}},null,null,null,null,null,{"$f":"IF(JL29=\"\",\"\",JL29)","v":""},{"$f":"MONTH(JK30)","v":{"$error":"#VALUE!"}},{"$f":"IF(JN29=\"\",\"\",JN29)","v":""},{"$f":"MONTH(JN29)","v":{"$error":"#VALUE!"}},null,null,null,null,null,{"$f":"IF(JU29=\"\",\"\",JU29)","v":""},{"$f":"MONTH(JT30)","v":{"$error":"#VALUE!"}},{"$f":"IF(JW29=\"\",\"\",JW29)","v":""},{"$f":"MONTH(JW29)","v":{"$error":"#VALUE!"}},null,null,null,null,null,{"$f":"IF(KD29=\"\",\"\",KD29)","v":""},{"$f":"MONTH(KC30)","v":{"$error":"#VALUE!"}},{"$f":"IF(KF29=\"\",\"\",KF29)","v":""},{"$f":"MONTH(KF29)","v":{"$error":"#VALUE!"}},null,null,null,null,null,{"$f":"IF(KM29=\"\",\"\",KM29)","v":""},{"$f":"MONTH(KL30)","v":{"$error":"#VALUE!"}},{"$f":"IF(KO29=\"\",\"\",KO29)","v":""},{"$f":"MONTH(KO29)","v":{"$error":"#VALUE!"}},null,null,null,null,null,{"$f":"IF(KV29=\"\",\"\",KV29)","v":""},{"$f":"MONTH(KU30)","v":{"$error":"#VALUE!"}},{"$f":"IF(KX29=\"\",\"\",KX29)","v":""},{"$f":"MONTH(KX29)","v":{"$error":"#VALUE!"}}]
[null,{"$f":"IFERROR(B30,0)","v":0},null,{"$f":"IFERROR(D30,0)","v":0},null,null,null,null,null,null,{"$f":"IFERROR(K30,0)","v":0},null,{"$f":"IFERROR(M30,0)","v":0},null,null,null,null,null,null,{"$f":"IFERROR(T30,0)","v":0},null,{"$f":"IFERROR(V30,0)","v":0},null,null,null,null,null,null,{"$f":"IFERROR(AC30,0)","v":0},null,{"$f":"IFERROR(AE30,0)","v":0},null,null,null,null,null,null,{"$f":"IFERROR(AL30,0)","v":0},null,{"$f":"IFERROR(AN30,0)","v":0},null,null,null,null,null,null,{"$f":"IFERROR(AU30,0)","v":0},null,{"$f":"IFERROR(AW30,0)","v":0},null,null,null,null,null,null,{"$f":"IFERROR(BD30,0)","v":0},null,{"$f":"IFERROR(BF30,0)","v":0},null,null,null,null,null,null,{"$f":"IFERROR(BM30,0)","v":0},null,{"$f":"IFERROR(BO30,0)","v":0},null,null,null,null,null,null,{"$f":"IFERROR(BV30,0)","v":0},null,{"$f":"IFERROR(BX30,0)","v":0},null,null,null,null,null,null,{"$f":"IFERROR(CE30,0)","v":0},null,{"$f":"IFERROR(CG30,0)","v":0},null,null,null,null,null,null,{"$f":"IFERROR(CN30,0)","v":0},null,{"$f":"IFERROR(CP30,0)","v":0},null,null,null,null,null,null,{"$f":"IFERROR(CW30,0)","v":0},null,{"$f":"IFERROR(CY30,0)","v":0},null,null,null,null,null,null,{"$f":"IFERROR(DF30,0)","v":0},null,{"$f":"IFERROR(DH30,0)","v":0},null,null,null,null,null,null,{"$f":"IFERROR(DO30,0)","v":0},null,{"$f":"IFERROR(DQ30,0)","v":0},null,null,null,null,null,null,{"$f":"IFERROR(DX30,0)","v":0},null,{"$f":"IFERROR(DZ30,0)","v":0},null,null,null,null,null,null,{"$f":"IFERROR(EG30,0)","v":0},null,{"$f":"IFERROR(EI30,0)","v":0},null,null,null,null,null,null,{"$f":"IFERROR(EP30,0)","v":0},null,{"$f":"IFERROR(ER30,0)","v":0},null,null,null,null,null,null,{"$f":"IFERROR(EY30,0)","v":0},null,{"$f":"IFERROR(FA30,0)","v":0},null,null,null,null,null,null,{"$f":"IFERROR(FH30,0)","v":0},null,{"$f":"IFERROR(FJ30,0)","v":0},null,null,null,null,null,null,{"$f":"IFERROR(FQ30,0)","v":0},null,{"$f":"IFERROR(FS30,0)","v":0},null,null,null,null,null,null,{"$f":"IFERROR(FZ30,0)","v":0},null,{"$f":"IFERROR(GB30,0)","v":0},null,null,null,null,null,null,{"$f":"IFERROR(GI30,0)","v":0},null,{"$f":"IFERROR(GK30,0)","v":0},null,null,null,null,null,null,{"$f":"IFERROR(GR30,0)","v":0},null,{"$f":"IFERROR(GT30,0)","v":0},null,null,null,null,null,null,{"$f":"IFERROR(HA30,0)","v":0},null,{"$f":"IFERROR(HC30,0)","v":0},null,null,null,null,null,null,{"$f":"IFERROR(HJ30,0)","v":0},null,{"$f":"IFERROR(HL30,0)","v":0},null,null,null,null,null,null,{"$f":"IFERROR(HS30,0)","v":0},null,{"$f":"IFERROR(HU30,0)","v":0},null,null,null,null,null,null,{"$f":"IFERROR(IB30,0)","v":0},null,{"$f":"IFERROR(ID30,0)","v":0},null,null,null,null,null,null,{"$f":"IFERROR(IK30,0)","v":0},null,{"$f":"IFERROR(IM30,0)","v":0},null,null,null,null,null,null,{"$f":"IFERROR(IT30,0)","v":0},null,{"$f":"IFERROR(IV30,0)","v":0},null,null,null,null,null,null,{"$f":"IFERROR(JC30,0)","v":0},null,{"$f":"IFERROR(JE30,0)","v":0},null,null,null,null,null,null,{"$f":"IFERROR(JL30,0)","v":0},null,{"$f":"IFERROR(JN30,0)","v":0},null,null,null,null,null,null,{"$f":"IFERROR(JU30,0)","v":0},null,{"$f":"IFERROR(JW30,0)","v":0},null,null,null,null,null,null,{"$f":"IFERROR(KD30,0)","v":0},null,{"$f":"IFERROR(KF30,0)","v":0},null,null,null,null,null,null,{"$f":"IFERROR(KM30,0)","v":0},null,{"$f":"IFERROR(KO30,0)","v":0},null,null,null,null,null,null,{"$f":"IFERROR(KV30,0)","v":0},null,{"$f":"IFERROR(KX30,0)","v":0}]
["WIELKOŚĆ PRACY EKSPLOATACYJNEJ W WOZOKILOMETRACH",null,null,null,null,null,{"$f":"C27*C34","v":0},null,null,"WIELKOŚĆ PRACY EKSPLOATACYJNEJ W WOZOKILOMETRACH",null,null,null,null,null,{"$f":"L27*L34","v":0},null,null,"WIELKOŚĆ PRACY EKSPLOATACYJNEJ W WOZOKILOMETRACH",null,null,null,null,null,{"$f":"U27*U34","v":0},null,null,"WIELKOŚĆ PRACY EKSPLOATACYJNEJ W WOZOKILOMETRACH",null,null,null,null,null,{"$f":"AD27*AD34","v":0},null,null,"WIELKOŚĆ PRACY EKSPLOATACYJNEJ W WOZOKILOMETRACH",null,null,null,null,null,{"$f":"AM27*AM34","v":0},null,null,"WIELKOŚĆ PRACY EKSPLOATACYJNEJ W WOZOKILOMETRACH",null,null,null,null,null,{"$f":"AV27*AV34","v":0},null,null,"WIELKOŚĆ PRACY EKSPLOATACYJNEJ W WOZOKILOMETRACH",null,null,null,null,null,{"$f":"BE27*BE34","v":0},null,null,"WIELKOŚĆ PRACY EKSPLOATACYJNEJ W WOZOKILOMETRACH",null,null,null,null,null,{"$f":"BN27*BN34","v":0},null,null,"WIELKOŚĆ PRACY EKSPLOATACYJNEJ W WOZOKILOMETRACH",null,null,null,null,null,{"$f":"BW27*BW34","v":0},null,null,"WIELKOŚĆ PRACY EKSPLOATACYJNEJ W WOZOKILOMETRACH",null,null,null,null,null,{"$f":"CF27*CF34","v":0},null,null,"WIELKOŚĆ PRACY EKSPLOATACYJNEJ W WOZOKILOMETRACH",null,null,null,null,null,{"$f":"CO27*CO34","v":0},null,null,"WIELKOŚĆ PRACY EKSPLOATACYJNEJ W WOZOKILOMETRACH",null,null,null,null,null,{"$f":"CX27*CX34","v":0},null,null,"WIELKOŚĆ PRACY EKSPLOATACYJNEJ W WOZOKILOMETRACH",null,null,null,null,null,{"$f":"DG27*DG34","v":0},null,null,"WIELKOŚĆ PRACY EKSPLOATACYJNEJ W WOZOKILOMETRACH",null,null,null,null,null,{"$f":"DP27*DP34","v":0},null,null,"WIELKOŚĆ PRACY EKSPLOATACYJNEJ W WOZOKILOMETRACH",null,null,null,null,null,{"$f":"DY27*DY34","v":0},null,null,"WIELKOŚĆ PRACY EKSPLOATACYJNEJ W WOZOKILOMETRACH",null,null,null,null,null,{"$f":"EH27*EH34","v":0},null,null,"WIELKOŚĆ PRACY EKSPLOATACYJNEJ W WOZOKILOMETRACH",null,null,null,null,null,{"$f":"EQ27*EQ34","v":0},null,null,"WIELKOŚĆ PRACY EKSPLOATACYJNEJ W WOZOKILOMETRACH",null,null,null,null,null,{"$f":"EZ27*EZ34","v":0},null,null,"WIELKOŚĆ PRACY EKSPLOATACYJNEJ W WOZOKILOMETRACH",null,null,null,null,null,{"$f":"FI27*FI34","v":0},null,null,"WIELKOŚĆ PRACY EKSPLOATACYJNEJ W WOZOKILOMETRACH",null,null,null,null,null,{"$f":"FR27*FR34","v":0},null,null,"WIELKOŚĆ PRACY EKSPLOATACYJNEJ W WOZOKILOMETRACH",null,null,null,null,null,{"$f":"GA27*GA34","v":0},null,null,"WIELKOŚĆ PRACY EKSPLOATACYJNEJ W WOZOKILOMETRACH",null,null,null,null,null,{"$f":"GJ27*GJ34","v":0},null,null,"WIELKOŚĆ PRACY EKSPLOATACYJNEJ W WOZOKILOMETRACH",null,null,null,null,null,{"$f":"GS27*GS34","v":0},null,null,"WIELKOŚĆ PRACY EKSPLOATACYJNEJ W WOZOKILOMETRACH",null,null,null,null,null,{"$f":"HB27*HB34","v":0},null,null,"WIELKOŚĆ PRACY EKSPLOATACYJNEJ W WOZOKILOMETRACH",null,null,null,null,null,{"$f":"HK27*HK34","v":0},null,null,"WIELKOŚĆ PRACY EKSPLOATACYJNEJ W WOZOKILOMETRACH",null,null,null,null,null,{"$f":"HT27*HT34","v":0},null,null,"WIELKOŚĆ PRACY EKSPLOATACYJNEJ W WOZOKILOMETRACH",null,null,null,null,null,{"$f":"IC27*IC34","v":0},null,null,"WIELKOŚĆ PRACY EKSPLOATACYJNEJ W WOZOKILOMETRACH",null,null,null,null,null,{"$f":"IL27*IL34","v":0},null,null,"WIELKOŚĆ PRACY EKSPLOATACYJNEJ W WOZOKILOMETRACH",null,null,null,null,null,{"$f":"IU27*IU34","v":0},null,null,"WIELKOŚĆ PRACY EKSPLOATACYJNEJ W WOZOKILOMETRACH",null,null,null,null,null,{"$f":"JD27*JD34","v":0},null,null,"WIELKOŚĆ PRACY EKSPLOATACYJNEJ W WOZOKILOMETRACH",null,null,null,null,null,{"$f":"JM27*JM34","v":0},null,null,"WIELKOŚĆ PRACY EKSPLOATACYJNEJ W WOZOKILOMETRACH",null,null,null,null,null,{"$f":"JV27*JV34","v":0},null,null,"WIELKOŚĆ PRACY EKSPLOATACYJNEJ W WOZOKILOMETRACH",null,null,null,null,null,{"$f":"KE27*KE34","v":0},null,null,"WIELKOŚĆ PRACY EKSPLOATACYJNEJ W WOZOKILOMETRACH",null,null,null,null,null,{"$f":"KN27*KN34","v":0},null,null,"WIELKOŚĆ PRACY EKSPLOATACYJNEJ W WOZOKILOMETRACH",null,null,null,null,null,{"$f":"KW27*KW34","v":0}]
[]
["LICZBA PRZEJAZDÓW NA LINII KOMUNIKACYJNEJ","ŁĄCZNIE, W TYM:",{"$f":"SUM(C35:C46)","v":0},null,null,null,null,null,null,"LICZBA PRZEJAZDÓW NA LINII KOMUNIKACYJNEJ","ŁĄCZNIE, W TYM:",{"$f":"SUM(L35:L46)","v":0},null,null,null,null,null,null,"LICZBA PRZEJAZDÓW NA LINII KOMUNIKACYJNEJ","ŁĄCZNIE, W TYM:",{"$f":"SUM(U35:U46)","v":0},null,null,null,null,null,null,"LICZBA PRZEJAZDÓW NA LINII KOMUNIKACYJNEJ","ŁĄCZNIE, W TYM:",{"$f":"SUM(AD35:AD46)","v":0},null,null,null,null,null,null,"LICZBA PRZEJAZDÓW NA LINII KOMUNIKACYJNEJ","ŁĄCZNIE, W TYM:",{"$f":"SUM(AM35:AM46)","v":0},null,null,null,null,null,null,"LICZBA PRZEJAZDÓW NA LINII KOMUNIKACYJNEJ","ŁĄCZNIE, W TYM:",{"$f":"SUM(AV35:AV46)","v":0},null,null,null,null,null,null,"LICZBA PRZEJAZDÓW NA LINII KOMUNIKACYJNEJ","ŁĄCZNIE, W TYM:",{"$f":"SUM(BE35:BE46)","v":0},null,null,null,null,null,null,"LICZBA PRZEJAZDÓW NA LINII KOMUNIKACYJNEJ","ŁĄCZNIE, W TYM:",{"$f":"SUM(BN35:BN46)","v":0},null,null,null,null,null,null,"LICZBA PRZEJAZDÓW NA LINII KOMUNIKACYJNEJ","ŁĄCZNIE, W TYM:",{"$f":"SUM(BW35:BW46)","v":0},null,null,null,null,null,null,"LICZBA PRZEJAZDÓW NA LINII KOMUNIKACYJNEJ","ŁĄCZNIE, W TYM:",{"$f":"SUM(CF35:CF46)","v":0},null,null,null,null,null,null,"LICZBA PRZEJAZDÓW NA LINII KOMUNIKACYJNEJ","ŁĄCZNIE, W TYM:",{"$f":"SUM(CO35:CO46)","v":0},null,null,null,null,null,null,"LICZBA PRZEJAZDÓW NA LINII KOMUNIKACYJNEJ","ŁĄCZNIE, W TYM:",{"$f":"SUM(CX35:CX46)","v":0},null,null,null,null,null,null,"LICZBA PRZEJAZDÓW NA LINII KOMUNIKACYJNEJ","ŁĄCZNIE, W TYM:",{"$f":"SUM(DG35:DG46)","v":0},null,null,null,null,null,null,"LICZBA PRZEJAZDÓW NA LINII KOMUNIKACYJNEJ","ŁĄCZNIE, W TYM:",{"$f":"SUM(DP35:DP46)","v":0},null,null,null,null,null,null,"LICZBA PRZEJAZDÓW NA LINII KOMUNIKACYJNEJ","ŁĄCZNIE, W TYM:",{"$f":"SUM(DY35:DY46)","v":0},null,null,null,null,null,null,"LICZBA PRZEJAZDÓW NA LINII KOMUNIKACYJNEJ","ŁĄCZNIE, W TYM:",{"$f":"SUM(EH35:EH46)","v":0},null,null,null,null,null,null,"LICZBA PRZEJAZDÓW NA LINII KOMUNIKACYJNEJ","ŁĄCZNIE, W TYM:",{"$f":"SUM(EQ35:EQ46)","v":0},null,null,null,null,null,null,"LICZBA PRZEJAZDÓW NA LINII KOMUNIKACYJNEJ","ŁĄCZNIE, W TYM:",{"$f":"SUM(EZ35:EZ46)","v":0},null,null,null,null,null,null,"LICZBA PRZEJAZDÓW NA LINII KOMUNIKACYJNEJ","ŁĄCZNIE, W TYM:",{"$f":"SUM(FI35:FI46)","v":0},null,null,null,null,null,null,"LICZBA PRZEJAZDÓW NA LINII KOMUNIKACYJNEJ","ŁĄCZNIE, W TYM:",{"$f":"SUM(FR35:FR46)","v":0},null,null,null,null,null,null,"LICZBA PRZEJAZDÓW NA LINII KOMUNIKACYJNEJ","ŁĄCZNIE, W TYM:",{"$f":"SUM(GA35:GA46)","v":0},null,null,null,null,null,null,"LICZBA PRZEJAZDÓW NA LINII KOMUNIKACYJNEJ","ŁĄCZNIE, W TYM:",{"$f":"SUM(GJ35:GJ46)","v":0},null,null,null,null,null,null,"LICZBA PRZEJAZDÓW NA LINII KOMUNIKACYJNEJ","ŁĄCZNIE, W TYM:",{"$f":"SUM(GS35:GS46)","v":0},null,null,null,null,null,null,"LICZBA PRZEJAZDÓW NA LINII KOMUNIKACYJNEJ","ŁĄCZNIE, W TYM:",{"$f":"SUM(HB35:HB46)","v":0},null,null,null,null,null,null,"LICZBA PRZEJAZDÓW NA LINII KOMUNIKACYJNEJ","ŁĄCZNIE, W TYM:",{"$f":"SUM(HK35:HK46)","v":0},null,null,null,null,null,null,"LICZBA PRZEJAZDÓW NA LINII KOMUNIKACYJNEJ","ŁĄCZNIE, W TYM:",{"$f":"SUM(HT35:HT46)","v":0},null,null,null,null,null,null,"LICZBA PRZEJAZDÓW NA LINII KOMUNIKACYJNEJ","ŁĄCZNIE, W TYM:",{"$f":"SUM(IC35:IC46)","v":0},null,null,null,null,null,null,"LICZBA PRZEJAZDÓW NA LINII KOMUNIKACYJNEJ","ŁĄCZNIE, W TYM:",{"$f":"SUM(IL35:IL46)","v":0},null,null,null,null,null,null,"LICZBA PRZEJAZDÓW NA LINII KOMUNIKACYJNEJ","ŁĄCZNIE, W TYM:",{"$f":"SUM(IU35:IU46)","v":0},null,null,null,null,null,null,"LICZBA PRZEJAZDÓW NA LINII KOMUNIKACYJNEJ","ŁĄCZNIE, W TYM:",{"$f":"SUM(JD35:JD46)","v":0},null,null,null,null,null,null,"LICZBA PRZEJAZDÓW NA LINII KOMUNIKACYJNEJ","ŁĄCZNIE, W TYM:",{"$f":"SUM(JM35:JM46)","v":0},null,null,null,null,null,null,"LICZBA PRZEJAZDÓW NA LINII KOMUNIKACYJNEJ","ŁĄCZNIE, W TYM:",{"$f":"SUM(JV35:JV46)","v":0},null,null,null,null,null,null,"LICZBA PRZEJAZDÓW NA LINII KOMUNIKACYJNEJ","ŁĄCZNIE, W TYM:",{"$f":"SUM(KE35:KE46)","v":0},null,null,null,null,null,null,"LICZBA PRZEJAZDÓW NA LINII KOMUNIKACYJNEJ","ŁĄCZNIE, W TYM:",{"$f":"SUM(KN35:KN46)","v":0},null,null,null,null,null,null,"LICZBA PRZEJAZDÓW NA LINII KOMUNIKACYJNEJ","ŁĄCZNIE, W TYM:",{"$f":"SUM(KW35:KW46)","v":0}]
[null,"styczeń",{"$f":"IF(E35=0,0,\"\")","v":0},1,{"$f":"IF(AND(D35>=B$31,D35<=D$31),1,0)","v":0},null,null,null,null,null,"styczeń",{"$f":"IF(N35=0,0,\"\")","v":0},1,{"$f":"IF(AND(M35>=K$31,M35<=M$31),1,0)","v":0},null,null,null,null,null,"styczeń",{"$f":"IF(W35=0,0,\"\")","v":0},1,{"$f":"IF(AND(V35>=T$31,V35<=V$31),1,0)","v":0},null,null,null,null,null,"styczeń",{"$f":"IF(AF35=0,0,\"\")","v":0},1,{"$f":"IF(AND(AE35>=AC$31,AE35<=AE$31),1,0)","v":0},null,null,null,null,null,"styczeń",{"$f":"IF(AO35=0,0,\"\")","v":0},1,{"$f":"IF(AND(AN35>=AL$31,AN35<=AN$31),1,0)","v":0},null,null,null,null,null,"styczeń",{"$f":"IF(AX35=0,0,\"\")","v":0},1,{"$f":"IF(AND(AW35>=AU$31,AW35<=AW$31),1,0)","v":0},null,null,null,null,null,"styczeń",{"$f":"IF(BG35=0,0,\"\")","v":0},1,{"$f":"IF(AND(BF35>=BD$31,BF35<=BF$31),1,0)","v":0},null,null,null,null,null,"styczeń",{"$f":"IF(BP35=0,0,\"\")","v":0},1,{"$f":"IF(AND(BO35>=BM$31,BO35<=BO$31),1,0)","v":0},null,null,null,null,null,"styczeń",{"$f":"IF(BY35=0,0,\"\")","v":0},1,{"$f":"IF(AND(BX35>=BV$31,BX35<=BX$31),1,0)","v":0},null,null,null,null,null,"styczeń",{"$f":"IF(CH35=0,0,\"\")","v":0},1,{"$f":"IF(AND(CG35>=CE$31,CG35<=CG$31),1,0)","v":0},null,null,null,null,null,"styczeń",{"$f":"IF(CQ35=0,0,\"\")","v":0},1,{"$f":"IF(AND(CP35>=CN$31,CP35<=CP$31),1,0)","v":0},null,null,null,null,null,"styczeń",{"$f":"IF(CZ35=0,0,\"\")","v":0},1,{"$f":"IF(AND(CY35>=CW$31,CY35<=CY$31),1,0)","v":0},null,null,null,null,null,"styczeń",{"$f":"IF(DI35=0,0,\"\")","v":0},1,{"$f":"IF(AND(DH35>=DF$31,DH35<=DH$31),1,0)","v":0},null,null,null,null,null,"styczeń",{"$f":"IF(DR35=0,0,\"\")","v":0},1,{"$f":"IF(AND(DQ35>=DO$31,DQ35<=DQ$31),1,0)","v":0},null,null,null,null,null,"styczeń",{"$f":"IF(EA35=0,0,\"\")","v":0},1,{"$f":"IF(AND(DZ35>=DX$31,DZ35<=DZ$31),1,0)","v":0},null,null,null,null,null,"styczeń",{"$f":"IF(EJ35=0,0,\"\")","v":0},1,{"$f":"IF(AND(EI35>=EG$31,EI35<=EI$31),1,0)","v":0},null,null,null,null,null,"styczeń",{"$f":"IF(ES35=0,0,\"\")","v":0},1,{"$f":"IF(AND(ER35>=EP$31,ER35<=ER$31),1,0)","v":0},null,null,null,null,null,"styczeń",{"$f":"IF(FB35=0,0,\"\")","v":0},1,{"$f":"IF(AND(FA35>=EY$31,FA35<=FA$31),1,0)","v":0},null,null,null,null,null,"styczeń",{"$f":"IF(FK35=0,0,\"\")","v":0},1,{"$f":"IF(AND(FJ35>=FH$31,FJ35<=FJ$31),1,0)","v":0},null,null,null,null,null,"styczeń",{"$f":"IF(FT35=0,0,\"\")","v":0},1,{"$f":"IF(AND(FS35>=FQ$31,FS35<=FS$31),1,0)","v":0},null,null,null,null,null,"styczeń",{"$f":"IF(GC35=0,0,\"\")","v":0},1,{"$f":"IF(AND(GB35>=FZ$31,GB35<=GB$31),1,0)","v":0},null,null,null,null,null,"styczeń",{"$f":"IF(GL35=0,0,\"\")","v":0},1,{"$f":"IF(AND(GK35>=GI$31,GK35<=GK$31),1,0)","v":0},null,null,null,null,null,"styczeń",{"$f":"IF(GU35=0,0,\"\")","v":0},1,{"$f":"IF(AND(GT35>=GR$31,GT35<=GT$31),1,0)","v":0},null,null,null,null,null,"styczeń",{"$f":"IF(HD35=0,0,\"\")","v":0},1,{"$f":"IF(AND(HC35>=HA$31,HC35<=HC$31),1,0)","v":0},null,null,null,null,null,"styczeń",{"$f":"IF(HM35=0,0,\"\")","v":0},1,{"$f":"IF(AND(HL35>=HJ$31,HL35<=HL$31),1,0)","v":0},null,null,null,null,null,"styczeń",{"$f":"IF(HV35=0,0,\"\")","v":0},1,{"$f":"IF(AND(HU35>=HS$31,HU35<=HU$31),1,0)","v":0},null,null,null,null,null,"styczeń",{"$f":"IF(IE35=0,0,\"\")","v":0},1,{"$f":"IF(AND(ID35>=IB$31,ID35<=ID$31),1,0)","v":0},null,null,null,null,null,"styczeń",{"$f":"IF(IN35=0,0,\"\")","v":0},1,{"$f":"IF(AND(IM35>=IK$31,IM35<=IM$31),1,0)","v":0},null,null,null,null,null,"styczeń",{"$f":"IF(IW35=0,0,\"\")","v":0},1,{"$f":"IF(AND(IV35>=IT$31,IV35<=IV$31),1,0)","v":0},null,null,null,null,null,"styczeń",{"$f":"IF(JF35=0,0,\"\")","v":0},1,{"$f":"IF(AND(JE35>=JC$31,JE35<=JE$31),1,0)","v":0},null,null,null,null,null,"styczeń",{"$f":"IF(JO35=0,0,\"\")","v":0},1,{"$f":"IF(AND(JN35>=JL$31,JN35<=JN$31),1,0)","v":0},null,null,null,null,null,"styczeń",{"$f":"IF(JX35=0,0,\"\")","v":0},1,{"$f":"IF(AND(JW35>=JU$31,JW35<=JW$31),1,0)","v":0},null,null,null,null,null,"styczeń",{"$f":"IF(KG35=0,0,\"\")","v":0},1,{"$f":"IF(AND(KF35>=KD$31,KF35<=KF$31),1,0)","v":0},null,null,null,null,null,"styczeń",{"$f":"IF(KP35=0,0,\"\")","v":0},1,{"$f":"IF(AND(KO35>=KM$31,KO35<=KO$31),1,0)","v":0},null,null,null,null,null,"styczeń",{"$f":"IF(KY35=0,0,\"\")","v":0},1,{"$f":"IF(AND(KX35>=KV$31,KX35<=KX$31),1,0)","v":0}]
[null,"luty",{"$f":"IF(E36=0,0,\"\")","v":0},2,{"$f":"IF(AND(D36>=B$31,D36<=D$31),1,0)","v":0},null,null,null,null,null,"luty",{"$f":"IF(N36=0,0,\"\")","v":0},2,{"$f":"IF(AND(M36>=K$31,M36<=M$31),1,0)","v":0},null,null,null,null,null,"luty",{"$f":"IF(W36=0,0,\"\")","v":0},2,{"$f":"IF(AND(V36>=T$31,V36<=V$31),1,0)","v":0},null,null,null,null,null,"luty",{"$f":"IF(AF36=0,0,\"\")","v":0},2,{"$f":"IF(AND(AE36>=AC$31,AE36<=AE$31),1,0)","v":0},null,null,null,null,null,"luty",{"$f":"IF(AO36=0,0,\"\")","v":0},2,{"$f":"IF(AND(AN36>=AL$31,AN36<=AN$31),1,0)","v":0},null,null,null,null,null,"luty",{"$f":"IF(AX36=0,0,\"\")","v":0},2,{"$f":"IF(AND(AW36>=AU$31,AW36<=AW$31),1,0)","v":0},null,null,null,null,null,"luty",{"$f":"IF(BG36=0,0,\"\")","v":0},2,{"$f":"IF(AND(BF36>=BD$31,BF36<=BF$31),1,0)","v":0},null,null,null,null,null,"luty",{"$f":"IF(BP36=0,0,\"\")","v":0},2,{"$f":"IF(AND(BO36>=BM$31,BO36<=BO$31),1,0)","v":0},null,null,null,null,null,"luty",{"$f":"IF(BY36=0,0,\"\")","v":0},2,{"$f":"IF(AND(BX36>=BV$31,BX36<=BX$31),1,0)","v":0},null,null,null,null,null,"luty",{"$f":"IF(CH36=0,0,\"\")","v":0},2,{"$f":"IF(AND(CG36>=CE$31,CG36<=CG$31),1,0)","v":0},null,null,null,null,null,"luty",{"$f":"IF(CQ36=0,0,\"\")","v":0},2,{"$f":"IF(AND(CP36>=CN$31,CP36<=CP$31),1,0)","v":0},null,null,null,null,null,"luty",{"$f":"IF(CZ36=0,0,\"\")","v":0},2,{"$f":"IF(AND(CY36>=CW$31,CY36<=CY$31),1,0)","v":0},null,null,null,null,null,"luty",{"$f":"IF(DI36=0,0,\"\")","v":0},2,{"$f":"IF(AND(DH36>=DF$31,DH36<=DH$31),1,0)","v":0},null,null,null,null,null,"luty",{"$f":"IF(DR36=0,0,\"\")","v":0},2,{"$f":"IF(AND(DQ36>=DO$31,DQ36<=DQ$31),1,0)","v":0},null,null,null,null,null,"luty",{"$f":"IF(EA36=0,0,\"\")","v":0},2,{"$f":"IF(AND(DZ36>=DX$31,DZ36<=DZ$31),1,0)","v":0},null,null,null,null,null,"luty",{"$f":"IF(EJ36=0,0,\"\")","v":0},2,{"$f":"IF(AND(EI36>=EG$31,EI36<=EI$31),1,0)","v":0},null,null,null,null,null,"luty",{"$f":"IF(ES36=0,0,\"\")","v":0},2,{"$f":"IF(AND(ER36>=EP$31,ER36<=ER$31),1,0)","v":0},null,null,null,null,null,"luty",{"$f":"IF(FB36=0,0,\"\")","v":0},2,{"$f":"IF(AND(FA36>=EY$31,FA36<=FA$31),1,0)","v":0},null,null,null,null,null,"luty",{"$f":"IF(FK36=0,0,\"\")","v":0},2,{"$f":"IF(AND(FJ36>=FH$31,FJ36<=FJ$31),1,0)","v":0},null,null,null,null,null,"luty",{"$f":"IF(FT36=0,0,\"\")","v":0},2,{"$f":"IF(AND(FS36>=FQ$31,FS36<=FS$31),1,0)","v":0},null,null,null,null,null,"luty",{"$f":"IF(GC36=0,0,\"\")","v":0},2,{"$f":"IF(AND(GB36>=FZ$31,GB36<=GB$31),1,0)","v":0},null,null,null,null,null,"luty",{"$f":"IF(GL36=0,0,\"\")","v":0},2,{"$f":"IF(AND(GK36>=GI$31,GK36<=GK$31),1,0)","v":0},null,null,null,null,null,"luty",{"$f":"IF(GU36=0,0,\"\")","v":0},2,{"$f":"IF(AND(GT36>=GR$31,GT36<=GT$31),1,0)","v":0},null,null,null,null,null,"luty",{"$f":"IF(HD36=0,0,\"\")","v":0},2,{"$f":"IF(AND(HC36>=HA$31,HC36<=HC$31),1,0)","v":0},null,null,null,null,null,"luty",{"$f":"IF(HM36=0,0,\"\")","v":0},2,{"$f":"IF(AND(HL36>=HJ$31,HL36<=HL$31),1,0)","v":0},null,null,null,null,null,"luty",{"$f":"IF(HV36=0,0,\"\")","v":0},2,{"$f":"IF(AND(HU36>=HS$31,HU36<=HU$31),1,0)","v":0},null,null,null,null,null,"luty",{"$f":"IF(IE36=0,0,\"\")","v":0},2,{"$f":"IF(AND(ID36>=IB$31,ID36<=ID$31),1,0)","v":0},null,null,null,null,null,"luty",{"$f":"IF(IN36=0,0,\"\")","v":0},2,{"$f":"IF(AND(IM36>=IK$31,IM36<=IM$31),1,0)","v":0},null,null,null,null,null,"luty",{"$f":"IF(IW36=0,0,\"\")","v":0},2,{"$f":"IF(AND(IV36>=IT$31,IV36<=IV$31),1,0)","v":0},null,null,null,null,null,"luty",{"$f":"IF(JF36=0,0,\"\")","v":0},2,{"$f":"IF(AND(JE36>=JC$31,JE36<=JE$31),1,0)","v":0},null,null,null,null,null,"luty",{"$f":"IF(JO36=0,0,\"\")","v":0},2,{"$f":"IF(AND(JN36>=JL$31,JN36<=JN$31),1,0)","v":0},null,null,null,null,null,"luty",{"$f":"IF(JX36=0,0,\"\")","v":0},2,{"$f":"IF(AND(JW36>=JU$31,JW36<=JW$31),1,0)","v":0},null,null,null,null,null,"luty",{"$f":"IF(KG36=0,0,\"\")","v":0},2,{"$f":"IF(AND(KF36>=KD$31,KF36<=KF$31),1,0)","v":0},null,null,null,null,null,"luty",{"$f":"IF(KP36=0,0,\"\")","v":0},2,{"$f":"IF(AND(KO36>=KM$31,KO36<=KO$31),1,0)","v":0},null,null,null,null,null,"luty",{"$f":"IF(KY36=0,0,\"\")","v":0},2,{"$f":"IF(AND(KX36>=KV$31,KX36<=KX$31),1,0)","v":0}]
[null,"marzec",0,3,0,null,null,null,null,null,"marzec",0,3,0,null,null,null,null,null,"marzec",0,3,0,null,null,null,null,null,"marzec",0,3,0,null,null,null,null,null,"marzec",0,3,0,null,null,null,null,null,"marzec",0,3,0,null,null,null,null,null,"marzec",0,3,0,null,null,null,null,null,"marzec",0,3,0,null,null,null,null,null,"marzec",0,3,0,null,null,null,null,null,"marzec",0,3,0,null,null,null,null,null,"marzec",0,3,0,null,null,null,null,null,"marzec",0,3,0,null,null,null,null,null,"marzec",0,3,0,null,null,null,null,null,"marzec",0,3,0,null,null,null,null,null,"marzec",0,3,0,null,null,null,null,null,"marzec",0,3,0,null,null,null,null,null,"marzec",0,3,0,null,null,null,null,null,"marzec",0,3,0,null,null,null,null,null,"marzec",0,3,0,null,null,null,null,null,"marzec",0,3,0,null,null,null,null,null,"marzec",0,3,0,null,null,null,null,null,"marzec",0,3,0,null,null,null,null,null,"marzec",0,3,0,null,null,null,null,null,"marzec",0,3,0,null,null,null,null,null,"marzec",0,3,0,null,null,null,null,null,"marzec",0,3,0,null,null,null,null,null,"marzec",0,3,0,null,null,null,null,null,"marzec",0,3,0,null,null,null,null,null,"marzec",0,3,0,null,null,null,null,null,"marzec",0,3,0,null,null,null,null,null,"marzec",0,3,0,null,null,null,null,null,"marzec",0,3,0,null,null,null,null,null,"marzec",0,3,0,null,null,null,null,null,"marzec",0,3,0,null,null,null,null,null,"marzec",0,3,0]
[null,"kwiecień",0,4,0,null,null,null,null,null,"kwiecień",0,4,0,null,null,null,null,null,"kwiecień",0,4,0,null,null,null,null,null,"kwiecień",0,4,0,null,null,null,null,null,"kwiecień",0,4,0,null,null,null,null,null,"kwiecień",0,4,0,null,null,null,null,null,"kwiecień",0,4,0,null,null,null,null,null,"kwiecień",0,4,0,null,null,null,null,null,"kwiecień",0,4,0,null,null,null,null,null,"kwiecień",0,4,0,null,null,null,null,null,"kwiecień",0,4,0,null,null,null,null,null,"kwiecień",0,4,0,null,null,null,null,null,"kwiecień",0,4,0,null,null,null,null,null,"kwiecień",0,4,0,null,null,null,null,null,"kwiecień",0,4,0,null,null,null,null,null,"kwiecień",0,4,0,null,null,null,null,null,"kwiecień",0,4,0,null,null,null,null,null,"kwiecień",0,4,0,null,null,null,null,null,"kwiecień",0,4,0,null,null,null,null,null,"kwiecień",0,4,0,null,null,null,null,null,"kwiecień",0,4,0,null,null,null,null,null,"kwiecień",0,4,0,null,null,null,null,null,"kwiecień",0,4,0,null,null,null,null,null,"kwiecień",0,4,0,null,null,null,null,null,"kwiecień",0,4,0,null,null,null,null,null,"kwiecień",0,4,0,null,null,null,null,null,"kwiecień",0,4,0,null,null,null,null,null,"kwiecień",0,4,0,null,null,null,null,null,"kwiecień",0,4,0,null,null,null,null,null,"kwiecień",0,4,0,null,null,null,null,null,"kwiecień",0,4,0,null,null,null,null,null,"kwiecień",0,4,0,null,null,null,null,null,"kwiecień",0,4,0,null,null,null,null,null,"kwiecień",0,4,0,null,null,null,null,null,"kwiecień",0,4,0]
[null,"maj",0,5,0,null,null,null,null,null,"maj",0,5,0,null,null,null,null,null,"maj",0,5,0,null,null,null,null,null,"maj",0,5,0,null,null,null,null,null,"maj",0,5,0,null,null,null,null,null,"maj",0,5,0,null,null,null,null,null,"maj",0,5,0,null,null,null,null,null,"maj",0,5,0,null,null,null,null,null,"maj",0,5,0,null,null,null,null,null,"maj",0,5,0,null,null,null,null,null,"maj",0,5,0,null,null,null,null,null,"maj",0,5,0,null,null,null,null,null,"maj",0,5,0,null,null,null,null,null,"maj",0,5,0,null,null,null,null,null,"maj",0,5,0,null,null,null,null,null,"maj",0,5,0,null,null,null,null,null,"maj",0,5,0,null,null,null,null,null,"maj",0,5,0,null,null,null,null,null,"maj",0,5,0,null,null,null,null,null,"maj",0,5,0,null,null,null,null,null,"maj",0,5,0,null,null,null,null,null,"maj",0,5,0,null,null,null,null,null,"maj",0,5,0,null,null,null,null,null,"maj",0,5,0,null,null,null,null,null,"maj",0,5,0,null,null,null,null,null,"maj",0,5,0,null,null,null,null,null,"maj",0,5,0,null,null,null,null,null,"maj",0,5,0,null,null,null,null,null,"maj",0,5,0,null,null,null,null,null,"maj",0,5,0,null,null,null,null,null,"maj",0,5,0,null,null,null,null,null,"maj",0,5,0,null,null,null,null,null,"maj",0,5,0,null,null,null,null,null,"maj",0,5,0,null,null,null,null,null,"maj",0,5,0]
[null,"czerwiec",0,6,0,null,null,null,null,null,"czerwiec",0,6,0,null,null,null,null,null,"czerwiec",0,6,0,null,null,null,null,null,"czerwiec",0,6,0,null,null,null,null,null,"czerwiec",0,6,0,null,null,null,null,null,"czerwiec",0,6,0,null,null,null,null,null,"czerwiec",0,6,0,null,null,null,null,null,"czerwiec",0,6,0,null,null,null,null,null,"czerwiec",0,6,0,null,null,null,null,null,"czerwiec",0,6,0,null,null,null,null,null,"czerwiec",0,6,0,null,null,null,null,null,"czerwiec",0,6,0,null,null,null,null,null,"czerwiec",0,6,0,null,null,null,null,null,"czerwiec",0,6,0,null,null,null,null,null,"czerwiec",0,6,0,null,null,null,null,null,"czerwiec",0,6,0,null,null,null,null,null,"czerwiec",0,6,0,null,null,null,null,null,"czerwiec",0,6,0,null,null,null,null,null,"czerwiec",0,6,0,null,null,null,null,null,"czerwiec",0,6,0,null,null,null,null,null,"czerwiec",0,6,0,null,null,null,null,null,"czerwiec",0,6,0,null,null,null,null,null,"czerwiec",0,6,0,null,null,null,null,null,"czerwiec",0,6,0,null,null,null,null,null,"czerwiec",0,6,0,null,null,null,null,null,"czerwiec",0,6,0,null,null,null,null,null,"czerwiec",0,6,0,null,null,null,null,null,"czerwiec",0,6,0,null,null,null,null,null,"czerwiec",0,6,0,null,null,null,null,null,"czerwiec",0,6,0,null,null,null,null,null,"czerwiec",0,6,0,null,null,null,null,null,"czerwiec",0,6,0,null,null,null,null,null,"czerwiec",0,6,0,null,null,null,null,null,"czerwiec",0,6,0,null,null,null,null,null,"czerwiec",0,6,0]
[null,"lipiec",0,7,0,null,null,null,null,null,"lipiec",0,7,0,null,null,null,null,null,"lipiec",0,7,0,null,null,null,null,null,"lipiec",0,7,0,null,null,null,null,null,"lipiec",0,7,0,null,null,null,null,null,"lipiec",0,7,0,null,null,null,null,null,"lipiec",0,7,0,null,null,null,null,null,"lipiec",0,7,0,null,null,null,null,null,"lipiec",0,7,0,null,null,null,null,null,"lipiec",0,7,0,null,null,null,null,null,"lipiec",0,7,0,null,null,null,null,null,"lipiec",0,7,0,null,null,null,null,null,"lipiec",0,7,0,null,null,null,null,null,"lipiec",0,7,0,null,null,null,null,null,"lipiec",0,7,0,null,null,null,null,null,"lipiec",0,7,0,null,null,null,null,null,"lipiec",0,7,0,null,null,null,null,null,"lipiec",0,7,0,null,null,null,null,null,"lipiec",0,7,0,null,null,null,null,null,"lipiec",0,7,0,null,null,null,null,null,"lipiec",0,7,0,null,null,null,null,null,"lipiec",0,7,0,null,null,null,null,null,"lipiec",0,7,0,null,null,null,null,null,"lipiec",0,7,0,null,null,null,null,null,"lipiec",0,7,0,null,null,null,null,null,"lipiec",0,7,0,null,null,null,null,null,"lipiec",0,7,0,null,null,null,null,null,"lipiec",0,7,0,null,null,null,null,null,"lipiec",0,7,0,null,null,null,null,null,"lipiec",0,7,0,null,null,null,null,null,"lipiec",0,7,0,null,null,null,null,null,"lipiec",0,7,0,null,null,null,null,null,"lipiec",0,7,0,null,null,null,null,null,"lipiec",0,7,0,null,null,null,null,null,"lipiec",0,7,0]
[null,"sierpień",0,8,0,null,null,null,null,null,"sierpień",0,8,0,null,null,null,null,null,"sierpień",0,8,0,null,null,null,null,null,"sierpień",0,8,0,null,null,null,null,null,"sierpień",0,8,0,null,null,null,null,null,"sierpień",0,8,0,null,null,null,null,null,"sierpień",0,8,0,null,null,null,null,null,"sierpień",0,8,0,null,null,null,null,null,"sierpień",0,8,0,null,null,null,null,null,"sierpień",0,8,0,null,null,null,null,null,"sierpień",0,8,0,null,null,null,null,null,"sierpień",0,8,0,null,null,null,null,null,"sierpień",0,8,0,null,null,null,null,null,"sierpień",0,8,0,null,null,null,null,null,"sierpień",0,8,0,null,null,null,null,null,"sierpień",0,8,0,null,null,null,null,null,"sierpień",0,8,0,null,null,null,null,null,"sierpień",0,8,0,null,null,null,null,null,"sierpień",0,8,0,null,null,null,null,null,"sierpień",0,8,0,null,null,null,null,null,"sierpień",0,8,0,null,null,null,null,null,"sierpień",0,8,0,null,null,null,null,null,"sierpień",0,8,0,null,null,null,null,null,"sierpień",0,8,0,null,null,null,null,null,"sierpień",0,8,0,null,null,null,null,null,"sierpień",0,8,0,null,null,null,null,null,"sierpień",0,8,0,null,null,null,null,null,"sierpień",0,8,0,null,null,null,null,null,"sierpień",0,8,0,null,null,null,null,null,"sierpień",0,8,0,null,null,null,null,null,"sierpień",0,8,0,null,null,null,null,null,"sierpień",0,8,0,null,null,null,null,null,"sierpień",0,8,0,null,null,null,null,null,"sierpień",0,8,0,null,null,null,null,null,"sierpień",0,8,0]
[null,"wrzesień",0,9,0,null,null,null,null,null,"wrzesień",0,9,0,null,null,null,null,null,"wrzesień",0,9,0,null,null,null,null,null,"wrzesień",0,9,0,null,null,null,null,null,"wrzesień",0,9,0,null,null,null,null,null,"wrzesień",0,9,0,null,null,null,null,null,"wrzesień",0,9,0,null,null,null,null,null,"wrzesień",0,9,0,null,null,null,null,null,"wrzesień",0,9,0,null,null,null,null,null,"wrzesień",0,9,0,null,null,null,null,null,"wrzesień",0,9,0,null,null,null,null,null,"wrzesień",0,9,0,null,null,null,null,null,"wrzesień",0,9,0,null,null,null,null,null,"wrzesień",0,9,0,null,null,null,null,null,"wrzesień",0,9,0,null,null,null,null,null,"wrzesień",0,9,0,null,null,null,null,null,"wrzesień",0,9,0,null,null,null,null,null,"wrzesień",0,9,0,null,null,null,null,null,"wrzesień",0,9,0,null,null,null,null,null,"wrzesień",0,9,0,null,null,null,null,null,"wrzesień",0,9,0,null,null,null,null,null,"wrzesień",0,9,0,null,null,null,null,null,"wrzesień",0,9,0,null,null,null,null,null,"wrzesień",0,9,0,null,null,null,null,null,"wrzesień",0,9,0,null,null,null,null,null,"wrzesień",0,9,0,null,null,null,null,null,"wrzesień",0,9,0,null,null,null,null,null,"wrzesień",0,9,0,null,null,null,null,null,"wrzesień",0,9,0,null,null,null,null,null,"wrzesień",0,9,0,null,null,null,null,null,"wrzesień",0,9,0,null,null,null,null,null,"wrzesień",0,9,0,null,null,null,null,null,"wrzesień",0,9,0,null,null,null,null,null,"wrzesień",0,9,0,null,null,null,null,null,"wrzesień",0,9,0]
[null,"październik",0,10,0,null,null,null,null,null,"październik",0,10,0,null,null,null,null,null,"październik",0,10,0,null,null,null,null,null,"październik",0,10,0,null,null,null,null,null,"październik",0,10,0,null,null,null,null,null,"październik",0,10,0,null,null,null,null,null,"październik",0,10,0,null,null,null,null,null,"październik",0,10,0,null,null,null,null,null,"październik",0,10,0,null,null,null,null,null,"październik",0,10,0,null,null,null,null,null,"październik",0,10,0,null,null,null,null,null,"październik",0,10,0,null,null,null,null,null,"październik",0,10,0,null,null,null,null,null,"październik",0,10,0,null,null,null,null,null,"październik",0,10,0,null,null,null,null,null,"październik",0,10,0,null,null,null,null,null,"październik",0,10,0,null,null,null,null,null,"październik",0,10,0,null,null,null,null,null,"październik",0,10,0,null,null,null,null,null,"październik",0,10,0,null,null,null,null,null,"październik",0,10,0,null,null,null,null,null,"październik",0,10,0,null,null,null,null,null,"październik",0,10,0,null,null,null,null,null,"październik",0,10,0,null,null,null,null,null,"październik",0,10,0,null,null,null,null,null,"październik",0,10,0,null,null,null,null,null,"październik",0,10,0,null,null,null,null,null,"październik",0,10,0,null,null,null,null,null,"październik",0,10,0,null,null,null,null,null,"październik",0,10,0,null,null,null,null,null,"październik",0,10,0,null,null,null,null,null,"październik",0,10,0,null,null,null,null,null,"październik",0,10,0,null,null,null,null,null,"październik",0,10,0,null,null,null,null,null,"październik",0,10,0]
[null,"listopad",0,11,0,null,null,null,null,null,"listopad",0,11,0,null,null,null,null,null,"listopad",0,11,0,null,null,null,null,null,"listopad",0,11,0,null,null,null,null,null,"listopad",0,11,0,null,null,null,null,null,"listopad",0,11,0,null,null,null,null,null,"listopad",0,11,0,null,null,null,null,null,"listopad",0,11,0,null,null,null,null,null,"listopad",0,11,0,null,null,null,null,null,"listopad",0,11,0,null,null,null,null,null,"listopad",0,11,0,null,null,null,null,null,"listopad",0,11,0,null,null,null,null,null,"listopad",0,11,0,null,null,null,null,null,"listopad",0,11,0,null,null,null,null,null,"listopad",0,11,0,null,null,null,null,null,"listopad",0,11,0,null,null,null,null,null,"listopad",0,11,0,null,null,null,null,null,"listopad",0,11,0,null,null,null,null,null,"listopad",0,11,0,null,null,null,null,null,"listopad",0,11,0,null,null,null,null,null,"listopad",0,11,0,null,null,null,null,null,"listopad",0,11,0,null,null,null,null,null,"listopad",0,11,0,null,null,null,null,null,"listopad",0,11,0,null,null,null,null,null,"listopad",0,11,0,null,null,null,null,null,"listopad",0,11,0,null,null,null,null,null,"listopad",0,11,0,null,null,null,null,null,"listopad",0,11,0,null,null,null,null,null,"listopad",0,11,0,null,null,null,null,null,"listopad",0,11,0,null,null,null,null,null,"listopad",0,11,0,null,null,null,null,null,"listopad",0,11,0,null,null,null,null,null,"listopad",0,11,0,null,null,null,null,null,"listopad",0,11,0,null,null,null,null,null,"listopad",0,11,0]
[null,"grudzień",0,12,{"$f":"IF(AND(D46>=A$31,D46<=D$31),1,0)","v":0},null,null,null,null,null,"grudzień",0,12,{"$f":"IF(AND(M46>=J$31,M46<=M$31),1,0)","v":0},null,null,null,null,null,"grudzień",0,12,{"$f":"IF(AND(V46>=S$31,V46<=V$31),1,0)","v":0},null,null,null,null,null,"grudzień",0,12,{"$f":"IF(AND(AE46>=AB$31,AE46<=AE$31),1,0)","v":0},null,null,null,null,null,"grudzień",0,12,{"$f":"IF(AND(AN46>=AK$31,AN46<=AN$31),1,0)","v":0},null,null,null,null,null,"grudzień",0,12,{"$f":"IF(AND(AW46>=AT$31,AW46<=AW$31),1,0)","v":0},null,null,null,null,null,"grudzień",0,12,{"$f":"IF(AND(BF46>=BC$31,BF46<=BF$31),1,0)","v":0},null,null,null,null,null,"grudzień",0,12,{"$f":"IF(AND(BO46>=BL$31,BO46<=BO$31),1,0)","v":0},null,null,null,null,null,"grudzień",0,12,{"$f":"IF(AND(BX46>=BU$31,BX46<=BX$31),1,0)","v":0},null,null,null,null,null,"grudzień",0,12,{"$f":"IF(AND(CG46>=CD$31,CG46<=CG$31),1,0)","v":0},null,null,null,null,null,"grudzień",0,12,{"$f":"IF(AND(CP46>=CM$31,CP46<=CP$31),1,0)","v":0},null,null,null,null,null,"grudzień",0,12,{"$f":"IF(AND(CY46>=CV$31,CY46<=CY$31),1,0)","v":0},null,null,null,null,null,"grudzień",0,12,{"$f":"IF(AND(DH46>=DE$31,DH46<=DH$31),1,0)","v":0},null,null,null,null,null,"grudzień",0,12,{"$f":"IF(AND(DQ46>=DN$31,DQ46<=DQ$31),1,0)","v":0},null,null,null,null,null,"grudzień",0,12,{"$f":"IF(AND(DZ46>=DW$31,DZ46<=DZ$31),1,0)","v":0},null,null,null,null,null,"grudzień",0,12,{"$f":"IF(AND(EI46>=EF$31,EI46<=EI$31),1,0)","v":0},null,null,null,null,null,"grudzień",0,12,{"$f":"IF(AND(ER46>=EO$31,ER46<=ER$31),1,0)","v":0},null,null,null,null,null,"grudzień",0,12,{"$f":"IF(AND(FA46>=EX$31,FA46<=FA$31),1,0)","v":0},null,null,null,null,null,"grudzień",0,12,{"$f":"IF(AND(FJ46>=FG$31,FJ46<=FJ$31),1,0)","v":0},null,null,null,null,null,"grudzień",0,12,{"$f":"IF(AND(FS46>=FP$31,FS46<=FS$31),1,0)","v":0},null,null,null,null,null,"grudzień",0,12,{"$f":"IF(AND(GB46>=FY$31,GB46<=GB$31),1,0)","v":0},null,null,null,null,null,"grudzień",0,12,{"$f":"IF(AND(GK46>=GH$31,GK46<=GK$31),1,0)","v":0},null,null,null,null,null,"grudzień",0,12,{"$f":"IF(AND(GT46>=GQ$31,GT46<=GT$31),1,0)","v":0},null,null,null,null,null,"grudzień",0,12,{"$f":"IF(AND(HC46>=GZ$31,HC46<=HC$31),1,0)","v":0},null,null,null,null,null,"grudzień",0,12,{"$f":"IF(AND(HL46>=HI$31,HL46<=HL$31),1,0)","v":0},null,null,null,null,null,"grudzień",0,12,{"$f":"IF(AND(HU46>=HR$31,HU46<=HU$31),1,0)","v":0},null,null,null,null,null,"grudzień",0,12,{"$f":"IF(AND(ID46>=IA$31,ID46<=ID$31),1,0)","v":0},null,null,null,null,null,"grudzień",0,12,{"$f":"IF(AND(IM46>=IJ$31,IM46<=IM$31),1,0)","v":0},null,null,null,null,null,"grudzień",0,12,{"$f":"IF(AND(IV46>=IS$31,IV46<=IV$31),1,0)","v":0},null,null,null,null,null,"grudzień",0,12,{"$f":"IF(AND(JE46>=JB$31,JE46<=JE$31),1,0)","v":0},null,null,null,null,null,"grudzień",0,12,{"$f":"IF(AND(JN46>=JK$31,JN46<=JN$31),1,0)","v":0},null,null,null,null,null,"grudzień",0,12,{"$f":"IF(AND(JW46>=JT$31,JW46<=JW$31),1,0)","v":0},null,null,null,null,null,"grudzień",0,12,{"$f":"IF(AND(KF46>=KC$31,KF46<=KF$31),1,0)","v":0},null,null,null,null,null,"grudzień",0,12,{"$f":"IF(AND(KO46>=KL$31,KO46<=KO$31),1,0)","v":0},null,null,null,null,null,"grudzień",0,12,{"$f":"IF(AND(KX46>=KU$31,KX46<=KX$31),1,0)","v":0}]
[{"$f":"-G51*0.1","v":0},null,null,null,null,null,null,null,null,{"$f":"-P51*0.1","v":0},null,null,null,null,null,null,null,null,{"$f":"-Y51*0.1","v":0},null,null,null,null,null,null,null,null,{"$f":"-AH51*0.1","v":0},null,null,null,null,null,null,null,null,{"$f":"-AQ51*0.1","v":0},null,null,null,null,null,null,null,null,{"$f":"-AZ51*0.1","v":0},null,null,null,null,null,null,null,null,{"$f":"-BI51*0.1","v":0},null,null,null,null,null,null,null,null,{"$f":"-BR51*0.1","v":0},null,null,null,null,null,null,null,null,{"$f":"-CA51*0.1","v":0},null,null,null,null,null,null,null,null,{"$f":"-CJ51*0.1","v":0},null,null,null,null,null,null,null,null,{"$f":"-CS51*0.1","v":0},null,null,null,null,null,null,null,null,{"$f":"-DB51*0.1","v":0},null,null,null,null,null,null,null,null,{"$f":"-DK51*0.1","v":0},null,null,null,null,null,null,null,null,{"$f":"-DT51*0.1","v":0},null,null,null,null,null,null,null,null,{"$f":"-EC51*0.1","v":0},null,null,null,null,null,null,null,null,{"$f":"-EL51*0.1","v":0},null,null,null,null,null,null,null,null,{"$f":"-EU51*0.1","v":0},null,null,null,null,null,null,null,null,{"$f":"-FD51*0.1","v":0},null,null,null,null,null,null,null,null,{"$f":"-FM51*0.1","v":0},null,null,null,null,null,null,null,null,{"$f":"-FV51*0.1","v":0},null,null,null,null,null,null,null,null,{"$f":"-GE51*0.1","v":0},null,null,null,null,null,null,null,null,{"$f":"-GN51*0.1","v":0},null,null,null,null,null,null,null,null,{"$f":"-GW51*0.1","v":0},null,null,null,null,null,null,null,null,{"$f":"-HF51*0.1","v":0},null,null,null,null,null,null,null,null,{"$f":"-HO51*0.1","v":0},null,null,null,null,null,null,null,null,{"$f":"-HX51*0.1","v":0},null,null,null,null,null,null,null,null,{"$f":"-IG51*0.1","v":0},null,null,null,null,null,null,null,null,{"$f":"-IP51*0.1","v":0},null,null,null,null,null,null,null,null,{"$f":"-IY51*0.1","v":0},null,null,null,null,null,null,null,null,{"$f":"-JH51*0.1","v":0},null,null,null,null,null,null,null,null,{"$f":"-JQ51*0.1","v":0},null,null,null,null,null,null,null,null,{"$f":"-JZ51*0.1","v":0},null,null,null,null,null,null,null,null,{"$f":"-KI51*0.1","v":0},null,null,null,null,null,null,null,null,{"$f":"-KR51*0.1","v":0},null,null,null,null,null,null,null,null,{"$f":"-LA51*0.1","v":0}]
["PRZEWIDYWANE PRZYCHODY PRZEWOŹNIKA W ODNIESIENIU DO LINII KOMUNIKACYJNEJ",null,null,null,null,null,null,null,null,"PRZEWIDYWANE PRZYCHODY PRZEWOŹNIKA W ODNIESIENIU DO LINII KOMUNIKACYJNEJ",null,null,null,null,null,null,null,null,"PRZEWIDYWANE PRZYCHODY PRZEWOŹNIKA W ODNIESIENIU DO LINII KOMUNIKACYJNEJ",null,null,null,null,null,null,null,null,"PRZEWIDYWANE PRZYCHODY PRZEWOŹNIKA W ODNIESIENIU DO LINII KOMUNIKACYJNEJ",null,null,null,null,null,null,null,null,"PRZEWIDYWANE PRZYCHODY PRZEWOŹNIKA W ODNIESIENIU DO LINII KOMUNIKACYJNEJ",null,null,null,null,null,null,null,null,"PRZEWIDYWANE PRZYCHODY PRZEWOŹNIKA W ODNIESIENIU DO LINII KOMUNIKACYJNEJ",null,null,null,null,null,null,null,null,"PRZEWIDYWANE PRZYCHODY PRZEWOŹNIKA W ODNIESIENIU DO LINII KOMUNIKACYJNEJ",null,null,null,null,null,null,null,null,"PRZEWIDYWANE PRZYCHODY PRZEWOŹNIKA W ODNIESIENIU DO LINII KOMUNIKACYJNEJ",null,null,null,null,null,null,null,null,"PRZEWIDYWANE PRZYCHODY PRZEWOŹNIKA W ODNIESIENIU DO LINII KOMUNIKACYJNEJ",null,null,null,null,null,null,null,null,"PRZEWIDYWANE PRZYCHODY PRZEWOŹNIKA W ODNIESIENIU DO LINII KOMUNIKACYJNEJ",null,null,null,null,null,null,null,null,"PRZEWIDYWANE PRZYCHODY PRZEWOŹNIKA W ODNIESIENIU DO LINII KOMUNIKACYJNEJ",null,null,null,null,null,null,null,null,"PRZEWIDYWANE PRZYCHODY PRZEWOŹNIKA W ODNIESIENIU DO LINII KOMUNIKACYJNEJ",null,null,null,null,null,null,null,null,"PRZEWIDYWANE PRZYCHODY PRZEWOŹNIKA W ODNIESIENIU DO LINII KOMUNIKACYJNEJ",null,null,null,null,null,null,null,null,"PRZEWIDYWANE PRZYCHODY PRZEWOŹNIKA W ODNIESIENIU DO LINII KOMUNIKACYJNEJ",null,null,null,null,null,null,null,null,"PRZEWIDYWANE PRZYCHODY PRZEWOŹNIKA W ODNIESIENIU DO LINII KOMUNIKACYJNEJ",null,null,null,null,null,null,null,null,"PRZEWIDYWANE PRZYCHODY PRZEWOŹNIKA W ODNIESIENIU DO LINII KOMUNIKACYJNEJ",null,null,null,null,null,null,null,null,"PRZEWIDYWANE PRZYCHODY PRZEWOŹNIKA W ODNIESIENIU DO LINII KOMUNIKACYJNEJ",null,null,null,null,null,null,null,null,"PRZEWIDYWANE PRZYCHODY PRZEWOŹNIKA W ODNIESIENIU DO LINII KOMUNIKACYJNEJ",null,null,null,null,null,null,null,null,"PRZEWIDYWANE PRZYCHODY PRZEWOŹNIKA W ODNIESIENIU DO LINII KOMUNIKACYJNEJ",null,null,null,null,null,null,null,null,"PRZEWIDYWANE PRZYCHODY PRZEWOŹNIKA W ODNIESIENIU DO LINII KOMUNIKACYJNEJ",null,null,null,null,null,null,null,null,"PRZEWIDYWANE PRZYCHODY PRZEWOŹNIKA W ODNIESIENIU DO LINII KOMUNIKACYJNEJ",null,null,null,null,null,null,null,null,"PRZEWIDYWANE PRZYCHODY PRZEWOŹNIKA W ODNIESIENIU DO LINII KOMUNIKACYJNEJ",null,null,null,null,null,null,null,null,"PRZEWIDYWANE PRZYCHODY PRZEWOŹNIKA W ODNIESIENIU DO LINII KOMUNIKACYJNEJ",null,null,null,null,null,null,null,null,"PRZEWIDYWANE PRZYCHODY PRZEWOŹNIKA W ODNIESIENIU DO LINII KOMUNIKACYJNEJ",null,null,null,null,null,null,null,null,"PRZEWIDYWANE PRZYCHODY PRZEWOŹNIKA W ODNIESIENIU DO LINII KOMUNIKACYJNEJ",null,null,null,null,null,null,null,null,"PRZEWIDYWANE PRZYCHODY PRZEWOŹNIKA W ODNIESIENIU DO LINII KOMUNIKACYJNEJ",null,null,null,null,null,null,null,null,"PRZEWIDYWANE PRZYCHODY PRZEWOŹNIKA W ODNIESIENIU DO LINII KOMUNIKACYJNEJ",null,null,null,null,null,null,null,null,"PRZEWIDYWANE PRZYCHODY PRZEWOŹNIKA W ODNIESIENIU DO LINII KOMUNIKACYJNEJ",null,null,null,null,null,null,null,null,"PRZEWIDYWANE PRZYCHODY PRZEWOŹNIKA W ODNIESIENIU DO LINII KOMUNIKACYJNEJ",null,null,null,null,null,null,null,null,"PRZEWIDYWANE PRZYCHODY PRZEWOŹNIKA W ODNIESIENIU DO LINII KOMUNIKACYJNEJ",null,null,null,null,null,null,null,null,"PRZEWIDYWANE PRZYCHODY PRZEWOŹNIKA W ODNIESIENIU DO LINII KOMUNIKACYJNEJ",null,null,null,null,null,null,null,null,"PRZEWIDYWANE PRZYCHODY PRZEWOŹNIKA W ODNIESIENIU DO LINII KOMUNIKACYJNEJ",null,null,null,null,null,null,null,null,"PRZEWIDYWANE PRZYCHODY PRZEWOŹNIKA W ODNIESIENIU DO LINII KOMUNIKACYJNEJ",null,null,null,null,null,null,null,null,"PRZEWIDYWANE PRZYCHODY PRZEWOŹNIKA W ODNIESIENIU DO LINII KOMUNIKACYJNEJ",null,null,null,null,null,null,null,null,"PRZEWIDYWANE PRZYCHODY PRZEWOŹNIKA W ODNIESIENIU DO LINII KOMUNIKACYJNEJ"]
["PRZEWIDYWANE KOSZTY PRZEWOŹNIKA W ODNIESIENIU DO LINII KOMUNIKACYJNEJ",null,null,null,null,null,null,null,null,"PRZEWIDYWANE KOSZTY PRZEWOŹNIKA W ODNIESIENIU DO LINII KOMUNIKACYJNEJ",null,null,null,null,null,null,null,null,"PRZEWIDYWANE KOSZTY PRZEWOŹNIKA W ODNIESIENIU DO LINII KOMUNIKACYJNEJ",null,null,null,null,null,null,null,null,"PRZEWIDYWANE KOSZTY PRZEWOŹNIKA W ODNIESIENIU DO LINII KOMUNIKACYJNEJ",null,null,null,null,null,null,null,null,"PRZEWIDYWANE KOSZTY PRZEWOŹNIKA W ODNIESIENIU DO LINII KOMUNIKACYJNEJ",null,null,null,null,null,null,null,null,"PRZEWIDYWANE KOSZTY PRZEWOŹNIKA W ODNIESIENIU DO LINII KOMUNIKACYJNEJ",null,null,null,null,null,null,null,null,"PRZEWIDYWANE KOSZTY PRZEWOŹNIKA W ODNIESIENIU DO LINII KOMUNIKACYJNEJ",null,null,null,null,null,null,null,null,"PRZEWIDYWANE KOSZTY PRZEWOŹNIKA W ODNIESIENIU DO LINII KOMUNIKACYJNEJ",null,null,null,null,null,null,null,null,"PRZEWIDYWANE KOSZTY PRZEWOŹNIKA W ODNIESIENIU DO LINII KOMUNIKACYJNEJ",null,null,null,null,null,null,null,null,"PRZEWIDYWANE KOSZTY PRZEWOŹNIKA W ODNIESIENIU DO LINII KOMUNIKACYJNEJ",null,null,null,null,null,null,null,null,"PRZEWIDYWANE KOSZTY PRZEWOŹNIKA W ODNIESIENIU DO LINII KOMUNIKACYJNEJ",null,null,null,null,null,null,null,null,"PRZEWIDYWANE KOSZTY PRZEWOŹNIKA W ODNIESIENIU DO LINII KOMUNIKACYJNEJ",null,null,null,null,null,null,null,null,"PRZEWIDYWANE KOSZTY PRZEWOŹNIKA W ODNIESIENIU DO LINII KOMUNIKACYJNEJ",null,null,null,null,null,null,null,null,"PRZEWIDYWANE KOSZTY PRZEWOŹNIKA W ODNIESIENIU DO LINII KOMUNIKACYJNEJ",null,null,null,null,null,null,null,null,"PRZEWIDYWANE KOSZTY PRZEWOŹNIKA W ODNIESIENIU DO LINII KOMUNIKACYJNEJ",null,null,null,null,null,null,null,null,"PRZEWIDYWANE KOSZTY PRZEWOŹNIKA W ODNIESIENIU DO LINII KOMUNIKACYJNEJ",null,null,null,null,null,null,null,null,"PRZEWIDYWANE KOSZTY PRZEWOŹNIKA W ODNIESIENIU DO LINII KOMUNIKACYJNEJ",null,null,null,null,null,null,null,null,"PRZEWIDYWANE KOSZTY PRZEWOŹNIKA W ODNIESIENIU DO LINII KOMUNIKACYJNEJ",null,null,null,null,null,null,null,null,"PRZEWIDYWANE KOSZTY PRZEWOŹNIKA W ODNIESIENIU DO LINII KOMUNIKACYJNEJ",null,null,null,null,null,null,null,null,"PRZEWIDYWANE KOSZTY PRZEWOŹNIKA W ODNIESIENIU DO LINII KOMUNIKACYJNEJ",null,null,null,null,null,null,null,null,"PRZEWIDYWANE KOSZTY PRZEWOŹNIKA W ODNIESIENIU DO LINII KOMUNIKACYJNEJ",null,null,null,null,null,null,null,null,"PRZEWIDYWANE KOSZTY PRZEWOŹNIKA W ODNIESIENIU DO LINII KOMUNIKACYJNEJ",null,null,null,null,null,null,null,null,"PRZEWIDYWANE KOSZTY PRZEWOŹNIKA W ODNIESIENIU DO LINII KOMUNIKACYJNEJ",null,null,null,null,null,null,null,null,"PRZEWIDYWANE KOSZTY PRZEWOŹNIKA W ODNIESIENIU DO LINII KOMUNIKACYJNEJ",null,null,null,null,null,null,null,null,"PRZEWIDYWANE KOSZTY PRZEWOŹNIKA W ODNIESIENIU DO LINII KOMUNIKACYJNEJ",null,null,null,null,null,null,null,null,"PRZEWIDYWANE KOSZTY PRZEWOŹNIKA W ODNIESIENIU DO LINII KOMUNIKACYJNEJ",null,null,null,null,null,null,null,null,"PRZEWIDYWANE KOSZTY PRZEWOŹNIKA W ODNIESIENIU DO LINII KOMUNIKACYJNEJ",null,null,null,null,null,null,null,null,"PRZEWIDYWANE KOSZTY PRZEWOŹNIKA W ODNIESIENIU DO LINII KOMUNIKACYJNEJ",null,null,null,null,null,null,null,null,"PRZEWIDYWANE KOSZTY PRZEWOŹNIKA W ODNIESIENIU DO LINII KOMUNIKACYJNEJ",null,null,null,null,null,null,null,null,"PRZEWIDYWANE KOSZTY PRZEWOŹNIKA W ODNIESIENIU DO LINII KOMUNIKACYJNEJ",null,null,null,null,null,null,null,null,"PRZEWIDYWANE KOSZTY PRZEWOŹNIKA W ODNIESIENIU DO LINII KOMUNIKACYJNEJ",null,null,null,null,null,null,null,null,"PRZEWIDYWANE KOSZTY PRZEWOŹNIKA W ODNIESIENIU DO LINII KOMUNIKACYJNEJ",null,null,null,null,null,null,null,null,"PRZEWIDYWANE KOSZTY PRZEWOŹNIKA W ODNIESIENIU DO LINII KOMUNIKACYJNEJ",null,null,null,null,null,null,null,null,"PRZEWIDYWANE KOSZTY PRZEWOŹNIKA W ODNIESIENIU DO LINII KOMUNIKACYJNEJ",null,null,null,null,null,null,null,null,"PRZEWIDYWANE KOSZTY PRZEWOŹNIKA W ODNIESIENIU DO LINII KOMUNIKACYJNEJ"]
["PRZEWIDYWANY DEFICYT W ODNIESIENIU DO LINII KOMUNIKACYJNEJ",null,null,null,null,null,{"$f":"G48-G49","v":0},null,null,"PRZEWIDYWANY DEFICYT W ODNIESIENIU DO LINII KOMUNIKACYJNEJ",null,null,null,null,null,{"$f":"P48-P49","v":0},null,null,"PRZEWIDYWANY DEFICYT W ODNIESIENIU DO LINII KOMUNIKACYJNEJ",null,null,null,null,null,{"$f":"Y48-Y49","v":0},null,null,"PRZEWIDYWANY DEFICYT W ODNIESIENIU DO LINII KOMUNIKACYJNEJ",null,null,null,null,null,{"$f":"AH48-AH49","v":0},null,null,"PRZEWIDYWANY DEFICYT W ODNIESIENIU DO LINII KOMUNIKACYJNEJ",null,null,null,null,null,{"$f":"AQ48-AQ49","v":0},null,null,"PRZEWIDYWANY DEFICYT W ODNIESIENIU DO LINII KOMUNIKACYJNEJ",null,null,null,null,null,{"$f":"AZ48-AZ49","v":0},null,null,"PRZEWIDYWANY DEFICYT W ODNIESIENIU DO LINII KOMUNIKACYJNEJ",null,null,null,null,null,{"$f":"BI48-BI49","v":0},null,null,"PRZEWIDYWANY DEFICYT W ODNIESIENIU DO LINII KOMUNIKACYJNEJ",null,null,null,null,null,{"$f":"BR48-BR49","v":0},null,null,"PRZEWIDYWANY DEFICYT W ODNIESIENIU DO LINII KOMUNIKACYJNEJ",null,null,null,null,null,{"$f":"CA48-CA49","v":0},null,null,"PRZEWIDYWANY DEFICYT W ODNIESIENIU DO LINII KOMUNIKACYJNEJ",null,null,null,null,null,{"$f":"CJ48-CJ49","v":0},null,null,"PRZEWIDYWANY DEFICYT W ODNIESIENIU DO LINII KOMUNIKACYJNEJ",null,null,null,null,null,{"$f":"CS48-CS49","v":0},null,null,"PRZEWIDYWANY DEFICYT W ODNIESIENIU DO LINII KOMUNIKACYJNEJ",null,null,null,null,null,{"$f":"DB48-DB49","v":0},null,null,"PRZEWIDYWANY DEFICYT W ODNIESIENIU DO LINII KOMUNIKACYJNEJ",null,null,null,null,null,{"$f":"DK48-DK49","v":0},null,null,"PRZEWIDYWANY DEFICYT W ODNIESIENIU DO LINII KOMUNIKACYJNEJ",null,null,null,null,null,{"$f":"DT48-DT49","v":0},null,null,"PRZEWIDYWANY DEFICYT W ODNIESIENIU DO LINII KOMUNIKACYJNEJ",null,null,null,null,null,{"$f":"EC48-EC49","v":0},null,null,"PRZEWIDYWANY DEFICYT W ODNIESIENIU DO LINII KOMUNIKACYJNEJ",null,null,null,null,null,{"$f":"EL48-EL49","v":0},null,null,"PRZEWIDYWANY DEFICYT W ODNIESIENIU DO LINII KOMUNIKACYJNEJ",null,null,null,null,null,{"$f":"EU48-EU49","v":0},null,null,"PRZEWIDYWANY DEFICYT W ODNIESIENIU DO LINII KOMUNIKACYJNEJ",null,null,null,null,null,{"$f":"FD48-FD49","v":0},null,null,"PRZEWIDYWANY DEFICYT W ODNIESIENIU DO LINII KOMUNIKACYJNEJ",null,null,null,null,null,{"$f":"FM48-FM49","v":0},null,null,"PRZEWIDYWANY DEFICYT W ODNIESIENIU DO LINII KOMUNIKACYJNEJ",null,null,null,null,null,{"$f":"FV48-FV49","v":0},null,null,"PRZEWIDYWANY DEFICYT W ODNIESIENIU DO LINII KOMUNIKACYJNEJ",null,null,null,null,null,{"$f":"GE48-GE49","v":0},null,null,"PRZEWIDYWANY DEFICYT W ODNIESIENIU DO LINII KOMUNIKACYJNEJ",null,null,null,null,null,{"$f":"GN48-GN49","v":0},null,null,"PRZEWIDYWANY DEFICYT W ODNIESIENIU DO LINII KOMUNIKACYJNEJ",null,null,null,null,null,{"$f":"GW48-GW49","v":0},null,null,"PRZEWIDYWANY DEFICYT W ODNIESIENIU DO LINII KOMUNIKACYJNEJ",null,null,null,null,null,{"$f":"HF48-HF49","v":0},null,null,"PRZEWIDYWANY DEFICYT W ODNIESIENIU DO LINII KOMUNIKACYJNEJ",null,null,null,null,null,{"$f":"HO48-HO49","v":0},null,null,"PRZEWIDYWANY DEFICYT W ODNIESIENIU DO LINII KOMUNIKACYJNEJ",null,null,null,null,null,{"$f":"HX48-HX49","v":0},null,null,"PRZEWIDYWANY DEFICYT W ODNIESIENIU DO LINII KOMUNIKACYJNEJ",null,null,null,null,null,{"$f":"IG48-IG49","v":0},null,null,"PRZEWIDYWANY DEFICYT W ODNIESIENIU DO LINII KOMUNIKACYJNEJ",null,null,null,null,null,{"$f":"IP48-IP49","v":0},null,null,"PRZEWIDYWANY DEFICYT W ODNIESIENIU DO LINII KOMUNIKACYJNEJ",null,null,null,null,null,{"$f":"IY48-IY49","v":0},null,null,"PRZEWIDYWANY DEFICYT W ODNIESIENIU DO LINII KOMUNIKACYJNEJ",null,null,null,null,null,{"$f":"JH48-JH49","v":0},null,null,"PRZEWIDYWANY DEFICYT W ODNIESIENIU DO LINII KOMUNIKACYJNEJ",null,null,null,null,null,{"$f":"JQ48-JQ49","v":0},null,null,"PRZEWIDYWANY DEFICYT W ODNIESIENIU DO LINII KOMUNIKACYJNEJ",null,null,null,null,null,{"$f":"JZ48-JZ49","v":0},null,null,"PRZEWIDYWANY DEFICYT W ODNIESIENIU DO LINII KOMUNIKACYJNEJ",null,null,null,null,null,{"$f":"KI48-KI49","v":0},null,null,"PRZEWIDYWANY DEFICYT W ODNIESIENIU DO LINII KOMUNIKACYJNEJ",null,null,null,null,null,{"$f":"KR48-KR49","v":0},null,null,"PRZEWIDYWANY DEFICYT W ODNIESIENIU DO LINII KOMUNIKACYJNEJ",null,null,null,null,null,{"$f":"LA48-LA49","v":0}]
["PRZEWIDYWANY DEFICYT W ODNIESIENIU DO LINII KOMUNIKACYJNEJ NA 1 WOZOKILOMETR",null,null,null,null,null,{"$f":"IF(G32=0,0,G50/G32)","v":0},null,null,"PRZEWIDYWANY DEFICYT W ODNIESIENIU DO LINII KOMUNIKACYJNEJ NA 1 WOZOKILOMETR",null,null,null,null,null,{"$f":"IF(P32=0,0,P50/P32)","v":0},null,null,"PRZEWIDYWANY DEFICYT W ODNIESIENIU DO LINII KOMUNIKACYJNEJ NA 1 WOZOKILOMETR",null,null,null,null,null,{"$f":"IF(Y32=0,0,Y50/Y32)","v":0},null,null,"PRZEWIDYWANY DEFICYT W ODNIESIENIU DO LINII KOMUNIKACYJNEJ NA 1 WOZOKILOMETR",null,null,null,null,null,{"$f":"IF(AH32=0,0,AH50/AH32)","v":0},null,null,"PRZEWIDYWANY DEFICYT W ODNIESIENIU DO LINII KOMUNIKACYJNEJ NA 1 WOZOKILOMETR",null,null,null,null,null,{"$f":"IF(AQ32=0,0,AQ50/AQ32)","v":0},null,null,"PRZEWIDYWANY DEFICYT W ODNIESIENIU DO LINII KOMUNIKACYJNEJ NA 1 WOZOKILOMETR",null,null,null,null,null,{"$f":"IF(AZ32=0,0,AZ50/AZ32)","v":0},null,null,"PRZEWIDYWANY DEFICYT W ODNIESIENIU DO LINII KOMUNIKACYJNEJ NA 1 WOZOKILOMETR",null,null,null,null,null,{"$f":"IF(BI32=0,0,BI50/BI32)","v":0},null,null,"PRZEWIDYWANY DEFICYT W ODNIESIENIU DO LINII KOMUNIKACYJNEJ NA 1 WOZOKILOMETR",null,null,null,null,null,{"$f":"IF(BR32=0,0,BR50/BR32)","v":0},null,null,"PRZEWIDYWANY DEFICYT W ODNIESIENIU DO LINII KOMUNIKACYJNEJ NA 1 WOZOKILOMETR",null,null,null,null,null,{"$f":"IF(CA32=0,0,CA50/CA32)","v":0},null,null,"PRZEWIDYWANY DEFICYT W ODNIESIENIU DO LINII KOMUNIKACYJNEJ NA 1 WOZOKILOMETR",null,null,null,null,null,{"$f":"IF(CJ32=0,0,CJ50/CJ32)","v":0},null,null,"PRZEWIDYWANY DEFICYT W ODNIESIENIU DO LINII KOMUNIKACYJNEJ NA 1 WOZOKILOMETR",null,null,null,null,null,{"$f":"IF(CS32=0,0,CS50/CS32)","v":0},null,null,"PRZEWIDYWANY DEFICYT W ODNIESIENIU DO LINII KOMUNIKACYJNEJ NA 1 WOZOKILOMETR",null,null,null,null,null,{"$f":"IF(DB32=0,0,DB50/DB32)","v":0},null,null,"PRZEWIDYWANY DEFICYT W ODNIESIENIU DO LINII KOMUNIKACYJNEJ NA 1 WOZOKILOMETR",null,null,null,null,null,{"$f":"IF(DK32=0,0,DK50/DK32)","v":0},null,null,"PRZEWIDYWANY DEFICYT W ODNIESIENIU DO LINII KOMUNIKACYJNEJ NA 1 WOZOKILOMETR",null,null,null,null,null,{"$f":"IF(DT32=0,0,DT50/DT32)","v":0},null,null,"PRZEWIDYWANY DEFICYT W ODNIESIENIU DO LINII KOMUNIKACYJNEJ NA 1 WOZOKILOMETR",null,null,null,null,null,{"$f":"IF(EC32=0,0,EC50/EC32)","v":0},null,null,"PRZEWIDYWANY DEFICYT W ODNIESIENIU DO LINII KOMUNIKACYJNEJ NA 1 WOZOKILOMETR",null,null,null,null,null,{"$f":"IF(EL32=0,0,EL50/EL32)","v":0},null,null,"PRZEWIDYWANY DEFICYT W ODNIESIENIU DO LINII KOMUNIKACYJNEJ NA 1 WOZOKILOMETR",null,null,null,null,null,{"$f":"IF(EU32=0,0,EU50/EU32)","v":0},null,null,"PRZEWIDYWANY DEFICYT W ODNIESIENIU DO LINII KOMUNIKACYJNEJ NA 1 WOZOKILOMETR",null,null,null,null,null,{"$f":"IF(FD32=0,0,FD50/FD32)","v":0},null,null,"PRZEWIDYWANY DEFICYT W ODNIESIENIU DO LINII KOMUNIKACYJNEJ NA 1 WOZOKILOMETR",null,null,null,null,null,{"$f":"IF(FM32=0,0,FM50/FM32)","v":0},null,null,"PRZEWIDYWANY DEFICYT W ODNIESIENIU DO LINII KOMUNIKACYJNEJ NA 1 WOZOKILOMETR",null,null,null,null,null,{"$f":"IF(FV32=0,0,FV50/FV32)","v":0},null,null,"PRZEWIDYWANY DEFICYT W ODNIESIENIU DO LINII KOMUNIKACYJNEJ NA 1 WOZOKILOMETR",null,null,null,null,null,{"$f":"IF(GE32=0,0,GE50/GE32)","v":0},null,null,"PRZEWIDYWANY DEFICYT W ODNIESIENIU DO LINII KOMUNIKACYJNEJ NA 1 WOZOKILOMETR",null,null,null,null,null,{"$f":"IF(GN32=0,0,GN50/GN32)","v":0},null,null,"PRZEWIDYWANY DEFICYT W ODNIESIENIU DO LINII KOMUNIKACYJNEJ NA 1 WOZOKILOMETR",null,null,null,null,null,{"$f":"IF(GW32=0,0,GW50/GW32)","v":0},null,null,"PRZEWIDYWANY DEFICYT W ODNIESIENIU DO LINII KOMUNIKACYJNEJ NA 1 WOZOKILOMETR",null,null,null,null,null,{"$f":"IF(HF32=0,0,HF50/HF32)","v":0},null,null,"PRZEWIDYWANY DEFICYT W ODNIESIENIU DO LINII KOMUNIKACYJNEJ NA 1 WOZOKILOMETR",null,null,null,null,null,{"$f":"IF(HO32=0,0,HO50/HO32)","v":0},null,null,"PRZEWIDYWANY DEFICYT W ODNIESIENIU DO LINII KOMUNIKACYJNEJ NA 1 WOZOKILOMETR",null,null,null,null,null,{"$f":"IF(HX32=0,0,HX50/HX32)","v":0},null,null,"PRZEWIDYWANY DEFICYT W ODNIESIENIU DO LINII KOMUNIKACYJNEJ NA 1 WOZOKILOMETR",null,null,null,null,null,{"$f":"IF(IG32=0,0,IG50/IG32)","v":0},null,null,"PRZEWIDYWANY DEFICYT W ODNIESIENIU DO LINII KOMUNIKACYJNEJ NA 1 WOZOKILOMETR",null,null,null,null,null,{"$f":"IF(IP32=0,0,IP50/IP32)","v":0},null,null,"PRZEWIDYWANY DEFICYT W ODNIESIENIU DO LINII KOMUNIKACYJNEJ NA 1 WOZOKILOMETR",null,null,null,null,null,{"$f":"IF(IY32=0,0,IY50/IY32)","v":0},null,null,"PRZEWIDYWANY DEFICYT W ODNIESIENIU DO LINII KOMUNIKACYJNEJ NA 1 WOZOKILOMETR",null,null,null,null,null,{"$f":"IF(JH32=0,0,JH50/JH32)","v":0},null,null,"PRZEWIDYWANY DEFICYT W ODNIESIENIU DO LINII KOMUNIKACYJNEJ NA 1 WOZOKILOMETR",null,null,null,null,null,{"$f":"IF(JQ32=0,0,JQ50/JQ32)","v":0},null,null,"PRZEWIDYWANY DEFICYT W ODNIESIENIU DO LINII KOMUNIKACYJNEJ NA 1 WOZOKILOMETR",null,null,null,null,null,{"$f":"IF(JZ32=0,0,JZ50/JZ32)","v":0},null,null,"PRZEWIDYWANY DEFICYT W ODNIESIENIU DO LINII KOMUNIKACYJNEJ NA 1 WOZOKILOMETR",null,null,null,null,null,{"$f":"IF(KI32=0,0,KI50/KI32)","v":0},null,null,"PRZEWIDYWANY DEFICYT W ODNIESIENIU DO LINII KOMUNIKACYJNEJ NA 1 WOZOKILOMETR",null,null,null,null,null,{"$f":"IF(KR32=0,0,KR50/KR32)","v":0},null,null,"PRZEWIDYWANY DEFICYT W ODNIESIENIU DO LINII KOMUNIKACYJNEJ NA 1 WOZOKILOMETR",null,null,null,null,null,{"$f":"IF(LA32=0,0,LA50/LA32)","v":0}]
["PRZEWIDYWANA KWOTA POKRYCIA DEFICYTU ZE ŚRODKÓW WŁASNYCH ORGANIZATORA (MIN. 10% KWOTY DEFICYTU) DO 1 WOZOKILOMETRA PRACY EKSPLOATACYJNEJ",null,null,null,null,null,null,null,null,"PRZEWIDYWANA KWOTA POKRYCIA DEFICYTU ZE ŚRODKÓW WŁASNYCH ORGANIZATORA (MIN. 10% KWOTY DEFICYTU) DO 1 WOZOKILOMETRA PRACY EKSPLOATACYJNEJ",null,null,null,null,null,null,null,null,"PRZEWIDYWANA KWOTA POKRYCIA DEFICYTU ZE ŚRODKÓW WŁASNYCH ORGANIZATORA (MIN. 10% KWOTY DEFICYTU) DO 1 WOZOKILOMETRA PRACY EKSPLOATACYJNEJ",null,null,null,null,null,null,null,null,"PRZEWIDYWANA KWOTA POKRYCIA DEFICYTU ZE ŚRODKÓW WŁASNYCH ORGANIZATORA (MIN. 10% KWOTY DEFICYTU) DO 1 WOZOKILOMETRA PRACY EKSPLOATACYJNEJ",null,null,null,null,null,null,null,null,"PRZEWIDYWANA KWOTA POKRYCIA DEFICYTU ZE ŚRODKÓW WŁASNYCH ORGANIZATORA (MIN. 10% KWOTY DEFICYTU) DO 1 WOZOKILOMETRA PRACY EKSPLOATACYJNEJ",null,null,null,null,null,null,null,null,"PRZEWIDYWANA KWOTA POKRYCIA DEFICYTU ZE ŚRODKÓW WŁASNYCH ORGANIZATORA (MIN. 10% KWOTY DEFICYTU) DO 1 WOZOKILOMETRA PRACY EKSPLOATACYJNEJ",null,null,null,null,null,null,null,null,"PRZEWIDYWANA KWOTA POKRYCIA DEFICYTU ZE ŚRODKÓW WŁASNYCH ORGANIZATORA (MIN. 10% KWOTY DEFICYTU) DO 1 WOZOKILOMETRA PRACY EKSPLOATACYJNEJ",null,null,null,null,null,null,null,null,"PRZEWIDYWANA KWOTA POKRYCIA DEFICYTU ZE ŚRODKÓW WŁASNYCH ORGANIZATORA (MIN. 10% KWOTY DEFICYTU) DO 1 WOZOKILOMETRA PRACY EKSPLOATACYJNEJ",null,null,null,null,null,null,null,null,"PRZEWIDYWANA KWOTA POKRYCIA DEFICYTU ZE ŚRODKÓW WŁASNYCH ORGANIZATORA (MIN. 10% KWOTY DEFICYTU) DO 1 WOZOKILOMETRA PRACY EKSPLOATACYJNEJ",null,null,null,null,null,null,null,null,"PRZEWIDYWANA KWOTA POKRYCIA DEFICYTU ZE ŚRODKÓW WŁASNYCH ORGANIZATORA (MIN. 10% KWOTY DEFICYTU) DO 1 WOZOKILOMETRA PRACY EKSPLOATACYJNEJ",null,null,null,null,null,null,null,null,"PRZEWIDYWANA KWOTA POKRYCIA DEFICYTU ZE ŚRODKÓW WŁASNYCH ORGANIZATORA (MIN. 10% KWOTY DEFICYTU) DO 1 WOZOKILOMETRA PRACY EKSPLOATACYJNEJ",null,null,null,null,null,null,null,null,"PRZEWIDYWANA KWOTA POKRYCIA DEFICYTU ZE ŚRODKÓW WŁASNYCH ORGANIZATORA (MIN. 10% KWOTY DEFICYTU) DO 1 WOZOKILOMETRA PRACY EKSPLOATACYJNEJ",null,null,null,null,null,null,null,null,"PRZEWIDYWANA KWOTA POKRYCIA DEFICYTU ZE ŚRODKÓW WŁASNYCH ORGANIZATORA (MIN. 10% KWOTY DEFICYTU) DO 1 WOZOKILOMETRA PRACY EKSPLOATACYJNEJ",null,null,null,null,null,null,null,null,"PRZEWIDYWANA KWOTA POKRYCIA DEFICYTU ZE ŚRODKÓW WŁASNYCH ORGANIZATORA (MIN. 10% KWOTY DEFICYTU) DO 1 WOZOKILOMETRA PRACY EKSPLOATACYJNEJ",null,null,null,null,null,null,null,null,"PRZEWIDYWANA KWOTA POKRYCIA DEFICYTU ZE ŚRODKÓW WŁASNYCH ORGANIZATORA (MIN. 10% KWOTY DEFICYTU) DO 1 WOZOKILOMETRA PRACY EKSPLOATACYJNEJ",null,null,null,null,null,null,null,null,"PRZEWIDYWANA KWOTA POKRYCIA DEFICYTU ZE ŚRODKÓW WŁASNYCH ORGANIZATORA (MIN. 10% KWOTY DEFICYTU) DO 1 WOZOKILOMETRA PRACY EKSPLOATACYJNEJ",null,null,null,null,null,null,null,null,"PRZEWIDYWANA KWOTA POKRYCIA DEFICYTU ZE ŚRODKÓW WŁASNYCH ORGANIZATORA (MIN. 10% KWOTY DEFICYTU) DO 1 WOZOKILOMETRA PRACY EKSPLOATACYJNEJ",null,null,null,null,null,null,null,null,"PRZEWIDYWANA KWOTA POKRYCIA DEFICYTU ZE ŚRODKÓW WŁASNYCH ORGANIZATORA (MIN. 10% KWOTY DEFICYTU) DO 1 WOZOKILOMETRA PRACY EKSPLOATACYJNEJ",null,null,null,null,null,null,null,null,"PRZEWIDYWANA KWOTA POKRYCIA DEFICYTU ZE ŚRODKÓW WŁASNYCH ORGANIZATORA (MIN. 10% KWOTY DEFICYTU) DO 1 WOZOKILOMETRA PRACY EKSPLOATACYJNEJ",null,null,null,null,null,null,null,null,"PRZEWIDYWANA KWOTA POKRYCIA DEFICYTU ZE ŚRODKÓW WŁASNYCH ORGANIZATORA (MIN. 10% KWOTY DEFICYTU) DO 1 WOZOKILOMETRA PRACY EKSPLOATACYJNEJ",null,null,null,null,null,null,null,null,"PRZEWIDYWANA KWOTA POKRYCIA DEFICYTU ZE ŚRODKÓW WŁASNYCH ORGANIZATORA (MIN. 10% KWOTY DEFICYTU) DO 1 WOZOKILOMETRA PRACY EKSPLOATACYJNEJ",null,null,null,null,null,null,null,null,"PRZEWIDYWANA KWOTA POKRYCIA DEFICYTU ZE ŚRODKÓW WŁASNYCH ORGANIZATORA (MIN. 10% KWOTY DEFICYTU) DO 1 WOZOKILOMETRA PRACY EKSPLOATACYJNEJ",null,null,null,null,null,null,null,null,"PRZEWIDYWANA KWOTA POKRYCIA DEFICYTU ZE ŚRODKÓW WŁASNYCH ORGANIZATORA (MIN. 10% KWOTY DEFICYTU) DO 1 WOZOKILOMETRA PRACY EKSPLOATACYJNEJ",null,null,null,null,null,null,null,null,"PRZEWIDYWANA KWOTA POKRYCIA DEFICYTU ZE ŚRODKÓW WŁASNYCH ORGANIZATORA (MIN. 10% KWOTY DEFICYTU) DO 1 WOZOKILOMETRA PRACY EKSPLOATACYJNEJ",null,null,null,null,null,null,null,null,"PRZEWIDYWANA KWOTA POKRYCIA DEFICYTU ZE ŚRODKÓW WŁASNYCH ORGANIZATORA (MIN. 10% KWOTY DEFICYTU) DO 1 WOZOKILOMETRA PRACY EKSPLOATACYJNEJ",null,null,null,null,null,null,null,null,"PRZEWIDYWANA KWOTA POKRYCIA DEFICYTU ZE ŚRODKÓW WŁASNYCH ORGANIZATORA (MIN. 10% KWOTY DEFICYTU) DO 1 WOZOKILOMETRA PRACY EKSPLOATACYJNEJ",null,null,null,null,null,null,null,null,"PRZEWIDYWANA KWOTA POKRYCIA DEFICYTU ZE ŚRODKÓW WŁASNYCH ORGANIZATORA (MIN. 10% KWOTY DEFICYTU) DO 1 WOZOKILOMETRA PRACY EKSPLOATACYJNEJ",null,null,null,null,null,null,null,null,"PRZEWIDYWANA KWOTA POKRYCIA DEFICYTU ZE ŚRODKÓW WŁASNYCH ORGANIZATORA (MIN. 10% KWOTY DEFICYTU) DO 1 WOZOKILOMETRA PRACY EKSPLOATACYJNEJ",null,null,null,null,null,null,null,null,"PRZEWIDYWANA KWOTA POKRYCIA DEFICYTU ZE ŚRODKÓW WŁASNYCH ORGANIZATORA (MIN. 10% KWOTY DEFICYTU) DO 1 WOZOKILOMETRA PRACY EKSPLOATACYJNEJ",null,null,null,null,null,null,null,null,"PRZEWIDYWANA KWOTA POKRYCIA DEFICYTU ZE ŚRODKÓW WŁASNYCH ORGANIZATORA (MIN. 10% KWOTY DEFICYTU) DO 1 WOZOKILOMETRA PRACY EKSPLOATACYJNEJ",null,null,null,null,null,null,null,null,"PRZEWIDYWANA KWOTA POKRYCIA DEFICYTU ZE ŚRODKÓW WŁASNYCH ORGANIZATORA (MIN. 10% KWOTY DEFICYTU) DO 1 WOZOKILOMETRA PRACY EKSPLOATACYJNEJ",null,null,null,null,null,null,null,null,"PRZEWIDYWANA KWOTA POKRYCIA DEFICYTU ZE ŚRODKÓW WŁASNYCH ORGANIZATORA (MIN. 10% KWOTY DEFICYTU) DO 1 WOZOKILOMETRA PRACY EKSPLOATACYJNEJ",null,null,null,null,null,null,null,null,"PRZEWIDYWANA KWOTA POKRYCIA DEFICYTU ZE ŚRODKÓW WŁASNYCH ORGANIZATORA (MIN. 10% KWOTY DEFICYTU) DO 1 WOZOKILOMETRA PRACY EKSPLOATACYJNEJ",null,null,null,null,null,null,null,null,"PRZEWIDYWANA KWOTA POKRYCIA DEFICYTU ZE ŚRODKÓW WŁASNYCH ORGANIZATORA (MIN. 10% KWOTY DEFICYTU) DO 1 WOZOKILOMETRA PRACY EKSPLOATACYJNEJ",null,null,null,null,null,null,null,null,"PRZEWIDYWANA KWOTA POKRYCIA DEFICYTU ZE ŚRODKÓW WŁASNYCH ORGANIZATORA (MIN. 10% KWOTY DEFICYTU) DO 1 WOZOKILOMETRA PRACY EKSPLOATACYJNEJ"]
["PRZEWIDYWANA KWOTA DOPŁATY ZE ŚRODKÓW FUNDUSZU DO 1 WOZOKILOMETRA PRACY EKSPLOATACYJNEJ",null,null,null,null,null,null,null,null,"PRZEWIDYWANA KWOTA DOPŁATY ZE ŚRODKÓW FUNDUSZU DO 1 WOZOKILOMETRA PRACY EKSPLOATACYJNEJ",null,null,null,null,null,null,null,null,"PRZEWIDYWANA KWOTA DOPŁATY ZE ŚRODKÓW FUNDUSZU DO 1 WOZOKILOMETRA PRACY EKSPLOATACYJNEJ",null,null,null,null,null,null,null,null,"PRZEWIDYWANA KWOTA DOPŁATY ZE ŚRODKÓW FUNDUSZU DO 1 WOZOKILOMETRA PRACY EKSPLOATACYJNEJ",null,null,null,null,null,null,null,null,"PRZEWIDYWANA KWOTA DOPŁATY ZE ŚRODKÓW FUNDUSZU DO 1 WOZOKILOMETRA PRACY EKSPLOATACYJNEJ",null,null,null,null,null,null,null,null,"PRZEWIDYWANA KWOTA DOPŁATY ZE ŚRODKÓW FUNDUSZU DO 1 WOZOKILOMETRA PRACY EKSPLOATACYJNEJ",null,null,null,null,null,null,null,null,"PRZEWIDYWANA KWOTA DOPŁATY ZE ŚRODKÓW FUNDUSZU DO 1 WOZOKILOMETRA PRACY EKSPLOATACYJNEJ",null,null,null,null,null,null,null,null,"PRZEWIDYWANA KWOTA DOPŁATY ZE ŚRODKÓW FUNDUSZU DO 1 WOZOKILOMETRA PRACY EKSPLOATACYJNEJ",null,null,null,null,null,null,null,null,"PRZEWIDYWANA KWOTA DOPŁATY ZE ŚRODKÓW FUNDUSZU DO 1 WOZOKILOMETRA PRACY EKSPLOATACYJNEJ",null,null,null,null,null,null,null,null,"PRZEWIDYWANA KWOTA DOPŁATY ZE ŚRODKÓW FUNDUSZU DO 1 WOZOKILOMETRA PRACY EKSPLOATACYJNEJ",null,null,null,null,null,null,null,null,"PRZEWIDYWANA KWOTA DOPŁATY ZE ŚRODKÓW FUNDUSZU DO 1 WOZOKILOMETRA PRACY EKSPLOATACYJNEJ",null,null,null,null,null,null,null,null,"PRZEWIDYWANA KWOTA DOPŁATY ZE ŚRODKÓW FUNDUSZU DO 1 WOZOKILOMETRA PRACY EKSPLOATACYJNEJ",null,null,null,null,null,null,null,null,"PRZEWIDYWANA KWOTA DOPŁATY ZE ŚRODKÓW FUNDUSZU DO 1 WOZOKILOMETRA PRACY EKSPLOATACYJNEJ",null,null,null,null,null,null,null,null,"PRZEWIDYWANA KWOTA DOPŁATY ZE ŚRODKÓW FUNDUSZU DO 1 WOZOKILOMETRA PRACY EKSPLOATACYJNEJ",null,null,null,null,null,null,null,null,"PRZEWIDYWANA KWOTA DOPŁATY ZE ŚRODKÓW FUNDUSZU DO 1 WOZOKILOMETRA PRACY EKSPLOATACYJNEJ",null,null,null,null,null,null,null,null,"PRZEWIDYWANA KWOTA DOPŁATY ZE ŚRODKÓW FUNDUSZU DO 1 WOZOKILOMETRA PRACY EKSPLOATACYJNEJ",null,null,null,null,null,null,null,null,"PRZEWIDYWANA KWOTA DOPŁATY ZE ŚRODKÓW FUNDUSZU DO 1 WOZOKILOMETRA PRACY EKSPLOATACYJNEJ",null,null,null,null,null,null,null,null,"PRZEWIDYWANA KWOTA DOPŁATY ZE ŚRODKÓW FUNDUSZU DO 1 WOZOKILOMETRA PRACY EKSPLOATACYJNEJ",null,null,null,null,null,null,null,null,"PRZEWIDYWANA KWOTA DOPŁATY ZE ŚRODKÓW FUNDUSZU DO 1 WOZOKILOMETRA PRACY EKSPLOATACYJNEJ",null,null,null,null,null,null,null,null,"PRZEWIDYWANA KWOTA DOPŁATY ZE ŚRODKÓW FUNDUSZU DO 1 WOZOKILOMETRA PRACY EKSPLOATACYJNEJ",null,null,null,null,null,null,null,null,"PRZEWIDYWANA KWOTA DOPŁATY ZE ŚRODKÓW FUNDUSZU DO 1 WOZOKILOMETRA PRACY EKSPLOATACYJNEJ",null,null,null,null,null,null,null,null,"PRZEWIDYWANA KWOTA DOPŁATY ZE ŚRODKÓW FUNDUSZU DO 1 WOZOKILOMETRA PRACY EKSPLOATACYJNEJ",null,null,null,null,null,null,null,null,"PRZEWIDYWANA KWOTA DOPŁATY ZE ŚRODKÓW FUNDUSZU DO 1 WOZOKILOMETRA PRACY EKSPLOATACYJNEJ",null,null,null,null,null,null,null,null,"PRZEWIDYWANA KWOTA DOPŁATY ZE ŚRODKÓW FUNDUSZU DO 1 WOZOKILOMETRA PRACY EKSPLOATACYJNEJ",null,null,null,null,null,null,null,null,"PRZEWIDYWANA KWOTA DOPŁATY ZE ŚRODKÓW FUNDUSZU DO 1 WOZOKILOMETRA PRACY EKSPLOATACYJNEJ",null,null,null,null,null,null,null,null,"PRZEWIDYWANA KWOTA DOPŁATY ZE ŚRODKÓW FUNDUSZU DO 1 WOZOKILOMETRA PRACY EKSPLOATACYJNEJ",null,null,null,null,null,null,null,null,"PRZEWIDYWANA KWOTA DOPŁATY ZE ŚRODKÓW FUNDUSZU DO 1 WOZOKILOMETRA PRACY EKSPLOATACYJNEJ",null,null,null,null,null,null,null,null,"PRZEWIDYWANA KWOTA DOPŁATY ZE ŚRODKÓW FUNDUSZU DO 1 WOZOKILOMETRA PRACY EKSPLOATACYJNEJ",null,null,null,null,null,null,null,null,"PRZEWIDYWANA KWOTA DOPŁATY ZE ŚRODKÓW FUNDUSZU DO 1 WOZOKILOMETRA PRACY EKSPLOATACYJNEJ",null,null,null,null,null,null,null,null,"PRZEWIDYWANA KWOTA DOPŁATY ZE ŚRODKÓW FUNDUSZU DO 1 WOZOKILOMETRA PRACY EKSPLOATACYJNEJ",null,null,null,null,null,null,null,null,"PRZEWIDYWANA KWOTA DOPŁATY ZE ŚRODKÓW FUNDUSZU DO 1 WOZOKILOMETRA PRACY EKSPLOATACYJNEJ",null,null,null,null,null,null,null,null,"PRZEWIDYWANA KWOTA DOPŁATY ZE ŚRODKÓW FUNDUSZU DO 1 WOZOKILOMETRA PRACY EKSPLOATACYJNEJ",null,null,null,null,null,null,null,null,"PRZEWIDYWANA KWOTA DOPŁATY ZE ŚRODKÓW FUNDUSZU DO 1 WOZOKILOMETRA PRACY EKSPLOATACYJNEJ",null,null,null,null,null,null,null,null,"PRZEWIDYWANA KWOTA DOPŁATY ZE ŚRODKÓW FUNDUSZU DO 1 WOZOKILOMETRA PRACY EKSPLOATACYJNEJ",null,null,null,null,null,null,null,null,"PRZEWIDYWANA KWOTA DOPŁATY ZE ŚRODKÓW FUNDUSZU DO 1 WOZOKILOMETRA PRACY EKSPLOATACYJNEJ"]
["CAŁKOWITA PRZEWIDYWANA KWOTA POKRYCIA DEFICYTU ZE ŚRODKÓW WŁASNYCH ORGANIZATORA (ILOCZYN DOPŁATY DO 1 WOZOKILOMETRA I PRACY EKSPLOATACYJNEJ)",null,null,null,null,null,{"$f":"G52*G32","v":0},null,null,"CAŁKOWITA PRZEWIDYWANA KWOTA POKRYCIA DEFICYTU ZE ŚRODKÓW WŁASNYCH ORGANIZATORA (ILOCZYN DOPŁATY DO 1 WOZOKILOMETRA I PRACY EKSPLOATACYJNEJ)",null,null,null,null,null,{"$f":"P52*P32","v":0},null,null,"CAŁKOWITA PRZEWIDYWANA KWOTA POKRYCIA DEFICYTU ZE ŚRODKÓW WŁASNYCH ORGANIZATORA (ILOCZYN DOPŁATY DO 1 WOZOKILOMETRA I PRACY EKSPLOATACYJNEJ)",null,null,null,null,null,{"$f":"Y52*Y32","v":0},null,null,"CAŁKOWITA PRZEWIDYWANA KWOTA POKRYCIA DEFICYTU ZE ŚRODKÓW WŁASNYCH ORGANIZATORA (ILOCZYN DOPŁATY DO 1 WOZOKILOMETRA I PRACY EKSPLOATACYJNEJ)",null,null,null,null,null,{"$f":"AH52*AH32","v":0},null,null,"CAŁKOWITA PRZEWIDYWANA KWOTA POKRYCIA DEFICYTU ZE ŚRODKÓW WŁASNYCH ORGANIZATORA (ILOCZYN DOPŁATY DO 1 WOZOKILOMETRA I PRACY EKSPLOATACYJNEJ)",null,null,null,null,null,{"$f":"AQ52*AQ32","v":0},null,null,"CAŁKOWITA PRZEWIDYWANA KWOTA POKRYCIA DEFICYTU ZE ŚRODKÓW WŁASNYCH ORGANIZATORA (ILOCZYN DOPŁATY DO 1 WOZOKILOMETRA I PRACY EKSPLOATACYJNEJ)",null,null,null,null,null,{"$f":"AZ52*AZ32","v":0},null,null,"CAŁKOWITA PRZEWIDYWANA KWOTA POKRYCIA DEFICYTU ZE ŚRODKÓW WŁASNYCH ORGANIZATORA (ILOCZYN DOPŁATY DO 1 WOZOKILOMETRA I PRACY EKSPLOATACYJNEJ)",null,null,null,null,null,{"$f":"BI52*BI32","v":0},null,null,"CAŁKOWITA PRZEWIDYWANA KWOTA POKRYCIA DEFICYTU ZE ŚRODKÓW WŁASNYCH ORGANIZATORA (ILOCZYN DOPŁATY DO 1 WOZOKILOMETRA I PRACY EKSPLOATACYJNEJ)",null,null,null,null,null,{"$f":"BR52*BR32","v":0},null,null,"CAŁKOWITA PRZEWIDYWANA KWOTA POKRYCIA DEFICYTU ZE ŚRODKÓW WŁASNYCH ORGANIZATORA (ILOCZYN DOPŁATY DO 1 WOZOKILOMETRA I PRACY EKSPLOATACYJNEJ)",null,null,null,null,null,{"$f":"CA52*CA32","v":0},null,null,"CAŁKOWITA PRZEWIDYWANA KWOTA POKRYCIA DEFICYTU ZE ŚRODKÓW WŁASNYCH ORGANIZATORA (ILOCZYN DOPŁATY DO 1 WOZOKILOMETRA I PRACY EKSPLOATACYJNEJ)",null,null,null,null,null,{"$f":"CJ52*CJ32","v":0},null,null,"CAŁKOWITA PRZEWIDYWANA KWOTA POKRYCIA DEFICYTU ZE ŚRODKÓW WŁASNYCH ORGANIZATORA (ILOCZYN DOPŁATY DO 1 WOZOKILOMETRA I PRACY EKSPLOATACYJNEJ)",null,null,null,null,null,{"$f":"CS52*CS32","v":0},null,null,"CAŁKOWITA PRZEWIDYWANA KWOTA POKRYCIA DEFICYTU ZE ŚRODKÓW WŁASNYCH ORGANIZATORA (ILOCZYN DOPŁATY DO 1 WOZOKILOMETRA I PRACY EKSPLOATACYJNEJ)",null,null,null,null,null,{"$f":"DB52*DB32","v":0},null,null,"CAŁKOWITA PRZEWIDYWANA KWOTA POKRYCIA DEFICYTU ZE ŚRODKÓW WŁASNYCH ORGANIZATORA (ILOCZYN DOPŁATY DO 1 WOZOKILOMETRA I PRACY EKSPLOATACYJNEJ)",null,null,null,null,null,{"$f":"DK52*DK32","v":0},null,null,"CAŁKOWITA PRZEWIDYWANA KWOTA POKRYCIA DEFICYTU ZE ŚRODKÓW WŁASNYCH ORGANIZATORA (ILOCZYN DOPŁATY DO 1 WOZOKILOMETRA I PRACY EKSPLOATACYJNEJ)",null,null,null,null,null,{"$f":"DT52*DT32","v":0},null,null,"CAŁKOWITA PRZEWIDYWANA KWOTA POKRYCIA DEFICYTU ZE ŚRODKÓW WŁASNYCH ORGANIZATORA (ILOCZYN DOPŁATY DO 1 WOZOKILOMETRA I PRACY EKSPLOATACYJNEJ)",null,null,null,null,null,{"$f":"EC52*EC32","v":0},null,null,"CAŁKOWITA PRZEWIDYWANA KWOTA POKRYCIA DEFICYTU ZE ŚRODKÓW WŁASNYCH ORGANIZATORA (ILOCZYN DOPŁATY DO 1 WOZOKILOMETRA I PRACY EKSPLOATACYJNEJ)",null,null,null,null,null,{"$f":"EL52*EL32","v":0},null,null,"CAŁKOWITA PRZEWIDYWANA KWOTA POKRYCIA DEFICYTU ZE ŚRODKÓW WŁASNYCH ORGANIZATORA (ILOCZYN DOPŁATY DO 1 WOZOKILOMETRA I PRACY EKSPLOATACYJNEJ)",null,null,null,null,null,{"$f":"EU52*EU32","v":0},null,null,"CAŁKOWITA PRZEWIDYWANA KWOTA POKRYCIA DEFICYTU ZE ŚRODKÓW WŁASNYCH ORGANIZATORA (ILOCZYN DOPŁATY DO 1 WOZOKILOMETRA I PRACY EKSPLOATACYJNEJ)",null,null,null,null,null,{"$f":"FD52*FD32","v":0},null,null,"CAŁKOWITA PRZEWIDYWANA KWOTA POKRYCIA DEFICYTU ZE ŚRODKÓW WŁASNYCH ORGANIZATORA (ILOCZYN DOPŁATY DO 1 WOZOKILOMETRA I PRACY EKSPLOATACYJNEJ)",null,null,null,null,null,{"$f":"FM52*FM32","v":0},null,null,"CAŁKOWITA PRZEWIDYWANA KWOTA POKRYCIA DEFICYTU ZE ŚRODKÓW WŁASNYCH ORGANIZATORA (ILOCZYN DOPŁATY DO 1 WOZOKILOMETRA I PRACY EKSPLOATACYJNEJ)",null,null,null,null,null,{"$f":"FV52*FV32","v":0},null,null,"CAŁKOWITA PRZEWIDYWANA KWOTA POKRYCIA DEFICYTU ZE ŚRODKÓW WŁASNYCH ORGANIZATORA (ILOCZYN DOPŁATY DO 1 WOZOKILOMETRA I PRACY EKSPLOATACYJNEJ)",null,null,null,null,null,{"$f":"GE52*GE32","v":0},null,null,"CAŁKOWITA PRZEWIDYWANA KWOTA POKRYCIA DEFICYTU ZE ŚRODKÓW WŁASNYCH ORGANIZATORA (ILOCZYN DOPŁATY DO 1 WOZOKILOMETRA I PRACY EKSPLOATACYJNEJ)",null,null,null,null,null,{"$f":"GN52*GN32","v":0},null,null,"CAŁKOWITA PRZEWIDYWANA KWOTA POKRYCIA DEFICYTU ZE ŚRODKÓW WŁASNYCH ORGANIZATORA (ILOCZYN DOPŁATY DO 1 WOZOKILOMETRA I PRACY EKSPLOATACYJNEJ)",null,null,null,null,null,{"$f":"GW52*GW32","v":0},null,null,"CAŁKOWITA PRZEWIDYWANA KWOTA POKRYCIA DEFICYTU ZE ŚRODKÓW WŁASNYCH ORGANIZATORA (ILOCZYN DOPŁATY DO 1 WOZOKILOMETRA I PRACY EKSPLOATACYJNEJ)",null,null,null,null,null,{"$f":"HF52*HF32","v":0},null,null,"CAŁKOWITA PRZEWIDYWANA KWOTA POKRYCIA DEFICYTU ZE ŚRODKÓW WŁASNYCH ORGANIZATORA (ILOCZYN DOPŁATY DO 1 WOZOKILOMETRA I PRACY EKSPLOATACYJNEJ)",null,null,null,null,null,{"$f":"HO52*HO32","v":0},null,null,"CAŁKOWITA PRZEWIDYWANA KWOTA POKRYCIA DEFICYTU ZE ŚRODKÓW WŁASNYCH ORGANIZATORA (ILOCZYN DOPŁATY DO 1 WOZOKILOMETRA I PRACY EKSPLOATACYJNEJ)",null,null,null,null,null,{"$f":"HX52*HX32","v":0},null,null,"CAŁKOWITA PRZEWIDYWANA KWOTA POKRYCIA DEFICYTU ZE ŚRODKÓW WŁASNYCH ORGANIZATORA (ILOCZYN DOPŁATY DO 1 WOZOKILOMETRA I PRACY EKSPLOATACYJNEJ)",null,null,null,null,null,{"$f":"IG52*IG32","v":0},null,null,"CAŁKOWITA PRZEWIDYWANA KWOTA POKRYCIA DEFICYTU ZE ŚRODKÓW WŁASNYCH ORGANIZATORA (ILOCZYN DOPŁATY DO 1 WOZOKILOMETRA I PRACY EKSPLOATACYJNEJ)",null,null,null,null,null,{"$f":"IP52*IP32","v":0},null,null,"CAŁKOWITA PRZEWIDYWANA KWOTA POKRYCIA DEFICYTU ZE ŚRODKÓW WŁASNYCH ORGANIZATORA (ILOCZYN DOPŁATY DO 1 WOZOKILOMETRA I PRACY EKSPLOATACYJNEJ)",null,null,null,null,null,{"$f":"IY52*IY32","v":0},null,null,"CAŁKOWITA PRZEWIDYWANA KWOTA POKRYCIA DEFICYTU ZE ŚRODKÓW WŁASNYCH ORGANIZATORA (ILOCZYN DOPŁATY DO 1 WOZOKILOMETRA I PRACY EKSPLOATACYJNEJ)",null,null,null,null,null,{"$f":"JH52*JH32","v":0},null,null,"CAŁKOWITA PRZEWIDYWANA KWOTA POKRYCIA DEFICYTU ZE ŚRODKÓW WŁASNYCH ORGANIZATORA (ILOCZYN DOPŁATY DO 1 WOZOKILOMETRA I PRACY EKSPLOATACYJNEJ)",null,null,null,null,null,{"$f":"JQ52*JQ32","v":0},null,null,"CAŁKOWITA PRZEWIDYWANA KWOTA POKRYCIA DEFICYTU ZE ŚRODKÓW WŁASNYCH ORGANIZATORA (ILOCZYN DOPŁATY DO 1 WOZOKILOMETRA I PRACY EKSPLOATACYJNEJ)",null,null,null,null,null,{"$f":"JZ52*JZ32","v":0},null,null,"CAŁKOWITA PRZEWIDYWANA KWOTA POKRYCIA DEFICYTU ZE ŚRODKÓW WŁASNYCH ORGANIZATORA (ILOCZYN DOPŁATY DO 1 WOZOKILOMETRA I PRACY EKSPLOATACYJNEJ)",null,null,null,null,null,{"$f":"KI52*KI32","v":0},null,null,"CAŁKOWITA PRZEWIDYWANA KWOTA POKRYCIA DEFICYTU ZE ŚRODKÓW WŁASNYCH ORGANIZATORA (ILOCZYN DOPŁATY DO 1 WOZOKILOMETRA I PRACY EKSPLOATACYJNEJ)",null,null,null,null,null,{"$f":"KR52*KR32","v":0},null,null,"CAŁKOWITA PRZEWIDYWANA KWOTA POKRYCIA DEFICYTU ZE ŚRODKÓW WŁASNYCH ORGANIZATORA (ILOCZYN DOPŁATY DO 1 WOZOKILOMETRA I PRACY EKSPLOATACYJNEJ)",null,null,null,null,null,{"$f":"LA52*LA32","v":0}]
["CAŁKOWITA PRZEWIDYWANA KWOTA DOPŁATY ZE ŚRODKÓW FUNDUSZU (ILOCZYN DOPŁATY DO 1 WOZOKILOMETRA I PRACY EKSPLOATACYJNEJ)",null,null,null,null,null,{"$f":"G53*G32","v":0},null,null,"CAŁKOWITA PRZEWIDYWANA KWOTA DOPŁATY ZE ŚRODKÓW FUNDUSZU (ILOCZYN DOPŁATY DO 1 WOZOKILOMETRA I PRACY EKSPLOATACYJNEJ)",null,null,null,null,null,{"$f":"P53*P32","v":0},null,null,"CAŁKOWITA PRZEWIDYWANA KWOTA DOPŁATY ZE ŚRODKÓW FUNDUSZU (ILOCZYN DOPŁATY DO 1 WOZOKILOMETRA I PRACY EKSPLOATACYJNEJ)",null,null,null,null,null,{"$f":"Y53*Y32","v":0},null,null,"CAŁKOWITA PRZEWIDYWANA KWOTA DOPŁATY ZE ŚRODKÓW FUNDUSZU (ILOCZYN DOPŁATY DO 1 WOZOKILOMETRA I PRACY EKSPLOATACYJNEJ)",null,null,null,null,null,{"$f":"AH53*AH32","v":0},null,null,"CAŁKOWITA PRZEWIDYWANA KWOTA DOPŁATY ZE ŚRODKÓW FUNDUSZU (ILOCZYN DOPŁATY DO 1 WOZOKILOMETRA I PRACY EKSPLOATACYJNEJ)",null,null,null,null,null,{"$f":"AQ53*AQ32","v":0},null,null,"CAŁKOWITA PRZEWIDYWANA KWOTA DOPŁATY ZE ŚRODKÓW FUNDUSZU (ILOCZYN DOPŁATY DO 1 WOZOKILOMETRA I PRACY EKSPLOATACYJNEJ)",null,null,null,null,null,{"$f":"AZ53*AZ32","v":0},null,null,"CAŁKOWITA PRZEWIDYWANA KWOTA DOPŁATY ZE ŚRODKÓW FUNDUSZU (ILOCZYN DOPŁATY DO 1 WOZOKILOMETRA I PRACY EKSPLOATACYJNEJ)",null,null,null,null,null,{"$f":"BI53*BI32","v":0},null,null,"CAŁKOWITA PRZEWIDYWANA KWOTA DOPŁATY ZE ŚRODKÓW FUNDUSZU (ILOCZYN DOPŁATY DO 1 WOZOKILOMETRA I PRACY EKSPLOATACYJNEJ)",null,null,null,null,null,{"$f":"BR53*BR32","v":0},null,null,"CAŁKOWITA PRZEWIDYWANA KWOTA DOPŁATY ZE ŚRODKÓW FUNDUSZU (ILOCZYN DOPŁATY DO 1 WOZOKILOMETRA I PRACY EKSPLOATACYJNEJ)",null,null,null,null,null,{"$f":"CA53*CA32","v":0},null,null,"CAŁKOWITA PRZEWIDYWANA KWOTA DOPŁATY ZE ŚRODKÓW FUNDUSZU (ILOCZYN DOPŁATY DO 1 WOZOKILOMETRA I PRACY EKSPLOATACYJNEJ)",null,null,null,null,null,{"$f":"CJ53*CJ32","v":0},null,null,"CAŁKOWITA PRZEWIDYWANA KWOTA DOPŁATY ZE ŚRODKÓW FUNDUSZU (ILOCZYN DOPŁATY DO 1 WOZOKILOMETRA I PRACY EKSPLOATACYJNEJ)",null,null,null,null,null,{"$f":"CS53*CS32","v":0},null,null,"CAŁKOWITA PRZEWIDYWANA KWOTA DOPŁATY ZE ŚRODKÓW FUNDUSZU (ILOCZYN DOPŁATY DO 1 WOZOKILOMETRA I PRACY EKSPLOATACYJNEJ)",null,null,null,null,null,{"$f":"DB53*DB32","v":0},null,null,"CAŁKOWITA PRZEWIDYWANA KWOTA DOPŁATY ZE ŚRODKÓW FUNDUSZU (ILOCZYN DOPŁATY DO 1 WOZOKILOMETRA I PRACY EKSPLOATACYJNEJ)",null,null,null,null,null,{"$f":"DK53*DK32","v":0},null,null,"CAŁKOWITA PRZEWIDYWANA KWOTA DOPŁATY ZE ŚRODKÓW FUNDUSZU (ILOCZYN DOPŁATY DO 1 WOZOKILOMETRA I PRACY EKSPLOATACYJNEJ)",null,null,null,null,null,{"$f":"DT53*DT32","v":0},null,null,"CAŁKOWITA PRZEWIDYWANA KWOTA DOPŁATY ZE ŚRODKÓW FUNDUSZU (ILOCZYN DOPŁATY DO 1 WOZOKILOMETRA I PRACY EKSPLOATACYJNEJ)",null,null,null,null,null,{"$f":"EC53*EC32","v":0},null,null,"CAŁKOWITA PRZEWIDYWANA KWOTA DOPŁATY ZE ŚRODKÓW FUNDUSZU (ILOCZYN DOPŁATY DO 1 WOZOKILOMETRA I PRACY EKSPLOATACYJNEJ)",null,null,null,null,null,{"$f":"EL53*EL32","v":0},null,null,"CAŁKOWITA PRZEWIDYWANA KWOTA DOPŁATY ZE ŚRODKÓW FUNDUSZU (ILOCZYN DOPŁATY DO 1 WOZOKILOMETRA I PRACY EKSPLOATACYJNEJ)",null,null,null,null,null,{"$f":"EU53*EU32","v":0},null,null,"CAŁKOWITA PRZEWIDYWANA KWOTA DOPŁATY ZE ŚRODKÓW FUNDUSZU (ILOCZYN DOPŁATY DO 1 WOZOKILOMETRA I PRACY EKSPLOATACYJNEJ)",null,null,null,null,null,{"$f":"FD53*FD32","v":0},null,null,"CAŁKOWITA PRZEWIDYWANA KWOTA DOPŁATY ZE ŚRODKÓW FUNDUSZU (ILOCZYN DOPŁATY DO 1 WOZOKILOMETRA I PRACY EKSPLOATACYJNEJ)",null,null,null,null,null,{"$f":"FM53*FM32","v":0},null,null,"CAŁKOWITA PRZEWIDYWANA KWOTA DOPŁATY ZE ŚRODKÓW FUNDUSZU (ILOCZYN DOPŁATY DO 1 WOZOKILOMETRA I PRACY EKSPLOATACYJNEJ)",null,null,null,null,null,{"$f":"FV53*FV32","v":0},null,null,"CAŁKOWITA PRZEWIDYWANA KWOTA DOPŁATY ZE ŚRODKÓW FUNDUSZU (ILOCZYN DOPŁATY DO 1 WOZOKILOMETRA I PRACY EKSPLOATACYJNEJ)",null,null,null,null,null,{"$f":"GE53*GE32","v":0},null,null,"CAŁKOWITA PRZEWIDYWANA KWOTA DOPŁATY ZE ŚRODKÓW FUNDUSZU (ILOCZYN DOPŁATY DO 1 WOZOKILOMETRA I PRACY EKSPLOATACYJNEJ)",null,null,null,null,null,{"$f":"GN53*GN32","v":0},null,null,"CAŁKOWITA PRZEWIDYWANA KWOTA DOPŁATY ZE ŚRODKÓW FUNDUSZU (ILOCZYN DOPŁATY DO 1 WOZOKILOMETRA I PRACY EKSPLOATACYJNEJ)",null,null,null,null,null,{"$f":"GW53*GW32","v":0},null,null,"CAŁKOWITA PRZEWIDYWANA KWOTA DOPŁATY ZE ŚRODKÓW FUNDUSZU (ILOCZYN DOPŁATY DO 1 WOZOKILOMETRA I PRACY EKSPLOATACYJNEJ)",null,null,null,null,null,{"$f":"HF53*HF32","v":0},null,null,"CAŁKOWITA PRZEWIDYWANA KWOTA DOPŁATY ZE ŚRODKÓW FUNDUSZU (ILOCZYN DOPŁATY DO 1 WOZOKILOMETRA I PRACY EKSPLOATACYJNEJ)",null,null,null,null,null,{"$f":"HO53*HO32","v":0},null,null,"CAŁKOWITA PRZEWIDYWANA KWOTA DOPŁATY ZE ŚRODKÓW FUNDUSZU (ILOCZYN DOPŁATY DO 1 WOZOKILOMETRA I PRACY EKSPLOATACYJNEJ)",null,null,null,null,null,{"$f":"HX53*HX32","v":0},null,null,"CAŁKOWITA PRZEWIDYWANA KWOTA DOPŁATY ZE ŚRODKÓW FUNDUSZU (ILOCZYN DOPŁATY DO 1 WOZOKILOMETRA I PRACY EKSPLOATACYJNEJ)",null,null,null,null,null,{"$f":"IG53*IG32","v":0},null,null,"CAŁKOWITA PRZEWIDYWANA KWOTA DOPŁATY ZE ŚRODKÓW FUNDUSZU (ILOCZYN DOPŁATY DO 1 WOZOKILOMETRA I PRACY EKSPLOATACYJNEJ)",null,null,null,null,null,{"$f":"IP53*IP32","v":0},null,null,"CAŁKOWITA PRZEWIDYWANA KWOTA DOPŁATY ZE ŚRODKÓW FUNDUSZU (ILOCZYN DOPŁATY DO 1 WOZOKILOMETRA I PRACY EKSPLOATACYJNEJ)",null,null,null,null,null,{"$f":"IY53*IY32","v":0},null,null,"CAŁKOWITA PRZEWIDYWANA KWOTA DOPŁATY ZE ŚRODKÓW FUNDUSZU (ILOCZYN DOPŁATY DO 1 WOZOKILOMETRA I PRACY EKSPLOATACYJNEJ)",null,null,null,null,null,{"$f":"JH53*JH32","v":0},null,null,"CAŁKOWITA PRZEWIDYWANA KWOTA DOPŁATY ZE ŚRODKÓW FUNDUSZU (ILOCZYN DOPŁATY DO 1 WOZOKILOMETRA I PRACY EKSPLOATACYJNEJ)",null,null,null,null,null,{"$f":"JQ53*JQ32","v":0},null,null,"CAŁKOWITA PRZEWIDYWANA KWOTA DOPŁATY ZE ŚRODKÓW FUNDUSZU (ILOCZYN DOPŁATY DO 1 WOZOKILOMETRA I PRACY EKSPLOATACYJNEJ)",null,null,null,null,null,{"$f":"JZ53*JZ32","v":0},null,null,"CAŁKOWITA PRZEWIDYWANA KWOTA DOPŁATY ZE ŚRODKÓW FUNDUSZU (ILOCZYN DOPŁATY DO 1 WOZOKILOMETRA I PRACY EKSPLOATACYJNEJ)",null,null,null,null,null,{"$f":"KI53*KI32","v":0},null,null,"CAŁKOWITA PRZEWIDYWANA KWOTA DOPŁATY ZE ŚRODKÓW FUNDUSZU (ILOCZYN DOPŁATY DO 1 WOZOKILOMETRA I PRACY EKSPLOATACYJNEJ)",null,null,null,null,null,{"$f":"KR53*KR32","v":0},null,null,"CAŁKOWITA PRZEWIDYWANA KWOTA DOPŁATY ZE ŚRODKÓW FUNDUSZU (ILOCZYN DOPŁATY DO 1 WOZOKILOMETRA I PRACY EKSPLOATACYJNEJ)",null,null,null,null,null,{"$f":"LA53*LA32","v":0}]
[]
["TRASA PRZEBIEGU LINII KOMUNIKACYJNEJ:",null,"LICZBA PRZYSTANKÓW",null,null,null,{"$f":"D58","v":0},{"$f":"E58","v":0},{"$f":"F58","v":0},"TRASA PRZEBIEGU LINII KOMUNIKACYJNEJ:",null,"LICZBA PRZYSTANKÓW",null,null,null,{"$f":"M58","v":0},{"$f":"N58","v":0},{"$f":"O58","v":0},"TRASA PRZEBIEGU LINII KOMUNIKACYJNEJ:",null,"LICZBA PRZYSTANKÓW",null,null,null,{"$f":"V58","v":0},{"$f":"W58","v":0},{"$f":"X58","v":0},"TRASA PRZEBIEGU LINII KOMUNIKACYJNEJ:",null,"LICZBA PRZYSTANKÓW",null,null,null,{"$f":"AE58","v":0},{"$f":"AF58","v":0},{"$f":"AG58","v":0},"TRASA PRZEBIEGU LINII KOMUNIKACYJNEJ:",null,"LICZBA PRZYSTANKÓW",null,null,null,{"$f":"AN58","v":0},{"$f":"AO58","v":0},{"$f":"AP58","v":0},"TRASA PRZEBIEGU LINII KOMUNIKACYJNEJ:",null,"LICZBA PRZYSTANKÓW",null,null,null,{"$f":"AW58","v":0},{"$f":"AX58","v":0},{"$f":"AY58","v":0},"TRASA PRZEBIEGU LINII KOMUNIKACYJNEJ:",null,"LICZBA PRZYSTANKÓW",null,null,null,{"$f":"BF58","v":0},{"$f":"BG58","v":0},{"$f":"BH58","v":0},"TRASA PRZEBIEGU LINII KOMUNIKACYJNEJ:",null,"LICZBA PRZYSTANKÓW",null,null,null,{"$f":"BO58","v":0},{"$f":"BP58","v":0},{"$f":"BQ58","v":0},"TRASA PRZEBIEGU LINII KOMUNIKACYJNEJ:",null,"LICZBA PRZYSTANKÓW",null,null,null,{"$f":"BX58","v":0},{"$f":"BY58","v":0},{"$f":"BZ58","v":0},"TRASA PRZEBIEGU LINII KOMUNIKACYJNEJ:",null,"LICZBA PRZYSTANKÓW",null,null,null,{"$f":"CG58","v":0},{"$f":"CH58","v":0},{"$f":"CI58","v":0},"TRASA PRZEBIEGU LINII KOMUNIKACYJNEJ:",null,"LICZBA PRZYSTANKÓW",null,null,null,{"$f":"CP58","v":0},{"$f":"CQ58","v":0},{"$f":"CR58","v":0},"TRASA PRZEBIEGU LINII KOMUNIKACYJNEJ:",null,"LICZBA PRZYSTANKÓW",null,null,null,{"$f":"CY58","v":0},{"$f":"CZ58","v":0},{"$f":"DA58","v":0},"TRASA PRZEBIEGU LINII KOMUNIKACYJNEJ:",null,"LICZBA PRZYSTANKÓW",null,null,null,{"$f":"DH58","v":0},{"$f":"DI58","v":0},{"$f":"DJ58","v":0},"TRASA PRZEBIEGU LINII KOMUNIKACYJNEJ:",null,"LICZBA PRZYSTANKÓW",null,null,null,{"$f":"DQ58","v":0},{"$f":"DR58","v":0},{"$f":"DS58","v":0},"TRASA PRZEBIEGU LINII KOMUNIKACYJNEJ:",null,"LICZBA PRZYSTANKÓW",null,null,null,{"$f":"DZ58","v":0},{"$f":"EA58","v":0},{"$f":"EB58","v":0},"TRASA PRZEBIEGU LINII KOMUNIKACYJNEJ:",null,"LICZBA PRZYSTANKÓW",null,null,null,{"$f":"EI58","v":0},{"$f":"EJ58","v":0},{"$f":"EK58","v":0},"TRASA PRZEBIEGU LINII KOMUNIKACYJNEJ:",null,"LICZBA PRZYSTANKÓW",null,null,null,{"$f":"ER58","v":0},{"$f":"ES58","v":0},{"$f":"ET58","v":0},"TRASA PRZEBIEGU LINII KOMUNIKACYJNEJ:",null,"LICZBA PRZYSTANKÓW",null,null,null,{"$f":"FA58","v":0},{"$f":"FB58","v":0},{"$f":"FC58","v":0},"TRASA PRZEBIEGU LINII KOMUNIKACYJNEJ:",null,"LICZBA PRZYSTANKÓW",null,null,null,{"$f":"FJ58","v":0},{"$f":"FK58","v":0},{"$f":"FL58","v":0},"TRASA PRZEBIEGU LINII KOMUNIKACYJNEJ:",null,"LICZBA PRZYSTANKÓW",null,null,null,{"$f":"FS58","v":0},{"$f":"FT58","v":0},{"$f":"FU58","v":0},"TRASA PRZEBIEGU LINII KOMUNIKACYJNEJ:",null,"LICZBA PRZYSTANKÓW",null,null,null,{"$f":"GB58","v":0},{"$f":"GC58","v":0},{"$f":"GD58","v":0},"TRASA PRZEBIEGU LINII KOMUNIKACYJNEJ:",null,"LICZBA PRZYSTANKÓW",null,null,null,{"$f":"GK58","v":0},{"$f":"GL58","v":0},{"$f":"GM58","v":0},"TRASA PRZEBIEGU LINII KOMUNIKACYJNEJ:",null,"LICZBA PRZYSTANKÓW",null,null,null,{"$f":"GT58","v":0},{"$f":"GU58","v":0},{"$f":"GV58","v":0},"TRASA PRZEBIEGU LINII KOMUNIKACYJNEJ:",null,"LICZBA PRZYSTANKÓW",null,null,null,{"$f":"HC58","v":0},{"$f":"HD58","v":0},{"$f":"HE58","v":0},"TRASA PRZEBIEGU LINII KOMUNIKACYJNEJ:",null,"LICZBA PRZYSTANKÓW",null,null,null,{"$f":"HL58","v":0},{"$f":"HM58","v":0},{"$f":"HN58","v":0},"TRASA PRZEBIEGU LINII KOMUNIKACYJNEJ:",null,"LICZBA PRZYSTANKÓW",null,null,null,{"$f":"HU58","v":0},{"$f":"HV58","v":0},{"$f":"HW58","v":0},"TRASA PRZEBIEGU LINII KOMUNIKACYJNEJ:",null,"LICZBA PRZYSTANKÓW",null,null,null,{"$f":"ID58","v":0},{"$f":"IE58","v":0},{"$f":"IF58","v":0},"TRASA PRZEBIEGU LINII KOMUNIKACYJNEJ:",null,"LICZBA PRZYSTANKÓW",null,null,null,{"$f":"IM58","v":0},{"$f":"IN58","v":0},{"$f":"IO58","v":0},"TRASA PRZEBIEGU LINII KOMUNIKACYJNEJ:",null,"LICZBA PRZYSTANKÓW",null,null,null,{"$f":"IV58","v":0},{"$f":"IW58","v":0},{"$f":"IX58","v":0},"TRASA PRZEBIEGU LINII KOMUNIKACYJNEJ:",null,"LICZBA PRZYSTANKÓW",null,null,null,{"$f":"JE58","v":0},{"$f":"JF58","v":0},{"$f":"JG58","v":0},"TRASA PRZEBIEGU LINII KOMUNIKACYJNEJ:",null,"LICZBA PRZYSTANKÓW",null,null,null,{"$f":"JN58","v":0},{"$f":"JO58","v":0},{"$f":"JP58","v":0},"TRASA PRZEBIEGU LINII KOMUNIKACYJNEJ:",null,"LICZBA PRZYSTANKÓW",null,null,null,{"$f":"JW58","v":0},{"$f":"JX58","v":0},{"$f":"JY58","v":0},"TRASA PRZEBIEGU LINII KOMUNIKACYJNEJ:",null,"LICZBA PRZYSTANKÓW",null,null,null,{"$f":"KF58","v":0},{"$f":"KG58","v":0},{"$f":"KH58","v":0},"TRASA PRZEBIEGU LINII KOMUNIKACYJNEJ:",null,"LICZBA PRZYSTANKÓW",null,null,null,{"$f":"KO58","v":0},{"$f":"KP58","v":0},{"$f":"KQ58","v":0},"TRASA PRZEBIEGU LINII KOMUNIKACYJNEJ:",null,"LICZBA PRZYSTANKÓW",null,null,null,{"$f":"KX58","v":0},{"$f":"KY58","v":0},{"$f":"KZ58","v":0}]
["gmina","miejscowość","nazwa przystanku",{"$f":"SUM(D59:D2033)","v":0},{"$f":"SUM(E59:E2033)","v":0},{"$f":"SUM(F59:F2033)","v":0},null,"dostosowanie do niepełnosprawnych","zapewnienie dostępności komunikacyjnej terenów, o których mowa w art. 5c ust. 1 ustawy z dnia 8 grudnia 2006 r. o finansowym wsparciu niektórych przedsięwzięć mieszkaniowych","gmina","miejscowość","nazwa przystanku",{"$f":"SUM(M59:M2033)","v":0},{"$f":"SUM(N59:N2033)","v":0},{"$f":"SUM(O59:O2033)","v":0},null,"dostosowanie do niepełnosprawnych","zapewnienie dostępności komunikacyjnej terenów, o których mowa w art. 5c ust. 1 ustawy z dnia 8 grudnia 2006 r. o finansowym wsparciu niektórych przedsięwzięć mieszkaniowych","gmina","miejscowość","nazwa przystanku",{"$f":"SUM(V59:V2033)","v":0},{"$f":"SUM(W59:W2033)","v":0},{"$f":"SUM(X59:X2033)","v":0},null,"dostosowanie do niepełnosprawnych","zapewnienie dostępności komunikacyjnej terenów, o których mowa w art. 5c ust. 1 ustawy z dnia 8 grudnia 2006 r. o finansowym wsparciu niektórych przedsięwzięć mieszkaniowych","gmina","miejscowość","nazwa przystanku",{"$f":"SUM(AE59:AE2033)","v":0},{"$f":"SUM(AF59:AF2033)","v":0},{"$f":"SUM(AG59:AG2033)","v":0},null,"dostosowanie do niepełnosprawnych","zapewnienie dostępności komunikacyjnej terenów, o których mowa w art. 5c ust. 1 ustawy z dnia 8 grudnia 2006 r. o finansowym wsparciu niektórych przedsięwzięć mieszkaniowych","gmina","miejscowość","nazwa przystanku",{"$f":"SUM(AN59:AN2033)","v":0},{"$f":"SUM(AO59:AO2033)","v":0},{"$f":"SUM(AP59:AP2033)","v":0},null,"dostosowanie do niepełnosprawnych","zapewnienie dostępności komunikacyjnej terenów, o których mowa w art. 5c ust. 1 ustawy z dnia 8 grudnia 2006 r. o finansowym wsparciu niektórych przedsięwzięć mieszkaniowych","gmina","miejscowość","nazwa przystanku",{"$f":"SUM(AW59:AW2033)","v":0},{"$f":"SUM(AX59:AX2033)","v":0},{"$f":"SUM(AY59:AY2033)","v":0},null,"dostosowanie do niepełnosprawnych","zapewnienie dostępności komunikacyjnej terenów, o których mowa w art. 5c ust. 1 ustawy z dnia 8 grudnia 2006 r. o finansowym wsparciu niektórych przedsięwzięć mieszkaniowych","gmina","miejscowość","nazwa przystanku",{"$f":"SUM(BF59:BF2033)","v":0},{"$f":"SUM(BG59:BG2033)","v":0},{"$f":"SUM(BH59:BH2033)","v":0},null,"dostosowanie do niepełnosprawnych","zapewnienie dostępności komunikacyjnej terenów, o których mowa w art. 5c ust. 1 ustawy z dnia 8 grudnia 2006 r. o finansowym wsparciu niektórych przedsięwzięć mieszkaniowych","gmina","miejscowość","nazwa przystanku",{"$f":"SUM(BO59:BO2033)","v":0},{"$f":"SUM(BP59:BP2033)","v":0},{"$f":"SUM(BQ59:BQ2033)","v":0},null,"dostosowanie do niepełnosprawnych","zapewnienie dostępności komunikacyjnej terenów, o których mowa w art. 5c ust. 1 ustawy z dnia 8 grudnia 2006 r. o finansowym wsparciu niektórych przedsięwzięć mieszkaniowych","gmina","miejscowość","nazwa przystanku",{"$f":"SUM(BX59:BX2033)","v":0},{"$f":"SUM(BY59:BY2033)","v":0},{"$f":"SUM(BZ59:BZ2033)","v":0},null,"dostosowanie do niepełnosprawnych","zapewnienie dostępności komunikacyjnej terenów, o których mowa w art. 5c ust. 1 ustawy z dnia 8 grudnia 2006 r. o finansowym wsparciu niektórych przedsięwzięć mieszkaniowych","gmina","miejscowość","nazwa przystanku",{"$f":"SUM(CG59:CG2033)","v":0},{"$f":"SUM(CH59:CH2033)","v":0},{"$f":"SUM(CI59:CI2033)","v":0},null,"dostosowanie do niepełnosprawnych","zapewnienie dostępności komunikacyjnej terenów, o których mowa w art. 5c ust. 1 ustawy z dnia 8 grudnia 2006 r. o finansowym wsparciu niektórych przedsięwzięć mieszkaniowych","gmina","miejscowość","nazwa przystanku",{"$f":"SUM(CP59:CP2033)","v":0},{"$f":"SUM(CQ59:CQ2033)","v":0},{"$f":"SUM(CR59:CR2033)","v":0},null,"dostosowanie do niepełnosprawnych","zapewnienie dostępności komunikacyjnej terenów, o których mowa w art. 5c ust. 1 ustawy z dnia 8 grudnia 2006 r. o finansowym wsparciu niektórych przedsięwzięć mieszkaniowych","gmina","miejscowość","nazwa przystanku",{"$f":"SUM(CY59:CY2033)","v":0},{"$f":"SUM(CZ59:CZ2033)","v":0},{"$f":"SUM(DA59:DA2033)","v":0},null,"dostosowanie do niepełnosprawnych","zapewnienie dostępności komunikacyjnej terenów, o których mowa w art. 5c ust. 1 ustawy z dnia 8 grudnia 2006 r. o finansowym wsparciu niektórych przedsięwzięć mieszkaniowych","gmina","miejscowość","nazwa przystanku",{"$f":"SUM(DH59:DH2033)","v":0},{"$f":"SUM(DI59:DI2033)","v":0},{"$f":"SUM(DJ59:DJ2033)","v":0},null,"dostosowanie do niepełnosprawnych","zapewnienie dostępności komunikacyjnej terenów, o których mowa w art. 5c ust. 1 ustawy z dnia 8 grudnia 2006 r. o finansowym wsparciu niektórych przedsięwzięć mieszkaniowych","gmina","miejscowość","nazwa przystanku",{"$f":"SUM(DQ59:DQ2033)","v":0},{"$f":"SUM(DR59:DR2033)","v":0},{"$f":"SUM(DS59:DS2033)","v":0},null,"dostosowanie do niepełnosprawnych","zapewnienie dostępności komunikacyjnej terenów, o których mowa w art. 5c ust. 1 ustawy z dnia 8 grudnia 2006 r. o finansowym wsparciu niektórych przedsięwzięć mieszkaniowych","gmina","miejscowość","nazwa przystanku",{"$f":"SUM(DZ59:DZ2033)","v":0},{"$f":"SUM(EA59:EA2033)","v":0},{"$f":"SUM(EB59:EB2033)","v":0},null,"dostosowanie do niepełnosprawnych","zapewnienie dostępności komunikacyjnej terenów, o których mowa w art. 5c ust. 1 ustawy z dnia 8 grudnia 2006 r. o finansowym wsparciu niektórych przedsięwzięć mieszkaniowych","gmina","miejscowość","nazwa przystanku",{"$f":"SUM(EI59:EI2033)","v":0},{"$f":"SUM(EJ59:EJ2033)","v":0},{"$f":"SUM(EK59:EK2033)","v":0},null,"dostosowanie do niepełnosprawnych","zapewnienie dostępności komunikacyjnej terenów, o których mowa w art. 5c ust. 1 ustawy z dnia 8 grudnia 2006 r. o finansowym wsparciu niektórych przedsięwzięć mieszkaniowych","gmina","miejscowość","nazwa przystanku",{"$f":"SUM(ER59:ER2033)","v":0},{"$f":"SUM(ES59:ES2033)","v":0},{"$f":"SUM(ET59:ET2033)","v":0},null,"dostosowanie do niepełnosprawnych","zapewnienie dostępności komunikacyjnej terenów, o których mowa w art. 5c ust. 1 ustawy z dnia 8 grudnia 2006 r. o finansowym wsparciu niektórych przedsięwzięć mieszkaniowych","gmina","miejscowość","nazwa przystanku",{"$f":"SUM(FA59:FA2033)","v":0},{"$f":"SUM(FB59:FB2033)","v":0},{"$f":"SUM(FC59:FC2033)","v":0},null,"dostosowanie do niepełnosprawnych","zapewnienie dostępności komunikacyjnej terenów, o których mowa w art. 5c ust. 1 ustawy z dnia 8 grudnia 2006 r. o finansowym wsparciu niektórych przedsięwzięć mieszkaniowych","gmina","miejscowość","nazwa przystanku",{"$f":"SUM(FJ59:FJ2033)","v":0},{"$f":"SUM(FK59:FK2033)","v":0},{"$f":"SUM(FL59:FL2033)","v":0},null,"dostosowanie do niepełnosprawnych","zapewnienie dostępności komunikacyjnej terenów, o których mowa w art. 5c ust. 1 ustawy z dnia 8 grudnia 2006 r. o finansowym wsparciu niektórych przedsięwzięć mieszkaniowych","gmina","miejscowość","nazwa przystanku",{"$f":"SUM(FS59:FS2033)","v":0},{"$f":"SUM(FT59:FT2033)","v":0},{"$f":"SUM(FU59:FU2033)","v":0},null,"dostosowanie do niepełnosprawnych","zapewnienie dostępności komunikacyjnej terenów, o których mowa w art. 5c ust. 1 ustawy z dnia 8 grudnia 2006 r. o finansowym wsparciu niektórych przedsięwzięć mieszkaniowych","gmina","miejscowość","nazwa przystanku",{"$f":"SUM(GB59:GB2033)","v":0},{"$f":"SUM(GC59:GC2033)","v":0},{"$f":"SUM(GD59:GD2033)","v":0},null,"dostosowanie do niepełnosprawnych","zapewnienie dostępności komunikacyjnej terenów, o których mowa w art. 5c ust. 1 ustawy z dnia 8 grudnia 2006 r. o finansowym wsparciu niektórych przedsięwzięć mieszkaniowych","gmina","miejscowość","nazwa przystanku",{"$f":"SUM(GK59:GK2033)","v":0},{"$f":"SUM(GL59:GL2033)","v":0},{"$f":"SUM(GM59:GM2033)","v":0},null,"dostosowanie do niepełnosprawnych","zapewnienie dostępności komunikacyjnej terenów, o których mowa w art. 5c ust. 1 ustawy z dnia 8 grudnia 2006 r. o finansowym wsparciu niektórych przedsięwzięć mieszkaniowych","gmina","miejscowość","nazwa przystanku",{"$f":"SUM(GT59:GT2033)","v":0},{"$f":"SUM(GU59:GU2033)","v":0},{"$f":"SUM(GV59:GV2033)","v":0},null,"dostosowanie do niepełnosprawnych","zapewnienie dostępności komunikacyjnej terenów, o których mowa w art. 5c ust. 1 ustawy z dnia 8 grudnia 2006 r. o finansowym wsparciu niektórych przedsięwzięć mieszkaniowych","gmina","miejscowość","nazwa przystanku",{"$f":"SUM(HC59:HC2033)","v":0},{"$f":"SUM(HD59:HD2033)","v":0},{"$f":"SUM(HE59:HE2033)","v":0},null,"dostosowanie do niepełnosprawnych","zapewnienie dostępności komunikacyjnej terenów, o których mowa w art. 5c ust. 1 ustawy z dnia 8 grudnia 2006 r. o finansowym wsparciu niektórych przedsięwzięć mieszkaniowych","gmina","miejscowość","nazwa przystanku",{"$f":"SUM(HL59:HL2033)","v":0},{"$f":"SUM(HM59:HM2033)","v":0},{"$f":"SUM(HN59:HN2033)","v":0},null,"dostosowanie do niepełnosprawnych","zapewnienie dostępności komunikacyjnej terenów, o których mowa w art. 5c ust. 1 ustawy z dnia 8 grudnia 2006 r. o finansowym wsparciu niektórych przedsięwzięć mieszkaniowych","gmina","miejscowość","nazwa przystanku",{"$f":"SUM(HU59:HU2033)","v":0},{"$f":"SUM(HV59:HV2033)","v":0},{"$f":"SUM(HW59:HW2033)","v":0},null,"dostosowanie do niepełnosprawnych","zapewnienie dostępności komunikacyjnej terenów, o których mowa w art. 5c ust. 1 ustawy z dnia 8 grudnia 2006 r. o finansowym wsparciu niektórych przedsięwzięć mieszkaniowych","gmina","miejscowość","nazwa przystanku",{"$f":"SUM(ID59:ID2033)","v":0},{"$f":"SUM(IE59:IE2033)","v":0},{"$f":"SUM(IF59:IF2033)","v":0},null,"dostosowanie do niepełnosprawnych","zapewnienie dostępności komunikacyjnej terenów, o których mowa w art. 5c ust. 1 ustawy z dnia 8 grudnia 2006 r. o finansowym wsparciu niektórych przedsięwzięć mieszkaniowych","gmina","miejscowość","nazwa przystanku",{"$f":"SUM(IM59:IM2033)","v":0},{"$f":"SUM(IN59:IN2033)","v":0},{"$f":"SUM(IO59:IO2033)","v":0},null,"dostosowanie do niepełnosprawnych","zapewnienie dostępności komunikacyjnej terenów, o których mowa w art. 5c ust. 1 ustawy z dnia 8 grudnia 2006 r. o finansowym wsparciu niektórych przedsięwzięć mieszkaniowych","gmina","miejscowość","nazwa przystanku",{"$f":"SUM(IV59:IV2033)","v":0},{"$f":"SUM(IW59:IW2033)","v":0},{"$f":"SUM(IX59:IX2033)","v":0},null,"dostosowanie do niepełnosprawnych","zapewnienie dostępności komunikacyjnej terenów, o których mowa w art. 5c ust. 1 ustawy z dnia 8 grudnia 2006 r. o finansowym wsparciu niektórych przedsięwzięć mieszkaniowych","gmina","miejscowość","nazwa przystanku",{"$f":"SUM(JE59:JE2033)","v":0},{"$f":"SUM(JF59:JF2033)","v":0},{"$f":"SUM(JG59:JG2033)","v":0},null,"dostosowanie do niepełnosprawnych","zapewnienie dostępności komunikacyjnej terenów, o których mowa w art. 5c ust. 1 ustawy z dnia 8 grudnia 2006 r. o finansowym wsparciu niektórych przedsięwzięć mieszkaniowych","gmina","miejscowość","nazwa przystanku",{"$f":"SUM(JN59:JN2033)","v":0},{"$f":"SUM(JO59:JO2033)","v":0},{"$f":"SUM(JP59:JP2033)","v":0},null,"dostosowanie do niepełnosprawnych","zapewnienie dostępności komunikacyjnej terenów, o których mowa w art. 5c ust. 1 ustawy z dnia 8 grudnia 2006 r. o finansowym wsparciu niektórych przedsięwzięć mieszkaniowych","gmina","miejscowość","nazwa przystanku",{"$f":"SUM(JW59:JW2033)","v":0},{"$f":"SUM(JX59:JX2033)","v":0},{"$f":"SUM(JY59:JY2033)","v":0},null,"dostosowanie do niepełnosprawnych","zapewnienie dostępności komunikacyjnej terenów, o których mowa w art. 5c ust. 1 ustawy z dnia 8 grudnia 2006 r. o finansowym wsparciu niektórych przedsięwzięć mieszkaniowych","gmina","miejscowość","nazwa przystanku",{"$f":"SUM(KF59:KF2033)","v":0},{"$f":"SUM(KG59:KG2033)","v":0},{"$f":"SUM(KH59:KH2033)","v":0},null,"dostosowanie do niepełnosprawnych","zapewnienie dostępności komunikacyjnej terenów, o których mowa w art. 5c ust. 1 ustawy z dnia 8 grudnia 2006 r. o finansowym wsparciu niektórych przedsięwzięć mieszkaniowych","gmina","miejscowość","nazwa przystanku",{"$f":"SUM(KO59:KO2033)","v":0},{"$f":"SUM(KP59:KP2033)","v":0},{"$f":"SUM(KQ59:KQ2033)","v":0},null,"dostosowanie do niepełnosprawnych","zapewnienie dostępności komunikacyjnej terenów, o których mowa w art. 5c ust. 1 ustawy z dnia 8 grudnia 2006 r. o finansowym wsparciu niektórych przedsięwzięć mieszkaniowych","gmina","miejscowość","nazwa przystanku",{"$f":"SUM(KX59:KX2033)","v":0},{"$f":"SUM(KY59:KY2033)","v":0},{"$f":"SUM(KZ59:KZ2033)","v":0},null,"dostosowanie do niepełnosprawnych","zapewnienie dostępności komunikacyjnej terenów, o których mowa w art. 5c ust. 1 ustawy z dnia 8 grudnia 2006 r. o finansowym wsparciu niektórych przedsięwzięć mieszkaniowych"]
[null,null,null,{"$f":"IF(C59=\"\",0,1)","v":0},{"$f":"IF(H59=\"TAK\",1,0)","v":0},{"$f":"IF(I59=\"TAK\",1,0)","v":0},null,null,null,null,null,null,{"$f":"IF(L59=\"\",0,1)","v":0},{"$f":"IF(Q59=\"TAK\",1,0)","v":0},{"$f":"IF(R59=\"TAK\",1,0)","v":0},null,null,null,null,null,null,{"$f":"IF(U59=\"\",0,1)","v":0},{"$f":"IF(Z59=\"TAK\",1,0)","v":0},{"$f":"IF(AA59=\"TAK\",1,0)","v":0},null,null,null,null,null,null,{"$f":"IF(AD59=\"\",0,1)","v":0},{"$f":"IF(AI59=\"TAK\",1,0)","v":0},{"$f":"IF(AJ59=\"TAK\",1,0)","v":0},null,null,null,null,null,null,{"$f":"IF(AM59=\"\",0,1)","v":0},{"$f":"IF(AR59=\"TAK\",1,0)","v":0},{"$f":"IF(AS59=\"TAK\",1,0)","v":0},null,null,null,null,null,null,{"$f":"IF(AV59=\"\",0,1)","v":0},{"$f":"IF(BA59=\"TAK\",1,0)","v":0},{"$f":"IF(BB59=\"TAK\",1,0)","v":0},null,null,null,null,null,null,{"$f":"IF(BE59=\"\",0,1)","v":0},{"$f":"IF(BJ59=\"TAK\",1,0)","v":0},{"$f":"IF(BK59=\"TAK\",1,0)","v":0},null,null,null,null,null,null,{"$f":"IF(BN59=\"\",0,1)","v":0},{"$f":"IF(BS59=\"TAK\",1,0)","v":0},{"$f":"IF(BT59=\"TAK\",1,0)","v":0},null,null,null,null,null,null,{"$f":"IF(BW59=\"\",0,1)","v":0},{"$f":"IF(CB59=\"TAK\",1,0)","v":0},{"$f":"IF(CC59=\"TAK\",1,0)","v":0},null,null,null,null,null,null,{"$f":"IF(CF59=\"\",0,1)","v":0},{"$f":"IF(CK59=\"TAK\",1,0)","v":0},{"$f":"IF(CL59=\"TAK\",1,0)","v":0},null,null,null,null,null,null,{"$f":"IF(CO59=\"\",0,1)","v":0},{"$f":"IF(CT59=\"TAK\",1,0)","v":0},{"$f":"IF(CU59=\"TAK\",1,0)","v":0},null,null,null,null,null,null,{"$f":"IF(CX59=\"\",0,1)","v":0},{"$f":"IF(DC59=\"TAK\",1,0)","v":0},{"$f":"IF(DD59=\"TAK\",1,0)","v":0},null,null,null,null,null,null,{"$f":"IF(DG59=\"\",0,1)","v":0},{"$f":"IF(DL59=\"TAK\",1,0)","v":0},{"$f":"IF(DM59=\"TAK\",1,0)","v":0},null,null,null,null,null,null,{"$f":"IF(DP59=\"\",0,1)","v":0},{"$f":"IF(DU59=\"TAK\",1,0)","v":0},{"$f":"IF(DV59=\"TAK\",1,0)","v":0},null,null,null,null,null,null,{"$f":"IF(DY59=\"\",0,1)","v":0},{"$f":"IF(ED59=\"TAK\",1,0)","v":0},{"$f":"IF(EE59=\"TAK\",1,0)","v":0},null,null,null,null,null,null,{"$f":"IF(EH59=\"\",0,1)","v":0},{"$f":"IF(EM59=\"TAK\",1,0)","v":0},{"$f":"IF(EN59=\"TAK\",1,0)","v":0},null,null,null,null,null,null,{"$f":"IF(EQ59=\"\",0,1)","v":0},{"$f":"IF(EV59=\"TAK\",1,0)","v":0},{"$f":"IF(EW59=\"TAK\",1,0)","v":0},null,null,null,null,null,null,{"$f":"IF(EZ59=\"\",0,1)","v":0},{"$f":"IF(FE59=\"TAK\",1,0)","v":0},{"$f":"IF(FF59=\"TAK\",1,0)","v":0},null,null,null,null,null,null,{"$f":"IF(FI59=\"\",0,1)","v":0},{"$f":"IF(FN59=\"TAK\",1,0)","v":0},{"$f":"IF(FO59=\"TAK\",1,0)","v":0},null,null,null,null,null,null,{"$f":"IF(FR59=\"\",0,1)","v":0},{"$f":"IF(FW59=\"TAK\",1,0)","v":0},{"$f":"IF(FX59=\"TAK\",1,0)","v":0},null,null,null,null,null,null,{"$f":"IF(GA59=\"\",0,1)","v":0},{"$f":"IF(GF59=\"TAK\",1,0)","v":0},{"$f":"IF(GG59=\"TAK\",1,0)","v":0},null,null,null,null,null,null,{"$f":"IF(GJ59=\"\",0,1)","v":0},{"$f":"IF(GO59=\"TAK\",1,0)","v":0},{"$f":"IF(GP59=\"TAK\",1,0)","v":0},null,null,null,null,null,null,{"$f":"IF(GS59=\"\",0,1)","v":0},{"$f":"IF(GX59=\"TAK\",1,0)","v":0},{"$f":"IF(GY59=\"TAK\",1,0)","v":0},null,null,null,null,null,null,{"$f":"IF(HB59=\"\",0,1)","v":0},{"$f":"IF(HG59=\"TAK\",1,0)","v":0},{"$f":"IF(HH59=\"TAK\",1,0)","v":0},null,null,null,null,null,null,{"$f":"IF(HK59=\"\",0,1)","v":0},{"$f":"IF(HP59=\"TAK\",1,0)","v":0},{"$f":"IF(HQ59=\"TAK\",1,0)","v":0},null,null,null,null,null,null,{"$f":"IF(HT59=\"\",0,1)","v":0},{"$f":"IF(HY59=\"TAK\",1,0)","v":0},{"$f":"IF(HZ59=\"TAK\",1,0)","v":0},null,null,null,null,null,null,{"$f":"IF(IC59=\"\",0,1)","v":0},{"$f":"IF(IH59=\"TAK\",1,0)","v":0},{"$f":"IF(II59=\"TAK\",1,0)","v":0},null,null,null,null,null,null,{"$f":"IF(IL59=\"\",0,1)","v":0},{"$f":"IF(IQ59=\"TAK\",1,0)","v":0},{"$f":"IF(IR59=\"TAK\",1,0)","v":0},null,null,null,null,null,null,{"$f":"IF(IU59=\"\",0,1)","v":0},{"$f":"IF(IZ59=\"TAK\",1,0)","v":0},{"$f":"IF(JA59=\"TAK\",1,0)","v":0},null,null,null,null,null,null,{"$f":"IF(JD59=\"\",0,1)","v":0},{"$f":"IF(JI59=\"TAK\",1,0)","v":0},{"$f":"IF(JJ59=\"TAK\",1,0)","v":0},null,null,null,null,null,null,{"$f":"IF(JM59=\"\",0,1)","v":0},{"$f":"IF(JR59=\"TAK\",1,0)","v":0},{"$f":"IF(JS59=\"TAK\",1,0)","v":0},null,null,null,null,null,null,{"$f":"IF(JV59=\"\",0,1)","v":0},{"$f":"IF(KA59=\"TAK\",1,0)","v":0},{"$f":"IF(KB59=\"TAK\",1,0)","v":0},null,null,null,null,null,null,{"$f":"IF(KE59=\"\",0,1)","v":0},{"$f":"IF(KJ59=\"TAK\",1,0)","v":0},{"$f":"IF(KK59=\"TAK\",1,0)","v":0},null,null,null,null,null,null,{"$f":"IF(KN59=\"\",0,1)","v":0},{"$f":"IF(KS59=\"TAK\",1,0)","v":0},{"$f":"IF(KT59=\"TAK\",1,0)","v":0},null,null,null,null,null,null,{"$f":"IF(KW59=\"\",0,1)","v":0},{"$f":"IF(LB59=\"TAK\",1,0)","v":0},{"$f":"IF(LC59=\"TAK\",1,0)","v":0}]
[null,null,null,{"$f":"IF(C60=\"\",0,1)","v":0},{"$f":"IF(H60=\"TAK\",1,0)","v":0},{"$f":"IF(I60=\"TAK\",1,0)","v":0},null,null,null,null,null,null,0,0,0,null,null,null,null,null,null,0,0,0,null,null,null,null,null,null,0,0,0,null,null,null,null,null,null,0,0,0,null,null,null,null,null,null,0,0,0,null,null,null,null,null,null,0,0,0,null,null,null,null,null,null,0,0,0,null,null,null,null,null,null,0,0,0,null,null,null,null,null,null,0,0,0,null,null,null,null,null,null,0,0,0,null,null,null,null,null,null,0,0,0,null,null,null,null,null,null,0,0,0,null,null,null,null,null,null,0,0,0,null,null,null,null,null,null,0,0,0,null,null,null,null,null,null,0,0,0,null,null,null,null,null,null,0,0,0,null,null,null,null,null,null,0,0,0,null,null,null,null,null,null,0,0,0,null,null,null,null,null,null,0,0,0,null,null,null,null,null,null,0,0,0,null,null,null,null,null,null,0,0,0,null,null,null,null,null,null,0,0,0,null,null,null,null,null,null,0,0,0,null,null,null,null,null,null,0,0,0,null,null,null,null,null,null,0,0,0,null,null,null,null,null,null,0,0,0,null,null,null,null,null,null,0,0,0,null,null,null,null,null,null,0,0,0,null,null,null,null,null,null,0,0,0,null,null,null,null,null,null,0,0,0,null,null,null,null,null,null,0,0,0,null,null,null,null,null,null,0,0,0,null,null,null,null,null,null,0,0,0,null,null,null,null,null,null,0,0,0]
[null,null,null,0,0,0,null,null,null,null,null,null,0,0,0,null,null,null,null,null,null,0,0,0,null,null,null,null,null,null,0,0,0,null,null,null,null,null,null,0,0,0,null,null,null,null,null,null,0,0,0,null,null,null,null,null,null,0,0,0,null,null,null,null,null,null,0,0,0,null,null,null,null,null,null,0,0,0,null,null,null,null,null,null,0,0,0,null,null,null,null,null,null,0,0,0,null,null,null,null,null,null,0,0,0,null,null,null,null,null,null,0,0,0,null,null,null,null,null,null,0,0,0,null,null,null,null,null,null,0,0,0,null,null,null,null,null,null,0,0,0,null,null,null,null,null,null,0,0,0,null,null,null,null,null,null,0,0,0,null,null,null,null,null,null,0,0,0,null,null,null,null,null,null,0,0,0,null,null,null,null,null,null,0,0,0,null,null,null,null,null,null,0,0,0,null,null,null,null,null,null,0,0,0,null,null,null,null,null,null,0,0,0,null,null,null,null,null,null,0,0,0,null,null,null,null,null,null,0,0,0,null,null,null,null,null,null,0,0,0,null,null,null,null,null,null,0,0,0,null,null,null,null,null,null,0,0,0,null,null,null,null,null,null,0,0,0,null,null,null,null,null,null,0,0,0,null,null,null,null,null,null,0,0,0,null,null,null,null,null,null,0,0,0,null,null,null,null,null,null,0,0,0,null,null,null,null,null,null,0,0,0]
[null,null,null,0,0,0,null,null,null,null,null,null,0,0,0,null,null,null,null,null,null,0,0,0,null,null,null,null,null,null,0,0,0,null,null,null,null,null,null,0,0,0,null,null,null,null,null,null,0,0,0,null,null,null,null,null,null,0,0,0,null,null,null,null,null,null,0,0,0,null,null,null,null,null,null,0,0,0,null,null,null,null,null,null,0,0,0,null,null,null,null,null,null,0,0,0,null,null,null,null,null,null,0,0,0,null,null,null,null,null,null,0,0,0,null,null,null,null,null,null,0,0,0,null,null,null,null,null,null,0,0,0,null,null,null,null,null,null,0,0,0,null,null,null,null,null,null,0,0,0,null,null,null,null,null,null,0,0,0,null,null,null,null,null,null,0,0,0,null,null,null,null,null,null,0,0,0,null,null,null,null,null,null,0,0,0,null,null,null,null,null,null,0,0,0,null,null,null,null,null,null,0,0,0,null,null,null,null,null,null,0,0,0,null,null,null,null,null,null,0,0,0,null,null,null,null,null,null,0,0,0,null,null,null,null,null,null,0,0,0,null,null,null,null,null,null,0,0,0,null,null,null,null,null,null,0,0,0,null,null,null,null,null,null,0,0,0,null,null,null,null,null,null,0,0,0,null,null,null,null,null,null,0,0,0,null,null,null,null,null,null,0,0,0,null,null,null,null,null,null,0,0,0,null,null,null,null,null,null,0,0,0]
[null,null,null,0,0,0,null,null,null,null,null,null,0,0,0,null,null,null,null,null,null,0,0,0,null,null,null,null,null,null,0,0,0,null,null,null,null,null,null,0,0,0,null,null,null,null,null,null,0,0,0,null,null,null,null,null,null,0,0,0,null,null,null,null,null,null,0,0,0,null,null,null,null,null,null,0,0,0,null,null,null,null,null,null,0,0,0,null,null,null,null,null,null,0,0,0,null,null,null,null,null,null,0,0,0,null,null,null,null,null,null,0,0,0,null,null,null,null,null,null,0,0,0,null,null,null,null,null,null,0,0,0,null,null,null,null,null,null,0,0,0,null,null,null,null,null,null,0,0,0,null,null,null,null,null,null,0,0,0,null,null,null,null,null,null,0,0,0,null,null,null,null,null,null,0,0,0,null,null,null,null,null,null,0,0,0,null,null,null,null,null,null,0,0,0,null,null,null,null,null,null,0,0,0,null,null,null,null,null,null,0,0,0,null,null,null,null,null,null,0,0,0,null,null,null,null,null,null,0,0,0,null,null,null,null,null,null,0,0,0,null,null,null,null,null,null,0,0,0,null,null,null,null,null,null,0,0,0,null,null,null,null,null,null,0,0,0,null,null,null,null,null,null,0,0,0,null,null,null,null,null,null,0,0,0,null,null,null,null,null,null,0,0,0,null,null,null,null,null,null,0,0,0,null,null,null,null,null,null,0,0,0]
[null,null,null,0,0,0,null,null,null,null,null,null,0,0,0,null,null,null,null,null,null,0,0,0,null,null,null,null,null,null,0,0,0,null,null,null,null,null,null,0,0,0,null,null,null,null,null,null,0,0,0,null,null,null,null,null,null,0,0,0,null,null,null,null,null,null,0,0,0,null,null,null,null,null,null,0,0,0,null,null,null,null,null,null,0,0,0,null,null,null,null,null,null,0,0,0,null,null,null,null,null,null,0,0,0,null,null,null,null,null,null,0,0,0,null,null,null,null,null,null,0,0,0,null,null,null,null,null,null,0,0,0,null,null,null,null,null,null,0,0,0,null,null,null,null,null,null,0,0,0,null,null,null,null,null,null,0,0,0,null,null,null,null,null,null,0,0,0,null,null,null,null,null,null,0,0,0,null,null,null,null,null,null,0,0,0,null,null,null,null,null,null,0,0,0,null,null,null,null,null,null,0,0,0,null,null,null,null,null,null,0,0,0,null,null,null,null,null,null,0,0,0,null,null,null,null,null,null,0,0,0,null,null,null,null,null,null,0,0,0,null,null,null,null,null,null,0,0,0,null,null,null,null,null,null,0,0,0,null,null,null,null,null,null,0,0,0,null,null,null,null,null,null,0,0,0,null,null,null,null,null,null,0,0,0,null,null,null,null,null,null,0,0,0,null,null,null,null,null,null,0,0,0,null,null,null,null,null,null,0,0,0]
[null,null,null,0,0,0,null,null,null,null,null,null,0,0,0,null,null,null,null,null,null,0,0,0,null,null,null,null,null,null,0,0,0,null,null,null,null,null,null,0,0,0,null,null,null,null,null,null,0,0,0,null,null,null,null,null,null,0,0,0,null,null,null,null,null,null,0,0,0,null,null,null,null,null,null,0,0,0,null,null,null,null,null,null,0,0,0,null,null,null,null,null,null,0,0,0,null,null,null,null,null,null,0,0,0,null,null,null,null,null,null,0,0,0,null,null,null,null,null,null,0,0,0,null,null,null,null,null,null,0,0,0,null,null,null,null,null,null,0,0,0,null,null,null,null,null,null,0,0,0,null,null,null,null,null,null,0,0,0,null,null,null,null,null,null,0,0,0,null,null,null,null,null,null,0,0,0,null,null,null,null,null,null,0,0,0,null,null,null,null,null,null,0,0,0,null,null,null,null,null,null,0,0,0,null,null,null,null,null,null,0,0,0,null,null,null,null,null,null,0,0,0,null,null,null,null,null,null,0,0,0,null,null,null,null,null,null,0,0,0,null,null,null,null,null,null,0,0,0,null,null,null,null,null,null,0,0,0,null,null,null,null,null,null,0,0,0,null,null,null,null,null,null,0,0,0,null,null,null,null,null,null,0,0,0,null,null,null,null,null,null,0,0,0,null,null,null,null,null,null,0,0,0,null,null,null,null,null,null,0,0,0]
[null,null,null,0,0,0,null,null,null,null,null,null,0,0,0,null,null,null,null,null,null,0,0,0,null,null,null,null,null,null,0,0,0,null,null,null,null,null,null,0,0,0,null,null,null,null,null,null,0,0,0,null,null,null,null,null,null,0,0,0,null,null,null,null,null,null,0,0,0,null,null,null,null,null,null,0,0,0,null,null,null,null,null,null,0,0,0,null,null,null,null,null,null,0,0,0,null,null,null,null,null,null,0,0,0,null,null,null,null,null,null,0,0,0,null,null,null,null,null,null,0,0,0,null,null,null,null,null,null,0,0,0,null,null,null,null,null,null,0,0,0,null,null,null,null,null,null,0,0,0,null,null,null,null,null,null,0,0,0,null,null,null,null,null,null,0,0,0,null,null,null,null,null,null,0,0,0,null,null,null,null,null,null,0,0,0,null,null,null,null,null,null,0,0,0,null,null,null,null,null,null,0,0,0,null,null,null,null,null,null,0,0,0,null,null,null,null,null,null,0,0,0,null,null,null,null,null,null,0,0,0,null,null,null,null,null,null,0,0,0,null,null,null,null,null,null,0,0,0,null,null,null,null,null,null,0,0,0,null,null,null,null,null,null,0,0,0,null,null,null,null,null,null,0,0,0,null,null,null,null,null,null,0,0,0,null,null,null,null,null,null,0,0,0,null,null,null,null,null,null,0,0,0,null,null,null,null,null,null,0,0,0]
[null,null,null,0,0,0,null,null,null,null,null,null,0,0,0,null,null,null,null,null,null,0,0,0,null,null,null,null,null,null,0,0,0,null,null,null,null,null,null,0,0,0,null,null,null,null,null,null,0,0,0,null,null,null,null,null,null,0,0,0,null,null,null,null,null,null,0,0,0,null,null,null,null,null,null,0,0,0,null,null,null,null,null,null,0,0,0,null,null,null,null,null,null,0,0,0,null,null,null,null,null,null,0,0,0,null,null,null,null,null,null,0,0,0,null,null,null,null,null,null,0,0,0,null,null,null,null,null,null,0,0,0,null,null,null,null,null,null,0,0,0,null,null,null,null,null,null,0,0,0,null,null,null,null,null,null,0,0,0,null,null,null,null,null,null,0,0,0,null,null,null,null,null,null,0,0,0,null,null,null,null,null,null,0,0,0,null,null,null,null,null,null,0,0,0,null,null,null,null,null,null,0,0,0,null,null,null,null,null,null,0,0,0,null,null,null,null,null,null,0,0,0,null,null,null,null,null,null,0,0,0,null,null,null,null,null,null,0,0,0,null,null,null,null,null,null,0,0,0,null,null,null,null,null,null,0,0,0,null,null,null,null,null,null,0,0,0,null,null,null,null,null,null,0,0,0,null,null,null,null,null,null,0,0,0,null,null,null,null,null,null,0,0,0,null,null,null,null,null,null,0,0,0,null,null,null,null,null,null,0,0,0]
[null,null,null,0,0,0,null,null,null,null,null,null,0,0,0,null,null,null,null,null,null,0,0,0,null,null,null,null,null,null,0,0,0,null,null,null,null,null,null,0,0,0,null,null,null,null,null,null,0,0,0,null,null,null,null,null,null,0,0,0,null,null,null,null,null,null,0,0,0,null,null,null,null,null,null,0,0,0,null,null,null,null,null,null,0,0,0,null,null,null,null,null,null,0,0,0,null,null,null,null,null,null,0,0,0,null,null,null,null,null,null,0,0,0,null,null,null,null,null,null,0,0,0,null,null,null,null,null,null,0,0,0,null,null,null,null,null,null,0,0,0,null,null,null,null,null,null,0,0,0,null,null,null,null,null,null,0,0,0,null,null,null,null,null,null,0,0,0,null,null,null,null,null,null,0,0,0,null,null,null,null,null,null,0,0,0,null,null,null,null,null,null,0,0,0,null,null,null,null,null,null,0,0,0,null,null,null,null,null,null,0,0,0,null,null,null,null,null,null,0,0,0,null,null,null,null,null,null,0,0,0,null,null,null,null,null,null,0,0,0,null,null,null,null,null,null,0,0,0,null,null,null,null,null,null,0,0,0,null,null,null,null,null,null,0,0,0,null,null,null,null,null,null,0,0,0,null,null,null,null,null,null,0,0,0,null,null,null,null,null,null,0,0,0,null,null,null,null,null,null,0,0,0,null,null,null,null,null,null,0,0,0]
[null,null,null,0,0,0,null,null,null,null,null,null,0,0,0,null,null,null,null,null,null,0,0,0,null,null,null,null,null,null,0,0,0,null,null,null,null,null,null,0,0,0,null,null,null,null,null,null,0,0,0,null,null,null,null,null,null,0,0,0,null,null,null,null,null,null,0,0,0,null,null,null,null,null,null,0,0,0,null,null,null,null,null,null,0,0,0,null,null,null,null,null,null,0,0,0,null,null,null,null,null,null,0,0,0,null,null,null,null,null,null,0,0,0,null,null,null,null,null,null,0,0,0,null,null,null,null,null,null,0,0,0,null,null,null,null,null,null,0,0,0,null,null,null,null,null,null,0,0,0,null,null,null,null,null,null,0,0,0,null,null,null,null,null,null,0,0,0,null,null,null,null,null,null,0,0,0,null,null,null,null,null,null,0,0,0,null,null,null,null,null,null,0,0,0,null,null,null,null,null,null,0,0,0,null,null,null,null,null,null,0,0,0,null,null,null,null,null,null,0,0,0,null,null,null,null,null,null,0,0,0,null,null,null,null,null,null,0,0,0,null,null,null,null,null,null,0,0,0,null,null,null,null,null,null,0,0,0,null,null,null,null,null,null,0,0,0,null,null,null,null,null,null,0,0,0,null,null,null,null,null,null,0,0,0,null,null,null,null,null,null,0,0,0,null,null,null,null,null,null,0,0,0,null,null,null,null,null,null,0,0,0]
[null,null,null,0,0,0,null,null,null,null,null,null,0,0,0,null,null,null,null,null,null,0,0,0,null,null,null,null,null,null,0,0,0,null,null,null,null,null,null,0,0,0,null,null,null,null,null,null,0,0,0,null,null,null,null,null,null,0,0,0,null,null,null,null,null,null,0,0,0,null,null,null,null,null,null,0,0,0,null,null,null,null,null,null,0,0,0,null,null,null,null,null,null,0,0,0,null,null,null,null,null,null,0,0,0,null,null,null,null,null,null,0,0,0,null,null,null,null,null,null,0,0,0,null,null,null,null,null,null,0,0,0,null,null,null,null,null,null,0,0,0,null,null,null,null,null,null,0,0,0,null,null,null,null,null,null,0,0,0,null,null,null,null,null,null,0,0,0,null,null,null,null,null,null,0,0,0,null,null,null,null,null,null,0,0,0,null,null,null,null,null,null,0,0,0,null,null,null,null,null,null,0,0,0,null,null,null,null,null,null,0,0,0,null,null,null,null,null,null,0,0,0,null,null,null,null,null,null,0,0,0,null,null,null,null,null,null,0,0,0,null,null,null,null,null,null,0,0,0,null,null,null,null,null,null,0,0,0,null,null,null,null,null,null,0,0,0,null,null,null,null,null,null,0,0,0,null,null,null,null,null,null,0,0,0,null,null,null,null,null,null,0,0,0,null,null,null,null,null,null,0,0,0,null,null,null,null,null,null,0,0,0]
[null,null,null,0,0,0,null,null,null,null,null,null,0,0,0,null,null,null,null,null,null,0,0,0,null,null,null,null,null,null,0,0,0,null,null,null,null,null,null,0,0,0,null,null,null,null,null,null,0,0,0,null,null,null,null,null,null,0,0,0,null,null,null,null,null,null,0,0,0,null,null,null,null,null,null,0,0,0,null,null,null,null,null,null,0,0,0,null,null,null,null,null,null,0,0,0,null,null,null,null,null,null,0,0,0,null,null,null,null,null,null,0,0,0,null,null,null,null,null,null,0,0,0,null,null,null,null,null,null,0,0,0,null,null,null,null,null,null,0,0,0,null,null,null,null,null,null,0,0,0,null,null,null,null,null,null,0,0,0,null,null,null,null,null,null,0,0,0,null,null,null,null,null,null,0,0,0,null,null,null,null,null,null,0,0,0,null,null,null,null,null,null,0,0,0,null,null,null,null,null,null,0,0,0,null,null,null,null,null,null,0,0,0,null,null,null,null,null,null,0,0,0,null,null,null,null,null,null,0,0,0,null,null,null,null,null,null,0,0,0,null,null,null,null,null,null,0,0,0,null,null,null,null,null,null,0,0,0,null,null,null,null,null,null,0,0,0,null,null,null,null,null,null,0,0,0,null,null,null,null,null,null,0,0,0,null,null,null,null,null,null,0,0,0,null,null,null,null,null,null,0,0,0,null,null,null,null,null,null,0,0,0]
[null,null,null,0,0,0,null,null,null,null,null,null,0,0,0,null,null,null,null,null,null,0,0,0,null,null,null,null,null,null,0,0,0,null,null,null,null,null,null,0,0,0,null,null,null,null,null,null,0,0,0,null,null,null,null,null,null,0,0,0,null,null,null,null,null,null,0,0,0,null,null,null,null,null,null,0,0,0,null,null,null,null,null,null,0,0,0,null,null,null,null,null,null,0,0,0,null,null,null,null,null,null,0,0,0,null,null,null,null,null,null,0,0,0,null,null,null,null,null,null,0,0,0,null,null,null,null,null,null,0,0,0,null,null,null,null,null,null,0,0,0,null,null,null,null,null,null,0,0,0,null,null,null,null,null,null,0,0,0,null,null,null,null,null,null,0,0,0,null,null,null,null,null,null,0,0,0,null,null,null,null,null,null,0,0,0,null,null,null,null,null,null,0,0,0,null,null,null,null,null,null,0,0,0,null,null,null,null,null,null,0,0,0,null,null,null,null,null,null,0,0,0,null,null,null,null,null,null,0,0,0,null,null,null,null,null,null,0,0,0,null,null,null,null,null,null,0,0,0,null,null,null,null,null,null,0,0,0,null,null,null,null,null,null,0,0,0,null,null,null,null,null,null,0,0,0,null,null,null,null,null,null,0,0,0,null,null,null,null,null,null,0,0,0,null,null,null,null,null,null,0,0,0,null,null,null,null,null,null,0,0,0]
[null,null,null,0,0,0,null,null,null,null,null,null,0,0,0,null,null,null,null,null,null,0,0,0,null,null,null,null,null,null,0,0,0,null,null,null,null,null,null,0,0,0,null,null,null,null,null,null,0,0,0,null,null,null,null,null,null,0,0,0,null,null,null,null,null,null,0,0,0,null,null,null,null,null,null,0,0,0,null,null,null,null,null,null,0,0,0,null,null,null,null,null,null,0,0,0,null,null,null,null,null,null,0,0,0,null,null,null,null,null,null,0,0,0,null,null,null,null,null,null,0,0,0,null,null,null,null,null,null,0,0,0,null,null,null,null,null,null,0,0,0,null,null,null,null,null,null,0,0,0,null,null,null,null,null,null,0,0,0,null,null,null,null,null,null,0,0,0,null,null,null,null,null,null,0,0,0,null,null,null,null,null,null,0,0,0,null,null,null,null,null,null,0,0,0,null,null,null,null,null,null,0,0,0,null,null,null,null,null,null,0,0,0,null,null,null,null,null,null,0,0,0,null,null,null,null,null,null,0,0,0,null,null,null,null,null,null,0,0,0,null,null,null,null,null,null,0,0,0,null,null,null,null,null,null,0,0,0,null,null,null,null,null,null,0,0,0,null,null,null,null,null,null,0,0,0,null,null,null,null,null,null,0,0,0,null,null,null,null,null,null,0,0,0,null,null,null,null,null,null,0,0,0,null,null,null,null,null,null,0,0,0]
[null,null,null,0,0,0,null,null,null,null,null,null,0,0,0,null,null,null,null,null,null,0,0,0,null,null,null,null,null,null,0,0,0,null,null,null,null,null,null,0,0,0,null,null,null,null,null,null,0,0,0,null,null,null,null,null,null,0,0,0,null,null,null,null,null,null,0,0,0,null,null,null,null,null,null,0,0,0,null,null,null,null,null,null,0,0,0,null,null,null,null,null,null,0,0,0,null,null,null,null,null,null,0,0,0,null,null,null,null,null,null,0,0,0,null,null,null,null,null,null,0,0,0,null,null,null,null,null,null,0,0,0,null,null,null,null,null,null,0,0,0,null,null,null,null,null,null,0,0,0,null,null,null,null,null,null,0,0,0,null,null,null,null,null,null,0,0,0,null,null,null,null,null,null,0,0,0,null,null,null,null,null,null,0,0,0,null,null,null,null,null,null,0,0,0,null,null,null,null,null,null,0,0,0,null,null,null,null,null,null,0,0,0,null,null,null,null,null,null,0,0,0,null,null,null,null,null,null,0,0,0,null,null,null,null,null,null,0,0,0,null,null,null,null,null,null,0,0,0,null,null,null,null,null,null,0,0,0,null,null,null,null,null,null,0,0,0,null,null,null,null,null,null,0,0,0,null,null,null,null,null,null,0,0,0,null,null,null,null,null,null,0,0,0,null,null,null,null,null,null,0,0,0,null,null,null,null,null,null,0,0,0]
[null,null,null,0,0,0,null,null,null,null,null,null,0,0,0,null,null,null,null,null,null,0,0,0,null,null,null,null,null,null,0,0,0,null,null,null,null,null,null,0,0,0,null,null,null,null,null,null,0,0,0,null,null,null,null,null,null,0,0,0,null,null,null,null,null,null,0,0,0,null,null,null,null,null,null,0,0,0,null,null,null,null,null,null,0,0,0,null,null,null,null,null,null,0,0,0,null,null,null,null,null,null,0,0,0,null,null,null,null,null,null,0,0,0,null,null,null,null,null,null,0,0,0,null,null,null,null,null,null,0,0,0,null,null,null,null,null,null,0,0,0,null,null,null,null,null,null,0,0,0,null,null,null,null,null,null,0,0,0,null,null,null,null,null,null,0,0,0,null,null,null,null,null,null,0,0,0,null,null,null,null,null,null,0,0,0,null,null,null,null,null,null,0,0,0,null,null,null,null,null,null,0,0,0,null,null,null,null,null,null,0,0,0,null,null,null,null,null,null,0,0,0,null,null,null,null,null,null,0,0,0,null,null,null,null,null,null,0,0,0,null,null,null,null,null,null,0,0,0,null,null,null,null,null,null,0,0,0,null,null,null,null,null,null,0,0,0,null,null,null,null,null,null,0,0,0,null,null,null,null,null,null,0,0,0,null,null,null,null,null,null,0,0,0,null,null,null,null,null,null,0,0,0,null,null,null,null,null,null,0,0,0]
[null,null,null,0,0,0,null,null,null,null,null,null,0,0,0,null,null,null,null,null,null,0,0,0,null,null,null,null,null,null,0,0,0,null,null,null,null,null,null,0,0,0,null,null,null,null,null,null,0,0,0,null,null,null,null,null,null,0,0,0,null,null,null,null,null,null,0,0,0,null,null,null,null,null,null,0,0,0,null,null,null,null,null,null,0,0,0,null,null,null,null,null,null,0,0,0,null,null,null,null,null,null,0,0,0,null,null,null,null,null,null,0,0,0,null,null,null,null,null,null,0,0,0,null,null,null,null,null,null,0,0,0,null,null,null,null,null,null,0,0,0,null,null,null,null,null,null,0,0,0,null,null,null,null,null,null,0,0,0,null,null,null,null,null,null,0,0,0,null,null,null,null,null,null,0,0,0,null,null,null,null,null,null,0,0,0,null,null,null,null,null,null,0,0,0,null,null,null,null,null,null,0,0,0,null,null,null,null,null,null,0,0,0,null,null,null,null,null,null,0,0,0,null,null,null,null,null,null,0,0,0,null,null,null,null,null,null,0,0,0,null,null,null,null,null,null,0,0,0,null,null,null,null,null,null,0,0,0,null,null,null,null,null,null,0,0,0,null,null,null,null,null,null,0,0,0,null,null,null,null,null,null,0,0,0,null,null,null,null,null,null,0,0,0,null,null,null,null,null,null,0,0,0,null,null,null,null,null,null,0,0,0]
[null,null,null,0,0,0,null,null,null,null,null,null,0,0,0,null,null,null,null,null,null,0,0,0,null,null,null,null,null,null,0,0,0,null,null,null,null,null,null,0,0,0,null,null,null,null,null,null,0,0,0,null,null,null,null,null,null,0,0,0,null,null,null,null,null,null,0,0,0,null,null,null,null,null,null,0,0,0,null,null,null,null,null,null,0,0,0,null,null,null,null,null,null,0,0,0,null,null,null,null,null,null,0,0,0,null,null,null,null,null,null,0,0,0,null,null,null,null,null,null,0,0,0,null,null,null,null,null,null,0,0,0,null,null,null,null,null,null,0,0,0,null,null,null,null,null,null,0,0,0,null,null,null,null,null,null,0,0,0,null,null,null,null,null,null,0,0,0,null,null,null,null,null,null,0,0,0,null,null,null,null,null,null,0,0,0,null,null,null,null,null,null,0,0,0,null,null,null,null,null,null,0,0,0,null,null,null,null,null,null,0,0,0,null,null,null,null,null,null,0,0,0,null,null,null,null,null,null,0,0,0,null,null,null,null,null,null,0,0,0,null,null,null,null,null,null,0,0,0,null,null,null,null,null,null,0,0,0,null,null,null,null,null,null,0,0,0,null,null,null,null,null,null,0,0,0,null,null,null,null,null,null,0,0,0,null,null,null,null,null,null,0,0,0,null,null,null,null,null,null,0,0,0,null,null,null,null,null,null,0,0,0]
[null,null,null,0,0,0,null,null,null,null,null,null,0,0,0,null,null,null,null,null,null,0,0,0,null,null,null,null,null,null,0,0,0,null,null,null,null,null,null,0,0,0,null,null,null,null,null,null,0,0,0,null,null,null,null,null,null,0,0,0,null,null,null,null,null,null,0,0,0,null,null,null,null,null,null,0,0,0,null,null,null,null,null,null,0,0,0,null,null,null,null,null,null,0,0,0,null,null,null,null,null,null,0,0,0,null,null,null,null,null,null,0,0,0,null,null,null,null,null,null,0,0,0,null,null,null,null,null,null,0,0,0,null,null,null,null,null,null,0,0,0,null,null,null,null,null,null,0,0,0,null,null,null,null,null,null,0,0,0,null,null,null,null,null,null,0,0,0,null,null,null,null,null,null,0,0,0,null,null,null,null,null,null,0,0,0,null,null,null,null,null,null,0,0,0,null,null,null,null,null,null,0,0,0,null,null,null,null,null,null,0,0,0,null,null,null,null,null,null,0,0,0,null,null,null,null,null,null,0,0,0,null,null,null,null,null,null,0,0,0,null,null,null,null,null,null,0,0,0,null,null,null,null,null,null,0,0,0,null,null,null,null,null,null,0,0,0,null,null,null,null,null,null,0,0,0,null,null,null,null,null,null,0,0,0,null,null,null,null,null,null,0,0,0,null,null,null,null,null,null,0,0,0,null,null,null,null,null,null,0,0,0]
[null,null,null,0,0,0,null,null,null,null,null,null,0,0,0,null,null,null,null,null,null,0,0,0,null,null,null,null,null,null,0,0,0,null,null,null,null,null,null,0,0,0,null,null,null,null,null,null,0,0,0,null,null,null,null,null,null,0,0,0,null,null,null,null,null,null,0,0,0,null,null,null,null,null,null,0,0,0,null,null,null,null,null,null,0,0,0,null,null,null,null,null,null,0,0,0,null,null,null,null,null,null,0,0,0,null,null,null,null,null,null,0,0,0,null,null,null,null,null,null,0,0,0,null,null,null,null,null,null,0,0,0,null,null,null,null,null,null,0,0,0,null,null,null,null,null,null,0,0,0,null,null,null,null,null,null,0,0,0,null,null,null,null,null,null,0,0,0,null,null,null,null,null,null,0,0,0,null,null,null,null,null,null,0,0,0,null,null,null,null,null,null,0,0,0,null,null,null,null,null,null,0,0,0,null,null,null,null,null,null,0,0,0,null,null,null,null,null,null,0,0,0,null,null,null,null,null,null,0,0,0,null,null,null,null,null,null,0,0,0,null,null,null,null,null,null,0,0,0,null,null,null,null,null,null,0,0,0,null,null,null,null,null,null,0,0,0,null,null,null,null,null,null,0,0,0,null,null,null,null,null,null,0,0,0,null,null,null,null,null,null,0,0,0,null,null,null,null,null,null,0,0,0,null,null,null,null,null,null,0,0,0]
[null,null,null,0,0,0,null,null,null,null,null,null,0,0,0,null,null,null,null,null,null,0,0,0,null,null,null,null,null,null,0,0,0,null,null,null,null,null,null,0,0,0,null,null,null,null,null,null,0,0,0,null,null,null,null,null,null,0,0,0,null,null,null,null,null,null,0,0,0,null,null,null,null,null,null,0,0,0,null,null,null,null,null,null,0,0,0,null,null,null,null,null,null,0,0,0,null,null,null,null,null,null,0,0,0,null,null,null,null,null,null,0,0,0,null,null,null,null,null,null,0,0,0,null,null,null,null,null,null,0,0,0,null,null,null,null,null,null,0,0,0,null,null,null,null,null,null,0,0,0,null,null,null,null,null,null,0,0,0,null,null,null,null,null,null,0,0,0,null,null,null,null,null,null,0,0,0,null,null,null,null,null,null,0,0,0,null,null,null,null,null,null,0,0,0,null,null,null,null,null,null,0,0,0,null,null,null,null,null,null,0,0,0,null,null,null,null,null,null,0,0,0,null,null,null,null,null,null,0,0,0,null,null,null,null,null,null,0,0,0,null,null,null,null,null,null,0,0,0,null,null,null,null,null,null,0,0,0,null,null,null,null,null,null,0,0,0,null,null,null,null,null,null,0,0,0,null,null,null,null,null,null,0,0,0,null,null,null,null,null,null,0,0,0,null,null,null,null,null,null,0,0,0,null,null,null,null,null,null,0,0,0]
[null,null,null,0,0,0,null,null,null,null,null,null,0,0,0,null,null,null,null,null,null,0,0,0,null,null,null,null,null,null,0,0,0,null,null,null,null,null,null,0,0,0,null,null,null,null,null,null,0,0,0,null,null,null,null,null,null,0,0,0,null,null,null,null,null,null,0,0,0,null,null,null,null,null,null,0,0,0,null,null,null,null,null,null,0,0,0,null,null,null,null,null,null,0,0,0,null,null,null,null,null,null,0,0,0,null,null,null,null,null,null,0,0,0,null,null,null,null,null,null,0,0,0,null,null,null,null,null,null,0,0,0,null,null,null,null,null,null,0,0,0,null,null,null,null,null,null,0,0,0,null,null,null,null,null,null,0,0,0,null,null,null,null,null,null,0,0,0,null,null,null,null,null,null,0,0,0,null,null,null,null,null,null,0,0,0,null,null,null,null,null,null,0,0,0,null,null,null,null,null,null,0,0,0,null,null,null,null,null,null,0,0,0,null,null,null,null,null,null,0,0,0,null,null,null,null,null,null,0,0,0,null,null,null,null,null,null,0,0,0,null,null,null,null,null,null,0,0,0,null,null,null,null,null,null,0,0,0,null,null,null,null,null,null,0,0,0,null,null,null,null,null,null,0,0,0,null,null,null,null,null,null,0,0,0,null,null,null,null,null,null,0,0,0,null,null,null,null,null,null,0,0,0,null,null,null,null,null,null,0,0,0]
[null,null,null,0,0,0,null,null,null,null,null,null,0,0,0,null,null,null,null,null,null,0,0,0,null,null,null,null,null,null,0,0,0,null,null,null,null,null,null,0,0,0,null,null,null,null,null,null,0,0,0,null,null,null,null,null,null,0,0,0,null,null,null,null,null,null,0,0,0,null,null,null,null,null,null,0,0,0,null,null,null,null,null,null,0,0,0,null,null,null,null,null,null,0,0,0,null,null,null,null,null,null,0,0,0,null,null,null,null,null,null,0,0,0,null,null,null,null,null,null,0,0,0,null,null,null,null,null,null,0,0,0,null,null,null,null,null,null,0,0,0,null,null,null,null,null,null,0,0,0,null,null,null,null,null,null,0,0,0,null,null,null,null,null,null,0,0,0,null,null,null,null,null,null,0,0,0,null,null,null,null,null,null,0,0,0,null,null,null,null,null,null,0,0,0,null,null,null,null,null,null,0,0,0,null,null,null,null,null,null,0,0,0,null,null,null,null,null,null,0,0,0,null,null,null,null,null,null,0,0,0,null,null,null,null,null,null,0,0,0,null,null,null,null,null,null,0,0,0,null,null,null,null,null,null,0,0,0,null,null,null,null,null,null,0,0,0,null,null,null,null,null,null,0,0,0,null,null,null,null,null,null,0,0,0,null,null,null,null,null,null,0,0,0,null,null,null,null,null,null,0,0,0,null,null,null,null,null,null,0,0,0]
[null,null,null,0,0,0,null,null,null,null,null,null,0,0,0,null,null,null,null,null,null,0,0,0,null,null,null,null,null,null,0,0,0,null,null,null,null,null,null,0,0,0,null,null,null,null,null,null,0,0,0,null,null,null,null,null,null,0,0,0,null,null,null,null,null,null,0,0,0,null,null,null,null,null,null,0,0,0,null,null,null,null,null,null,0,0,0,null,null,null,null,null,null,0,0,0,null,null,null,null,null,null,0,0,0,null,null,null,null,null,null,0,0,0,null,null,null,null,null,null,0,0,0,null,null,null,null,null,null,0,0,0,null,null,null,null,null,null,0,0,0,null,null,null,null,null,null,0,0,0,null,null,null,null,null,null,0,0,0,null,null,null,null,null,null,0,0,0,null,null,null,null,null,null,0,0,0,null,null,null,null,null,null,0,0,0,null,null,null,null,null,null,0,0,0,null,null,null,null,null,null,0,0,0,null,null,null,null,null,null,0,0,0,null,null,null,null,null,null,0,0,0,null,null,null,null,null,null,0,0,0,null,null,null,null,null,null,0,0,0,null,null,null,null,null,null,0,0,0,null,null,null,null,null,null,0,0,0,null,null,null,null,null,null,0,0,0,null,null,null,null,null,null,0,0,0,null,null,null,null,null,null,0,0,0,null,null,null,null,null,null,0,0,0,null,null,null,null,null,null,0,0,0,null,null,null,null,null,null,0,0,0]
[null,null,null,0,0,0,null,null,null,null,null,null,0,0,0,null,null,null,null,null,null,0,0,0,null,null,null,null,null,null,0,0,0,null,null,null,null,null,null,0,0,0,null,null,null,null,null,null,0,0,0,null,null,null,null,null,null,0,0,0,null,null,null,null,null,null,0,0,0,null,null,null,null,null,null,0,0,0,null,null,null,null,null,null,0,0,0,null,null,null,null,null,null,0,0,0,null,null,null,null,null,null,0,0,0,null,null,null,null,null,null,0,0,0,null,null,null,null,null,null,0,0,0,null,null,null,null,null,null,0,0,0,null,null,null,null,null,null,0,0,0,null,null,null,null,null,null,0,0,0,null,null,null,null,null,null,0,0,0,null,null,null,null,null,null,0,0,0,null,null,null,null,null,null,0,0,0,null,null,null,null,null,null,0,0,0,null,null,null,null,null,null,0,0,0,null,null,null,null,null,null,0,0,0,null,null,null,null,null,null,0,0,0,null,null,null,null,null,null,0,0,0,null,null,null,null,null,null,0,0,0,null,null,null,null,null,null,0,0,0,null,null,null,null,null,null,0,0,0,null,null,null,null,null,null,0,0,0,null,null,null,null,null,null,0,0,0,null,null,null,null,null,null,0,0,0,null,null,null,null,null,null,0,0,0,null,null,null,null,null,null,0,0,0,null,null,null,null,null,null,0,0,0,null,null,null,null,null,null,0,0,0]
[null,null,null,0,0,0,null,null,null,null,null,null,0,0,0,null,null,null,null,null,null,0,0,0,null,null,null,null,null,null,0,0,0,null,null,null,null,null,null,0,0,0,null,null,null,null,null,null,0,0,0,null,null,null,null,null,null,0,0,0,null,null,null,null,null,null,0,0,0,null,null,null,null,null,null,0,0,0,null,null,null,null,null,null,0,0,0,null,null,null,null,null,null,0,0,0,null,null,null,null,null,null,0,0,0,null,null,null,null,null,null,0,0,0,null,null,null,null,null,null,0,0,0,null,null,null,null,null,null,0,0,0,null,null,null,null,null,null,0,0,0,null,null,null,null,null,null,0,0,0,null,null,null,null,null,null,0,0,0,null,null,null,null,null,null,0,0,0,null,null,null,null,null,null,0,0,0,null,null,null,null,null,null,0,0,0,null,null,null,null,null,null,0,0,0,null,null,null,null,null,null,0,0,0,null,null,null,null,null,null,0,0,0,null,null,null,null,null,null,0,0,0,null,null,null,null,null,null,0,0,0,null,null,null,null,null,null,0,0,0,null,null,null,null,null,null,0,0,0,null,null,null,null,null,null,0,0,0,null,null,null,null,null,null,0,0,0,null,null,null,null,null,null,0,0,0,null,null,null,null,null,null,0,0,0,null,null,null,null,null,null,0,0,0,null,null,null,null,null,null,0,0,0,null,null,null,null,null,null,0,0,0]
[null,null,null,0,0,0,null,null,null,null,null,null,0,0,0,null,null,null,null,null,null,0,0,0,null,null,null,null,null,null,0,0,0,null,null,null,null,null,null,0,0,0,null,null,null,null,null,null,0,0,0,null,null,null,null,null,null,0,0,0,null,null,null,null,null,null,0,0,0,null,null,null,null,null,null,0,0,0,null,null,null,null,null,null,0,0,0,null,null,null,null,null,null,0,0,0,null,null,null,null,null,null,0,0,0,null,null,null,null,null,null,0,0,0,null,null,null,null,null,null,0,0,0,null,null,null,null,null,null,0,0,0,null,null,null,null,null,null,0,0,0,null,null,null,null,null,null,0,0,0,null,null,null,null,null,null,0,0,0,null,null,null,null,null,null,0,0,0,null,null,null,null,null,null,0,0,0,null,null,null,null,null,null,0,0,0,null,null,null,null,null,null,0,0,0,null,null,null,null,null,null,0,0,0,null,null,null,null,null,null,0,0,0,null,null,null,null,null,null,0,0,0,null,null,null,null,null,null,0,0,0,null,null,null,null,null,null,0,0,0,null,null,null,null,null,null,0,0,0,null,null,null,null,null,null,0,0,0,null,null,null,null,null,null,0,0,0,null,null,null,null,null,null,0,0,0,null,null,null,null,null,null,0,0,0,null,null,null,null,null,null,0,0,0,null,null,null,null,null,null,0,0,0,null,null,null,null,null,null,0,0,0]
[null,null,null,0,0,0,null,null,null,null,null,null,0,0,0,null,null,null,null,null,null,0,0,0,null,null,null,null,null,null,0,0,0,null,null,null,null,null,null,0,0,0,null,null,null,null,null,null,0,0,0,null,null,null,null,null,null,0,0,0,null,null,null,null,null,null,0,0,0,null,null,null,null,null,null,0,0,0,null,null,null,null,null,null,0,0,0,null,null,null,null,null,null,0,0,0,null,null,null,null,null,null,0,0,0,null,null,null,null,null,null,0,0,0,null,null,null,null,null,null,0,0,0,null,null,null,null,null,null,0,0,0,null,null,null,null,null,null,0,0,0,null,null,null,null,null,null,0,0,0,null,null,null,null,null,null,0,0,0,null,null,null,null,null,null,0,0,0,null,null,null,null,null,null,0,0,0,null,null,null,null,null,null,0,0,0,null,null,null,null,null,null,0,0,0,null,null,null,null,null,null,0,0,0,null,null,null,null,null,null,0,0,0,null,null,null,null,null,null,0,0,0,null,null,null,null,null,null,0,0,0,null,null,null,null,null,null,0,0,0,null,null,null,null,null,null,0,0,0,null,null,null,null,null,null,0,0,0,null,null,null,null,null,null,0,0,0,null,null,null,null,null,null,0,0,0,null,null,null,null,null,null,0,0,0,null,null,null,null,null,null,0,0,0,null,null,null,null,null,null,0,0,0,null,null,null,null,null,null,0,0,0]
[null,null,null,0,0,0,null,null,null,null,null,null,0,0,0,null,null,null,null,null,null,0,0,0,null,null,null,null,null,null,0,0,0,null,null,null,null,null,null,0,0,0,null,null,null,null,null,null,0,0,0,null,null,null,null,null,null,0,0,0,null,null,null,null,null,null,0,0,0,null,null,null,null,null,null,0,0,0,null,null,null,null,null,null,0,0,0,null,null,null,null,null,null,0,0,0,null,null,null,null,null,null,0,0,0,null,null,null,null,null,null,0,0,0,null,null,null,null,null,null,0,0,0,null,null,null,null,null,null,0,0,0,null,null,null,null,null,null,0,0,0,null,null,null,null,null,null,0,0,0,null,null,null,null,null,null,0,0,0,null,null,null,null,null,null,0,0,0,null,null,null,null,null,null,0,0,0,null,null,null,null,null,null,0,0,0,null,null,null,null,null,null,0,0,0,null,null,null,null,null,null,0,0,0,null,null,null,null,null,null,0,0,0,null,null,null,null,null,null,0,0,0,null,null,null,null,null,null,0,0,0,null,null,null,null,null,null,0,0,0,null,null,null,null,null,null,0,0,0,null,null,null,null,null,null,0,0,0,null,null,null,null,null,null,0,0,0,null,null,null,null,null,null,0,0,0,null,null,null,null,null,null,0,0,0,null,null,null,null,null,null,0,0,0,null,null,null,null,null,null,0,0,0,null,null,null,null,null,null,0,0,0]
[null,null,null,0,0,0,null,null,null,null,null,null,0,0,0,null,null,null,null,null,null,0,0,0,null,null,null,null,null,null,0,0,0,null,null,null,null,null,null,0,0,0,null,null,null,null,null,null,0,0,0,null,null,null,null,null,null,0,0,0,null,null,null,null,null,null,0,0,0,null,null,null,null,null,null,0,0,0,null,null,null,null,null,null,0,0,0,null,null,null,null,null,null,0,0,0,null,null,null,null,null,null,0,0,0,null,null,null,null,null,null,0,0,0,null,null,null,null,null,null,0,0,0,null,null,null,null,null,null,0,0,0,null,null,null,null,null,null,0,0,0,null,null,null,null,null,null,0,0,0,null,null,null,null,null,null,0,0,0,null,null,null,null,null,null,0,0,0,null,null,null,null,null,null,0,0,0,null,null,null,null,null,null,0,0,0,null,null,null,null,null,null,0,0,0,null,null,null,null,null,null,0,0,0,null,null,null,null,null,null,0,0,0,null,null,null,null,null,null,0,0,0,null,null,null,null,null,null,0,0,0,null,null,null,null,null,null,0,0,0,null,null,null,null,null,null,0,0,0,null,null,null,null,null,null,0,0,0,null,null,null,null,null,null,0,0,0,null,null,null,null,null,null,0,0,0,null,null,null,null,null,null,0,0,0,null,null,null,null,null,null,0,0,0,null,null,null,null,null,null,0,0,0,null,null,null,null,null,null,0,0,0]
[null,null,null,0,0,0,null,null,null,null,null,null,0,0,0,null,null,null,null,null,null,0,0,0,null,null,null,null,null,null,0,0,0,null,null,null,null,null,null,0,0,0,null,null,null,null,null,null,0,0,0,null,null,null,null,null,null,0,0,0,null,null,null,null,null,null,0,0,0,null,null,null,null,null,null,0,0,0,null,null,null,null,null,null,0,0,0,null,null,null,null,null,null,0,0,0,null,null,null,null,null,null,0,0,0,null,null,null,null,null,null,0,0,0,null,null,null,null,null,null,0,0,0,null,null,null,null,null,null,0,0,0,null,null,null,null,null,null,0,0,0,null,null,null,null,null,null,0,0,0,null,null,null,null,null,null,0,0,0,null,null,null,null,null,null,0,0,0,null,null,null,null,null,null,0,0,0,null,null,null,null,null,null,0,0,0,null,null,null,null,null,null,0,0,0,null,null,null,null,null,null,0,0,0,null,null,null,null,null,null,0,0,0,null,null,null,null,null,null,0,0,0,null,null,null,null,null,null,0,0,0,null,null,null,null,null,null,0,0,0,null,null,null,null,null,null,0,0,0,null,null,null,null,null,null,0,0,0,null,null,null,null,null,null,0,0,0,null,null,null,null,null,null,0,0,0,null,null,null,null,null,null,0,0,0,null,null,null,null,null,null,0,0,0,null,null,null,null,null,null,0,0,0,null,null,null,null,null,null,0,0,0]
[null,null,null,0,0,0,null,null,null,null,null,null,0,0,0,null,null,null,null,null,null,0,0,0,null,null,null,null,null,null,0,0,0,null,null,null,null,null,null,0,0,0,null,null,null,null,null,null,0,0,0,null,null,null,null,null,null,0,0,0,null,null,null,null,null,null,0,0,0,null,null,null,null,null,null,0,0,0,null,null,null,null,null,null,0,0,0,null,null,null,null,null,null,0,0,0,null,null,null,null,null,null,0,0,0,null,null,null,null,null,null,0,0,0,null,null,null,null,null,null,0,0,0,null,null,null,null,null,null,0,0,0,null,null,null,null,null,null,0,0,0,null,null,null,null,null,null,0,0,0,null,null,null,null,null,null,0,0,0,null,null,null,null,null,null,0,0,0,null,null,null,null,null,null,0,0,0,null,null,null,null,null,null,0,0,0,null,null,null,null,null,null,0,0,0,null,null,null,null,null,null,0,0,0,null,null,null,null,null,null,0,0,0,null,null,null,null,null,null,0,0,0,null,null,null,null,null,null,0,0,0,null,null,null,null,null,null,0,0,0,null,null,null,null,null,null,0,0,0,null,null,null,null,null,null,0,0,0,null,null,null,null,null,null,0,0,0,null,null,null,null,null,null,0,0,0,null,null,null,null,null,null,0,0,0,null,null,null,null,null,null,0,0,0,null,null,null,null,null,null,0,0,0,null,null,null,null,null,null,0,0,0]
[null,null,null,0,0,0,null,null,null,null,null,null,0,0,0,null,null,null,null,null,null,0,0,0,null,null,null,null,null,null,0,0,0,null,null,null,null,null,null,0,0,0,null,null,null,null,null,null,0,0,0,null,null,null,null,null,null,0,0,0,null,null,null,null,null,null,0,0,0,null,null,null,null,null,null,0,0,0,null,null,null,null,null,null,0,0,0,null,null,null,null,null,null,0,0,0,null,null,null,null,null,null,0,0,0,null,null,null,null,null,null,0,0,0,null,null,null,null,null,null,0,0,0,null,null,null,null,null,null,0,0,0,null,null,null,null,null,null,0,0,0,null,null,null,null,null,null,0,0,0,null,null,null,null,null,null,0,0,0,null,null,null,null,null,null,0,0,0,null,null,null,null,null,null,0,0,0,null,null,null,null,null,null,0,0,0,null,null,null,null,null,null,0,0,0,null,null,null,null,null,null,0,0,0,null,null,null,null,null,null,0,0,0,null,null,null,null,null,null,0,0,0,null,null,null,null,null,null,0,0,0,null,null,null,null,null,null,0,0,0,null,null,null,null,null,null,0,0,0,null,null,null,null,null,null,0,0,0,null,null,null,null,null,null,0,0,0,null,null,null,null,null,null,0,0,0,null,null,null,null,null,null,0,0,0,null,null,null,null,null,null,0,0,0,null,null,null,null,null,null,0,0,0,null,null,null,null,null,null,0,0,0]
[null,null,null,0,0,0,null,null,null,null,null,null,0,0,0,null,null,null,null,null,null,0,0,0,null,null,null,null,null,null,0,0,0,null,null,null,null,null,null,0,0,0,null,null,null,null,null,null,0,0,0,null,null,null,null,null,null,0,0,0,null,null,null,null,null,null,0,0,0,null,null,null,null,null,null,0,0,0,null,null,null,null,null,null,0,0,0,null,null,null,null,null,null,0,0,0,null,null,null,null,null,null,0,0,0,null,null,null,null,null,null,0,0,0,null,null,null,null,null,null,0,0,0,null,null,null,null,null,null,0,0,0,null,null,null,null,null,null,0,0,0,null,null,null,null,null,null,0,0,0,null,null,null,null,null,null,0,0,0,null,null,null,null,null,null,0,0,0,null,null,null,null,null,null,0,0,0,null,null,null,null,null,null,0,0,0,null,null,null,null,null,null,0,0,0,null,null,null,null,null,null,0,0,0,null,null,null,null,null,null,0,0,0,null,null,null,null,null,null,0,0,0,null,null,null,null,null,null,0,0,0,null,null,null,null,null,null,0,0,0,null,null,null,null,null,null,0,0,0,null,null,null,null,null,null,0,0,0,null,null,null,null,null,null,0,0,0,null,null,null,null,null,null,0,0,0,null,null,null,null,null,null,0,0,0,null,null,null,null,null,null,0,0,0,null,null,null,null,null,null,0,0,0,null,null,null,null,null,null,0,0,0]
[null,null,null,0,0,0,null,null,null,null,null,null,0,0,0,null,null,null,null,null,null,0,0,0,null,null,null,null,null,null,0,0,0,null,null,null,null,null,null,0,0,0,null,null,null,null,null,null,0,0,0,null,null,null,null,null,null,0,0,0,null,null,null,null,null,null,0,0,0,null,null,null,null,null,null,0,0,0,null,null,null,null,null,null,0,0,0,null,null,null,null,null,null,0,0,0,null,null,null,null,null,null,0,0,0,null,null,null,null,null,null,0,0,0,null,null,null,null,null,null,0,0,0,null,null,null,null,null,null,0,0,0,null,null,null,null,null,null,0,0,0,null,null,null,null,null,null,0,0,0,null,null,null,null,null,null,0,0,0,null,null,null,null,null,null,0,0,0,null,null,null,null,null,null,0,0,0,null,null,null,null,null,null,0,0,0,null,null,null,null,null,null,0,0,0,null,null,null,null,null,null,0,0,0,null,null,null,null,null,null,0,0,0,null,null,null,null,null,null,0,0,0,null,null,null,null,null,null,0,0,0,null,null,null,null,null,null,0,0,0,null,null,null,null,null,null,0,0,0,null,null,null,null,null,null,0,0,0,null,null,null,null,null,null,0,0,0,null,null,null,null,null,null,0,0,0,null,null,null,null,null,null,0,0,0,null,null,null,null,null,null,0,0,0,null,null,null,null,null,null,0,0,0,null,null,null,null,null,null,0,0,0]
[null,null,null,0,0,0,null,null,null,null,null,null,0,0,0,null,null,null,null,null,null,0,0,0,null,null,null,null,null,null,0,0,0,null,null,null,null,null,null,0,0,0,null,null,null,null,null,null,0,0,0,null,null,null,null,null,null,0,0,0,null,null,null,null,null,null,0,0,0,null,null,null,null,null,null,0,0,0,null,null,null,null,null,null,0,0,0,null,null,null,null,null,null,0,0,0,null,null,null,null,null,null,0,0,0,null,null,null,null,null,null,0,0,0,null,null,null,null,null,null,0,0,0,null,null,null,null,null,null,0,0,0,null,null,null,null,null,null,0,0,0,null,null,null,null,null,null,0,0,0,null,null,null,null,null,null,0,0,0,null,null,null,null,null,null,0,0,0,null,null,null,null,null,null,0,0,0,null,null,null,null,null,null,0,0,0,null,null,null,null,null,null,0,0,0,null,null,null,null,null,null,0,0,0,null,null,null,null,null,null,0,0,0,null,null,null,null,null,null,0,0,0,null,null,null,null,null,null,0,0,0,null,null,null,null,null,null,0,0,0,null,null,null,null,null,null,0,0,0,null,null,null,null,null,null,0,0,0,null,null,null,null,null,null,0,0,0,null,null,null,null,null,null,0,0,0,null,null,null,null,null,null,0,0,0,null,null,null,null,null,null,0,0,0,null,null,null,null,null,null,0,0,0,null,null,null,null,null,null,0,0,0]
[null,null,null,0,0,0,null,null,null,null,null,null,0,0,0,null,null,null,null,null,null,0,0,0,null,null,null,null,null,null,0,0,0,null,null,null,null,null,null,0,0,0,null,null,null,null,null,null,0,0,0,null,null,null,null,null,null,0,0,0,null,null,null,null,null,null,0,0,0,null,null,null,null,null,null,0,0,0,null,null,null,null,null,null,0,0,0,null,null,null,null,null,null,0,0,0,null,null,null,null,null,null,0,0,0,null,null,null,null,null,null,0,0,0,null,null,null,null,null,null,0,0,0,null,null,null,null,null,null,0,0,0,null,null,null,null,null,null,0,0,0,null,null,null,null,null,null,0,0,0,null,null,null,null,null,null,0,0,0,null,null,null,null,null,null,0,0,0,null,null,null,null,null,null,0,0,0,null,null,null,null,null,null,0,0,0,null,null,null,null,null,null,0,0,0,null,null,null,null,null,null,0,0,0,null,null,null,null,null,null,0,0,0,null,null,null,null,null,null,0,0,0,null,null,null,null,null,null,0,0,0,null,null,null,null,null,null,0,0,0,null,null,null,null,null,null,0,0,0,null,null,null,null,null,null,0,0,0,null,null,null,null,null,null,0,0,0,null,null,null,null,null,null,0,0,0,null,null,null,null,null,null,0,0,0,null,null,null,null,null,null,0,0,0,null,null,null,null,null,null,0,0,0,null,null,null,null,null,null,0,0,0]
[null,null,null,0,0,0,null,null,null,null,null,null,0,0,0,null,null,null,null,null,null,0,0,0,null,null,null,null,null,null,0,0,0,null,null,null,null,null,null,0,0,0,null,null,null,null,null,null,0,0,0,null,null,null,null,null,null,0,0,0,null,null,null,null,null,null,0,0,0,null,null,null,null,null,null,0,0,0,null,null,null,null,null,null,0,0,0,null,null,null,null,null,null,0,0,0,null,null,null,null,null,null,0,0,0,null,null,null,null,null,null,0,0,0,null,null,null,null,null,null,0,0,0,null,null,null,null,null,null,0,0,0,null,null,null,null,null,null,0,0,0,null,null,null,null,null,null,0,0,0,null,null,null,null,null,null,0,0,0,null,null,null,null,null,null,0,0,0,null,null,null,null,null,null,0,0,0,null,null,null,null,null,null,0,0,0,null,null,null,null,null,null,0,0,0,null,null,null,null,null,null,0,0,0,null,null,null,null,null,null,0,0,0,null,null,null,null,null,null,0,0,0,null,null,null,null,null,null,0,0,0,null,null,null,null,null,null,0,0,0,null,null,null,null,null,null,0,0,0,null,null,null,null,null,null,0,0,0,null,null,null,null,null,null,0,0,0,null,null,null,null,null,null,0,0,0,null,null,null,null,null,null,0,0,0,null,null,null,null,null,null,0,0,0,null,null,null,null,null,null,0,0,0,null,null,null,null,null,null,0,0,0]
[null,null,null,0,0,0,null,null,null,null,null,null,0,0,0,null,null,null,null,null,null,0,0,0,null,null,null,null,null,null,0,0,0,null,null,null,null,null,null,0,0,0,null,null,null,null,null,null,0,0,0,null,null,null,null,null,null,0,0,0,null,null,null,null,null,null,0,0,0,null,null,null,null,null,null,0,0,0,null,null,null,null,null,null,0,0,0,null,null,null,null,null,null,0,0,0,null,null,null,null,null,null,0,0,0,null,null,null,null,null,null,0,0,0,null,null,null,null,null,null,0,0,0,null,null,null,null,null,null,0,0,0,null,null,null,null,null,null,0,0,0,null,null,null,null,null,null,0,0,0,null,null,null,null,null,null,0,0,0,null,null,null,null,null,null,0,0,0,null,null,null,null,null,null,0,0,0,null,null,null,null,null,null,0,0,0,null,null,null,null,null,null,0,0,0,null,null,null,null,null,null,0,0,0,null,null,null,null,null,null,0,0,0,null,null,null,null,null,null,0,0,0,null,null,null,null,null,null,0,0,0,null,null,null,null,null,null,0,0,0,null,null,null,null,null,null,0,0,0,null,null,null,null,null,null,0,0,0,null,null,null,null,null,null,0,0,0,null,null,null,null,null,null,0,0,0,null,null,null,null,null,null,0,0,0,null,null,null,null,null,null,0,0,0,null,null,null,null,null,null,0,0,0,null,null,null,null,null,null,0,0,0]
[null,null,null,0,0,0,null,null,null,null,null,null,0,0,0,null,null,null,null,null,null,0,0,0,null,null,null,null,null,null,0,0,0,null,null,null,null,null,null,0,0,0,null,null,null,null,null,null,0,0,0,null,null,null,null,null,null,0,0,0,null,null,null,null,null,null,0,0,0,null,null,null,null,null,null,0,0,0,null,null,null,null,null,null,0,0,0,null,null,null,null,null,null,0,0,0,null,null,null,null,null,null,0,0,0,null,null,null,null,null,null,0,0,0,null,null,null,null,null,null,0,0,0,null,null,null,null,null,null,0,0,0,null,null,null,null,null,null,0,0,0,null,null,null,null,null,null,0,0,0,null,null,null,null,null,null,0,0,0,null,null,null,null,null,null,0,0,0,null,null,null,null,null,null,0,0,0,null,null,null,null,null,null,0,0,0,null,null,null,null,null,null,0,0,0,null,null,null,null,null,null,0,0,0,null,null,null,null,null,null,0,0,0,null,null,null,null,null,null,0,0,0,null,null,null,null,null,null,0,0,0,null,null,null,null,null,null,0,0,0,null,null,null,null,null,null,0,0,0,null,null,null,null,null,null,0,0,0,null,null,null,null,null,null,0,0,0,null,null,null,null,null,null,0,0,0,null,null,null,null,null,null,0,0,0,null,null,null,null,null,null,0,0,0,null,null,null,null,null,null,0,0,0,null,null,null,null,null,null,0,0,0]
[null,null,null,0,0,0,null,null,null,null,null,null,0,0,0,null,null,null,null,null,null,0,0,0,null,null,null,null,null,null,0,0,0,null,null,null,null,null,null,0,0,0,null,null,null,null,null,null,0,0,0,null,null,null,null,null,null,0,0,0,null,null,null,null,null,null,0,0,0,null,null,null,null,null,null,0,0,0,null,null,null,null,null,null,0,0,0,null,null,null,null,null,null,0,0,0,null,null,null,null,null,null,0,0,0,null,null,null,null,null,null,0,0,0,null,null,null,null,null,null,0,0,0,null,null,null,null,null,null,0,0,0,null,null,null,null,null,null,0,0,0,null,null,null,null,null,null,0,0,0,null,null,null,null,null,null,0,0,0,null,null,null,null,null,null,0,0,0,null,null,null,null,null,null,0,0,0,null,null,null,null,null,null,0,0,0,null,null,null,null,null,null,0,0,0,null,null,null,null,null,null,0,0,0,null,null,null,null,null,null,0,0,0,null,null,null,null,null,null,0,0,0,null,null,null,null,null,null,0,0,0,null,null,null,null,null,null,0,0,0,null,null,null,null,null,null,0,0,0,null,null,null,null,null,null,0,0,0,null,null,null,null,null,null,0,0,0,null,null,null,null,null,null,0,0,0,null,null,null,null,null,null,0,0,0,null,null,null,null,null,null,0,0,0,null,null,null,null,null,null,0,0,0,null,null,null,null,null,null,0,0,0]
[null,null,null,0,0,0,null,null,null,null,null,null,0,0,0,null,null,null,null,null,null,0,0,0,null,null,null,null,null,null,0,0,0,null,null,null,null,null,null,0,0,0,null,null,null,null,null,null,0,0,0,null,null,null,null,null,null,0,0,0,null,null,null,null,null,null,0,0,0,null,null,null,null,null,null,0,0,0,null,null,null,null,null,null,0,0,0,null,null,null,null,null,null,0,0,0,null,null,null,null,null,null,0,0,0,null,null,null,null,null,null,0,0,0,null,null,null,null,null,null,0,0,0,null,null,null,null,null,null,0,0,0,null,null,null,null,null,null,0,0,0,null,null,null,null,null,null,0,0,0,null,null,null,null,null,null,0,0,0,null,null,null,null,null,null,0,0,0,null,null,null,null,null,null,0,0,0,null,null,null,null,null,null,0,0,0,null,null,null,null,null,null,0,0,0,null,null,null,null,null,null,0,0,0,null,null,null,null,null,null,0,0,0,null,null,null,null,null,null,0,0,0,null,null,null,null,null,null,0,0,0,null,null,null,null,null,null,0,0,0,null,null,null,null,null,null,0,0,0,null,null,null,null,null,null,0,0,0,null,null,null,null,null,null,0,0,0,null,null,null,null,null,null,0,0,0,null,null,null,null,null,null,0,0,0,null,null,null,null,null,null,0,0,0,null,null,null,null,null,null,0,0,0,null,null,null,null,null,null,0,0,0]
[null,null,null,0,0,0,null,null,null,null,null,null,0,0,0,null,null,null,null,null,null,0,0,0,null,null,null,null,null,null,0,0,0,null,null,null,null,null,null,0,0,0,null,null,null,null,null,null,0,0,0,null,null,null,null,null,null,0,0,0,null,null,null,null,null,null,0,0,0,null,null,null,null,null,null,0,0,0,null,null,null,null,null,null,0,0,0,null,null,null,null,null,null,0,0,0,null,null,null,null,null,null,0,0,0,null,null,null,null,null,null,0,0,0,null,null,null,null,null,null,0,0,0,null,null,null,null,null,null,0,0,0,null,null,null,null,null,null,0,0,0,null,null,null,null,null,null,0,0,0,null,null,null,null,null,null,0,0,0,null,null,null,null,null,null,0,0,0,null,null,null,null,null,null,0,0,0,null,null,null,null,null,null,0,0,0,null,null,null,null,null,null,0,0,0,null,null,null,null,null,null,0,0,0,null,null,null,null,null,null,0,0,0,null,null,null,null,null,null,0,0,0,null,null,null,null,null,null,0,0,0,null,null,null,null,null,null,0,0,0,null,null,null,null,null,null,0,0,0,null,null,null,null,null,null,0,0,0,null,null,null,null,null,null,0,0,0,null,null,null,null,null,null,0,0,0,null,null,null,null,null,null,0,0,0,null,null,null,null,null,null,0,0,0,null,null,null,null,null,null,0,0,0,null,null,null,null,null,null,0,0,0]
[null,null,null,0,0,0,null,null,null,null,null,null,0,0,0,null,null,null,null,null,null,0,0,0,null,null,null,null,null,null,0,0,0,null,null,null,null,null,null,0,0,0,null,null,null,null,null,null,0,0,0,null,null,null,null,null,null,0,0,0,null,null,null,null,null,null,0,0,0,null,null,null,null,null,null,0,0,0,null,null,null,null,null,null,0,0,0,null,null,null,null,null,null,0,0,0,null,null,null,null,null,null,0,0,0,null,null,null,null,null,null,0,0,0,null,null,null,null,null,null,0,0,0,null,null,null,null,null,null,0,0,0,null,null,null,null,null,null,0,0,0,null,null,null,null,null,null,0,0,0,null,null,null,null,null,null,0,0,0,null,null,null,null,null,null,0,0,0,null,null,null,null,null,null,0,0,0,null,null,null,null,null,null,0,0,0,null,null,null,null,null,null,0,0,0,null,null,null,null,null,null,0,0,0,null,null,null,null,null,null,0,0,0,null,null,null,null,null,null,0,0,0,null,null,null,null,null,null,0,0,0,null,null,null,null,null,null,0,0,0,null,null,null,null,null,null,0,0,0,null,null,null,null,null,null,0,0,0,null,null,null,null,null,null,0,0,0,null,null,null,null,null,null,0,0,0,null,null,null,null,null,null,0,0,0,null,null,null,null,null,null,0,0,0,null,null,null,null,null,null,0,0,0,null,null,null,null,null,null,0,0,0]
[null,null,null,0,0,0,null,null,null,null,null,null,0,0,0,null,null,null,null,null,null,0,0,0,null,null,null,null,null,null,0,0,0,null,null,null,null,null,null,0,0,0,null,null,null,null,null,null,0,0,0,null,null,null,null,null,null,0,0,0,null,null,null,null,null,null,0,0,0,null,null,null,null,null,null,0,0,0,null,null,null,null,null,null,0,0,0,null,null,null,null,null,null,0,0,0,null,null,null,null,null,null,0,0,0,null,null,null,null,null,null,0,0,0,null,null,null,null,null,null,0,0,0,null,null,null,null,null,null,0,0,0,null,null,null,null,null,null,0,0,0,null,null,null,null,null,null,0,0,0,null,null,null,null,null,null,0,0,0,null,null,null,null,null,null,0,0,0,null,null,null,null,null,null,0,0,0,null,null,null,null,null,null,0,0,0,null,null,null,null,null,null,0,0,0,null,null,null,null,null,null,0,0,0,null,null,null,null,null,null,0,0,0,null,null,null,null,null,null,0,0,0,null,null,null,null,null,null,0,0,0,null,null,null,null,null,null,0,0,0,null,null,null,null,null,null,0,0,0,null,null,null,null,null,null,0,0,0,null,null,null,null,null,null,0,0,0,null,null,null,null,null,null,0,0,0,null,null,null,null,null,null,0,0,0,null,null,null,null,null,null,0,0,0,null,null,null,null,null,null,0,0,0,null,null,null,null,null,null,0,0,0]
[null,null,null,0,0,0,null,null,null,null,null,null,0,0,0,null,null,null,null,null,null,0,0,0,null,null,null,null,null,null,0,0,0,null,null,null,null,null,null,0,0,0,null,null,null,null,null,null,0,0,0,null,null,null,null,null,null,0,0,0,null,null,null,null,null,null,0,0,0,null,null,null,null,null,null,0,0,0,null,null,null,null,null,null,0,0,0,null,null,null,null,null,null,0,0,0,null,null,null,null,null,null,0,0,0,null,null,null,null,null,null,0,0,0,null,null,null,null,null,null,0,0,0,null,null,null,null,null,null,0,0,0,null,null,null,null,null,null,0,0,0,null,null,null,null,null,null,0,0,0,null,null,null,null,null,null,0,0,0,null,null,null,null,null,null,0,0,0,null,null,null,null,null,null,0,0,0,null,null,null,null,null,null,0,0,0,null,null,null,null,null,null,0,0,0,null,null,null,null,null,null,0,0,0,null,null,null,null,null,null,0,0,0,null,null,null,null,null,null,0,0,0,null,null,null,null,null,null,0,0,0,null,null,null,null,null,null,0,0,0,null,null,null,null,null,null,0,0,0,null,null,null,null,null,null,0,0,0,null,null,null,null,null,null,0,0,0,null,null,null,null,null,null,0,0,0,null,null,null,null,null,null,0,0,0,null,null,null,null,null,null,0,0,0,null,null,null,null,null,null,0,0,0,null,null,null,null,null,null,0,0,0]
[null,null,null,0,0,0,null,null,null,null,null,null,0,0,0,null,null,null,null,null,null,0,0,0,null,null,null,null,null,null,0,0,0,null,null,null,null,null,null,0,0,0,null,null,null,null,null,null,0,0,0,null,null,null,null,null,null,0,0,0,null,null,null,null,null,null,0,0,0,null,null,null,null,null,null,0,0,0,null,null,null,null,null,null,0,0,0,null,null,null,null,null,null,0,0,0,null,null,null,null,null,null,0,0,0,null,null,null,null,null,null,0,0,0,null,null,null,null,null,null,0,0,0,null,null,null,null,null,null,0,0,0,null,null,null,null,null,null,0,0,0,null,null,null,null,null,null,0,0,0,null,null,null,null,null,null,0,0,0,null,null,null,null,null,null,0,0,0,null,null,null,null,null,null,0,0,0,null,null,null,null,null,null,0,0,0,null,null,null,null,null,null,0,0,0,null,null,null,null,null,null,0,0,0,null,null,null,null,null,null,0,0,0,null,null,null,null,null,null,0,0,0,null,null,null,null,null,null,0,0,0,null,null,null,null,null,null,0,0,0,null,null,null,null,null,null,0,0,0,null,null,null,null,null,null,0,0,0,null,null,null,null,null,null,0,0,0,null,null,null,null,null,null,0,0,0,null,null,null,null,null,null,0,0,0,null,null,null,null,null,null,0,0,0,null,null,null,null,null,null,0,0,0,null,null,null,null,null,null,0,0,0]
[null,null,null,0,0,0,null,null,null,null,null,null,0,0,0,null,null,null,null,null,null,0,0,0,null,null,null,null,null,null,0,0,0,null,null,null,null,null,null,0,0,0,null,null,null,null,null,null,0,0,0,null,null,null,null,null,null,0,0,0,null,null,null,null,null,null,0,0,0,null,null,null,null,null,null,0,0,0,null,null,null,null,null,null,0,0,0,null,null,null,null,null,null,0,0,0,null,null,null,null,null,null,0,0,0,null,null,null,null,null,null,0,0,0,null,null,null,null,null,null,0,0,0,null,null,null,null,null,null,0,0,0,null,null,null,null,null,null,0,0,0,null,null,null,null,null,null,0,0,0,null,null,null,null,null,null,0,0,0,null,null,null,null,null,null,0,0,0,null,null,null,null,null,null,0,0,0,null,null,null,null,null,null,0,0,0,null,null,null,null,null,null,0,0,0,null,null,null,null,null,null,0,0,0,null,null,null,null,null,null,0,0,0,null,null,null,null,null,null,0,0,0,null,null,null,null,null,null,0,0,0,null,null,null,null,null,null,0,0,0,null,null,null,null,null,null,0,0,0,null,null,null,null,null,null,0,0,0,null,null,null,null,null,null,0,0,0,null,null,null,null,null,null,0,0,0,null,null,null,null,null,null,0,0,0,null,null,null,null,null,null,0,0,0,null,null,null,null,null,null,0,0,0,null,null,null,null,null,null,0,0,0]
[null,null,null,0,0,0,null,null,null,null,null,null,0,0,0,null,null,null,null,null,null,0,0,0,null,null,null,null,null,null,0,0,0,null,null,null,null,null,null,0,0,0,null,null,null,null,null,null,0,0,0,null,null,null,null,null,null,0,0,0,null,null,null,null,null,null,0,0,0,null,null,null,null,null,null,0,0,0,null,null,null,null,null,null,0,0,0,null,null,null,null,null,null,0,0,0,null,null,null,null,null,null,0,0,0,null,null,null,null,null,null,0,0,0,null,null,null,null,null,null,0,0,0,null,null,null,null,null,null,0,0,0,null,null,null,null,null,null,0,0,0,null,null,null,null,null,null,0,0,0,null,null,null,null,null,null,0,0,0,null,null,null,null,null,null,0,0,0,null,null,null,null,null,null,0,0,0,null,null,null,null,null,null,0,0,0,null,null,null,null,null,null,0,0,0,null,null,null,null,null,null,0,0,0,null,null,null,null,null,null,0,0,0,null,null,null,null,null,null,0,0,0,null,null,null,null,null,null,0,0,0,null,null,null,null,null,null,0,0,0,null,null,null,null,null,null,0,0,0,null,null,null,null,null,null,0,0,0,null,null,null,null,null,null,0,0,0,null,null,null,null,null,null,0,0,0,null,null,null,null,null,null,0,0,0,null,null,null,null,null,null,0,0,0,null,null,null,null,null,null,0,0,0,null,null,null,null,null,null,0,0,0]
[null,null,null,0,0,0,null,null,null,null,null,null,0,0,0,null,null,null,null,null,null,0,0,0,null,null,null,null,null,null,0,0,0,null,null,null,null,null,null,0,0,0,null,null,null,null,null,null,0,0,0,null,null,null,null,null,null,0,0,0,null,null,null,null,null,null,0,0,0,null,null,null,null,null,null,0,0,0,null,null,null,null,null,null,0,0,0,null,null,null,null,null,null,0,0,0,null,null,null,null,null,null,0,0,0,null,null,null,null,null,null,0,0,0,null,null,null,null,null,null,0,0,0,null,null,null,null,null,null,0,0,0,null,null,null,null,null,null,0,0,0,null,null,null,null,null,null,0,0,0,null,null,null,null,null,null,0,0,0,null,null,null,null,null,null,0,0,0,null,null,null,null,null,null,0,0,0,null,null,null,null,null,null,0,0,0,null,null,null,null,null,null,0,0,0,null,null,null,null,null,null,0,0,0,null,null,null,null,null,null,0,0,0,null,null,null,null,null,null,0,0,0,null,null,null,null,null,null,0,0,0,null,null,null,null,null,null,0,0,0,null,null,null,null,null,null,0,0,0,null,null,null,null,null,null,0,0,0,null,null,null,null,null,null,0,0,0,null,null,null,null,null,null,0,0,0,null,null,null,null,null,null,0,0,0,null,null,null,null,null,null,0,0,0,null,null,null,null,null,null,0,0,0,null,null,null,null,null,null,0,0,0]
[null,null,null,0,0,0,null,null,null,null,null,null,0,0,0,null,null,null,null,null,null,0,0,0,null,null,null,null,null,null,0,0,0,null,null,null,null,null,null,0,0,0,null,null,null,null,null,null,0,0,0,null,null,null,null,null,null,0,0,0,null,null,null,null,null,null,0,0,0,null,null,null,null,null,null,0,0,0,null,null,null,null,null,null,0,0,0,null,null,null,null,null,null,0,0,0,null,null,null,null,null,null,0,0,0,null,null,null,null,null,null,0,0,0,null,null,null,null,null,null,0,0,0,null,null,null,null,null,null,0,0,0,null,null,null,null,null,null,0,0,0,null,null,null,null,null,null,0,0,0,null,null,null,null,null,null,0,0,0,null,null,null,null,null,null,0,0,0,null,null,null,null,null,null,0,0,0,null,null,null,null,null,null,0,0,0,null,null,null,null,null,null,0,0,0,null,null,null,null,null,null,0,0,0,null,null,null,null,null,null,0,0,0,null,null,null,null,null,null,0,0,0,null,null,null,null,null,null,0,0,0,null,null,null,null,null,null,0,0,0,null,null,null,null,null,null,0,0,0,null,null,null,null,null,null,0,0,0,null,null,null,null,null,null,0,0,0,null,null,null,null,null,null,0,0,0,null,null,null,null,null,null,0,0,0,null,null,null,null,null,null,0,0,0,null,null,null,null,null,null,0,0,0,null,null,null,null,null,null,0,0,0]
[null,null,null,0,0,0,null,null,null,null,null,null,0,0,0,null,null,null,null,null,null,0,0,0,null,null,null,null,null,null,0,0,0,null,null,null,null,null,null,0,0,0,null,null,null,null,null,null,0,0,0,null,null,null,null,null,null,0,0,0,null,null,null,null,null,null,0,0,0,null,null,null,null,null,null,0,0,0,null,null,null,null,null,null,0,0,0,null,null,null,null,null,null,0,0,0,null,null,null,null,null,null,0,0,0,null,null,null,null,null,null,0,0,0,null,null,null,null,null,null,0,0,0,null,null,null,null,null,null,0,0,0,null,null,null,null,null,null,0,0,0,null,null,null,null,null,null,0,0,0,null,null,null,null,null,null,0,0,0,null,null,null,null,null,null,0,0,0,null,null,null,null,null,null,0,0,0,null,null,null,null,null,null,0,0,0,null,null,null,null,null,null,0,0,0,null,null,null,null,null,null,0,0,0,null,null,null,null,null,null,0,0,0,null,null,null,null,null,null,0,0,0,null,null,null,null,null,null,0,0,0,null,null,null,null,null,null,0,0,0,null,null,null,null,null,null,0,0,0,null,null,null,null,null,null,0,0,0,null,null,null,null,null,null,0,0,0,null,null,null,null,null,null,0,0,0,null,null,null,null,null,null,0,0,0,null,null,null,null,null,null,0,0,0,null,null,null,null,null,null,0,0,0,null,null,null,null,null,null,0,0,0]
[null,null,null,0,0,0,null,null,null,null,null,null,0,0,0,null,null,null,null,null,null,0,0,0,null,null,null,null,null,null,0,0,0,null,null,null,null,null,null,0,0,0,null,null,null,null,null,null,0,0,0,null,null,null,null,null,null,0,0,0,null,null,null,null,null,null,0,0,0,null,null,null,null,null,null,0,0,0,null,null,null,null,null,null,0,0,0,null,null,null,null,null,null,0,0,0,null,null,null,null,null,null,0,0,0,null,null,null,null,null,null,0,0,0,null,null,null,null,null,null,0,0,0,null,null,null,null,null,null,0,0,0,null,null,null,null,null,null,0,0,0,null,null,null,null,null,null,0,0,0,null,null,null,null,null,null,0,0,0,null,null,null,null,null,null,0,0,0,null,null,null,null,null,null,0,0,0,null,null,null,null,null,null,0,0,0,null,null,null,null,null,null,0,0,0,null,null,null,null,null,null,0,0,0,null,null,null,null,null,null,0,0,0,null,null,null,null,null,null,0,0,0,null,null,null,null,null,null,0,0,0,null,null,null,null,null,null,0,0,0,null,null,null,null,null,null,0,0,0,null,null,null,null,null,null,0,0,0,null,null,null,null,null,null,0,0,0,null,null,null,null,null,null,0,0,0,null,null,null,null,null,null,0,0,0,null,null,null,null,null,null,0,0,0,null,null,null,null,null,null,0,0,0,null,null,null,null,null,null,0,0,0]
[null,null,null,0,0,0,null,null,null,null,null,null,0,0,0,null,null,null,null,null,null,0,0,0,null,null,null,null,null,null,0,0,0,null,null,null,null,null,null,0,0,0,null,null,null,null,null,null,0,0,0,null,null,null,null,null,null,0,0,0,null,null,null,null,null,null,0,0,0,null,null,null,null,null,null,0,0,0,null,null,null,null,null,null,0,0,0,null,null,null,null,null,null,0,0,0,null,null,null,null,null,null,0,0,0,null,null,null,null,null,null,0,0,0,null,null,null,null,null,null,0,0,0,null,null,null,null,null,null,0,0,0,null,null,null,null,null,null,0,0,0,null,null,null,null,null,null,0,0,0,null,null,null,null,null,null,0,0,0,null,null,null,null,null,null,0,0,0,null,null,null,null,null,null,0,0,0,null,null,null,null,null,null,0,0,0,null,null,null,null,null,null,0,0,0,null,null,null,null,null,null,0,0,0,null,null,null,null,null,null,0,0,0,null,null,null,null,null,null,0,0,0,null,null,null,null,null,null,0,0,0,null,null,null,null,null,null,0,0,0,null,null,null,null,null,null,0,0,0,null,null,null,null,null,null,0,0,0,null,null,null,null,null,null,0,0,0,null,null,null,null,null,null,0,0,0,null,null,null,null,null,null,0,0,0,null,null,null,null,null,null,0,0,0,null,null,null,null,null,null,0,0,0,null,null,null,null,null,null,0,0,0]
[null,null,null,0,0,0,null,null,null,null,null,null,0,0,0,null,null,null,null,null,null,0,0,0,null,null,null,null,null,null,0,0,0,null,null,null,null,null,null,0,0,0,null,null,null,null,null,null,0,0,0,null,null,null,null,null,null,0,0,0,null,null,null,null,null,null,0,0,0,null,null,null,null,null,null,0,0,0,null,null,null,null,null,null,0,0,0,null,null,null,null,null,null,0,0,0,null,null,null,null,null,null,0,0,0,null,null,null,null,null,null,0,0,0,null,null,null,null,null,null,0,0,0,null,null,null,null,null,null,0,0,0,null,null,null,null,null,null,0,0,0,null,null,null,null,null,null,0,0,0,null,null,null,null,null,null,0,0,0,null,null,null,null,null,null,0,0,0,null,null,null,null,null,null,0,0,0,null,null,null,null,null,null,0,0,0,null,null,null,null,null,null,0,0,0,null,null,null,null,null,null,0,0,0,null,null,null,null,null,null,0,0,0,null,null,null,null,null,null,0,0,0,null,null,null,null,null,null,0,0,0,null,null,null,null,null,null,0,0,0,null,null,null,null,null,null,0,0,0,null,null,null,null,null,null,0,0,0,null,null,null,null,null,null,0,0,0,null,null,null,null,null,null,0,0,0,null,null,null,null,null,null,0,0,0,null,null,null,null,null,null,0,0,0,null,null,null,null,null,null,0,0,0,null,null,null,null,null,null,0,0,0]
[null,null,null,0,0,0,null,null,null,null,null,null,0,0,0,null,null,null,null,null,null,0,0,0,null,null,null,null,null,null,0,0,0,null,null,null,null,null,null,0,0,0,null,null,null,null,null,null,0,0,0,null,null,null,null,null,null,0,0,0,null,null,null,null,null,null,0,0,0,null,null,null,null,null,null,0,0,0,null,null,null,null,null,null,0,0,0,null,null,null,null,null,null,0,0,0,null,null,null,null,null,null,0,0,0,null,null,null,null,null,null,0,0,0,null,null,null,null,null,null,0,0,0,null,null,null,null,null,null,0,0,0,null,null,null,null,null,null,0,0,0,null,null,null,null,null,null,0,0,0,null,null,null,null,null,null,0,0,0,null,null,null,null,null,null,0,0,0,null,null,null,null,null,null,0,0,0,null,null,null,null,null,null,0,0,0,null,null,null,null,null,null,0,0,0,null,null,null,null,null,null,0,0,0,null,null,null,null,null,null,0,0,0,null,null,null,null,null,null,0,0,0,null,null,null,null,null,null,0,0,0,null,null,null,null,null,null,0,0,0,null,null,null,null,null,null,0,0,0,null,null,null,null,null,null,0,0,0,null,null,null,null,null,null,0,0,0,null,null,null,null,null,null,0,0,0,null,null,null,null,null,null,0,0,0,null,null,null,null,null,null,0,0,0,null,null,null,null,null,null,0,0,0,null,null,null,null,null,null,0,0,0]
[null,null,null,0,0,0,null,null,null,null,null,null,0,0,0,null,null,null,null,null,null,0,0,0,null,null,null,null,null,null,0,0,0,null,null,null,null,null,null,0,0,0,null,null,null,null,null,null,0,0,0,null,null,null,null,null,null,0,0,0,null,null,null,null,null,null,0,0,0,null,null,null,null,null,null,0,0,0,null,null,null,null,null,null,0,0,0,null,null,null,null,null,null,0,0,0,null,null,null,null,null,null,0,0,0,null,null,null,null,null,null,0,0,0,null,null,null,null,null,null,0,0,0,null,null,null,null,null,null,0,0,0,null,null,null,null,null,null,0,0,0,null,null,null,null,null,null,0,0,0,null,null,null,null,null,null,0,0,0,null,null,null,null,null,null,0,0,0,null,null,null,null,null,null,0,0,0,null,null,null,null,null,null,0,0,0,null,null,null,null,null,null,0,0,0,null,null,null,null,null,null,0,0,0,null,null,null,null,null,null,0,0,0,null,null,null,null,null,null,0,0,0,null,null,null,null,null,null,0,0,0,null,null,null,null,null,null,0,0,0,null,null,null,null,null,null,0,0,0,null,null,null,null,null,null,0,0,0,null,null,null,null,null,null,0,0,0,null,null,null,null,null,null,0,0,0,null,null,null,null,null,null,0,0,0,null,null,null,null,null,null,0,0,0,null,null,null,null,null,null,0,0,0,null,null,null,null,null,null,0,0,0]
[null,null,null,0,0,0,null,null,null,null,null,null,0,0,0,null,null,null,null,null,null,0,0,0,null,null,null,null,null,null,0,0,0,null,null,null,null,null,null,0,0,0,null,null,null,null,null,null,0,0,0,null,null,null,null,null,null,0,0,0,null,null,null,null,null,null,0,0,0,null,null,null,null,null,null,0,0,0,null,null,null,null,null,null,0,0,0,null,null,null,null,null,null,0,0,0,null,null,null,null,null,null,0,0,0,null,null,null,null,null,null,0,0,0,null,null,null,null,null,null,0,0,0,null,null,null,null,null,null,0,0,0,null,null,null,null,null,null,0,0,0,null,null,null,null,null,null,0,0,0,null,null,null,null,null,null,0,0,0,null,null,null,null,null,null,0,0,0,null,null,null,null,null,null,0,0,0,null,null,null,null,null,null,0,0,0,null,null,null,null,null,null,0,0,0,null,null,null,null,null,null,0,0,0,null,null,null,null,null,null,0,0,0,null,null,null,null,null,null,0,0,0,null,null,null,null,null,null,0,0,0,null,null,null,null,null,null,0,0,0,null,null,null,null,null,null,0,0,0,null,null,null,null,null,null,0,0,0,null,null,null,null,null,null,0,0,0,null,null,null,null,null,null,0,0,0,null,null,null,null,null,null,0,0,0,null,null,null,null,null,null,0,0,0,null,null,null,null,null,null,0,0,0,null,null,null,null,null,null,0,0,0]
[null,null,null,0,0,0,null,null,null,null,null,null,0,0,0,null,null,null,null,null,null,0,0,0,null,null,null,null,null,null,0,0,0,null,null,null,null,null,null,0,0,0,null,null,null,null,null,null,0,0,0,null,null,null,null,null,null,0,0,0,null,null,null,null,null,null,0,0,0,null,null,null,null,null,null,0,0,0,null,null,null,null,null,null,0,0,0,null,null,null,null,null,null,0,0,0,null,null,null,null,null,null,0,0,0,null,null,null,null,null,null,0,0,0,null,null,null,null,null,null,0,0,0,null,null,null,null,null,null,0,0,0,null,null,null,null,null,null,0,0,0,null,null,null,null,null,null,0,0,0,null,null,null,null,null,null,0,0,0,null,null,null,null,null,null,0,0,0,null,null,null,null,null,null,0,0,0,null,null,null,null,null,null,0,0,0,null,null,null,null,null,null,0,0,0,null,null,null,null,null,null,0,0,0,null,null,null,null,null,null,0,0,0,null,null,null,null,null,null,0,0,0,null,null,null,null,null,null,0,0,0,null,null,null,null,null,null,0,0,0,null,null,null,null,null,null,0,0,0,null,null,null,null,null,null,0,0,0,null,null,null,null,null,null,0,0,0,null,null,null,null,null,null,0,0,0,null,null,null,null,null,null,0,0,0,null,null,null,null,null,null,0,0,0,null,null,null,null,null,null,0,0,0,null,null,null,null,null,null,0,0,0]
[null,null,null,0,0,0,null,null,null,null,null,null,0,0,0,null,null,null,null,null,null,0,0,0,null,null,null,null,null,null,0,0,0,null,null,null,null,null,null,0,0,0,null,null,null,null,null,null,0,0,0,null,null,null,null,null,null,0,0,0,null,null,null,null,null,null,0,0,0,null,null,null,null,null,null,0,0,0,null,null,null,null,null,null,0,0,0,null,null,null,null,null,null,0,0,0,null,null,null,null,null,null,0,0,0,null,null,null,null,null,null,0,0,0,null,null,null,null,null,null,0,0,0,null,null,null,null,null,null,0,0,0,null,null,null,null,null,null,0,0,0,null,null,null,null,null,null,0,0,0,null,null,null,null,null,null,0,0,0,null,null,null,null,null,null,0,0,0,null,null,null,null,null,null,0,0,0,null,null,null,null,null,null,0,0,0,null,null,null,null,null,null,0,0,0,null,null,null,null,null,null,0,0,0,null,null,null,null,null,null,0,0,0,null,null,null,null,null,null,0,0,0,null,null,null,null,null,null,0,0,0,null,null,null,null,null,null,0,0,0,null,null,null,null,null,null,0,0,0,null,null,null,null,null,null,0,0,0,null,null,null,null,null,null,0,0,0,null,null,null,null,null,null,0,0,0,null,null,null,null,null,null,0,0,0,null,null,null,null,null,null,0,0,0,null,null,null,null,null,null,0,0,0,null,null,null,null,null,null,0,0,0]
[null,null,null,0,0,0,null,null,null,null,null,null,0,0,0,null,null,null,null,null,null,0,0,0,null,null,null,null,null,null,0,0,0,null,null,null,null,null,null,0,0,0,null,null,null,null,null,null,0,0,0,null,null,null,null,null,null,0,0,0,null,null,null,null,null,null,0,0,0,null,null,null,null,null,null,0,0,0,null,null,null,null,null,null,0,0,0,null,null,null,null,null,null,0,0,0,null,null,null,null,null,null,0,0,0,null,null,null,null,null,null,0,0,0,null,null,null,null,null,null,0,0,0,null,null,null,null,null,null,0,0,0,null,null,null,null,null,null,0,0,0,null,null,null,null,null,null,0,0,0,null,null,null,null,null,null,0,0,0,null,null,null,null,null,null,0,0,0,null,null,null,null,null,null,0,0,0,null,null,null,null,null,null,0,0,0,null,null,null,null,null,null,0,0,0,null,null,null,null,null,null,0,0,0,null,null,null,null,null,null,0,0,0,null,null,null,null,null,null,0,0,0,null,null,null,null,null,null,0,0,0,null,null,null,null,null,null,0,0,0,null,null,null,null,null,null,0,0,0,null,null,null,null,null,null,0,0,0,null,null,null,null,null,null,0,0,0,null,null,null,null,null,null,0,0,0,null,null,null,null,null,null,0,0,0,null,null,null,null,null,null,0,0,0,null,null,null,null,null,null,0,0,0,null,null,null,null,null,null,0,0,0]
[null,null,null,0,0,0,null,null,null,null,null,null,0,0,0,null,null,null,null,null,null,0,0,0,null,null,null,null,null,null,0,0,0,null,null,null,null,null,null,0,0,0,null,null,null,null,null,null,0,0,0,null,null,null,null,null,null,0,0,0,null,null,null,null,null,null,0,0,0,null,null,null,null,null,null,0,0,0,null,null,null,null,null,null,0,0,0,null,null,null,null,null,null,0,0,0,null,null,null,null,null,null,0,0,0,null,null,null,null,null,null,0,0,0,null,null,null,null,null,null,0,0,0,null,null,null,null,null,null,0,0,0,null,null,null,null,null,null,0,0,0,null,null,null,null,null,null,0,0,0,null,null,null,null,null,null,0,0,0,null,null,null,null,null,null,0,0,0,null,null,null,null,null,null,0,0,0,null,null,null,null,null,null,0,0,0,null,null,null,null,null,null,0,0,0,null,null,null,null,null,null,0,0,0,null,null,null,null,null,null,0,0,0,null,null,null,null,null,null,0,0,0,null,null,null,null,null,null,0,0,0,null,null,null,null,null,null,0,0,0,null,null,null,null,null,null,0,0,0,null,null,null,null,null,null,0,0,0,null,null,null,null,null,null,0,0,0,null,null,null,null,null,null,0,0,0,null,null,null,null,null,null,0,0,0,null,null,null,null,null,null,0,0,0,null,null,null,null,null,null,0,0,0,null,null,null,null,null,null,0,0,0]
[null,null,null,0,0,0,null,null,null,null,null,null,0,0,0,null,null,null,null,null,null,0,0,0,null,null,null,null,null,null,0,0,0,null,null,null,null,null,null,0,0,0,null,null,null,null,null,null,0,0,0,null,null,null,null,null,null,0,0,0,null,null,null,null,null,null,0,0,0,null,null,null,null,null,null,0,0,0,null,null,null,null,null,null,0,0,0,null,null,null,null,null,null,0,0,0,null,null,null,null,null,null,0,0,0,null,null,null,null,null,null,0,0,0,null,null,null,null,null,null,0,0,0,null,null,null,null,null,null,0,0,0,null,null,null,null,null,null,0,0,0,null,null,null,null,null,null,0,0,0,null,null,null,null,null,null,0,0,0,null,null,null,null,null,null,0,0,0,null,null,null,null,null,null,0,0,0,null,null,null,null,null,null,0,0,0,null,null,null,null,null,null,0,0,0,null,null,null,null,null,null,0,0,0,null,null,null,null,null,null,0,0,0,null,null,null,null,null,null,0,0,0,null,null,null,null,null,null,0,0,0,null,null,null,null,null,null,0,0,0,null,null,null,null,null,null,0,0,0,null,null,null,null,null,null,0,0,0,null,null,null,null,null,null,0,0,0,null,null,null,null,null,null,0,0,0,null,null,null,null,null,null,0,0,0,null,null,null,null,null,null,0,0,0,null,null,null,null,null,null,0,0,0,null,null,null,null,null,null,0,0,0]
[null,null,null,0,0,0,null,null,null,null,null,null,{"$f":"IF(L123=\"\",0,1)","v":0},{"$f":"IF(Q123=\"TAK\",1,0)","v":0},{"$f":"IF(R123=\"TAK\",1,0)","v":0},null,null,null,null,null,null,{"$f":"IF(U123=\"\",0,1)","v":0},{"$f":"IF(Z123=\"TAK\",1,0)","v":0},{"$f":"IF(AA123=\"TAK\",1,0)","v":0},null,null,null,null,null,null,{"$f":"IF(AD123=\"\",0,1)","v":0},{"$f":"IF(AI123=\"TAK\",1,0)","v":0},{"$f":"IF(AJ123=\"TAK\",1,0)","v":0},null,null,null,null,null,null,{"$f":"IF(AM123=\"\",0,1)","v":0},{"$f":"IF(AR123=\"TAK\",1,0)","v":0},{"$f":"IF(AS123=\"TAK\",1,0)","v":0},null,null,null,null,null,null,{"$f":"IF(AV123=\"\",0,1)","v":0},{"$f":"IF(BA123=\"TAK\",1,0)","v":0},{"$f":"IF(BB123=\"TAK\",1,0)","v":0},null,null,null,null,null,null,{"$f":"IF(BE123=\"\",0,1)","v":0},{"$f":"IF(BJ123=\"TAK\",1,0)","v":0},{"$f":"IF(BK123=\"TAK\",1,0)","v":0},null,null,null,null,null,null,{"$f":"IF(BN123=\"\",0,1)","v":0},{"$f":"IF(BS123=\"TAK\",1,0)","v":0},{"$f":"IF(BT123=\"TAK\",1,0)","v":0},null,null,null,null,null,null,{"$f":"IF(BW123=\"\",0,1)","v":0},{"$f":"IF(CB123=\"TAK\",1,0)","v":0},{"$f":"IF(CC123=\"TAK\",1,0)","v":0},null,null,null,null,null,null,{"$f":"IF(CF123=\"\",0,1)","v":0},{"$f":"IF(CK123=\"TAK\",1,0)","v":0},{"$f":"IF(CL123=\"TAK\",1,0)","v":0},null,null,null,null,null,null,{"$f":"IF(CO123=\"\",0,1)","v":0},{"$f":"IF(CT123=\"TAK\",1,0)","v":0},{"$f":"IF(CU123=\"TAK\",1,0)","v":0},null,null,null,null,null,null,{"$f":"IF(CX123=\"\",0,1)","v":0},{"$f":"IF(DC123=\"TAK\",1,0)","v":0},{"$f":"IF(DD123=\"TAK\",1,0)","v":0},null,null,null,null,null,null,{"$f":"IF(DG123=\"\",0,1)","v":0},{"$f":"IF(DL123=\"TAK\",1,0)","v":0},{"$f":"IF(DM123=\"TAK\",1,0)","v":0},null,null,null,null,null,null,{"$f":"IF(DP123=\"\",0,1)","v":0},{"$f":"IF(DU123=\"TAK\",1,0)","v":0},{"$f":"IF(DV123=\"TAK\",1,0)","v":0},null,null,null,null,null,null,{"$f":"IF(DY123=\"\",0,1)","v":0},{"$f":"IF(ED123=\"TAK\",1,0)","v":0},{"$f":"IF(EE123=\"TAK\",1,0)","v":0},null,null,null,null,null,null,{"$f":"IF(EH123=\"\",0,1)","v":0},{"$f":"IF(EM123=\"TAK\",1,0)","v":0},{"$f":"IF(EN123=\"TAK\",1,0)","v":0},null,null,null,null,null,null,{"$f":"IF(EQ123=\"\",0,1)","v":0},{"$f":"IF(EV123=\"TAK\",1,0)","v":0},{"$f":"IF(EW123=\"TAK\",1,0)","v":0},null,null,null,null,null,null,{"$f":"IF(EZ123=\"\",0,1)","v":0},{"$f":"IF(FE123=\"TAK\",1,0)","v":0},{"$f":"IF(FF123=\"TAK\",1,0)","v":0},null,null,null,null,null,null,{"$f":"IF(FI123=\"\",0,1)","v":0},{"$f":"IF(FN123=\"TAK\",1,0)","v":0},{"$f":"IF(FO123=\"TAK\",1,0)","v":0},null,null,null,null,null,null,{"$f":"IF(FR123=\"\",0,1)","v":0},{"$f":"IF(FW123=\"TAK\",1,0)","v":0},{"$f":"IF(FX123=\"TAK\",1,0)","v":0},null,null,null,null,null,null,{"$f":"IF(GA123=\"\",0,1)","v":0},{"$f":"IF(GF123=\"TAK\",1,0)","v":0},{"$f":"IF(GG123=\"TAK\",1,0)","v":0},null,null,null,null,null,null,{"$f":"IF(GJ123=\"\",0,1)","v":0},{"$f":"IF(GO123=\"TAK\",1,0)","v":0},{"$f":"IF(GP123=\"TAK\",1,0)","v":0},null,null,null,null,null,null,{"$f":"IF(GS123=\"\",0,1)","v":0},{"$f":"IF(GX123=\"TAK\",1,0)","v":0},{"$f":"IF(GY123=\"TAK\",1,0)","v":0},null,null,null,null,null,null,{"$f":"IF(HB123=\"\",0,1)","v":0},{"$f":"IF(HG123=\"TAK\",1,0)","v":0},{"$f":"IF(HH123=\"TAK\",1,0)","v":0},null,null,null,null,null,null,{"$f":"IF(HK123=\"\",0,1)","v":0},{"$f":"IF(HP123=\"TAK\",1,0)","v":0},{"$f":"IF(HQ123=\"TAK\",1,0)","v":0},null,null,null,null,null,null,{"$f":"IF(HT123=\"\",0,1)","v":0},{"$f":"IF(HY123=\"TAK\",1,0)","v":0},{"$f":"IF(HZ123=\"TAK\",1,0)","v":0},null,null,null,null,null,null,{"$f":"IF(IC123=\"\",0,1)","v":0},{"$f":"IF(IH123=\"TAK\",1,0)","v":0},{"$f":"IF(II123=\"TAK\",1,0)","v":0},null,null,null,null,null,null,{"$f":"IF(IL123=\"\",0,1)","v":0},{"$f":"IF(IQ123=\"TAK\",1,0)","v":0},{"$f":"IF(IR123=\"TAK\",1,0)","v":0},null,null,null,null,null,null,{"$f":"IF(IU123=\"\",0,1)","v":0},{"$f":"IF(IZ123=\"TAK\",1,0)","v":0},{"$f":"IF(JA123=\"TAK\",1,0)","v":0},null,null,null,null,null,null,{"$f":"IF(JD123=\"\",0,1)","v":0},{"$f":"IF(JI123=\"TAK\",1,0)","v":0},{"$f":"IF(JJ123=\"TAK\",1,0)","v":0},null,null,null,null,null,null,{"$f":"IF(JM123=\"\",0,1)","v":0},{"$f":"IF(JR123=\"TAK\",1,0)","v":0},{"$f":"IF(JS123=\"TAK\",1,0)","v":0},null,null,null,null,null,null,{"$f":"IF(JV123=\"\",0,1)","v":0},{"$f":"IF(KA123=\"TAK\",1,0)","v":0},{"$f":"IF(KB123=\"TAK\",1,0)","v":0},null,null,null,null,null,null,{"$f":"IF(KE123=\"\",0,1)","v":0},{"$f":"IF(KJ123=\"TAK\",1,0)","v":0},{"$f":"IF(KK123=\"TAK\",1,0)","v":0},null,null,null,null,null,null,{"$f":"IF(KN123=\"\",0,1)","v":0},{"$f":"IF(KS123=\"TAK\",1,0)","v":0},{"$f":"IF(KT123=\"TAK\",1,0)","v":0},null,null,null,null,null,null,{"$f":"IF(KW123=\"\",0,1)","v":0},{"$f":"IF(LB123=\"TAK\",1,0)","v":0},{"$f":"IF(LC123=\"TAK\",1,0)","v":0}]
[null,null,null,{"$f":"IF(C124=\"\",0,1)","v":0},{"$f":"IF(H124=\"TAK\",1,0)","v":0},{"$f":"IF(I124=\"TAK\",1,0)","v":0},null,null,null,null,null,null,0,0,0,null,null,null,null,null,null,0,0,0,null,null,null,null,null,null,0,0,0,null,null,null,null,null,null,0,0,0,null,null,null,null,null,null,0,0,0,null,null,null,null,null,null,0,0,0,null,null,null,null,null,null,0,0,0,null,null,null,null,null,null,0,0,0,null,null,null,null,null,null,0,0,0,null,null,null,null,null,null,0,0,0,null,null,null,null,null,null,0,0,0,null,null,null,null,null,null,0,0,0,null,null,null,null,null,null,0,0,0,null,null,null,null,null,null,0,0,0,null,null,null,null,null,null,0,0,0,null,null,null,null,null,null,0,0,0,null,null,null,null,null,null,0,0,0,null,null,null,null,null,null,0,0,0,null,null,null,null,null,null,0,0,0,null,null,null,null,null,null,0,0,0,null,null,null,null,null,null,0,0,0,null,null,null,null,null,null,0,0,0,null,null,null,null,null,null,0,0,0,null,null,null,null,null,null,0,0,0,null,null,null,null,null,null,0,0,0,null,null,null,null,null,null,0,0,0,null,null,null,null,null,null,0,0,0,null,null,null,null,null,null,0,0,0,null,null,null,null,null,null,0,0,0,null,null,null,null,null,null,0,0,0,null,null,null,null,null,null,0,0,0,null,null,null,null,null,null,0,0,0,null,null,null,null,null,null,0,0,0,null,null,null,null,null,null,0,0,0]
[null,null,null,0,0,0,null,null,null,null,null,null,0,0,0,null,null,null,null,null,null,0,0,0,null,null,null,null,null,null,0,0,0,null,null,null,null,null,null,0,0,0,null,null,null,null,null,null,0,0,0,null,null,null,null,null,null,0,0,0,null,null,null,null,null,null,0,0,0,null,null,null,null,null,null,0,0,0,null,null,null,null,null,null,0,0,0,null,null,null,null,null,null,0,0,0,null,null,null,null,null,null,0,0,0,null,null,null,null,null,null,0,0,0,null,null,null,null,null,null,0,0,0,null,null,null,null,null,null,0,0,0,null,null,null,null,null,null,0,0,0,null,null,null,null,null,null,0,0,0,null,null,null,null,null,null,0,0,0,null,null,null,null,null,null,0,0,0,null,null,null,null,null,null,0,0,0,null,null,null,null,null,null,0,0,0,null,null,null,null,null,null,0,0,0,null,null,null,null,null,null,0,0,0,null,null,null,null,null,null,0,0,0,null,null,null,null,null,null,0,0,0,null,null,null,null,null,null,0,0,0,null,null,null,null,null,null,0,0,0,null,null,null,null,null,null,0,0,0,null,null,null,null,null,null,0,0,0,null,null,null,null,null,null,0,0,0,null,null,null,null,null,null,0,0,0,null,null,null,null,null,null,0,0,0,null,null,null,null,null,null,0,0,0,null,null,null,null,null,null,0,0,0,null,null,null,null,null,null,0,0,0]
[null,null,null,0,0,0,null,null,null,null,null,null,0,0,0,null,null,null,null,null,null,0,0,0,null,null,null,null,null,null,0,0,0,null,null,null,null,null,null,0,0,0,null,null,null,null,null,null,0,0,0,null,null,null,null,null,null,0,0,0,null,null,null,null,null,null,0,0,0,null,null,null,null,null,null,0,0,0,null,null,null,null,null,null,0,0,0,null,null,null,null,null,null,0,0,0,null,null,null,null,null,null,0,0,0,null,null,null,null,null,null,0,0,0,null,null,null,null,null,null,0,0,0,null,null,null,null,null,null,0,0,0,null,null,null,null,null,null,0,0,0,null,null,null,null,null,null,0,0,0,null,null,null,null,null,null,0,0,0,null,null,null,null,null,null,0,0,0,null,null,null,null,null,null,0,0,0,null,null,null,null,null,null,0,0,0,null,null,null,null,null,null,0,0,0,null,null,null,null,null,null,0,0,0,null,null,null,null,null,null,0,0,0,null,null,null,null,null,null,0,0,0,null,null,null,null,null,null,0,0,0,null,null,null,null,null,null,0,0,0,null,null,null,null,null,null,0,0,0,null,null,null,null,null,null,0,0,0,null,null,null,null,null,null,0,0,0,null,null,null,null,null,null,0,0,0,null,null,null,null,null,null,0,0,0,null,null,null,null,null,null,0,0,0,null,null,null,null,null,null,0,0,0,null,null,null,null,null,null,0,0,0]
[null,null,null,0,0,0,null,null,null,null,null,null,0,0,0,null,null,null,null,null,null,0,0,0,null,null,null,null,null,null,0,0,0,null,null,null,null,null,null,0,0,0,null,null,null,null,null,null,0,0,0,null,null,null,null,null,null,0,0,0,null,null,null,null,null,null,0,0,0,null,null,null,null,null,null,0,0,0,null,null,null,null,null,null,0,0,0,null,null,null,null,null,null,0,0,0,null,null,null,null,null,null,0,0,0,null,null,null,null,null,null,0,0,0,null,null,null,null,null,null,0,0,0,null,null,null,null,null,null,0,0,0,null,null,null,null,null,null,0,0,0,null,null,null,null,null,null,0,0,0,null,null,null,null,null,null,0,0,0,null,null,null,null,null,null,0,0,0,null,null,null,null,null,null,0,0,0,null,null,null,null,null,null,0,0,0,null,null,null,null,null,null,0,0,0,null,null,null,null,null,null,0,0,0,null,null,null,null,null,null,0,0,0,null,null,null,null,null,null,0,0,0,null,null,null,null,null,null,0,0,0,null,null,null,null,null,null,0,0,0,null,null,null,null,null,null,0,0,0,null,null,null,null,null,null,0,0,0,null,null,null,null,null,null,0,0,0,null,null,null,null,null,null,0,0,0,null,null,null,null,null,null,0,0,0,null,null,null,null,null,null,0,0,0,null,null,null,null,null,null,0,0,0,null,null,null,null,null,null,0,0,0]
[null,null,null,0,0,0,null,null,null,null,null,null,0,0,0,null,null,null,null,null,null,0,0,0,null,null,null,null,null,null,0,0,0,null,null,null,null,null,null,0,0,0,null,null,null,null,null,null,0,0,0,null,null,null,null,null,null,0,0,0,null,null,null,null,null,null,0,0,0,null,null,null,null,null,null,0,0,0,null,null,null,null,null,null,0,0,0,null,null,null,null,null,null,0,0,0,null,null,null,null,null,null,0,0,0,null,null,null,null,null,null,0,0,0,null,null,null,null,null,null,0,0,0,null,null,null,null,null,null,0,0,0,null,null,null,null,null,null,0,0,0,null,null,null,null,null,null,0,0,0,null,null,null,null,null,null,0,0,0,null,null,null,null,null,null,0,0,0,null,null,null,null,null,null,0,0,0,null,null,null,null,null,null,0,0,0,null,null,null,null,null,null,0,0,0,null,null,null,null,null,null,0,0,0,null,null,null,null,null,null,0,0,0,null,null,null,null,null,null,0,0,0,null,null,null,null,null,null,0,0,0,null,null,null,null,null,null,0,0,0,null,null,null,null,null,null,0,0,0,null,null,null,null,null,null,0,0,0,null,null,null,null,null,null,0,0,0,null,null,null,null,null,null,0,0,0,null,null,null,null,null,null,0,0,0,null,null,null,null,null,null,0,0,0,null,null,null,null,null,null,0,0,0,null,null,null,null,null,null,0,0,0]
[null,null,null,0,0,0,null,null,null,null,null,null,0,0,0,null,null,null,null,null,null,0,0,0,null,null,null,null,null,null,0,0,0,null,null,null,null,null,null,0,0,0,null,null,null,null,null,null,0,0,0,null,null,null,null,null,null,0,0,0,null,null,null,null,null,null,0,0,0,null,null,null,null,null,null,0,0,0,null,null,null,null,null,null,0,0,0,null,null,null,null,null,null,0,0,0,null,null,null,null,null,null,0,0,0,null,null,null,null,null,null,0,0,0,null,null,null,null,null,null,0,0,0,null,null,null,null,null,null,0,0,0,null,null,null,null,null,null,0,0,0,null,null,null,null,null,null,0,0,0,null,null,null,null,null,null,0,0,0,null,null,null,null,null,null,0,0,0,null,null,null,null,null,null,0,0,0,null,null,null,null,null,null,0,0,0,null,null,null,null,null,null,0,0,0,null,null,null,null,null,null,0,0,0,null,null,null,null,null,null,0,0,0,null,null,null,null,null,null,0,0,0,null,null,null,null,null,null,0,0,0,null,null,null,null,null,null,0,0,0,null,null,null,null,null,null,0,0,0,null,null,null,null,null,null,0,0,0,null,null,null,null,null,null,0,0,0,null,null,null,null,null,null,0,0,0,null,null,null,null,null,null,0,0,0,null,null,null,null,null,null,0,0,0,null,null,null,null,null,null,0,0,0,null,null,null,null,null,null,0,0,0]
[null,null,null,0,0,0,null,null,null,null,null,null,{"$f":"IF(L187=\"\",0,1)","v":0},{"$f":"IF(Q187=\"TAK\",1,0)","v":0},{"$f":"IF(R187=\"TAK\",1,0)","v":0},null,null,null,null,null,null,{"$f":"IF(U187=\"\",0,1)","v":0},{"$f":"IF(Z187=\"TAK\",1,0)","v":0},{"$f":"IF(AA187=\"TAK\",1,0)","v":0},null,null,null,null,null,null,{"$f":"IF(AD187=\"\",0,1)","v":0},{"$f":"IF(AI187=\"TAK\",1,0)","v":0},{"$f":"IF(AJ187=\"TAK\",1,0)","v":0},null,null,null,null,null,null,{"$f":"IF(AM187=\"\",0,1)","v":0},{"$f":"IF(AR187=\"TAK\",1,0)","v":0},{"$f":"IF(AS187=\"TAK\",1,0)","v":0},null,null,null,null,null,null,{"$f":"IF(AV187=\"\",0,1)","v":0},{"$f":"IF(BA187=\"TAK\",1,0)","v":0},{"$f":"IF(BB187=\"TAK\",1,0)","v":0},null,null,null,null,null,null,{"$f":"IF(BE187=\"\",0,1)","v":0},{"$f":"IF(BJ187=\"TAK\",1,0)","v":0},{"$f":"IF(BK187=\"TAK\",1,0)","v":0},null,null,null,null,null,null,{"$f":"IF(BN187=\"\",0,1)","v":0},{"$f":"IF(BS187=\"TAK\",1,0)","v":0},{"$f":"IF(BT187=\"TAK\",1,0)","v":0},null,null,null,null,null,null,{"$f":"IF(BW187=\"\",0,1)","v":0},{"$f":"IF(CB187=\"TAK\",1,0)","v":0},{"$f":"IF(CC187=\"TAK\",1,0)","v":0},null,null,null,null,null,null,{"$f":"IF(CF187=\"\",0,1)","v":0},{"$f":"IF(CK187=\"TAK\",1,0)","v":0},{"$f":"IF(CL187=\"TAK\",1,0)","v":0},null,null,null,null,null,null,{"$f":"IF(CO187=\"\",0,1)","v":0},{"$f":"IF(CT187=\"TAK\",1,0)","v":0},{"$f":"IF(CU187=\"TAK\",1,0)","v":0},null,null,null,null,null,null,{"$f":"IF(CX187=\"\",0,1)","v":0},{"$f":"IF(DC187=\"TAK\",1,0)","v":0},{"$f":"IF(DD187=\"TAK\",1,0)","v":0},null,null,null,null,null,null,{"$f":"IF(DG187=\"\",0,1)","v":0},{"$f":"IF(DL187=\"TAK\",1,0)","v":0},{"$f":"IF(DM187=\"TAK\",1,0)","v":0},null,null,null,null,null,null,{"$f":"IF(DP187=\"\",0,1)","v":0},{"$f":"IF(DU187=\"TAK\",1,0)","v":0},{"$f":"IF(DV187=\"TAK\",1,0)","v":0},null,null,null,null,null,null,{"$f":"IF(DY187=\"\",0,1)","v":0},{"$f":"IF(ED187=\"TAK\",1,0)","v":0},{"$f":"IF(EE187=\"TAK\",1,0)","v":0},null,null,null,null,null,null,{"$f":"IF(EH187=\"\",0,1)","v":0},{"$f":"IF(EM187=\"TAK\",1,0)","v":0},{"$f":"IF(EN187=\"TAK\",1,0)","v":0},null,null,null,null,null,null,{"$f":"IF(EQ187=\"\",0,1)","v":0},{"$f":"IF(EV187=\"TAK\",1,0)","v":0},{"$f":"IF(EW187=\"TAK\",1,0)","v":0},null,null,null,null,null,null,{"$f":"IF(EZ187=\"\",0,1)","v":0},{"$f":"IF(FE187=\"TAK\",1,0)","v":0},{"$f":"IF(FF187=\"TAK\",1,0)","v":0},null,null,null,null,null,null,{"$f":"IF(FI187=\"\",0,1)","v":0},{"$f":"IF(FN187=\"TAK\",1,0)","v":0},{"$f":"IF(FO187=\"TAK\",1,0)","v":0},null,null,null,null,null,null,{"$f":"IF(FR187=\"\",0,1)","v":0},{"$f":"IF(FW187=\"TAK\",1,0)","v":0},{"$f":"IF(FX187=\"TAK\",1,0)","v":0},null,null,null,null,null,null,{"$f":"IF(GA187=\"\",0,1)","v":0},{"$f":"IF(GF187=\"TAK\",1,0)","v":0},{"$f":"IF(GG187=\"TAK\",1,0)","v":0},null,null,null,null,null,null,{"$f":"IF(GJ187=\"\",0,1)","v":0},{"$f":"IF(GO187=\"TAK\",1,0)","v":0},{"$f":"IF(GP187=\"TAK\",1,0)","v":0},null,null,null,null,null,null,{"$f":"IF(GS187=\"\",0,1)","v":0},{"$f":"IF(GX187=\"TAK\",1,0)","v":0},{"$f":"IF(GY187=\"TAK\",1,0)","v":0},null,null,null,null,null,null,{"$f":"IF(HB187=\"\",0,1)","v":0},{"$f":"IF(HG187=\"TAK\",1,0)","v":0},{"$f":"IF(HH187=\"TAK\",1,0)","v":0},null,null,null,null,null,null,{"$f":"IF(HK187=\"\",0,1)","v":0},{"$f":"IF(HP187=\"TAK\",1,0)","v":0},{"$f":"IF(HQ187=\"TAK\",1,0)","v":0},null,null,null,null,null,null,{"$f":"IF(HT187=\"\",0,1)","v":0},{"$f":"IF(HY187=\"TAK\",1,0)","v":0},{"$f":"IF(HZ187=\"TAK\",1,0)","v":0},null,null,null,null,null,null,{"$f":"IF(IC187=\"\",0,1)","v":0},{"$f":"IF(IH187=\"TAK\",1,0)","v":0},{"$f":"IF(II187=\"TAK\",1,0)","v":0},null,null,null,null,null,null,{"$f":"IF(IL187=\"\",0,1)","v":0},{"$f":"IF(IQ187=\"TAK\",1,0)","v":0},{"$f":"IF(IR187=\"TAK\",1,0)","v":0},null,null,null,null,null,null,{"$f":"IF(IU187=\"\",0,1)","v":0},{"$f":"IF(IZ187=\"TAK\",1,0)","v":0},{"$f":"IF(JA187=\"TAK\",1,0)","v":0},null,null,null,null,null,null,{"$f":"IF(JD187=\"\",0,1)","v":0},{"$f":"IF(JI187=\"TAK\",1,0)","v":0},{"$f":"IF(JJ187=\"TAK\",1,0)","v":0},null,null,null,null,null,null,{"$f":"IF(JM187=\"\",0,1)","v":0},{"$f":"IF(JR187=\"TAK\",1,0)","v":0},{"$f":"IF(JS187=\"TAK\",1,0)","v":0},null,null,null,null,null,null,{"$f":"IF(JV187=\"\",0,1)","v":0},{"$f":"IF(KA187=\"TAK\",1,0)","v":0},{"$f":"IF(KB187=\"TAK\",1,0)","v":0},null,null,null,null,null,null,{"$f":"IF(KE187=\"\",0,1)","v":0},{"$f":"IF(KJ187=\"TAK\",1,0)","v":0},{"$f":"IF(KK187=\"TAK\",1,0)","v":0},null,null,null,null,null,null,{"$f":"IF(KN187=\"\",0,1)","v":0},{"$f":"IF(KS187=\"TAK\",1,0)","v":0},{"$f":"IF(KT187=\"TAK\",1,0)","v":0},null,null,null,null,null,null,{"$f":"IF(KW187=\"\",0,1)","v":0},{"$f":"IF(LB187=\"TAK\",1,0)","v":0},{"$f":"IF(LC187=\"TAK\",1,0)","v":0}]
[null,null,null,0,0,0,null,null,null,null,null,null,0,0,0,null,null,null,null,null,null,0,0,0,null,null,null,null,null,null,0,0,0,null,null,null,null,null,null,0,0,0,null,null,null,null,null,null,0,0,0,null,null,null,null,null,null,0,0,0,null,null,null,null,null,null,0,0,0,null,null,null,null,null,null,0,0,0,null,null,null,null,null,null,0,0,0,null,null,null,null,null,null,0,0,0,null,null,null,null,null,null,0,0,0,null,null,null,null,null,null,0,0,0,null,null,null,null,null,null,0,0,0,null,null,null,null,null,null,0,0,0,null,null,null,null,null,null,0,0,0,null,null,null,null,null,null,0,0,0,null,null,null,null,null,null,0,0,0,null,null,null,null,null,null,0,0,0,null,null,null,null,null,null,0,0,0,null,null,null,null,null,null,0,0,0,null,null,null,null,null,null,0,0,0,null,null,null,null,null,null,0,0,0,null,null,null,null,null,null,0,0,0,null,null,null,null,null,null,0,0,0,null,null,null,null,null,null,0,0,0,null,null,null,null,null,null,0,0,0,null,null,null,null,null,null,0,0,0,null,null,null,null,null,null,0,0,0,null,null,null,null,null,null,0,0,0,null,null,null,null,null,null,0,0,0,null,null,null,null,null,null,0,0,0,null,null,null,null,null,null,0,0,0,null,null,null,null,null,null,0,0,0,null,null,null,null,null,null,0,0,0]
[null,null,null,0,0,0,null,null,null,null,null,null,0,0,0,null,null,null,null,null,null,0,0,0,null,null,null,null,null,null,0,0,0,null,null,null,null,null,null,0,0,0,null,null,null,null,null,null,0,0,0,null,null,null,null,null,null,0,0,0,null,null,null,null,null,null,0,0,0,null,null,null,null,null,null,0,0,0,null,null,null,null,null,null,0,0,0,null,null,null,null,null,null,0,0,0,null,null,null,null,null,null,0,0,0,null,null,null,null,null,null,0,0,0,null,null,null,null,null,null,0,0,0,null,null,null,null,null,null,0,0,0,null,null,null,null,null,null,0,0,0,null,null,null,null,null,null,0,0,0,null,null,null,null,null,null,0,0,0,null,null,null,null,null,null,0,0,0,null,null,null,null,null,null,0,0,0,null,null,null,null,null,null,0,0,0,null,null,null,null,null,null,0,0,0,null,null,null,null,null,null,0,0,0,null,null,null,null,null,null,0,0,0,null,null,null,null,null,null,0,0,0,null,null,null,null,null,null,0,0,0,null,null,null,null,null,null,0,0,0,null,null,null,null,null,null,0,0,0,null,null,null,null,null,null,0,0,0,null,null,null,null,null,null,0,0,0,null,null,null,null,null,null,0,0,0,null,null,null,null,null,null,0,0,0,null,null,null,null,null,null,0,0,0,null,null,null,null,null,null,0,0,0,null,null,null,null,null,null,0,0,0]
[null,null,null,0,0,0,null,null,null,null,null,null,0,0,0,null,null,null,null,null,null,0,0,0,null,null,null,null,null,null,0,0,0,null,null,null,null,null,null,0,0,0,null,null,null,null,null,null,0,0,0,null,null,null,null,null,null,0,0,0,null,null,null,null,null,null,0,0,0,null,null,null,null,null,null,0,0,0,null,null,null,null,null,null,0,0,0,null,null,null,null,null,null,0,0,0,null,null,null,null,null,null,0,0,0,null,null,null,null,null,null,0,0,0,null,null,null,null,null,null,0,0,0,null,null,null,null,null,null,0,0,0,null,null,null,null,null,null,0,0,0,null,null,null,null,null,null,0,0,0,null,null,null,null,null,null,0,0,0,null,null,null,null,null,null,0,0,0,null,null,null,null,null,null,0,0,0,null,null,null,null,null,null,0,0,0,null,null,null,null,null,null,0,0,0,null,null,null,null,null,null,0,0,0,null,null,null,null,null,null,0,0,0,null,null,null,null,null,null,0,0,0,null,null,null,null,null,null,0,0,0,null,null,null,null,null,null,0,0,0,null,null,null,null,null,null,0,0,0,null,null,null,null,null,null,0,0,0,null,null,null,null,null,null,0,0,0,null,null,null,null,null,null,0,0,0,null,null,null,null,null,null,0,0,0,null,null,null,null,null,null,0,0,0,null,null,null,null,null,null,0,0,0,null,null,null,null,null,null,0,0,0]
[null,null,null,0,0,0,null,null,null,null,null,null,0,0,0,null,null,null,null,null,null,0,0,0,null,null,null,null,null,null,0,0,0,null,null,null,null,null,null,0,0,0,null,null,null,null,null,null,0,0,0,null,null,null,null,null,null,0,0,0,null,null,null,null,null,null,0,0,0,null,null,null,null,null,null,0,0,0,null,null,null,null,null,null,0,0,0,null,null,null,null,null,null,0,0,0,null,null,null,null,null,null,0,0,0,null,null,null,null,null,null,0,0,0,null,null,null,null,null,null,0,0,0,null,null,null,null,null,null,0,0,0,null,null,null,null,null,null,0,0,0,null,null,null,null,null,null,0,0,0,null,null,null,null,null,null,0,0,0,null,null,null,null,null,null,0,0,0,null,null,null,null,null,null,0,0,0,null,null,null,null,null,null,0,0,0,null,null,null,null,null,null,0,0,0,null,null,null,null,null,null,0,0,0,null,null,null,null,null,null,0,0,0,null,null,null,null,null,null,0,0,0,null,null,null,null,null,null,0,0,0,null,null,null,null,null,null,0,0,0,null,null,null,null,null,null,0,0,0,null,null,null,null,null,null,0,0,0,null,null,null,null,null,null,0,0,0,null,null,null,null,null,null,0,0,0,null,null,null,null,null,null,0,0,0,null,null,null,null,null,null,0,0,0,null,null,null,null,null,null,0,0,0,null,null,null,null,null,null,0,0,0]
[null,null,null,0,0,0,null,null,null,null,null,null,0,0,0,null,null,null,null,null,null,0,0,0,null,null,null,null,null,null,0,0,0,null,null,null,null,null,null,0,0,0,null,null,null,null,null,null,0,0,0,null,null,null,null,null,null,0,0,0,null,null,null,null,null,null,0,0,0,null,null,null,null,null,null,0,0,0,null,null,null,null,null,null,0,0,0,null,null,null,null,null,null,0,0,0,null,null,null,null,null,null,0,0,0,null,null,null,null,null,null,0,0,0,null,null,null,null,null,null,0,0,0,null,null,null,null,null,null,0,0,0,null,null,null,null,null,null,0,0,0,null,null,null,null,null,null,0,0,0,null,null,null,null,null,null,0,0,0,null,null,null,null,null,null,0,0,0,null,null,null,null,null,null,0,0,0,null,null,null,null,null,null,0,0,0,null,null,null,null,null,null,0,0,0,null,null,null,null,null,null,0,0,0,null,null,null,null,null,null,0,0,0,null,null,null,null,null,null,0,0,0,null,null,null,null,null,null,0,0,0,null,null,null,null,null,null,0,0,0,null,null,null,null,null,null,0,0,0,null,null,null,null,null,null,0,0,0,null,null,null,null,null,null,0,0,0,null,null,null,null,null,null,0,0,0,null,null,null,null,null,null,0,0,0,null,null,null,null,null,null,0,0,0,null,null,null,null,null,null,0,0,0,null,null,null,null,null,null,0,0,0]
[null,null,null,0,0,0,null,null,null,null,null,null,0,0,0,null,null,null,null,null,null,0,0,0,null,null,null,null,null,null,0,0,0,null,null,null,null,null,null,0,0,0,null,null,null,null,null,null,0,0,0,null,null,null,null,null,null,0,0,0,null,null,null,null,null,null,0,0,0,null,null,null,null,null,null,0,0,0,null,null,null,null,null,null,0,0,0,null,null,null,null,null,null,0,0,0,null,null,null,null,null,null,0,0,0,null,null,null,null,null,null,0,0,0,null,null,null,null,null,null,0,0,0,null,null,null,null,null,null,0,0,0,null,null,null,null,null,null,0,0,0,null,null,null,null,null,null,0,0,0,null,null,null,null,null,null,0,0,0,null,null,null,null,null,null,0,0,0,null,null,null,null,null,null,0,0,0,null,null,null,null,null,null,0,0,0,null,null,null,null,null,null,0,0,0,null,null,null,null,null,null,0,0,0,null,null,null,null,null,null,0,0,0,null,null,null,null,null,null,0,0,0,null,null,null,null,null,null,0,0,0,null,null,null,null,null,null,0,0,0,null,null,null,null,null,null,0,0,0,null,null,null,null,null,null,0,0,0,null,null,null,null,null,null,0,0,0,null,null,null,null,null,null,0,0,0,null,null,null,null,null,null,0,0,0,null,null,null,null,null,null,0,0,0,null,null,null,null,null,null,0,0,0,null,null,null,null,null,null,0,0,0]
[null,null,null,0,0,0,null,null,null,null,null,null,0,0,0,null,null,null,null,null,null,0,0,0,null,null,null,null,null,null,0,0,0,null,null,null,null,null,null,0,0,0,null,null,null,null,null,null,0,0,0,null,null,null,null,null,null,0,0,0,null,null,null,null,null,null,0,0,0,null,null,null,null,null,null,0,0,0,null,null,null,null,null,null,0,0,0,null,null,null,null,null,null,0,0,0,null,null,null,null,null,null,0,0,0,null,null,null,null,null,null,0,0,0,null,null,null,null,null,null,0,0,0,null,null,null,null,null,null,0,0,0,null,null,null,null,null,null,0,0,0,null,null,null,null,null,null,0,0,0,null,null,null,null,null,null,0,0,0,null,null,null,null,null,null,0,0,0,null,null,null,null,null,null,0,0,0,null,null,null,null,null,null,0,0,0,null,null,null,null,null,null,0,0,0,null,null,null,null,null,null,0,0,0,null,null,null,null,null,null,0,0,0,null,null,null,null,null,null,0,0,0,null,null,null,null,null,null,0,0,0,null,null,null,null,null,null,0,0,0,null,null,null,null,null,null,0,0,0,null,null,null,null,null,null,0,0,0,null,null,null,null,null,null,0,0,0,null,null,null,null,null,null,0,0,0,null,null,null,null,null,null,0,0,0,null,null,null,null,null,null,0,0,0,null,null,null,null,null,null,0,0,0,null,null,null,null,null,null,0,0,0]
[null,null,null,0,0,0,null,null,null,null,null,null,0,0,0,null,null,null,null,null,null,0,0,0,null,null,null,null,null,null,0,0,0,null,null,null,null,null,null,0,0,0,null,null,null,null,null,null,0,0,0,null,null,null,null,null,null,0,0,0,null,null,null,null,null,null,0,0,0,null,null,null,null,null,null,0,0,0,null,null,null,null,null,null,0,0,0,null,null,null,null,null,null,0,0,0,null,null,null,null,null,null,0,0,0,null,null,null,null,null,null,0,0,0,null,null,null,null,null,null,0,0,0,null,null,null,null,null,null,0,0,0,null,null,null,null,null,null,0,0,0,null,null,null,null,null,null,0,0,0,null,null,null,null,null,null,0,0,0,null,null,null,null,null,null,0,0,0,null,null,null,null,null,null,0,0,0,null,null,null,null,null,null,0,0,0,null,null,null,null,null,null,0,0,0,null,null,null,null,null,null,0,0,0,null,null,null,null,null,null,0,0,0,null,null,null,null,null,null,0,0,0,null,null,null,null,null,null,0,0,0,null,null,null,null,null,null,0,0,0,null,null,null,null,null,null,0,0,0,null,null,null,null,null,null,0,0,0,null,null,null,null,null,null,0,0,0,null,null,null,null,null,null,0,0,0,null,null,null,null,null,null,0,0,0,null,null,null,null,null,null,0,0,0,null,null,null,null,null,null,0,0,0,null,null,null,null,null,null,0,0,0]
[null,null,null,0,0,0,null,null,null,null,null,null,0,0,0,null,null,null,null,null,null,0,0,0,null,null,null,null,null,null,0,0,0,null,null,null,null,null,null,0,0,0,null,null,null,null,null,null,0,0,0,null,null,null,null,null,null,0,0,0,null,null,null,null,null,null,0,0,0,null,null,null,null,null,null,0,0,0,null,null,null,null,null,null,0,0,0,null,null,null,null,null,null,0,0,0,null,null,null,null,null,null,0,0,0,null,null,null,null,null,null,0,0,0,null,null,null,null,null,null,0,0,0,null,null,null,null,null,null,0,0,0,null,null,null,null,null,null,0,0,0,null,null,null,null,null,null,0,0,0,null,null,null,null,null,null,0,0,0,null,null,null,null,null,null,0,0,0,null,null,null,null,null,null,0,0,0,null,null,null,null,null,null,0,0,0,null,null,null,null,null,null,0,0,0,null,null,null,null,null,null,0,0,0,null,null,null,null,null,null,0,0,0,null,null,null,null,null,null,0,0,0,null,null,null,null,null,null,0,0,0,null,null,null,null,null,null,0,0,0,null,null,null,null,null,null,0,0,0,null,null,null,null,null,null,0,0,0,null,null,null,null,null,null,0,0,0,null,null,null,null,null,null,0,0,0,null,null,null,null,null,null,0,0,0,null,null,null,null,null,null,0,0,0,null,null,null,null,null,null,0,0,0,null,null,null,null,null,null,0,0,0]
[null,null,null,0,0,0,null,null,null,null,null,null,0,0,0,null,null,null,null,null,null,0,0,0,null,null,null,null,null,null,0,0,0,null,null,null,null,null,null,0,0,0,null,null,null,null,null,null,0,0,0,null,null,null,null,null,null,0,0,0,null,null,null,null,null,null,0,0,0,null,null,null,null,null,null,0,0,0,null,null,null,null,null,null,0,0,0,null,null,null,null,null,null,0,0,0,null,null,null,null,null,null,0,0,0,null,null,null,null,null,null,0,0,0,null,null,null,null,null,null,0,0,0,null,null,null,null,null,null,0,0,0,null,null,null,null,null,null,0,0,0,null,null,null,null,null,null,0,0,0,null,null,null,null,null,null,0,0,0,null,null,null,null,null,null,0,0,0,null,null,null,null,null,null,0,0,0,null,null,null,null,null,null,0,0,0,null,null,null,null,null,null,0,0,0,null,null,null,null,null,null,0,0,0,null,null,null,null,null,null,0,0,0,null,null,null,null,null,null,0,0,0,null,null,null,null,null,null,0,0,0,null,null,null,null,null,null,0,0,0,null,null,null,null,null,null,0,0,0,null,null,null,null,null,null,0,0,0,null,null,null,null,null,null,0,0,0,null,null,null,null,null,null,0,0,0,null,null,null,null,null,null,0,0,0,null,null,null,null,null,null,0,0,0,null,null,null,null,null,null,0,0,0,null,null,null,null,null,null,0,0,0]
[null,null,null,0,0,0,null,null,null,null,null,null,0,0,0,null,null,null,null,null,null,0,0,0,null,null,null,null,null,null,0,0,0,null,null,null,null,null,null,0,0,0,null,null,null,null,null,null,0,0,0,null,null,null,null,null,null,0,0,0,null,null,null,null,null,null,0,0,0,null,null,null,null,null,null,0,0,0,null,null,null,null,null,null,0,0,0,null,null,null,null,null,null,0,0,0,null,null,null,null,null,null,0,0,0,null,null,null,null,null,null,0,0,0,null,null,null,null,null,null,0,0,0,null,null,null,null,null,null,0,0,0,null,null,null,null,null,null,0,0,0,null,null,null,null,null,null,0,0,0,null,null,null,null,null,null,0,0,0,null,null,null,null,null,null,0,0,0,null,null,null,null,null,null,0,0,0,null,null,null,null,null,null,0,0,0,null,null,null,null,null,null,0,0,0,null,null,null,null,null,null,0,0,0,null,null,null,null,null,null,0,0,0,null,null,null,null,null,null,0,0,0,null,null,null,null,null,null,0,0,0,null,null,null,null,null,null,0,0,0,null,null,null,null,null,null,0,0,0,null,null,null,null,null,null,0,0,0,null,null,null,null,null,null,0,0,0,null,null,null,null,null,null,0,0,0,null,null,null,null,null,null,0,0,0,null,null,null,null,null,null,0,0,0,null,null,null,null,null,null,0,0,0,null,null,null,null,null,null,0,0,0]
[null,null,null,0,0,0,null,null,null,null,null,null,0,0,0,null,null,null,null,null,null,0,0,0,null,null,null,null,null,null,0,0,0,null,null,null,null,null,null,0,0,0,null,null,null,null,null,null,0,0,0,null,null,null,null,null,null,0,0,0,null,null,null,null,null,null,0,0,0,null,null,null,null,null,null,0,0,0,null,null,null,null,null,null,0,0,0,null,null,null,null,null,null,0,0,0,null,null,null,null,null,null,0,0,0,null,null,null,null,null,null,0,0,0,null,null,null,null,null,null,0,0,0,null,null,null,null,null,null,0,0,0,null,null,null,null,null,null,0,0,0,null,null,null,null,null,null,0,0,0,null,null,null,null,null,null,0,0,0,null,null,null,null,null,null,0,0,0,null,null,null,null,null,null,0,0,0,null,null,null,null,null,null,0,0,0,null,null,null,null,null,null,0,0,0,null,null,null,null,null,null,0,0,0,null,null,null,null,null,null,0,0,0,null,null,null,null,null,null,0,0,0,null,null,null,null,null,null,0,0,0,null,null,null,null,null,null,0,0,0,null,null,null,null,null,null,0,0,0,null,null,null,null,null,null,0,0,0,null,null,null,null,null,null,0,0,0,null,null,null,null,null,null,0,0,0,null,null,null,null,null,null,0,0,0,null,null,null,null,null,null,0,0,0,null,null,null,null,null,null,0,0,0,null,null,null,null,null,null,0,0,0]
[null,null,null,{"$f":"IF(C380=\"\",0,1)","v":0},{"$f":"IF(H380=\"TAK\",1,0)","v":0},{"$f":"IF(I380=\"TAK\",1,0)","v":0},null,null,null,null,null,null,0,0,0,null,null,null,null,null,null,0,0,0,null,null,null,null,null,null,0,0,0,null,null,null,null,null,null,0,0,0,null,null,null,null,null,null,0,0,0,null,null,null,null,null,null,0,0,0,null,null,null,null,null,null,0,0,0,null,null,null,null,null,null,0,0,0,null,null,null,null,null,null,0,0,0,null,null,null,null,null,null,0,0,0,null,null,null,null,null,null,0,0,0,null,null,null,null,null,null,0,0,0,null,null,null,null,null,null,0,0,0,null,null,null,null,null,null,0,0,0,null,null,null,null,null,null,0,0,0,null,null,null,null,null,null,0,0,0,null,null,null,null,null,null,0,0,0,null,null,null,null,null,null,0,0,0,null,null,null,null,null,null,0,0,0,null,null,null,null,null,null,0,0,0,null,null,null,null,null,null,0,0,0,null,null,null,null,null,null,0,0,0,null,null,null,null,null,null,0,0,0,null,null,null,null,null,null,0,0,0,null,null,null,null,null,null,0,0,0,null,null,null,null,null,null,0,0,0,null,null,null,null,null,null,0,0,0,null,null,null,null,null,null,0,0,0,null,null,null,null,null,null,0,0,0,null,null,null,null,null,null,0,0,0,null,null,null,null,null,null,0,0,0,null,null,null,null,null,null,0,0,0,null,null,null,null,null,null,0,0,0,null,null,null,null,null,null,0,0,0]
[null,null,null,0,0,0,null,null,null,null,null,null,0,0,0,null,null,null,null,null,null,0,0,0,null,null,null,null,null,null,0,0,0,null,null,null,null,null,null,0,0,0,null,null,null,null,null,null,0,0,0,null,null,null,null,null,null,0,0,0,null,null,null,null,null,null,0,0,0,null,null,null,null,null,null,0,0,0,null,null,null,null,null,null,0,0,0,null,null,null,null,null,null,0,0,0,null,null,null,null,null,null,0,0,0,null,null,null,null,null,null,0,0,0,null,null,null,null,null,null,0,0,0,null,null,null,null,null,null,0,0,0,null,null,null,null,null,null,0,0,0,null,null,null,null,null,null,0,0,0,null,null,null,null,null,null,0,0,0,null,null,null,null,null,null,0,0,0,null,null,null,null,null,null,0,0,0,null,null,null,null,null,null,0,0,0,null,null,null,null,null,null,0,0,0,null,null,null,null,null,null,0,0,0,null,null,null,null,null,null,0,0,0,null,null,null,null,null,null,0,0,0,null,null,null,null,null,null,0,0,0,null,null,null,null,null,null,0,0,0,null,null,null,null,null,null,0,0,0,null,null,null,null,null,null,0,0,0,null,null,null,null,null,null,0,0,0,null,null,null,null,null,null,0,0,0,null,null,null,null,null,null,0,0,0,null,null,null,null,null,null,0,0,0,null,null,null,null,null,null,0,0,0,null,null,null,null,null,null,0,0,0]
[null,null,null,0,0,0,null,null,null,null,null,null,0,0,0,null,null,null,null,null,null,0,0,0,null,null,null,null,null,null,0,0,0,null,null,null,null,null,null,0,0,0,null,null,null,null,null,null,0,0,0,null,null,null,null,null,null,0,0,0,null,null,null,null,null,null,0,0,0,null,null,null,null,null,null,0,0,0,null,null,null,null,null,null,0,0,0,null,null,null,null,null,null,0,0,0,null,null,null,null,null,null,0,0,0,null,null,null,null,null,null,0,0,0,null,null,null,null,null,null,0,0,0,null,null,null,null,null,null,0,0,0,null,null,null,null,null,null,0,0,0,null,null,null,null,null,null,0,0,0,null,null,null,null,null,null,0,0,0,null,null,null,null,null,null,0,0,0,null,null,null,null,null,null,0,0,0,null,null,null,null,null,null,0,0,0,null,null,null,null,null,null,0,0,0,null,null,null,null,null,null,0,0,0,null,null,null,null,null,null,0,0,0,null,null,null,null,null,null,0,0,0,null,null,null,null,null,null,0,0,0,null,null,null,null,null,null,0,0,0,null,null,null,null,null,null,0,0,0,null,null,null,null,null,null,0,0,0,null,null,null,null,null,null,0,0,0,null,null,null,null,null,null,0,0,0,null,null,null,null,null,null,0,0,0,null,null,null,null,null,null,0,0,0,null,null,null,null,null,null,0,0,0,null,null,null,null,null,null,0,0,0]
[null,null,null,0,0,0,null,null,null,null,null,null,0,0,0,null,null,null,null,null,null,0,0,0,null,null,null,null,null,null,0,0,0,null,null,null,null,null,null,0,0,0,null,null,null,null,null,null,0,0,0,null,null,null,null,null,null,0,0,0,null,null,null,null,null,null,0,0,0,null,null,null,null,null,null,0,0,0,null,null,null,null,null,null,0,0,0,null,null,null,null,null,null,0,0,0,null,null,null,null,null,null,0,0,0,null,null,null,null,null,null,0,0,0,null,null,null,null,null,null,0,0,0,null,null,null,null,null,null,0,0,0,null,null,null,null,null,null,0,0,0,null,null,null,null,null,null,0,0,0,null,null,null,null,null,null,0,0,0,null,null,null,null,null,null,0,0,0,null,null,null,null,null,null,0,0,0,null,null,null,null,null,null,0,0,0,null,null,null,null,null,null,0,0,0,null,null,null,null,null,null,0,0,0,null,null,null,null,null,null,0,0,0,null,null,null,null,null,null,0,0,0,null,null,null,null,null,null,0,0,0,null,null,null,null,null,null,0,0,0,null,null,null,null,null,null,0,0,0,null,null,null,null,null,null,0,0,0,null,null,null,null,null,null,0,0,0,null,null,null,null,null,null,0,0,0,null,null,null,null,null,null,0,0,0,null,null,null,null,null,null,0,0,0,null,null,null,null,null,null,0,0,0,null,null,null,null,null,null,0,0,0]
[null,null,null,0,0,0,null,null,null,null,null,null,0,0,0,null,null,null,null,null,null,0,0,0,null,null,null,null,null,null,0,0,0,null,null,null,null,null,null,0,0,0,null,null,null,null,null,null,0,0,0,null,null,null,null,null,null,0,0,0,null,null,null,null,null,null,0,0,0,null,null,null,null,null,null,0,0,0,null,null,null,null,null,null,0,0,0,null,null,null,null,null,null,0,0,0,null,null,null,null,null,null,0,0,0,null,null,null,null,null,null,0,0,0,null,null,null,null,null,null,0,0,0,null,null,null,null,null,null,0,0,0,null,null,null,null,null,null,0,0,0,null,null,null,null,null,null,0,0,0,null,null,null,null,null,null,0,0,0,null,null,null,null,null,null,0,0,0,null,null,null,null,null,null,0,0,0,null,null,null,null,null,null,0,0,0,null,null,null,null,null,null,0,0,0,null,null,null,null,null,null,0,0,0,null,null,null,null,null,null,0,0,0,null,null,null,null,null,null,0,0,0,null,null,null,null,null,null,0,0,0,null,null,null,null,null,null,0,0,0,null,null,null,null,null,null,0,0,0,null,null,null,null,null,null,0,0,0,null,null,null,null,null,null,0,0,0,null,null,null,null,null,null,0,0,0,null,null,null,null,null,null,0,0,0,null,null,null,null,null,null,0,0,0,null,null,null,null,null,null,0,0,0,null,null,null,null,null,null,0,0,0]
[null,null,null,0,0,0,null,null,null,null,null,null,0,0,0,null,null,null,null,null,null,0,0,0,null,null,null,null,null,null,0,0,0,null,null,null,null,null,null,0,0,0,null,null,null,null,null,null,0,0,0,null,null,null,null,null,null,0,0,0,null,null,null,null,null,null,0,0,0,null,null,null,null,null,null,0,0,0,null,null,null,null,null,null,0,0,0,null,null,null,null,null,null,0,0,0,null,null,null,null,null,null,0,0,0,null,null,null,null,null,null,0,0,0,null,null,null,null,null,null,0,0,0,null,null,null,null,null,null,0,0,0,null,null,null,null,null,null,0,0,0,null,null,null,null,null,null,0,0,0,null,null,null,null,null,null,0,0,0,null,null,null,null,null,null,0,0,0,null,null,null,null,null,null,0,0,0,null,null,null,null,null,null,0,0,0,null,null,null,null,null,null,0,0,0,null,null,null,null,null,null,0,0,0,null,null,null,null,null,null,0,0,0,null,null,null,null,null,null,0,0,0,null,null,null,null,null,null,0,0,0,null,null,null,null,null,null,0,0,0,null,null,null,null,null,null,0,0,0,null,null,null,null,null,null,0,0,0,null,null,null,null,null,null,0,0,0,null,null,null,null,null,null,0,0,0,null,null,null,null,null,null,0,0,0,null,null,null,null,null,null,0,0,0,null,null,null,null,null,null,0,0,0,null,null,null,null,null,null,0,0,0]
[null,null,null,0,0,0,null,null,null,null,null,null,0,0,0,null,null,null,null,null,null,0,0,0,null,null,null,null,null,null,0,0,0,null,null,null,null,null,null,0,0,0,null,null,null,null,null,null,0,0,0,null,null,null,null,null,null,0,0,0,null,null,null,null,null,null,0,0,0,null,null,null,null,null,null,0,0,0,null,null,null,null,null,null,0,0,0,null,null,null,null,null,null,0,0,0,null,null,null,null,null,null,0,0,0,null,null,null,null,null,null,0,0,0,null,null,null,null,null,null,0,0,0,null,null,null,null,null,null,0,0,0,null,null,null,null,null,null,0,0,0,null,null,null,null,null,null,0,0,0,null,null,null,null,null,null,0,0,0,null,null,null,null,null,null,0,0,0,null,null,null,null,null,null,0,0,0,null,null,null,null,null,null,0,0,0,null,null,null,null,null,null,0,0,0,null,null,null,null,null,null,0,0,0,null,null,null,null,null,null,0,0,0,null,null,null,null,null,null,0,0,0,null,null,null,null,null,null,0,0,0,null,null,null,null,null,null,0,0,0,null,null,null,null,null,null,0,0,0,null,null,null,null,null,null,0,0,0,null,null,null,null,null,null,0,0,0,null,null,null,null,null,null,0,0,0,null,null,null,null,null,null,0,0,0,null,null,null,null,null,null,0,0,0,null,null,null,null,null,null,0,0,0,null,null,null,null,null,null,0,0,0]
[null,null,null,0,0,0,null,null,null,null,null,null,0,0,0,null,null,null,null,null,null,0,0,0,null,null,null,null,null,null,0,0,0,null,null,null,null,null,null,0,0,0,null,null,null,null,null,null,0,0,0,null,null,null,null,null,null,0,0,0,null,null,null,null,null,null,0,0,0,null,null,null,null,null,null,0,0,0,null,null,null,null,null,null,0,0,0,null,null,null,null,null,null,0,0,0,null,null,null,null,null,null,0,0,0,null,null,null,null,null,null,0,0,0,null,null,null,null,null,null,0,0,0,null,null,null,null,null,null,0,0,0,null,null,null,null,null,null,0,0,0,null,null,null,null,null,null,0,0,0,null,null,null,null,null,null,0,0,0,null,null,null,null,null,null,0,0,0,null,null,null,null,null,null,0,0,0,null,null,null,null,null,null,0,0,0,null,null,null,null,null,null,0,0,0,null,null,null,null,null,null,0,0,0,null,null,null,null,null,null,0,0,0,null,null,null,null,null,null,0,0,0,null,null,null,null,null,null,0,0,0,null,null,null,null,null,null,0,0,0,null,null,null,null,null,null,0,0,0,null,null,null,null,null,null,0,0,0,null,null,null,null,null,null,0,0,0,null,null,null,null,null,null,0,0,0,null,null,null,null,null,null,0,0,0,null,null,null,null,null,null,0,0,0,null,null,null,null,null,null,0,0,0,null,null,null,null,null,null,0,0,0]
[null,null,null,0,0,0,null,null,null,null,null,null,0,0,0,null,null,null,null,null,null,0,0,0,null,null,null,null,null,null,0,0,0,null,null,null,null,null,null,0,0,0,null,null,null,null,null,null,0,0,0,null,null,null,null,null,null,0,0,0,null,null,null,null,null,null,0,0,0,null,null,null,null,null,null,0,0,0,null,null,null,null,null,null,0,0,0,null,null,null,null,null,null,0,0,0,null,null,null,null,null,null,0,0,0,null,null,null,null,null,null,0,0,0,null,null,null,null,null,null,0,0,0,null,null,null,null,null,null,0,0,0,null,null,null,null,null,null,0,0,0,null,null,null,null,null,null,0,0,0,null,null,null,null,null,null,0,0,0,null,null,null,null,null,null,0,0,0,null,null,null,null,null,null,0,0,0,null,null,null,null,null,null,0,0,0,null,null,null,null,null,null,0,0,0,null,null,null,null,null,null,0,0,0,null,null,null,null,null,null,0,0,0,null,null,null,null,null,null,0,0,0,null,null,null,null,null,null,0,0,0,null,null,null,null,null,null,0,0,0,null,null,null,null,null,null,0,0,0,null,null,null,null,null,null,0,0,0,null,null,null,null,null,null,0,0,0,null,null,null,null,null,null,0,0,0,null,null,null,null,null,null,0,0,0,null,null,null,null,null,null,0,0,0,null,null,null,null,null,null,0,0,0,null,null,null,null,null,null,0,0,0]
[null,null,null,0,0,0,null,null,null,null,null,null,0,0,0,null,null,null,null,null,null,0,0,0,null,null,null,null,null,null,0,0,0,null,null,null,null,null,null,0,0,0,null,null,null,null,null,null,0,0,0,null,null,null,null,null,null,0,0,0,null,null,null,null,null,null,0,0,0,null,null,null,null,null,null,0,0,0,null,null,null,null,null,null,0,0,0,null,null,null,null,null,null,0,0,0,null,null,null,null,null,null,0,0,0,null,null,null,null,null,null,0,0,0,null,null,null,null,null,null,0,0,0,null,null,null,null,null,null,0,0,0,null,null,null,null,null,null,0,0,0,null,null,null,null,null,null,0,0,0,null,null,null,null,null,null,0,0,0,null,null,null,null,null,null,0,0,0,null,null,null,null,null,null,0,0,0,null,null,null,null,null,null,0,0,0,null,null,null,null,null,null,0,0,0,null,null,null,null,null,null,0,0,0,null,null,null,null,null,null,0,0,0,null,null,null,null,null,null,0,0,0,null,null,null,null,null,null,0,0,0,null,null,null,null,null,null,0,0,0,null,null,null,null,null,null,0,0,0,null,null,null,null,null,null,0,0,0,null,null,null,null,null,null,0,0,0,null,null,null,null,null,null,0,0,0,null,null,null,null,null,null,0,0,0,null,null,null,null,null,null,0,0,0,null,null,null,null,null,null,0,0,0,null,null,null,null,null,null,0,0,0]
[null,null,null,0,0,0,null,null,null,null,null,null,0,0,0,null,null,null,null,null,null,0,0,0,null,null,null,null,null,null,0,0,0,null,null,null,null,null,null,0,0,0,null,null,null,null,null,null,0,0,0,null,null,null,null,null,null,0,0,0,null,null,null,null,null,null,0,0,0,null,null,null,null,null,null,0,0,0,null,null,null,null,null,null,0,0,0,null,null,null,null,null,null,0,0,0,null,null,null,null,null,null,0,0,0,null,null,null,null,null,null,0,0,0,null,null,null,null,null,null,0,0,0,null,null,null,null,null,null,0,0,0,null,null,null,null,null,null,0,0,0,null,null,null,null,null,null,0,0,0,null,null,null,null,null,null,0,0,0,null,null,null,null,null,null,0,0,0,null,null,null,null,null,null,0,0,0,null,null,null,null,null,null,0,0,0,null,null,null,null,null,null,0,0,0,null,null,null,null,null,null,0,0,0,null,null,null,null,null,null,0,0,0,null,null,null,null,null,null,0,0,0,null,null,null,null,null,null,0,0,0,null,null,null,null,null,null,0,0,0,null,null,null,null,null,null,0,0,0,null,null,null,null,null,null,0,0,0,null,null,null,null,null,null,0,0,0,null,null,null,null,null,null,0,0,0,null,null,null,null,null,null,0,0,0,null,null,null,null,null,null,0,0,0,null,null,null,null,null,null,0,0,0,null,null,null,null,null,null,0,0,0]
[null,null,null,0,0,0,null,null,null,null,null,null,0,0,0,null,null,null,null,null,null,0,0,0,null,null,null,null,null,null,0,0,0,null,null,null,null,null,null,0,0,0,null,null,null,null,null,null,0,0,0,null,null,null,null,null,null,0,0,0,null,null,null,null,null,null,0,0,0,null,null,null,null,null,null,0,0,0,null,null,null,null,null,null,0,0,0,null,null,null,null,null,null,0,0,0,null,null,null,null,null,null,0,0,0,null,null,null,null,null,null,0,0,0,null,null,null,null,null,null,0,0,0,null,null,null,null,null,null,0,0,0,null,null,null,null,null,null,0,0,0,null,null,null,null,null,null,0,0,0,null,null,null,null,null,null,0,0,0,null,null,null,null,null,null,0,0,0,null,null,null,null,null,null,0,0,0,null,null,null,null,null,null,0,0,0,null,null,null,null,null,null,0,0,0,null,null,null,null,null,null,0,0,0,null,null,null,null,null,null,0,0,0,null,null,null,null,null,null,0,0,0,null,null,null,null,null,null,0,0,0,null,null,null,null,null,null,0,0,0,null,null,null,null,null,null,0,0,0,null,null,null,null,null,null,0,0,0,null,null,null,null,null,null,0,0,0,null,null,null,null,null,null,0,0,0,null,null,null,null,null,null,0,0,0,null,null,null,null,null,null,0,0,0,null,null,null,null,null,null,0,0,0,null,null,null,null,null,null,0,0,0]
[null,null,null,0,0,0,null,null,null,null,null,null,{"$f":"IF(L571=\"\",0,1)","v":0},{"$f":"IF(Q571=\"TAK\",1,0)","v":0},{"$f":"IF(R571=\"TAK\",1,0)","v":0},null,null,null,null,null,null,{"$f":"IF(U571=\"\",0,1)","v":0},{"$f":"IF(Z571=\"TAK\",1,0)","v":0},{"$f":"IF(AA571=\"TAK\",1,0)","v":0},null,null,null,null,null,null,{"$f":"IF(AD571=\"\",0,1)","v":0},{"$f":"IF(AI571=\"TAK\",1,0)","v":0},{"$f":"IF(AJ571=\"TAK\",1,0)","v":0},null,null,null,null,null,null,{"$f":"IF(AM571=\"\",0,1)","v":0},{"$f":"IF(AR571=\"TAK\",1,0)","v":0},{"$f":"IF(AS571=\"TAK\",1,0)","v":0},null,null,null,null,null,null,{"$f":"IF(AV571=\"\",0,1)","v":0},{"$f":"IF(BA571=\"TAK\",1,0)","v":0},{"$f":"IF(BB571=\"TAK\",1,0)","v":0},null,null,null,null,null,null,{"$f":"IF(BE571=\"\",0,1)","v":0},{"$f":"IF(BJ571=\"TAK\",1,0)","v":0},{"$f":"IF(BK571=\"TAK\",1,0)","v":0},null,null,null,null,null,null,{"$f":"IF(BN571=\"\",0,1)","v":0},{"$f":"IF(BS571=\"TAK\",1,0)","v":0},{"$f":"IF(BT571=\"TAK\",1,0)","v":0},null,null,null,null,null,null,{"$f":"IF(BW571=\"\",0,1)","v":0},{"$f":"IF(CB571=\"TAK\",1,0)","v":0},{"$f":"IF(CC571=\"TAK\",1,0)","v":0},null,null,null,null,null,null,{"$f":"IF(CF571=\"\",0,1)","v":0},{"$f":"IF(CK571=\"TAK\",1,0)","v":0},{"$f":"IF(CL571=\"TAK\",1,0)","v":0},null,null,null,null,null,null,{"$f":"IF(CO571=\"\",0,1)","v":0},{"$f":"IF(CT571=\"TAK\",1,0)","v":0},{"$f":"IF(CU571=\"TAK\",1,0)","v":0},null,null,null,null,null,null,{"$f":"IF(CX571=\"\",0,1)","v":0},{"$f":"IF(DC571=\"TAK\",1,0)","v":0},{"$f":"IF(DD571=\"TAK\",1,0)","v":0},null,null,null,null,null,null,{"$f":"IF(DG571=\"\",0,1)","v":0},{"$f":"IF(DL571=\"TAK\",1,0)","v":0},{"$f":"IF(DM571=\"TAK\",1,0)","v":0},null,null,null,null,null,null,{"$f":"IF(DP571=\"\",0,1)","v":0},{"$f":"IF(DU571=\"TAK\",1,0)","v":0},{"$f":"IF(DV571=\"TAK\",1,0)","v":0},null,null,null,null,null,null,{"$f":"IF(DY571=\"\",0,1)","v":0},{"$f":"IF(ED571=\"TAK\",1,0)","v":0},{"$f":"IF(EE571=\"TAK\",1,0)","v":0},null,null,null,null,null,null,{"$f":"IF(EH571=\"\",0,1)","v":0},{"$f":"IF(EM571=\"TAK\",1,0)","v":0},{"$f":"IF(EN571=\"TAK\",1,0)","v":0},null,null,null,null,null,null,{"$f":"IF(EQ571=\"\",0,1)","v":0},{"$f":"IF(EV571=\"TAK\",1,0)","v":0},{"$f":"IF(EW571=\"TAK\",1,0)","v":0},null,null,null,null,null,null,{"$f":"IF(EZ571=\"\",0,1)","v":0},{"$f":"IF(FE571=\"TAK\",1,0)","v":0},{"$f":"IF(FF571=\"TAK\",1,0)","v":0},null,null,null,null,null,null,{"$f":"IF(FI571=\"\",0,1)","v":0},{"$f":"IF(FN571=\"TAK\",1,0)","v":0},{"$f":"IF(FO571=\"TAK\",1,0)","v":0},null,null,null,null,null,null,{"$f":"IF(FR571=\"\",0,1)","v":0},{"$f":"IF(FW571=\"TAK\",1,0)","v":0},{"$f":"IF(FX571=\"TAK\",1,0)","v":0},null,null,null,null,null,null,{"$f":"IF(GA571=\"\",0,1)","v":0},{"$f":"IF(GF571=\"TAK\",1,0)","v":0},{"$f":"IF(GG571=\"TAK\",1,0)","v":0},null,null,null,null,null,null,{"$f":"IF(GJ571=\"\",0,1)","v":0},{"$f":"IF(GO571=\"TAK\",1,0)","v":0},{"$f":"IF(GP571=\"TAK\",1,0)","v":0},null,null,null,null,null,null,{"$f":"IF(GS571=\"\",0,1)","v":0},{"$f":"IF(GX571=\"TAK\",1,0)","v":0},{"$f":"IF(GY571=\"TAK\",1,0)","v":0},null,null,null,null,null,null,{"$f":"IF(HB571=\"\",0,1)","v":0},{"$f":"IF(HG571=\"TAK\",1,0)","v":0},{"$f":"IF(HH571=\"TAK\",1,0)","v":0},null,null,null,null,null,null,{"$f":"IF(HK571=\"\",0,1)","v":0},{"$f":"IF(HP571=\"TAK\",1,0)","v":0},{"$f":"IF(HQ571=\"TAK\",1,0)","v":0},null,null,null,null,null,null,{"$f":"IF(HT571=\"\",0,1)","v":0},{"$f":"IF(HY571=\"TAK\",1,0)","v":0},{"$f":"IF(HZ571=\"TAK\",1,0)","v":0},null,null,null,null,null,null,{"$f":"IF(IC571=\"\",0,1)","v":0},{"$f":"IF(IH571=\"TAK\",1,0)","v":0},{"$f":"IF(II571=\"TAK\",1,0)","v":0},null,null,null,null,null,null,{"$f":"IF(IL571=\"\",0,1)","v":0},{"$f":"IF(IQ571=\"TAK\",1,0)","v":0},{"$f":"IF(IR571=\"TAK\",1,0)","v":0},null,null,null,null,null,null,{"$f":"IF(IU571=\"\",0,1)","v":0},{"$f":"IF(IZ571=\"TAK\",1,0)","v":0},{"$f":"IF(JA571=\"TAK\",1,0)","v":0},null,null,null,null,null,null,{"$f":"IF(JD571=\"\",0,1)","v":0},{"$f":"IF(JI571=\"TAK\",1,0)","v":0},{"$f":"IF(JJ571=\"TAK\",1,0)","v":0},null,null,null,null,null,null,{"$f":"IF(JM571=\"\",0,1)","v":0},{"$f":"IF(JR571=\"TAK\",1,0)","v":0},{"$f":"IF(JS571=\"TAK\",1,0)","v":0},null,null,null,null,null,null,{"$f":"IF(JV571=\"\",0,1)","v":0},{"$f":"IF(KA571=\"TAK\",1,0)","v":0},{"$f":"IF(KB571=\"TAK\",1,0)","v":0},null,null,null,null,null,null,{"$f":"IF(KE571=\"\",0,1)","v":0},{"$f":"IF(KJ571=\"TAK\",1,0)","v":0},{"$f":"IF(KK571=\"TAK\",1,0)","v":0},null,null,null,null,null,null,{"$f":"IF(KN571=\"\",0,1)","v":0},{"$f":"IF(KS571=\"TAK\",1,0)","v":0},{"$f":"IF(KT571=\"TAK\",1,0)","v":0},null,null,null,null,null,null,{"$f":"IF(KW571=\"\",0,1)","v":0},{"$f":"IF(LB571=\"TAK\",1,0)","v":0},{"$f":"IF(LC571=\"TAK\",1,0)","v":0}]
[null,null,null,0,0,0,null,null,null,null,null,null,0,0,0,null,null,null,null,null,null,0,0,0,null,null,null,null,null,null,0,0,0,null,null,null,null,null,null,0,0,0,null,null,null,null,null,null,0,0,0,null,null,null,null,null,null,0,0,0,null,null,null,null,null,null,0,0,0,null,null,null,null,null,null,0,0,0,null,null,null,null,null,null,0,0,0,null,null,null,null,null,null,0,0,0,null,null,null,null,null,null,0,0,0,null,null,null,null,null,null,0,0,0,null,null,null,null,null,null,0,0,0,null,null,null,null,null,null,0,0,0,null,null,null,null,null,null,0,0,0,null,null,null,null,null,null,0,0,0,null,null,null,null,null,null,0,0,0,null,null,null,null,null,null,0,0,0,null,null,null,null,null,null,0,0,0,null,null,null,null,null,null,0,0,0,null,null,null,null,null,null,0,0,0,null,null,null,null,null,null,0,0,0,null,null,null,null,null,null,0,0,0,null,null,null,null,null,null,0,0,0,null,null,null,null,null,null,0,0,0,null,null,null,null,null,null,0,0,0,null,null,null,null,null,null,0,0,0,null,null,null,null,null,null,0,0,0,null,null,null,null,null,null,0,0,0,null,null,null,null,null,null,0,0,0,null,null,null,null,null,null,0,0,0,null,null,null,null,null,null,0,0,0,null,null,null,null,null,null,0,0,0,null,null,null,null,null,null,0,0,0]
[null,null,null,0,0,0,null,null,null,null,null,null,0,0,0,null,null,null,null,null,null,0,0,0,null,null,null,null,null,null,0,0,0,null,null,null,null,null,null,0,0,0,null,null,null,null,null,null,0,0,0,null,null,null,null,null,null,0,0,0,null,null,null,null,null,null,0,0,0,null,null,null,null,null,null,0,0,0,null,null,null,null,null,null,0,0,0,null,null,null,null,null,null,0,0,0,null,null,null,null,null,null,0,0,0,null,null,null,null,null,null,0,0,0,null,null,null,null,null,null,0,0,0,null,null,null,null,null,null,0,0,0,null,null,null,null,null,null,0,0,0,null,null,null,null,null,null,0,0,0,null,null,null,null,null,null,0,0,0,null,null,null,null,null,null,0,0,0,null,null,null,null,null,null,0,0,0,null,null,null,null,null,null,0,0,0,null,null,null,null,null,null,0,0,0,null,null,null,null,null,null,0,0,0,null,null,null,null,null,null,0,0,0,null,null,null,null,null,null,0,0,0,null,null,null,null,null,null,0,0,0,null,null,null,null,null,null,0,0,0,null,null,null,null,null,null,0,0,0,null,null,null,null,null,null,0,0,0,null,null,null,null,null,null,0,0,0,null,null,null,null,null,null,0,0,0,null,null,null,null,null,null,0,0,0,null,null,null,null,null,null,0,0,0,null,null,null,null,null,null,0,0,0,null,null,null,null,null,null,0,0,0]
[null,null,null,0,0,0,null,null,null,null,null,null,0,0,0,null,null,null,null,null,null,0,0,0,null,null,null,null,null,null,0,0,0,null,null,null,null,null,null,0,0,0,null,null,null,null,null,null,0,0,0,null,null,null,null,null,null,0,0,0,null,null,null,null,null,null,0,0,0,null,null,null,null,null,null,0,0,0,null,null,null,null,null,null,0,0,0,null,null,null,null,null,null,0,0,0,null,null,null,null,null,null,0,0,0,null,null,null,null,null,null,0,0,0,null,null,null,null,null,null,0,0,0,null,null,null,null,null,null,0,0,0,null,null,null,null,null,null,0,0,0,null,null,null,null,null,null,0,0,0,null,null,null,null,null,null,0,0,0,null,null,null,null,null,null,0,0,0,null,null,null,null,null,null,0,0,0,null,null,null,null,null,null,0,0,0,null,null,null,null,null,null,0,0,0,null,null,null,null,null,null,0,0,0,null,null,null,null,null,null,0,0,0,null,null,null,null,null,null,0,0,0,null,null,null,null,null,null,0,0,0,null,null,null,null,null,null,0,0,0,null,null,null,null,null,null,0,0,0,null,null,null,null,null,null,0,0,0,null,null,null,null,null,null,0,0,0,null,null,null,null,null,null,0,0,0,null,null,null,null,null,null,0,0,0,null,null,null,null,null,null,0,0,0,null,null,null,null,null,null,0,0,0,null,null,null,null,null,null,0,0,0]
[null,null,null,0,0,0,null,null,null,null,null,null,0,0,0,null,null,null,null,null,null,0,0,0,null,null,null,null,null,null,0,0,0,null,null,null,null,null,null,0,0,0,null,null,null,null,null,null,0,0,0,null,null,null,null,null,null,0,0,0,null,null,null,null,null,null,0,0,0,null,null,null,null,null,null,0,0,0,null,null,null,null,null,null,0,0,0,null,null,null,null,null,null,0,0,0,null,null,null,null,null,null,0,0,0,null,null,null,null,null,null,0,0,0,null,null,null,null,null,null,0,0,0,null,null,null,null,null,null,0,0,0,null,null,null,null,null,null,0,0,0,null,null,null,null,null,null,0,0,0,null,null,null,null,null,null,0,0,0,null,null,null,null,null,null,0,0,0,null,null,null,null,null,null,0,0,0,null,null,null,null,null,null,0,0,0,null,null,null,null,null,null,0,0,0,null,null,null,null,null,null,0,0,0,null,null,null,null,null,null,0,0,0,null,null,null,null,null,null,0,0,0,null,null,null,null,null,null,0,0,0,null,null,null,null,null,null,0,0,0,null,null,null,null,null,null,0,0,0,null,null,null,null,null,null,0,0,0,null,null,null,null,null,null,0,0,0,null,null,null,null,null,null,0,0,0,null,null,null,null,null,null,0,0,0,null,null,null,null,null,null,0,0,0,null,null,null,null,null,null,0,0,0,null,null,null,null,null,null,0,0,0]
[null,null,null,0,0,0,null,null,null,null,null,null,0,0,0,null,null,null,null,null,null,0,0,0,null,null,null,null,null,null,0,0,0,null,null,null,null,null,null,0,0,0,null,null,null,null,null,null,0,0,0,null,null,null,null,null,null,0,0,0,null,null,null,null,null,null,0,0,0,null,null,null,null,null,null,0,0,0,null,null,null,null,null,null,0,0,0,null,null,null,null,null,null,0,0,0,null,null,null,null,null,null,0,0,0,null,null,null,null,null,null,0,0,0,null,null,null,null,null,null,0,0,0,null,null,null,null,null,null,0,0,0,null,null,null,null,null,null,0,0,0,null,null,null,null,null,null,0,0,0,null,null,null,null,null,null,0,0,0,null,null,null,null,null,null,0,0,0,null,null,null,null,null,null,0,0,0,null,null,null,null,null,null,0,0,0,null,null,null,null,null,null,0,0,0,null,null,null,null,null,null,0,0,0,null,null,null,null,null,null,0,0,0,null,null,null,null,null,null,0,0,0,null,null,null,null,null,null,0,0,0,null,null,null,null,null,null,0,0,0,null,null,null,null,null,null,0,0,0,null,null,null,null,null,null,0,0,0,null,null,null,null,null,null,0,0,0,null,null,null,null,null,null,0,0,0,null,null,null,null,null,null,0,0,0,null,null,null,null,null,null,0,0,0,null,null,null,null,null,null,0,0,0,null,null,null,null,null,null,0,0,0]
[null,null,null,0,0,0,null,null,null,null,null,null,0,0,0,null,null,null,null,null,null,0,0,0,null,null,null,null,null,null,0,0,0,null,null,null,null,null,null,0,0,0,null,null,null,null,null,null,0,0,0,null,null,null,null,null,null,0,0,0,null,null,null,null,null,null,0,0,0,null,null,null,null,null,null,0,0,0,null,null,null,null,null,null,0,0,0,null,null,null,null,null,null,0,0,0,null,null,null,null,null,null,0,0,0,null,null,null,null,null,null,0,0,0,null,null,null,null,null,null,0,0,0,null,null,null,null,null,null,0,0,0,null,null,null,null,null,null,0,0,0,null,null,null,null,null,null,0,0,0,null,null,null,null,null,null,0,0,0,null,null,null,null,null,null,0,0,0,null,null,null,null,null,null,0,0,0,null,null,null,null,null,null,0,0,0,null,null,null,null,null,null,0,0,0,null,null,null,null,null,null,0,0,0,null,null,null,null,null,null,0,0,0,null,null,null,null,null,null,0,0,0,null,null,null,null,null,null,0,0,0,null,null,null,null,null,null,0,0,0,null,null,null,null,null,null,0,0,0,null,null,null,null,null,null,0,0,0,null,null,null,null,null,null,0,0,0,null,null,null,null,null,null,0,0,0,null,null,null,null,null,null,0,0,0,null,null,null,null,null,null,0,0,0,null,null,null,null,null,null,0,0,0,null,null,null,null,null,null,0,0,0]
[null,null,null,0,0,0,null,null,null,null,null,null,0,0,0,null,null,null,null,null,null,0,0,0,null,null,null,null,null,null,0,0,0,null,null,null,null,null,null,0,0,0,null,null,null,null,null,null,0,0,0,null,null,null,null,null,null,0,0,0,null,null,null,null,null,null,0,0,0,null,null,null,null,null,null,0,0,0,null,null,null,null,null,null,0,0,0,null,null,null,null,null,null,0,0,0,null,null,null,null,null,null,0,0,0,null,null,null,null,null,null,0,0,0,null,null,null,null,null,null,0,0,0,null,null,null,null,null,null,0,0,0,null,null,null,null,null,null,0,0,0,null,null,null,null,null,null,0,0,0,null,null,null,null,null,null,0,0,0,null,null,null,null,null,null,0,0,0,null,null,null,null,null,null,0,0,0,null,null,null,null,null,null,0,0,0,null,null,null,null,null,null,0,0,0,null,null,null,null,null,null,0,0,0,null,null,null,null,null,null,0,0,0,null,null,null,null,null,null,0,0,0,null,null,null,null,null,null,0,0,0,null,null,null,null,null,null,0,0,0,null,null,null,null,null,null,0,0,0,null,null,null,null,null,null,0,0,0,null,null,null,null,null,null,0,0,0,null,null,null,null,null,null,0,0,0,null,null,null,null,null,null,0,0,0,null,null,null,null,null,null,0,0,0,null,null,null,null,null,null,0,0,0,null,null,null,null,null,null,0,0,0]
[null,null,null,0,0,0,null,null,null,null,null,null,0,0,0,null,null,null,null,null,null,0,0,0,null,null,null,null,null,null,0,0,0,null,null,null,null,null,null,0,0,0,null,null,null,null,null,null,0,0,0,null,null,null,null,null,null,0,0,0,null,null,null,null,null,null,0,0,0,null,null,null,null,null,null,0,0,0,null,null,null,null,null,null,0,0,0,null,null,null,null,null,null,0,0,0,null,null,null,null,null,null,0,0,0,null,null,null,null,null,null,0,0,0,null,null,null,null,null,null,0,0,0,null,null,null,null,null,null,0,0,0,null,null,null,null,null,null,0,0,0,null,null,null,null,null,null,0,0,0,null,null,null,null,null,null,0,0,0,null,null,null,null,null,null,0,0,0,null,null,null,null,null,null,0,0,0,null,null,null,null,null,null,0,0,0,null,null,null,null,null,null,0,0,0,null,null,null,null,null,null,0,0,0,null,null,null,null,null,null,0,0,0,null,null,null,null,null,null,0,0,0,null,null,null,null,null,null,0,0,0,null,null,null,null,null,null,0,0,0,null,null,null,null,null,null,0,0,0,null,null,null,null,null,null,0,0,0,null,null,null,null,null,null,0,0,0,null,null,null,null,null,null,0,0,0,null,null,null,null,null,null,0,0,0,null,null,null,null,null,null,0,0,0,null,null,null,null,null,null,0,0,0,null,null,null,null,null,null,0,0,0]
[null,null,null,0,0,0,null,null,null,null,null,null,0,0,0,null,null,null,null,null,null,0,0,0,null,null,null,null,null,null,0,0,0,null,null,null,null,null,null,0,0,0,null,null,null,null,null,null,0,0,0,null,null,null,null,null,null,0,0,0,null,null,null,null,null,null,0,0,0,null,null,null,null,null,null,0,0,0,null,null,null,null,null,null,0,0,0,null,null,null,null,null,null,0,0,0,null,null,null,null,null,null,0,0,0,null,null,null,null,null,null,0,0,0,null,null,null,null,null,null,0,0,0,null,null,null,null,null,null,0,0,0,null,null,null,null,null,null,0,0,0,null,null,null,null,null,null,0,0,0,null,null,null,null,null,null,0,0,0,null,null,null,null,null,null,0,0,0,null,null,null,null,null,null,0,0,0,null,null,null,null,null,null,0,0,0,null,null,null,null,null,null,0,0,0,null,null,null,null,null,null,0,0,0,null,null,null,null,null,null,0,0,0,null,null,null,null,null,null,0,0,0,null,null,null,null,null,null,0,0,0,null,null,null,null,null,null,0,0,0,null,null,null,null,null,null,0,0,0,null,null,null,null,null,null,0,0,0,null,null,null,null,null,null,0,0,0,null,null,null,null,null,null,0,0,0,null,null,null,null,null,null,0,0,0,null,null,null,null,null,null,0,0,0,null,null,null,null,null,null,0,0,0,null,null,null,null,null,null,0,0,0]
[null,null,null,0,0,0,null,null,null,null,null,null,0,0,0,null,null,null,null,null,null,0,0,0,null,null,null,null,null,null,0,0,0,null,null,null,null,null,null,0,0,0,null,null,null,null,null,null,0,0,0,null,null,null,null,null,null,0,0,0,null,null,null,null,null,null,0,0,0,null,null,null,null,null,null,0,0,0,null,null,null,null,null,null,0,0,0,null,null,null,null,null,null,0,0,0,null,null,null,null,null,null,0,0,0,null,null,null,null,null,null,0,0,0,null,null,null,null,null,null,0,0,0,null,null,null,null,null,null,0,0,0,null,null,null,null,null,null,0,0,0,null,null,null,null,null,null,0,0,0,null,null,null,null,null,null,0,0,0,null,null,null,null,null,null,0,0,0,null,null,null,null,null,null,0,0,0,null,null,null,null,null,null,0,0,0,null,null,null,null,null,null,0,0,0,null,null,null,null,null,null,0,0,0,null,null,null,null,null,null,0,0,0,null,null,null,null,null,null,0,0,0,null,null,null,null,null,null,0,0,0,null,null,null,null,null,null,0,0,0,null,null,null,null,null,null,0,0,0,null,null,null,null,null,null,0,0,0,null,null,null,null,null,null,0,0,0,null,null,null,null,null,null,0,0,0,null,null,null,null,null,null,0,0,0,null,null,null,null,null,null,0,0,0,null,null,null,null,null,null,0,0,0,null,null,null,null,null,null,0,0,0]
[null,null,null,0,0,0,null,null,null,null,null,null,0,0,0,null,null,null,null,null,null,0,0,0,null,null,null,null,null,null,0,0,0,null,null,null,null,null,null,0,0,0,null,null,null,null,null,null,0,0,0,null,null,null,null,null,null,0,0,0,null,null,null,null,null,null,0,0,0,null,null,null,null,null,null,0,0,0,null,null,null,null,null,null,0,0,0,null,null,null,null,null,null,0,0,0,null,null,null,null,null,null,0,0,0,null,null,null,null,null,null,0,0,0,null,null,null,null,null,null,0,0,0,null,null,null,null,null,null,0,0,0,null,null,null,null,null,null,0,0,0,null,null,null,null,null,null,0,0,0,null,null,null,null,null,null,0,0,0,null,null,null,null,null,null,0,0,0,null,null,null,null,null,null,0,0,0,null,null,null,null,null,null,0,0,0,null,null,null,null,null,null,0,0,0,null,null,null,null,null,null,0,0,0,null,null,null,null,null,null,0,0,0,null,null,null,null,null,null,0,0,0,null,null,null,null,null,null,0,0,0,null,null,null,null,null,null,0,0,0,null,null,null,null,null,null,0,0,0,null,null,null,null,null,null,0,0,0,null,null,null,null,null,null,0,0,0,null,null,null,null,null,null,0,0,0,null,null,null,null,null,null,0,0,0,null,null,null,null,null,null,0,0,0,null,null,null,null,null,null,0,0,0,null,null,null,null,null,null,0,0,0]
[null,null,null,0,0,0,null,null,null,null,null,null,0,0,0,null,null,null,null,null,null,0,0,0,null,null,null,null,null,null,0,0,0,null,null,null,null,null,null,0,0,0,null,null,null,null,null,null,0,0,0,null,null,null,null,null,null,0,0,0,null,null,null,null,null,null,0,0,0,null,null,null,null,null,null,0,0,0,null,null,null,null,null,null,0,0,0,null,null,null,null,null,null,0,0,0,null,null,null,null,null,null,0,0,0,null,null,null,null,null,null,0,0,0,null,null,null,null,null,null,0,0,0,null,null,null,null,null,null,0,0,0,null,null,null,null,null,null,0,0,0,null,null,null,null,null,null,0,0,0,null,null,null,null,null,null,0,0,0,null,null,null,null,null,null,0,0,0,null,null,null,null,null,null,0,0,0,null,null,null,null,null,null,0,0,0,null,null,null,null,null,null,0,0,0,null,null,null,null,null,null,0,0,0,null,null,null,null,null,null,0,0,0,null,null,null,null,null,null,0,0,0,null,null,null,null,null,null,0,0,0,null,null,null,null,null,null,0,0,0,null,null,null,null,null,null,0,0,0,null,null,null,null,null,null,0,0,0,null,null,null,null,null,null,0,0,0,null,null,null,null,null,null,0,0,0,null,null,null,null,null,null,0,0,0,null,null,null,null,null,null,0,0,0,null,null,null,null,null,null,0,0,0,null,null,null,null,null,null,0,0,0]
[null,null,null,0,0,0,null,null,null,null,null,null,0,0,0,null,null,null,null,null,null,0,0,0,null,null,null,null,null,null,0,0,0,null,null,null,null,null,null,0,0,0,null,null,null,null,null,null,0,0,0,null,null,null,null,null,null,0,0,0,null,null,null,null,null,null,0,0,0,null,null,null,null,null,null,0,0,0,null,null,null,null,null,null,0,0,0,null,null,null,null,null,null,0,0,0,null,null,null,null,null,null,0,0,0,null,null,null,null,null,null,0,0,0,null,null,null,null,null,null,0,0,0,null,null,null,null,null,null,0,0,0,null,null,null,null,null,null,0,0,0,null,null,null,null,null,null,0,0,0,null,null,null,null,null,null,0,0,0,null,null,null,null,null,null,0,0,0,null,null,null,null,null,null,0,0,0,null,null,null,null,null,null,0,0,0,null,null,null,null,null,null,0,0,0,null,null,null,null,null,null,0,0,0,null,null,null,null,null,null,0,0,0,null,null,null,null,null,null,0,0,0,null,null,null,null,null,null,0,0,0,null,null,null,null,null,null,0,0,0,null,null,null,null,null,null,0,0,0,null,null,null,null,null,null,0,0,0,null,null,null,null,null,null,0,0,0,null,null,null,null,null,null,0,0,0,null,null,null,null,null,null,0,0,0,null,null,null,null,null,null,0,0,0,null,null,null,null,null,null,0,0,0,null,null,null,null,null,null,0,0,0]
[null,null,null,0,0,0,null,null,null,null,null,null,0,0,0,null,null,null,null,null,null,0,0,0,null,null,null,null,null,null,0,0,0,null,null,null,null,null,null,0,0,0,null,null,null,null,null,null,0,0,0,null,null,null,null,null,null,0,0,0,null,null,null,null,null,null,0,0,0,null,null,null,null,null,null,0,0,0,null,null,null,null,null,null,0,0,0,null,null,null,null,null,null,0,0,0,null,null,null,null,null,null,0,0,0,null,null,null,null,null,null,0,0,0,null,null,null,null,null,null,0,0,0,null,null,null,null,null,null,0,0,0,null,null,null,null,null,null,0,0,0,null,null,null,null,null,null,0,0,0,null,null,null,null,null,null,0,0,0,null,null,null,null,null,null,0,0,0,null,null,null,null,null,null,0,0,0,null,null,null,null,null,null,0,0,0,null,null,null,null,null,null,0,0,0,null,null,null,null,null,null,0,0,0,null,null,null,null,null,null,0,0,0,null,null,null,null,null,null,0,0,0,null,null,null,null,null,null,0,0,0,null,null,null,null,null,null,0,0,0,null,null,null,null,null,null,0,0,0,null,null,null,null,null,null,0,0,0,null,null,null,null,null,null,0,0,0,null,null,null,null,null,null,0,0,0,null,null,null,null,null,null,0,0,0,null,null,null,null,null,null,0,0,0,null,null,null,null,null,null,0,0,0,null,null,null,null,null,null,0,0,0]
[null,null,null,0,0,0,null,null,null,null,null,null,0,0,0,null,null,null,null,null,null,0,0,0,null,null,null,null,null,null,0,0,0,null,null,null,null,null,null,0,0,0,null,null,null,null,null,null,0,0,0,null,null,null,null,null,null,0,0,0,null,null,null,null,null,null,0,0,0,null,null,null,null,null,null,0,0,0,null,null,null,null,null,null,0,0,0,null,null,null,null,null,null,0,0,0,null,null,null,null,null,null,0,0,0,null,null,null,null,null,null,0,0,0,null,null,null,null,null,null,0,0,0,null,null,null,null,null,null,0,0,0,null,null,null,null,null,null,0,0,0,null,null,null,null,null,null,0,0,0,null,null,null,null,null,null,0,0,0,null,null,null,null,null,null,0,0,0,null,null,null,null,null,null,0,0,0,null,null,null,null,null,null,0,0,0,null,null,null,null,null,null,0,0,0,null,null,null,null,null,null,0,0,0,null,null,null,null,null,null,0,0,0,null,null,null,null,null,null,0,0,0,null,null,null,null,null,null,0,0,0,null,null,null,null,null,null,0,0,0,null,null,null,null,null,null,0,0,0,null,null,null,null,null,null,0,0,0,null,null,null,null,null,null,0,0,0,null,null,null,null,null,null,0,0,0,null,null,null,null,null,null,0,0,0,null,null,null,null,null,null,0,0,0,null,null,null,null,null,null,0,0,0,null,null,null,null,null,null,0,0,0]
[null,null,null,0,0,0,null,null,null,null,null,null,0,0,0,null,null,null,null,null,null,0,0,0,null,null,null,null,null,null,0,0,0,null,null,null,null,null,null,0,0,0,null,null,null,null,null,null,0,0,0,null,null,null,null,null,null,0,0,0,null,null,null,null,null,null,0,0,0,null,null,null,null,null,null,0,0,0,null,null,null,null,null,null,0,0,0,null,null,null,null,null,null,0,0,0,null,null,null,null,null,null,0,0,0,null,null,null,null,null,null,0,0,0,null,null,null,null,null,null,0,0,0,null,null,null,null,null,null,0,0,0,null,null,null,null,null,null,0,0,0,null,null,null,null,null,null,0,0,0,null,null,null,null,null,null,0,0,0,null,null,null,null,null,null,0,0,0,null,null,null,null,null,null,0,0,0,null,null,null,null,null,null,0,0,0,null,null,null,null,null,null,0,0,0,null,null,null,null,null,null,0,0,0,null,null,null,null,null,null,0,0,0,null,null,null,null,null,null,0,0,0,null,null,null,null,null,null,0,0,0,null,null,null,null,null,null,0,0,0,null,null,null,null,null,null,0,0,0,null,null,null,null,null,null,0,0,0,null,null,null,null,null,null,0,0,0,null,null,null,null,null,null,0,0,0,null,null,null,null,null,null,0,0,0,null,null,null,null,null,null,0,0,0,null,null,null,null,null,null,0,0,0,null,null,null,null,null,null,0,0,0]
[null,null,null,0,0,0,null,null,null,null,null,null,0,0,0,null,null,null,null,null,null,0,0,0,null,null,null,null,null,null,0,0,0,null,null,null,null,null,null,0,0,0,null,null,null,null,null,null,0,0,0,null,null,null,null,null,null,0,0,0,null,null,null,null,null,null,0,0,0,null,null,null,null,null,null,0,0,0,null,null,null,null,null,null,0,0,0,null,null,null,null,null,null,0,0,0,null,null,null,null,null,null,0,0,0,null,null,null,null,null,null,0,0,0,null,null,null,null,null,null,0,0,0,null,null,null,null,null,null,0,0,0,null,null,null,null,null,null,0,0,0,null,null,null,null,null,null,0,0,0,null,null,null,null,null,null,0,0,0,null,null,null,null,null,null,0,0,0,null,null,null,null,null,null,0,0,0,null,null,null,null,null,null,0,0,0,null,null,null,null,null,null,0,0,0,null,null,null,null,null,null,0,0,0,null,null,null,null,null,null,0,0,0,null,null,null,null,null,null,0,0,0,null,null,null,null,null,null,0,0,0,null,null,null,null,null,null,0,0,0,null,null,null,null,null,null,0,0,0,null,null,null,null,null,null,0,0,0,null,null,null,null,null,null,0,0,0,null,null,null,null,null,null,0,0,0,null,null,null,null,null,null,0,0,0,null,null,null,null,null,null,0,0,0,null,null,null,null,null,null,0,0,0,null,null,null,null,null,null,0,0,0]
[null,null,null,0,0,0,null,null,null,null,null,null,0,0,0,null,null,null,null,null,null,0,0,0,null,null,null,null,null,null,0,0,0,null,null,null,null,null,null,0,0,0,null,null,null,null,null,null,0,0,0,null,null,null,null,null,null,0,0,0,null,null,null,null,null,null,0,0,0,null,null,null,null,null,null,0,0,0,null,null,null,null,null,null,0,0,0,null,null,null,null,null,null,0,0,0,null,null,null,null,null,null,0,0,0,null,null,null,null,null,null,0,0,0,null,null,null,null,null,null,0,0,0,null,null,null,null,null,null,0,0,0,null,null,null,null,null,null,0,0,0,null,null,null,null,null,null,0,0,0,null,null,null,null,null,null,0,0,0,null,null,null,null,null,null,0,0,0,null,null,null,null,null,null,0,0,0,null,null,null,null,null,null,0,0,0,null,null,null,null,null,null,0,0,0,null,null,null,null,null,null,0,0,0,null,null,null,null,null,null,0,0,0,null,null,null,null,null,null,0,0,0,null,null,null,null,null,null,0,0,0,null,null,null,null,null,null,0,0,0,null,null,null,null,null,null,0,0,0,null,null,null,null,null,null,0,0,0,null,null,null,null,null,null,0,0,0,null,null,null,null,null,null,0,0,0,null,null,null,null,null,null,0,0,0,null,null,null,null,null,null,0,0,0,null,null,null,null,null,null,0,0,0,null,null,null,null,null,null,0,0,0]
[null,null,null,0,0,0,null,null,null,null,null,null,0,0,0,null,null,null,null,null,null,0,0,0,null,null,null,null,null,null,0,0,0,null,null,null,null,null,null,0,0,0,null,null,null,null,null,null,0,0,0,null,null,null,null,null,null,0,0,0,null,null,null,null,null,null,0,0,0,null,null,null,null,null,null,0,0,0,null,null,null,null,null,null,0,0,0,null,null,null,null,null,null,0,0,0,null,null,null,null,null,null,0,0,0,null,null,null,null,null,null,0,0,0,null,null,null,null,null,null,0,0,0,null,null,null,null,null,null,0,0,0,null,null,null,null,null,null,0,0,0,null,null,null,null,null,null,0,0,0,null,null,null,null,null,null,0,0,0,null,null,null,null,null,null,0,0,0,null,null,null,null,null,null,0,0,0,null,null,null,null,null,null,0,0,0,null,null,null,null,null,null,0,0,0,null,null,null,null,null,null,0,0,0,null,null,null,null,null,null,0,0,0,null,null,null,null,null,null,0,0,0,null,null,null,null,null,null,0,0,0,null,null,null,null,null,null,0,0,0,null,null,null,null,null,null,0,0,0,null,null,null,null,null,null,0,0,0,null,null,null,null,null,null,0,0,0,null,null,null,null,null,null,0,0,0,null,null,null,null,null,null,0,0,0,null,null,null,null,null,null,0,0,0,null,null,null,null,null,null,0,0,0,null,null,null,null,null,null,0,0,0]
[null,null,null,0,0,0,null,null,null,null,null,null,0,0,0,null,null,null,null,null,null,0,0,0,null,null,null,null,null,null,0,0,0,null,null,null,null,null,null,0,0,0,null,null,null,null,null,null,0,0,0,null,null,null,null,null,null,0,0,0,null,null,null,null,null,null,0,0,0,null,null,null,null,null,null,0,0,0,null,null,null,null,null,null,0,0,0,null,null,null,null,null,null,0,0,0,null,null,null,null,null,null,0,0,0,null,null,null,null,null,null,0,0,0,null,null,null,null,null,null,0,0,0,null,null,null,null,null,null,0,0,0,null,null,null,null,null,null,0,0,0,null,null,null,null,null,null,0,0,0,null,null,null,null,null,null,0,0,0,null,null,null,null,null,null,0,0,0,null,null,null,null,null,null,0,0,0,null,null,null,null,null,null,0,0,0,null,null,null,null,null,null,0,0,0,null,null,null,null,null,null,0,0,0,null,null,null,null,null,null,0,0,0,null,null,null,null,null,null,0,0,0,null,null,null,null,null,null,0,0,0,null,null,null,null,null,null,0,0,0,null,null,null,null,null,null,0,0,0,null,null,null,null,null,null,0,0,0,null,null,null,null,null,null,0,0,0,null,null,null,null,null,null,0,0,0,null,null,null,null,null,null,0,0,0,null,null,null,null,null,null,0,0,0,null,null,null,null,null,null,0,0,0,null,null,null,null,null,null,0,0,0]
[null,null,null,0,0,0,null,null,null,null,null,null,0,0,0,null,null,null,null,null,null,0,0,0,null,null,null,null,null,null,0,0,0,null,null,null,null,null,null,0,0,0,null,null,null,null,null,null,0,0,0,null,null,null,null,null,null,0,0,0,null,null,null,null,null,null,0,0,0,null,null,null,null,null,null,0,0,0,null,null,null,null,null,null,0,0,0,null,null,null,null,null,null,0,0,0,null,null,null,null,null,null,0,0,0,null,null,null,null,null,null,0,0,0,null,null,null,null,null,null,0,0,0,null,null,null,null,null,null,0,0,0,null,null,null,null,null,null,0,0,0,null,null,null,null,null,null,0,0,0,null,null,null,null,null,null,0,0,0,null,null,null,null,null,null,0,0,0,null,null,null,null,null,null,0,0,0,null,null,null,null,null,null,0,0,0,null,null,null,null,null,null,0,0,0,null,null,null,null,null,null,0,0,0,null,null,null,null,null,null,0,0,0,null,null,null,null,null,null,0,0,0,null,null,null,null,null,null,0,0,0,null,null,null,null,null,null,0,0,0,null,null,null,null,null,null,0,0,0,null,null,null,null,null,null,0,0,0,null,null,null,null,null,null,0,0,0,null,null,null,null,null,null,0,0,0,null,null,null,null,null,null,0,0,0,null,null,null,null,null,null,0,0,0,null,null,null,null,null,null,0,0,0,null,null,null,null,null,null,0,0,0]
[null,null,null,0,0,0,null,null,null,null,null,null,0,0,0,null,null,null,null,null,null,0,0,0,null,null,null,null,null,null,0,0,0,null,null,null,null,null,null,0,0,0,null,null,null,null,null,null,0,0,0,null,null,null,null,null,null,0,0,0,null,null,null,null,null,null,0,0,0,null,null,null,null,null,null,0,0,0,null,null,null,null,null,null,0,0,0,null,null,null,null,null,null,0,0,0,null,null,null,null,null,null,0,0,0,null,null,null,null,null,null,0,0,0,null,null,null,null,null,null,0,0,0,null,null,null,null,null,null,0,0,0,null,null,null,null,null,null,0,0,0,null,null,null,null,null,null,0,0,0,null,null,null,null,null,null,0,0,0,null,null,null,null,null,null,0,0,0,null,null,null,null,null,null,0,0,0,null,null,null,null,null,null,0,0,0,null,null,null,null,null,null,0,0,0,null,null,null,null,null,null,0,0,0,null,null,null,null,null,null,0,0,0,null,null,null,null,null,null,0,0,0,null,null,null,null,null,null,0,0,0,null,null,null,null,null,null,0,0,0,null,null,null,null,null,null,0,0,0,null,null,null,null,null,null,0,0,0,null,null,null,null,null,null,0,0,0,null,null,null,null,null,null,0,0,0,null,null,null,null,null,null,0,0,0,null,null,null,null,null,null,0,0,0,null,null,null,null,null,null,0,0,0,null,null,null,null,null,null,0,0,0]
[null,null,null,0,0,0,null,null,null,null,null,null,0,0,0,null,null,null,null,null,null,0,0,0,null,null,null,null,null,null,0,0,0,null,null,null,null,null,null,0,0,0,null,null,null,null,null,null,0,0,0,null,null,null,null,null,null,0,0,0,null,null,null,null,null,null,0,0,0,null,null,null,null,null,null,0,0,0,null,null,null,null,null,null,0,0,0,null,null,null,null,null,null,0,0,0,null,null,null,null,null,null,0,0,0,null,null,null,null,null,null,0,0,0,null,null,null,null,null,null,0,0,0,null,null,null,null,null,null,0,0,0,null,null,null,null,null,null,0,0,0,null,null,null,null,null,null,0,0,0,null,null,null,null,null,null,0,0,0,null,null,null,null,null,null,0,0,0,null,null,null,null,null,null,0,0,0,null,null,null,null,null,null,0,0,0,null,null,null,null,null,null,0,0,0,null,null,null,null,null,null,0,0,0,null,null,null,null,null,null,0,0,0,null,null,null,null,null,null,0,0,0,null,null,null,null,null,null,0,0,0,null,null,null,null,null,null,0,0,0,null,null,null,null,null,null,0,0,0,null,null,null,null,null,null,0,0,0,null,null,null,null,null,null,0,0,0,null,null,null,null,null,null,0,0,0,null,null,null,null,null,null,0,0,0,null,null,null,null,null,null,0,0,0,null,null,null,null,null,null,0,0,0,null,null,null,null,null,null,0,0,0]
[null,null,null,0,0,0,null,null,null,null,null,null,0,0,0,null,null,null,null,null,null,0,0,0,null,null,null,null,null,null,0,0,0,null,null,null,null,null,null,0,0,0,null,null,null,null,null,null,0,0,0,null,null,null,null,null,null,0,0,0,null,null,null,null,null,null,0,0,0,null,null,null,null,null,null,0,0,0,null,null,null,null,null,null,0,0,0,null,null,null,null,null,null,0,0,0,null,null,null,null,null,null,0,0,0,null,null,null,null,null,null,0,0,0,null,null,null,null,null,null,0,0,0,null,null,null,null,null,null,0,0,0,null,null,null,null,null,null,0,0,0,null,null,null,null,null,null,0,0,0,null,null,null,null,null,null,0,0,0,null,null,null,null,null,null,0,0,0,null,null,null,null,null,null,0,0,0,null,null,null,null,null,null,0,0,0,null,null,null,null,null,null,0,0,0,null,null,null,null,null,null,0,0,0,null,null,null,null,null,null,0,0,0,null,null,null,null,null,null,0,0,0,null,null,null,null,null,null,0,0,0,null,null,null,null,null,null,0,0,0,null,null,null,null,null,null,0,0,0,null,null,null,null,null,null,0,0,0,null,null,null,null,null,null,0,0,0,null,null,null,null,null,null,0,0,0,null,null,null,null,null,null,0,0,0,null,null,null,null,null,null,0,0,0,null,null,null,null,null,null,0,0,0,null,null,null,null,null,null,0,0,0]
[null,null,null,0,0,0,null,null,null,null,null,null,0,0,0,null,null,null,null,null,null,0,0,0,null,null,null,null,null,null,0,0,0,null,null,null,null,null,null,0,0,0,null,null,null,null,null,null,0,0,0,null,null,null,null,null,null,0,0,0,null,null,null,null,null,null,0,0,0,null,null,null,null,null,null,0,0,0,null,null,null,null,null,null,0,0,0,null,null,null,null,null,null,0,0,0,null,null,null,null,null,null,0,0,0,null,null,null,null,null,null,0,0,0,null,null,null,null,null,null,0,0,0,null,null,null,null,null,null,0,0,0,null,null,null,null,null,null,0,0,0,null,null,null,null,null,null,0,0,0,null,null,null,null,null,null,0,0,0,null,null,null,null,null,null,0,0,0,null,null,null,null,null,null,0,0,0,null,null,null,null,null,null,0,0,0,null,null,null,null,null,null,0,0,0,null,null,null,null,null,null,0,0,0,null,null,null,null,null,null,0,0,0,null,null,null,null,null,null,0,0,0,null,null,null,null,null,null,0,0,0,null,null,null,null,null,null,0,0,0,null,null,null,null,null,null,0,0,0,null,null,null,null,null,null,0,0,0,null,null,null,null,null,null,0,0,0,null,null,null,null,null,null,0,0,0,null,null,null,null,null,null,0,0,0,null,null,null,null,null,null,0,0,0,null,null,null,null,null,null,0,0,0,null,null,null,null,null,null,0,0,0]
[null,null,null,0,0,0,null,null,null,null,null,null,0,0,0,null,null,null,null,null,null,0,0,0,null,null,null,null,null,null,0,0,0,null,null,null,null,null,null,0,0,0,null,null,null,null,null,null,0,0,0,null,null,null,null,null,null,0,0,0,null,null,null,null,null,null,0,0,0,null,null,null,null,null,null,0,0,0,null,null,null,null,null,null,0,0,0,null,null,null,null,null,null,0,0,0,null,null,null,null,null,null,0,0,0,null,null,null,null,null,null,0,0,0,null,null,null,null,null,null,0,0,0,null,null,null,null,null,null,0,0,0,null,null,null,null,null,null,0,0,0,null,null,null,null,null,null,0,0,0,null,null,null,null,null,null,0,0,0,null,null,null,null,null,null,0,0,0,null,null,null,null,null,null,0,0,0,null,null,null,null,null,null,0,0,0,null,null,null,null,null,null,0,0,0,null,null,null,null,null,null,0,0,0,null,null,null,null,null,null,0,0,0,null,null,null,null,null,null,0,0,0,null,null,null,null,null,null,0,0,0,null,null,null,null,null,null,0,0,0,null,null,null,null,null,null,0,0,0,null,null,null,null,null,null,0,0,0,null,null,null,null,null,null,0,0,0,null,null,null,null,null,null,0,0,0,null,null,null,null,null,null,0,0,0,null,null,null,null,null,null,0,0,0,null,null,null,null,null,null,0,0,0,null,null,null,null,null,null,0,0,0]
[null,null,null,0,0,0,null,null,null,null,null,null,0,0,0,null,null,null,null,null,null,0,0,0,null,null,null,null,null,null,0,0,0,null,null,null,null,null,null,0,0,0,null,null,null,null,null,null,0,0,0,null,null,null,null,null,null,0,0,0,null,null,null,null,null,null,0,0,0,null,null,null,null,null,null,0,0,0,null,null,null,null,null,null,0,0,0,null,null,null,null,null,null,0,0,0,null,null,null,null,null,null,0,0,0,null,null,null,null,null,null,0,0,0,null,null,null,null,null,null,0,0,0,null,null,null,null,null,null,0,0,0,null,null,null,null,null,null,0,0,0,null,null,null,null,null,null,0,0,0,null,null,null,null,null,null,0,0,0,null,null,null,null,null,null,0,0,0,null,null,null,null,null,null,0,0,0,null,null,null,null,null,null,0,0,0,null,null,null,null,null,null,0,0,0,null,null,null,null,null,null,0,0,0,null,null,null,null,null,null,0,0,0,null,null,null,null,null,null,0,0,0,null,null,null,null,null,null,0,0,0,null,null,null,null,null,null,0,0,0,null,null,null,null,null,null,0,0,0,null,null,null,null,null,null,0,0,0,null,null,null,null,null,null,0,0,0,null,null,null,null,null,null,0,0,0,null,null,null,null,null,null,0,0,0,null,null,null,null,null,null,0,0,0,null,null,null,null,null,null,0,0,0,null,null,null,null,null,null,0,0,0]
[null,null,null,0,0,0,null,null,null,null,null,null,0,0,0,null,null,null,null,null,null,0,0,0,null,null,null,null,null,null,0,0,0,null,null,null,null,null,null,0,0,0,null,null,null,null,null,null,0,0,0,null,null,null,null,null,null,0,0,0,null,null,null,null,null,null,0,0,0,null,null,null,null,null,null,0,0,0,null,null,null,null,null,null,0,0,0,null,null,null,null,null,null,0,0,0,null,null,null,null,null,null,0,0,0,null,null,null,null,null,null,0,0,0,null,null,null,null,null,null,0,0,0,null,null,null,null,null,null,0,0,0,null,null,null,null,null,null,0,0,0,null,null,null,null,null,null,0,0,0,null,null,null,null,null,null,0,0,0,null,null,null,null,null,null,0,0,0,null,null,null,null,null,null,0,0,0,null,null,null,null,null,null,0,0,0,null,null,null,null,null,null,0,0,0,null,null,null,null,null,null,0,0,0,null,null,null,null,null,null,0,0,0,null,null,null,null,null,null,0,0,0,null,null,null,null,null,null,0,0,0,null,null,null,null,null,null,0,0,0,null,null,null,null,null,null,0,0,0,null,null,null,null,null,null,0,0,0,null,null,null,null,null,null,0,0,0,null,null,null,null,null,null,0,0,0,null,null,null,null,null,null,0,0,0,null,null,null,null,null,null,0,0,0,null,null,null,null,null,null,0,0,0,null,null,null,null,null,null,0,0,0]
[null,null,null,0,0,0,null,null,null,null,null,null,0,0,0,null,null,null,null,null,null,0,0,0,null,null,null,null,null,null,0,0,0,null,null,null,null,null,null,0,0,0,null,null,null,null,null,null,0,0,0,null,null,null,null,null,null,0,0,0,null,null,null,null,null,null,0,0,0,null,null,null,null,null,null,0,0,0,null,null,null,null,null,null,0,0,0,null,null,null,null,null,null,0,0,0,null,null,null,null,null,null,0,0,0,null,null,null,null,null,null,0,0,0,null,null,null,null,null,null,0,0,0,null,null,null,null,null,null,0,0,0,null,null,null,null,null,null,0,0,0,null,null,null,null,null,null,0,0,0,null,null,null,null,null,null,0,0,0,null,null,null,null,null,null,0,0,0,null,null,null,null,null,null,0,0,0,null,null,null,null,null,null,0,0,0,null,null,null,null,null,null,0,0,0,null,null,null,null,null,null,0,0,0,null,null,null,null,null,null,0,0,0,null,null,null,null,null,null,0,0,0,null,null,null,null,null,null,0,0,0,null,null,null,null,null,null,0,0,0,null,null,null,null,null,null,0,0,0,null,null,null,null,null,null,0,0,0,null,null,null,null,null,null,0,0,0,null,null,null,null,null,null,0,0,0,null,null,null,null,null,null,0,0,0,null,null,null,null,null,null,0,0,0,null,null,null,null,null,null,0,0,0,null,null,null,null,null,null,0,0,0]
[null,null,null,0,0,0,null,null,null,null,null,null,0,0,0,null,null,null,null,null,null,0,0,0,null,null,null,null,null,null,0,0,0,null,null,null,null,null,null,0,0,0,null,null,null,null,null,null,0,0,0,null,null,null,null,null,null,0,0,0,null,null,null,null,null,null,0,0,0,null,null,null,null,null,null,0,0,0,null,null,null,null,null,null,0,0,0,null,null,null,null,null,null,0,0,0,null,null,null,null,null,null,0,0,0,null,null,null,null,null,null,0,0,0,null,null,null,null,null,null,0,0,0,null,null,null,null,null,null,0,0,0,null,null,null,null,null,null,0,0,0,null,null,null,null,null,null,0,0,0,null,null,null,null,null,null,0,0,0,null,null,null,null,null,null,0,0,0,null,null,null,null,null,null,0,0,0,null,null,null,null,null,null,0,0,0,null,null,null,null,null,null,0,0,0,null,null,null,null,null,null,0,0,0,null,null,null,null,null,null,0,0,0,null,null,null,null,null,null,0,0,0,null,null,null,null,null,null,0,0,0,null,null,null,null,null,null,0,0,0,null,null,null,null,null,null,0,0,0,null,null,null,null,null,null,0,0,0,null,null,null,null,null,null,0,0,0,null,null,null,null,null,null,0,0,0,null,null,null,null,null,null,0,0,0,null,null,null,null,null,null,0,0,0,null,null,null,null,null,null,0,0,0,null,null,null,null,null,null,0,0,0]
[null,null,null,0,0,0,null,null,null,null,null,null,0,0,0,null,null,null,null,null,null,0,0,0,null,null,null,null,null,null,0,0,0,null,null,null,null,null,null,0,0,0,null,null,null,null,null,null,0,0,0,null,null,null,null,null,null,0,0,0,null,null,null,null,null,null,0,0,0,null,null,null,null,null,null,0,0,0,null,null,null,null,null,null,0,0,0,null,null,null,null,null,null,0,0,0,null,null,null,null,null,null,0,0,0,null,null,null,null,null,null,0,0,0,null,null,null,null,null,null,0,0,0,null,null,null,null,null,null,0,0,0,null,null,null,null,null,null,0,0,0,null,null,null,null,null,null,0,0,0,null,null,null,null,null,null,0,0,0,null,null,null,null,null,null,0,0,0,null,null,null,null,null,null,0,0,0,null,null,null,null,null,null,0,0,0,null,null,null,null,null,null,0,0,0,null,null,null,null,null,null,0,0,0,null,null,null,null,null,null,0,0,0,null,null,null,null,null,null,0,0,0,null,null,null,null,null,null,0,0,0,null,null,null,null,null,null,0,0,0,null,null,null,null,null,null,0,0,0,null,null,null,null,null,null,0,0,0,null,null,null,null,null,null,0,0,0,null,null,null,null,null,null,0,0,0,null,null,null,null,null,null,0,0,0,null,null,null,null,null,null,0,0,0,null,null,null,null,null,null,0,0,0,null,null,null,null,null,null,0,0,0]
[null,null,null,0,0,0,null,null,null,null,null,null,0,0,0,null,null,null,null,null,null,0,0,0,null,null,null,null,null,null,0,0,0,null,null,null,null,null,null,0,0,0,null,null,null,null,null,null,0,0,0,null,null,null,null,null,null,0,0,0,null,null,null,null,null,null,0,0,0,null,null,null,null,null,null,0,0,0,null,null,null,null,null,null,0,0,0,null,null,null,null,null,null,0,0,0,null,null,null,null,null,null,0,0,0,null,null,null,null,null,null,0,0,0,null,null,null,null,null,null,0,0,0,null,null,null,null,null,null,0,0,0,null,null,null,null,null,null,0,0,0,null,null,null,null,null,null,0,0,0,null,null,null,null,null,null,0,0,0,null,null,null,null,null,null,0,0,0,null,null,null,null,null,null,0,0,0,null,null,null,null,null,null,0,0,0,null,null,null,null,null,null,0,0,0,null,null,null,null,null,null,0,0,0,null,null,null,null,null,null,0,0,0,null,null,null,null,null,null,0,0,0,null,null,null,null,null,null,0,0,0,null,null,null,null,null,null,0,0,0,null,null,null,null,null,null,0,0,0,null,null,null,null,null,null,0,0,0,null,null,null,null,null,null,0,0,0,null,null,null,null,null,null,0,0,0,null,null,null,null,null,null,0,0,0,null,null,null,null,null,null,0,0,0,null,null,null,null,null,null,0,0,0,null,null,null,null,null,null,0,0,0]
[null,null,null,0,0,0,null,null,null,null,null,null,0,0,0,null,null,null,null,null,null,0,0,0,null,null,null,null,null,null,0,0,0,null,null,null,null,null,null,0,0,0,null,null,null,null,null,null,0,0,0,null,null,null,null,null,null,0,0,0,null,null,null,null,null,null,0,0,0,null,null,null,null,null,null,0,0,0,null,null,null,null,null,null,0,0,0,null,null,null,null,null,null,0,0,0,null,null,null,null,null,null,0,0,0,null,null,null,null,null,null,0,0,0,null,null,null,null,null,null,0,0,0,null,null,null,null,null,null,0,0,0,null,null,null,null,null,null,0,0,0,null,null,null,null,null,null,0,0,0,null,null,null,null,null,null,0,0,0,null,null,null,null,null,null,0,0,0,null,null,null,null,null,null,0,0,0,null,null,null,null,null,null,0,0,0,null,null,null,null,null,null,0,0,0,null,null,null,null,null,null,0,0,0,null,null,null,null,null,null,0,0,0,null,null,null,null,null,null,0,0,0,null,null,null,null,null,null,0,0,0,null,null,null,null,null,null,0,0,0,null,null,null,null,null,null,0,0,0,null,null,null,null,null,null,0,0,0,null,null,null,null,null,null,0,0,0,null,null,null,null,null,null,0,0,0,null,null,null,null,null,null,0,0,0,null,null,null,null,null,null,0,0,0,null,null,null,null,null,null,0,0,0,null,null,null,null,null,null,0,0,0]
[null,null,null,0,0,0,null,null,null,null,null,null,0,0,0,null,null,null,null,null,null,0,0,0,null,null,null,null,null,null,0,0,0,null,null,null,null,null,null,0,0,0,null,null,null,null,null,null,0,0,0,null,null,null,null,null,null,0,0,0,null,null,null,null,null,null,0,0,0,null,null,null,null,null,null,0,0,0,null,null,null,null,null,null,0,0,0,null,null,null,null,null,null,0,0,0,null,null,null,null,null,null,0,0,0,null,null,null,null,null,null,0,0,0,null,null,null,null,null,null,0,0,0,null,null,null,null,null,null,0,0,0,null,null,null,null,null,null,0,0,0,null,null,null,null,null,null,0,0,0,null,null,null,null,null,null,0,0,0,null,null,null,null,null,null,0,0,0,null,null,null,null,null,null,0,0,0,null,null,null,null,null,null,0,0,0,null,null,null,null,null,null,0,0,0,null,null,null,null,null,null,0,0,0,null,null,null,null,null,null,0,0,0,null,null,null,null,null,null,0,0,0,null,null,null,null,null,null,0,0,0,null,null,null,null,null,null,0,0,0,null,null,null,null,null,null,0,0,0,null,null,null,null,null,null,0,0,0,null,null,null,null,null,null,0,0,0,null,null,null,null,null,null,0,0,0,null,null,null,null,null,null,0,0,0,null,null,null,null,null,null,0,0,0,null,null,null,null,null,null,0,0,0,null,null,null,null,null,null,0,0,0]
[null,null,null,0,0,0,null,null,null,null,null,null,0,0,0,null,null,null,null,null,null,0,0,0,null,null,null,null,null,null,0,0,0,null,null,null,null,null,null,0,0,0,null,null,null,null,null,null,0,0,0,null,null,null,null,null,null,0,0,0,null,null,null,null,null,null,0,0,0,null,null,null,null,null,null,0,0,0,null,null,null,null,null,null,0,0,0,null,null,null,null,null,null,0,0,0,null,null,null,null,null,null,0,0,0,null,null,null,null,null,null,0,0,0,null,null,null,null,null,null,0,0,0,null,null,null,null,null,null,0,0,0,null,null,null,null,null,null,0,0,0,null,null,null,null,null,null,0,0,0,null,null,null,null,null,null,0,0,0,null,null,null,null,null,null,0,0,0,null,null,null,null,null,null,0,0,0,null,null,null,null,null,null,0,0,0,null,null,null,null,null,null,0,0,0,null,null,null,null,null,null,0,0,0,null,null,null,null,null,null,0,0,0,null,null,null,null,null,null,0,0,0,null,null,null,null,null,null,0,0,0,null,null,null,null,null,null,0,0,0,null,null,null,null,null,null,0,0,0,null,null,null,null,null,null,0,0,0,null,null,null,null,null,null,0,0,0,null,null,null,null,null,null,0,0,0,null,null,null,null,null,null,0,0,0,null,null,null,null,null,null,0,0,0,null,null,null,null,null,null,0,0,0,null,null,null,null,null,null,0,0,0]
[null,null,null,0,0,0,null,null,null,null,null,null,0,0,0,null,null,null,null,null,null,0,0,0,null,null,null,null,null,null,0,0,0,null,null,null,null,null,null,0,0,0,null,null,null,null,null,null,0,0,0,null,null,null,null,null,null,0,0,0,null,null,null,null,null,null,0,0,0,null,null,null,null,null,null,0,0,0,null,null,null,null,null,null,0,0,0,null,null,null,null,null,null,0,0,0,null,null,null,null,null,null,0,0,0,null,null,null,null,null,null,0,0,0,null,null,null,null,null,null,0,0,0,null,null,null,null,null,null,0,0,0,null,null,null,null,null,null,0,0,0,null,null,null,null,null,null,0,0,0,null,null,null,null,null,null,0,0,0,null,null,null,null,null,null,0,0,0,null,null,null,null,null,null,0,0,0,null,null,null,null,null,null,0,0,0,null,null,null,null,null,null,0,0,0,null,null,null,null,null,null,0,0,0,null,null,null,null,null,null,0,0,0,null,null,null,null,null,null,0,0,0,null,null,null,null,null,null,0,0,0,null,null,null,null,null,null,0,0,0,null,null,null,null,null,null,0,0,0,null,null,null,null,null,null,0,0,0,null,null,null,null,null,null,0,0,0,null,null,null,null,null,null,0,0,0,null,null,null,null,null,null,0,0,0,null,null,null,null,null,null,0,0,0,null,null,null,null,null,null,0,0,0,null,null,null,null,null,null,0,0,0]
[null,null,null,0,0,0,null,null,null,null,null,null,0,0,0,null,null,null,null,null,null,0,0,0,null,null,null,null,null,null,0,0,0,null,null,null,null,null,null,0,0,0,null,null,null,null,null,null,0,0,0,null,null,null,null,null,null,0,0,0,null,null,null,null,null,null,0,0,0,null,null,null,null,null,null,0,0,0,null,null,null,null,null,null,0,0,0,null,null,null,null,null,null,0,0,0,null,null,null,null,null,null,0,0,0,null,null,null,null,null,null,0,0,0,null,null,null,null,null,null,0,0,0,null,null,null,null,null,null,0,0,0,null,null,null,null,null,null,0,0,0,null,null,null,null,null,null,0,0,0,null,null,null,null,null,null,0,0,0,null,null,null,null,null,null,0,0,0,null,null,null,null,null,null,0,0,0,null,null,null,null,null,null,0,0,0,null,null,null,null,null,null,0,0,0,null,null,null,null,null,null,0,0,0,null,null,null,null,null,null,0,0,0,null,null,null,null,null,null,0,0,0,null,null,null,null,null,null,0,0,0,null,null,null,null,null,null,0,0,0,null,null,null,null,null,null,0,0,0,null,null,null,null,null,null,0,0,0,null,null,null,null,null,null,0,0,0,null,null,null,null,null,null,0,0,0,null,null,null,null,null,null,0,0,0,null,null,null,null,null,null,0,0,0,null,null,null,null,null,null,0,0,0,null,null,null,null,null,null,0,0,0]
[null,null,null,0,0,0,null,null,null,null,null,null,0,0,0,null,null,null,null,null,null,0,0,0,null,null,null,null,null,null,0,0,0,null,null,null,null,null,null,0,0,0,null,null,null,null,null,null,0,0,0,null,null,null,null,null,null,0,0,0,null,null,null,null,null,null,0,0,0,null,null,null,null,null,null,0,0,0,null,null,null,null,null,null,0,0,0,null,null,null,null,null,null,0,0,0,null,null,null,null,null,null,0,0,0,null,null,null,null,null,null,0,0,0,null,null,null,null,null,null,0,0,0,null,null,null,null,null,null,0,0,0,null,null,null,null,null,null,0,0,0,null,null,null,null,null,null,0,0,0,null,null,null,null,null,null,0,0,0,null,null,null,null,null,null,0,0,0,null,null,null,null,null,null,0,0,0,null,null,null,null,null,null,0,0,0,null,null,null,null,null,null,0,0,0,null,null,null,null,null,null,0,0,0,null,null,null,null,null,null,0,0,0,null,null,null,null,null,null,0,0,0,null,null,null,null,null,null,0,0,0,null,null,null,null,null,null,0,0,0,null,null,null,null,null,null,0,0,0,null,null,null,null,null,null,0,0,0,null,null,null,null,null,null,0,0,0,null,null,null,null,null,null,0,0,0,null,null,null,null,null,null,0,0,0,null,null,null,null,null,null,0,0,0,null,null,null,null,null,null,0,0,0,null,null,null,null,null,null,0,0,0]
[null,null,null,0,0,0,null,null,null,null,null,null,0,0,0,null,null,null,null,null,null,0,0,0,null,null,null,null,null,null,0,0,0,null,null,null,null,null,null,0,0,0,null,null,null,null,null,null,0,0,0,null,null,null,null,null,null,0,0,0,null,null,null,null,null,null,0,0,0,null,null,null,null,null,null,0,0,0,null,null,null,null,null,null,0,0,0,null,null,null,null,null,null,0,0,0,null,null,null,null,null,null,0,0,0,null,null,null,null,null,null,0,0,0,null,null,null,null,null,null,0,0,0,null,null,null,null,null,null,0,0,0,null,null,null,null,null,null,0,0,0,null,null,null,null,null,null,0,0,0,null,null,null,null,null,null,0,0,0,null,null,null,null,null,null,0,0,0,null,null,null,null,null,null,0,0,0,null,null,null,null,null,null,0,0,0,null,null,null,null,null,null,0,0,0,null,null,null,null,null,null,0,0,0,null,null,null,null,null,null,0,0,0,null,null,null,null,null,null,0,0,0,null,null,null,null,null,null,0,0,0,null,null,null,null,null,null,0,0,0,null,null,null,null,null,null,0,0,0,null,null,null,null,null,null,0,0,0,null,null,null,null,null,null,0,0,0,null,null,null,null,null,null,0,0,0,null,null,null,null,null,null,0,0,0,null,null,null,null,null,null,0,0,0,null,null,null,null,null,null,0,0,0,null,null,null,null,null,null,0,0,0]
[null,null,null,0,0,0,null,null,null,null,null,null,0,0,0,null,null,null,null,null,null,0,0,0,null,null,null,null,null,null,0,0,0,null,null,null,null,null,null,0,0,0,null,null,null,null,null,null,0,0,0,null,null,null,null,null,null,0,0,0,null,null,null,null,null,null,0,0,0,null,null,null,null,null,null,0,0,0,null,null,null,null,null,null,0,0,0,null,null,null,null,null,null,0,0,0,null,null,null,null,null,null,0,0,0,null,null,null,null,null,null,0,0,0,null,null,null,null,null,null,0,0,0,null,null,null,null,null,null,0,0,0,null,null,null,null,null,null,0,0,0,null,null,null,null,null,null,0,0,0,null,null,null,null,null,null,0,0,0,null,null,null,null,null,null,0,0,0,null,null,null,null,null,null,0,0,0,null,null,null,null,null,null,0,0,0,null,null,null,null,null,null,0,0,0,null,null,null,null,null,null,0,0,0,null,null,null,null,null,null,0,0,0,null,null,null,null,null,null,0,0,0,null,null,null,null,null,null,0,0,0,null,null,null,null,null,null,0,0,0,null,null,null,null,null,null,0,0,0,null,null,null,null,null,null,0,0,0,null,null,null,null,null,null,0,0,0,null,null,null,null,null,null,0,0,0,null,null,null,null,null,null,0,0,0,null,null,null,null,null,null,0,0,0,null,null,null,null,null,null,0,0,0,null,null,null,null,null,null,0,0,0]
[null,null,null,0,0,0,null,null,null,null,null,null,0,0,0,null,null,null,null,null,null,0,0,0,null,null,null,null,null,null,0,0,0,null,null,null,null,null,null,0,0,0,null,null,null,null,null,null,0,0,0,null,null,null,null,null,null,0,0,0,null,null,null,null,null,null,0,0,0,null,null,null,null,null,null,0,0,0,null,null,null,null,null,null,0,0,0,null,null,null,null,null,null,0,0,0,null,null,null,null,null,null,0,0,0,null,null,null,null,null,null,0,0,0,null,null,null,null,null,null,0,0,0,null,null,null,null,null,null,0,0,0,null,null,null,null,null,null,0,0,0,null,null,null,null,null,null,0,0,0,null,null,null,null,null,null,0,0,0,null,null,null,null,null,null,0,0,0,null,null,null,null,null,null,0,0,0,null,null,null,null,null,null,0,0,0,null,null,null,null,null,null,0,0,0,null,null,null,null,null,null,0,0,0,null,null,null,null,null,null,0,0,0,null,null,null,null,null,null,0,0,0,null,null,null,null,null,null,0,0,0,null,null,null,null,null,null,0,0,0,null,null,null,null,null,null,0,0,0,null,null,null,null,null,null,0,0,0,null,null,null,null,null,null,0,0,0,null,null,null,null,null,null,0,0,0,null,null,null,null,null,null,0,0,0,null,null,null,null,null,null,0,0,0,null,null,null,null,null,null,0,0,0,null,null,null,null,null,null,0,0,0]
[null,null,null,0,0,0,null,null,null,null,null,null,0,0,0,null,null,null,null,null,null,0,0,0,null,null,null,null,null,null,0,0,0,null,null,null,null,null,null,0,0,0,null,null,null,null,null,null,0,0,0,null,null,null,null,null,null,0,0,0,null,null,null,null,null,null,0,0,0,null,null,null,null,null,null,0,0,0,null,null,null,null,null,null,0,0,0,null,null,null,null,null,null,0,0,0,null,null,null,null,null,null,0,0,0,null,null,null,null,null,null,0,0,0,null,null,null,null,null,null,0,0,0,null,null,null,null,null,null,0,0,0,null,null,null,null,null,null,0,0,0,null,null,null,null,null,null,0,0,0,null,null,null,null,null,null,0,0,0,null,null,null,null,null,null,0,0,0,null,null,null,null,null,null,0,0,0,null,null,null,null,null,null,0,0,0,null,null,null,null,null,null,0,0,0,null,null,null,null,null,null,0,0,0,null,null,null,null,null,null,0,0,0,null,null,null,null,null,null,0,0,0,null,null,null,null,null,null,0,0,0,null,null,null,null,null,null,0,0,0,null,null,null,null,null,null,0,0,0,null,null,null,null,null,null,0,0,0,null,null,null,null,null,null,0,0,0,null,null,null,null,null,null,0,0,0,null,null,null,null,null,null,0,0,0,null,null,null,null,null,null,0,0,0,null,null,null,null,null,null,0,0,0,null,null,null,null,null,null,0,0,0]
[null,null,null,0,0,0,null,null,null,null,null,null,0,0,0,null,null,null,null,null,null,0,0,0,null,null,null,null,null,null,0,0,0,null,null,null,null,null,null,0,0,0,null,null,null,null,null,null,0,0,0,null,null,null,null,null,null,0,0,0,null,null,null,null,null,null,0,0,0,null,null,null,null,null,null,0,0,0,null,null,null,null,null,null,0,0,0,null,null,null,null,null,null,0,0,0,null,null,null,null,null,null,0,0,0,null,null,null,null,null,null,0,0,0,null,null,null,null,null,null,0,0,0,null,null,null,null,null,null,0,0,0,null,null,null,null,null,null,0,0,0,null,null,null,null,null,null,0,0,0,null,null,null,null,null,null,0,0,0,null,null,null,null,null,null,0,0,0,null,null,null,null,null,null,0,0,0,null,null,null,null,null,null,0,0,0,null,null,null,null,null,null,0,0,0,null,null,null,null,null,null,0,0,0,null,null,null,null,null,null,0,0,0,null,null,null,null,null,null,0,0,0,null,null,null,null,null,null,0,0,0,null,null,null,null,null,null,0,0,0,null,null,null,null,null,null,0,0,0,null,null,null,null,null,null,0,0,0,null,null,null,null,null,null,0,0,0,null,null,null,null,null,null,0,0,0,null,null,null,null,null,null,0,0,0,null,null,null,null,null,null,0,0,0,null,null,null,null,null,null,0,0,0,null,null,null,null,null,null,0,0,0]
[null,null,null,0,0,0,null,null,null,null,null,null,0,0,0,null,null,null,null,null,null,0,0,0,null,null,null,null,null,null,0,0,0,null,null,null,null,null,null,0,0,0,null,null,null,null,null,null,0,0,0,null,null,null,null,null,null,0,0,0,null,null,null,null,null,null,0,0,0,null,null,null,null,null,null,0,0,0,null,null,null,null,null,null,0,0,0,null,null,null,null,null,null,0,0,0,null,null,null,null,null,null,0,0,0,null,null,null,null,null,null,0,0,0,null,null,null,null,null,null,0,0,0,null,null,null,null,null,null,0,0,0,null,null,null,null,null,null,0,0,0,null,null,null,null,null,null,0,0,0,null,null,null,null,null,null,0,0,0,null,null,null,null,null,null,0,0,0,null,null,null,null,null,null,0,0,0,null,null,null,null,null,null,0,0,0,null,null,null,null,null,null,0,0,0,null,null,null,null,null,null,0,0,0,null,null,null,null,null,null,0,0,0,null,null,null,null,null,null,0,0,0,null,null,null,null,null,null,0,0,0,null,null,null,null,null,null,0,0,0,null,null,null,null,null,null,0,0,0,null,null,null,null,null,null,0,0,0,null,null,null,null,null,null,0,0,0,null,null,null,null,null,null,0,0,0,null,null,null,null,null,null,0,0,0,null,null,null,null,null,null,0,0,0,null,null,null,null,null,null,0,0,0,null,null,null,null,null,null,0,0,0]
[null,null,null,0,0,0,null,null,null,null,null,null,0,0,0,null,null,null,null,null,null,0,0,0,null,null,null,null,null,null,0,0,0,null,null,null,null,null,null,0,0,0,null,null,null,null,null,null,0,0,0,null,null,null,null,null,null,0,0,0,null,null,null,null,null,null,0,0,0,null,null,null,null,null,null,0,0,0,null,null,null,null,null,null,0,0,0,null,null,null,null,null,null,0,0,0,null,null,null,null,null,null,0,0,0,null,null,null,null,null,null,0,0,0,null,null,null,null,null,null,0,0,0,null,null,null,null,null,null,0,0,0,null,null,null,null,null,null,0,0,0,null,null,null,null,null,null,0,0,0,null,null,null,null,null,null,0,0,0,null,null,null,null,null,null,0,0,0,null,null,null,null,null,null,0,0,0,null,null,null,null,null,null,0,0,0,null,null,null,null,null,null,0,0,0,null,null,null,null,null,null,0,0,0,null,null,null,null,null,null,0,0,0,null,null,null,null,null,null,0,0,0,null,null,null,null,null,null,0,0,0,null,null,null,null,null,null,0,0,0,null,null,null,null,null,null,0,0,0,null,null,null,null,null,null,0,0,0,null,null,null,null,null,null,0,0,0,null,null,null,null,null,null,0,0,0,null,null,null,null,null,null,0,0,0,null,null,null,null,null,null,0,0,0,null,null,null,null,null,null,0,0,0,null,null,null,null,null,null,0,0,0]
[null,null,null,0,0,0,null,null,null,null,null,null,0,0,0,null,null,null,null,null,null,0,0,0,null,null,null,null,null,null,0,0,0,null,null,null,null,null,null,0,0,0,null,null,null,null,null,null,0,0,0,null,null,null,null,null,null,0,0,0,null,null,null,null,null,null,0,0,0,null,null,null,null,null,null,0,0,0,null,null,null,null,null,null,0,0,0,null,null,null,null,null,null,0,0,0,null,null,null,null,null,null,0,0,0,null,null,null,null,null,null,0,0,0,null,null,null,null,null,null,0,0,0,null,null,null,null,null,null,0,0,0,null,null,null,null,null,null,0,0,0,null,null,null,null,null,null,0,0,0,null,null,null,null,null,null,0,0,0,null,null,null,null,null,null,0,0,0,null,null,null,null,null,null,0,0,0,null,null,null,null,null,null,0,0,0,null,null,null,null,null,null,0,0,0,null,null,null,null,null,null,0,0,0,null,null,null,null,null,null,0,0,0,null,null,null,null,null,null,0,0,0,null,null,null,null,null,null,0,0,0,null,null,null,null,null,null,0,0,0,null,null,null,null,null,null,0,0,0,null,null,null,null,null,null,0,0,0,null,null,null,null,null,null,0,0,0,null,null,null,null,null,null,0,0,0,null,null,null,null,null,null,0,0,0,null,null,null,null,null,null,0,0,0,null,null,null,null,null,null,0,0,0,null,null,null,null,null,null,0,0,0]
[null,null,null,0,0,0,null,null,null,null,null,null,0,0,0,null,null,null,null,null,null,0,0,0,null,null,null,null,null,null,0,0,0,null,null,null,null,null,null,0,0,0,null,null,null,null,null,null,0,0,0,null,null,null,null,null,null,0,0,0,null,null,null,null,null,null,0,0,0,null,null,null,null,null,null,0,0,0,null,null,null,null,null,null,0,0,0,null,null,null,null,null,null,0,0,0,null,null,null,null,null,null,0,0,0,null,null,null,null,null,null,0,0,0,null,null,null,null,null,null,0,0,0,null,null,null,null,null,null,0,0,0,null,null,null,null,null,null,0,0,0,null,null,null,null,null,null,0,0,0,null,null,null,null,null,null,0,0,0,null,null,null,null,null,null,0,0,0,null,null,null,null,null,null,0,0,0,null,null,null,null,null,null,0,0,0,null,null,null,null,null,null,0,0,0,null,null,null,null,null,null,0,0,0,null,null,null,null,null,null,0,0,0,null,null,null,null,null,null,0,0,0,null,null,null,null,null,null,0,0,0,null,null,null,null,null,null,0,0,0,null,null,null,null,null,null,0,0,0,null,null,null,null,null,null,0,0,0,null,null,null,null,null,null,0,0,0,null,null,null,null,null,null,0,0,0,null,null,null,null,null,null,0,0,0,null,null,null,null,null,null,0,0,0,null,null,null,null,null,null,0,0,0,null,null,null,null,null,null,0,0,0]
[null,null,null,{"$f":"IF(C1276=\"\",0,1)","v":0},{"$f":"IF(H1276=\"TAK\",1,0)","v":0},{"$f":"IF(I1276=\"TAK\",1,0)","v":0},null,null,null,null,null,null,0,0,0,null,null,null,null,null,null,0,0,0,null,null,null,null,null,null,0,0,0,null,null,null,null,null,null,0,0,0,null,null,null,null,null,null,0,0,0,null,null,null,null,null,null,0,0,0,null,null,null,null,null,null,0,0,0,null,null,null,null,null,null,0,0,0,null,null,null,null,null,null,0,0,0,null,null,null,null,null,null,0,0,0,null,null,null,null,null,null,0,0,0,null,null,null,null,null,null,0,0,0,null,null,null,null,null,null,0,0,0,null,null,null,null,null,null,0,0,0,null,null,null,null,null,null,0,0,0,null,null,null,null,null,null,0,0,0,null,null,null,null,null,null,0,0,0,null,null,null,null,null,null,0,0,0,null,null,null,null,null,null,0,0,0,null,null,null,null,null,null,0,0,0,null,null,null,null,null,null,0,0,0,null,null,null,null,null,null,0,0,0,null,null,null,null,null,null,0,0,0,null,null,null,null,null,null,0,0,0,null,null,null,null,null,null,0,0,0,null,null,null,null,null,null,0,0,0,null,null,null,null,null,null,0,0,0,null,null,null,null,null,null,0,0,0,null,null,null,null,null,null,0,0,0,null,null,null,null,null,null,0,0,0,null,null,null,null,null,null,0,0,0,null,null,null,null,null,null,0,0,0,null,null,null,null,null,null,0,0,0,null,null,null,null,null,null,0,0,0]
[null,null,null,0,0,0,null,null,null,null,null,null,0,0,0,null,null,null,null,null,null,0,0,0,null,null,null,null,null,null,0,0,0,null,null,null,null,null,null,0,0,0,null,null,null,null,null,null,0,0,0,null,null,null,null,null,null,0,0,0,null,null,null,null,null,null,0,0,0,null,null,null,null,null,null,0,0,0,null,null,null,null,null,null,0,0,0,null,null,null,null,null,null,0,0,0,null,null,null,null,null,null,0,0,0,null,null,null,null,null,null,0,0,0,null,null,null,null,null,null,0,0,0,null,null,null,null,null,null,0,0,0,null,null,null,null,null,null,0,0,0,null,null,null,null,null,null,0,0,0,null,null,null,null,null,null,0,0,0,null,null,null,null,null,null,0,0,0,null,null,null,null,null,null,0,0,0,null,null,null,null,null,null,0,0,0,null,null,null,null,null,null,0,0,0,null,null,null,null,null,null,0,0,0,null,null,null,null,null,null,0,0,0,null,null,null,null,null,null,0,0,0,null,null,null,null,null,null,0,0,0,null,null,null,null,null,null,0,0,0,null,null,null,null,null,null,0,0,0,null,null,null,null,null,null,0,0,0,null,null,null,null,null,null,0,0,0,null,null,null,null,null,null,0,0,0,null,null,null,null,null,null,0,0,0,null,null,null,null,null,null,0,0,0,null,null,null,null,null,null,0,0,0,null,null,null,null,null,null,0,0,0]
[null,null,null,0,0,0,null,null,null,null,null,null,0,0,0,null,null,null,null,null,null,0,0,0,null,null,null,null,null,null,0,0,0,null,null,null,null,null,null,0,0,0,null,null,null,null,null,null,0,0,0,null,null,null,null,null,null,0,0,0,null,null,null,null,null,null,0,0,0,null,null,null,null,null,null,0,0,0,null,null,null,null,null,null,0,0,0,null,null,null,null,null,null,0,0,0,null,null,null,null,null,null,0,0,0,null,null,null,null,null,null,0,0,0,null,null,null,null,null,null,0,0,0,null,null,null,null,null,null,0,0,0,null,null,null,null,null,null,0,0,0,null,null,null,null,null,null,0,0,0,null,null,null,null,null,null,0,0,0,null,null,null,null,null,null,0,0,0,null,null,null,null,null,null,0,0,0,null,null,null,null,null,null,0,0,0,null,null,null,null,null,null,0,0,0,null,null,null,null,null,null,0,0,0,null,null,null,null,null,null,0,0,0,null,null,null,null,null,null,0,0,0,null,null,null,null,null,null,0,0,0,null,null,null,null,null,null,0,0,0,null,null,null,null,null,null,0,0,0,null,null,null,null,null,null,0,0,0,null,null,null,null,null,null,0,0,0,null,null,null,null,null,null,0,0,0,null,null,null,null,null,null,0,0,0,null,null,null,null,null,null,0,0,0,null,null,null,null,null,null,0,0,0,null,null,null,null,null,null,0,0,0]
[null,null,null,0,0,0,null,null,null,null,null,null,0,0,0,null,null,null,null,null,null,0,0,0,null,null,null,null,null,null,0,0,0,null,null,null,null,null,null,0,0,0,null,null,null,null,null,null,0,0,0,null,null,null,null,null,null,0,0,0,null,null,null,null,null,null,0,0,0,null,null,null,null,null,null,0,0,0,null,null,null,null,null,null,0,0,0,null,null,null,null,null,null,0,0,0,null,null,null,null,null,null,0,0,0,null,null,null,null,null,null,0,0,0,null,null,null,null,null,null,0,0,0,null,null,null,null,null,null,0,0,0,null,null,null,null,null,null,0,0,0,null,null,null,null,null,null,0,0,0,null,null,null,null,null,null,0,0,0,null,null,null,null,null,null,0,0,0,null,null,null,null,null,null,0,0,0,null,null,null,null,null,null,0,0,0,null,null,null,null,null,null,0,0,0,null,null,null,null,null,null,0,0,0,null,null,null,null,null,null,0,0,0,null,null,null,null,null,null,0,0,0,null,null,null,null,null,null,0,0,0,null,null,null,null,null,null,0,0,0,null,null,null,null,null,null,0,0,0,null,null,null,null,null,null,0,0,0,null,null,null,null,null,null,0,0,0,null,null,null,null,null,null,0,0,0,null,null,null,null,null,null,0,0,0,null,null,null,null,null,null,0,0,0,null,null,null,null,null,null,0,0,0,null,null,null,null,null,null,0,0,0]
[null,null,null,0,0,0,null,null,null,null,null,null,0,0,0,null,null,null,null,null,null,0,0,0,null,null,null,null,null,null,0,0,0,null,null,null,null,null,null,0,0,0,null,null,null,null,null,null,0,0,0,null,null,null,null,null,null,0,0,0,null,null,null,null,null,null,0,0,0,null,null,null,null,null,null,0,0,0,null,null,null,null,null,null,0,0,0,null,null,null,null,null,null,0,0,0,null,null,null,null,null,null,0,0,0,null,null,null,null,null,null,0,0,0,null,null,null,null,null,null,0,0,0,null,null,null,null,null,null,0,0,0,null,null,null,null,null,null,0,0,0,null,null,null,null,null,null,0,0,0,null,null,null,null,null,null,0,0,0,null,null,null,null,null,null,0,0,0,null,null,null,null,null,null,0,0,0,null,null,null,null,null,null,0,0,0,null,null,null,null,null,null,0,0,0,null,null,null,null,null,null,0,0,0,null,null,null,null,null,null,0,0,0,null,null,null,null,null,null,0,0,0,null,null,null,null,null,null,0,0,0,null,null,null,null,null,null,0,0,0,null,null,null,null,null,null,0,0,0,null,null,null,null,null,null,0,0,0,null,null,null,null,null,null,0,0,0,null,null,null,null,null,null,0,0,0,null,null,null,null,null,null,0,0,0,null,null,null,null,null,null,0,0,0,null,null,null,null,null,null,0,0,0,null,null,null,null,null,null,0,0,0]
[null,null,null,0,0,0,null,null,null,null,null,null,0,0,0,null,null,null,null,null,null,0,0,0,null,null,null,null,null,null,0,0,0,null,null,null,null,null,null,0,0,0,null,null,null,null,null,null,0,0,0,null,null,null,null,null,null,0,0,0,null,null,null,null,null,null,0,0,0,null,null,null,null,null,null,0,0,0,null,null,null,null,null,null,0,0,0,null,null,null,null,null,null,0,0,0,null,null,null,null,null,null,0,0,0,null,null,null,null,null,null,0,0,0,null,null,null,null,null,null,0,0,0,null,null,null,null,null,null,0,0,0,null,null,null,null,null,null,0,0,0,null,null,null,null,null,null,0,0,0,null,null,null,null,null,null,0,0,0,null,null,null,null,null,null,0,0,0,null,null,null,null,null,null,0,0,0,null,null,null,null,null,null,0,0,0,null,null,null,null,null,null,0,0,0,null,null,null,null,null,null,0,0,0,null,null,null,null,null,null,0,0,0,null,null,null,null,null,null,0,0,0,null,null,null,null,null,null,0,0,0,null,null,null,null,null,null,0,0,0,null,null,null,null,null,null,0,0,0,null,null,null,null,null,null,0,0,0,null,null,null,null,null,null,0,0,0,null,null,null,null,null,null,0,0,0,null,null,null,null,null,null,0,0,0,null,null,null,null,null,null,0,0,0,null,null,null,null,null,null,0,0,0,null,null,null,null,null,null,0,0,0]
[null,null,null,0,0,0,null,null,null,null,null,null,0,0,0,null,null,null,null,null,null,0,0,0,null,null,null,null,null,null,0,0,0,null,null,null,null,null,null,0,0,0,null,null,null,null,null,null,0,0,0,null,null,null,null,null,null,0,0,0,null,null,null,null,null,null,0,0,0,null,null,null,null,null,null,0,0,0,null,null,null,null,null,null,0,0,0,null,null,null,null,null,null,0,0,0,null,null,null,null,null,null,0,0,0,null,null,null,null,null,null,0,0,0,null,null,null,null,null,null,0,0,0,null,null,null,null,null,null,0,0,0,null,null,null,null,null,null,0,0,0,null,null,null,null,null,null,0,0,0,null,null,null,null,null,null,0,0,0,null,null,null,null,null,null,0,0,0,null,null,null,null,null,null,0,0,0,null,null,null,null,null,null,0,0,0,null,null,null,null,null,null,0,0,0,null,null,null,null,null,null,0,0,0,null,null,null,null,null,null,0,0,0,null,null,null,null,null,null,0,0,0,null,null,null,null,null,null,0,0,0,null,null,null,null,null,null,0,0,0,null,null,null,null,null,null,0,0,0,null,null,null,null,null,null,0,0,0,null,null,null,null,null,null,0,0,0,null,null,null,null,null,null,0,0,0,null,null,null,null,null,null,0,0,0,null,null,null,null,null,null,0,0,0,null,null,null,null,null,null,0,0,0,null,null,null,null,null,null,0,0,0]
[null,null,null,0,0,0,null,null,null,null,null,null,0,0,0,null,null,null,null,null,null,0,0,0,null,null,null,null,null,null,0,0,0,null,null,null,null,null,null,0,0,0,null,null,null,null,null,null,0,0,0,null,null,null,null,null,null,0,0,0,null,null,null,null,null,null,0,0,0,null,null,null,null,null,null,0,0,0,null,null,null,null,null,null,0,0,0,null,null,null,null,null,null,0,0,0,null,null,null,null,null,null,0,0,0,null,null,null,null,null,null,0,0,0,null,null,null,null,null,null,0,0,0,null,null,null,null,null,null,0,0,0,null,null,null,null,null,null,0,0,0,null,null,null,null,null,null,0,0,0,null,null,null,null,null,null,0,0,0,null,null,null,null,null,null,0,0,0,null,null,null,null,null,null,0,0,0,null,null,null,null,null,null,0,0,0,null,null,null,null,null,null,0,0,0,null,null,null,null,null,null,0,0,0,null,null,null,null,null,null,0,0,0,null,null,null,null,null,null,0,0,0,null,null,null,null,null,null,0,0,0,null,null,null,null,null,null,0,0,0,null,null,null,null,null,null,0,0,0,null,null,null,null,null,null,0,0,0,null,null,null,null,null,null,0,0,0,null,null,null,null,null,null,0,0,0,null,null,null,null,null,null,0,0,0,null,null,null,null,null,null,0,0,0,null,null,null,null,null,null,0,0,0,null,null,null,null,null,null,0,0,0]
[null,null,null,0,0,0,null,null,null,null,null,null,0,0,0,null,null,null,null,null,null,0,0,0,null,null,null,null,null,null,0,0,0,null,null,null,null,null,null,0,0,0,null,null,null,null,null,null,0,0,0,null,null,null,null,null,null,0,0,0,null,null,null,null,null,null,0,0,0,null,null,null,null,null,null,0,0,0,null,null,null,null,null,null,0,0,0,null,null,null,null,null,null,0,0,0,null,null,null,null,null,null,0,0,0,null,null,null,null,null,null,0,0,0,null,null,null,null,null,null,0,0,0,null,null,null,null,null,null,0,0,0,null,null,null,null,null,null,0,0,0,null,null,null,null,null,null,0,0,0,null,null,null,null,null,null,0,0,0,null,null,null,null,null,null,0,0,0,null,null,null,null,null,null,0,0,0,null,null,null,null,null,null,0,0,0,null,null,null,null,null,null,0,0,0,null,null,null,null,null,null,0,0,0,null,null,null,null,null,null,0,0,0,null,null,null,null,null,null,0,0,0,null,null,null,null,null,null,0,0,0,null,null,null,null,null,null,0,0,0,null,null,null,null,null,null,0,0,0,null,null,null,null,null,null,0,0,0,null,null,null,null,null,null,0,0,0,null,null,null,null,null,null,0,0,0,null,null,null,null,null,null,0,0,0,null,null,null,null,null,null,0,0,0,null,null,null,null,null,null,0,0,0,null,null,null,null,null,null,0,0,0]
[null,null,null,0,0,0,null,null,null,null,null,null,0,0,0,null,null,null,null,null,null,0,0,0,null,null,null,null,null,null,0,0,0,null,null,null,null,null,null,0,0,0,null,null,null,null,null,null,0,0,0,null,null,null,null,null,null,0,0,0,null,null,null,null,null,null,0,0,0,null,null,null,null,null,null,0,0,0,null,null,null,null,null,null,0,0,0,null,null,null,null,null,null,0,0,0,null,null,null,null,null,null,0,0,0,null,null,null,null,null,null,0,0,0,null,null,null,null,null,null,0,0,0,null,null,null,null,null,null,0,0,0,null,null,null,null,null,null,0,0,0,null,null,null,null,null,null,0,0,0,null,null,null,null,null,null,0,0,0,null,null,null,null,null,null,0,0,0,null,null,null,null,null,null,0,0,0,null,null,null,null,null,null,0,0,0,null,null,null,null,null,null,0,0,0,null,null,null,null,null,null,0,0,0,null,null,null,null,null,null,0,0,0,null,null,null,null,null,null,0,0,0,null,null,null,null,null,null,0,0,0,null,null,null,null,null,null,0,0,0,null,null,null,null,null,null,0,0,0,null,null,null,null,null,null,0,0,0,null,null,null,null,null,null,0,0,0,null,null,null,null,null,null,0,0,0,null,null,null,null,null,null,0,0,0,null,null,null,null,null,null,0,0,0,null,null,null,null,null,null,0,0,0,null,null,null,null,null,null,0,0,0]
[null,null,null,0,0,0,null,null,null,null,null,null,0,0,0,null,null,null,null,null,null,0,0,0,null,null,null,null,null,null,0,0,0,null,null,null,null,null,null,0,0,0,null,null,null,null,null,null,0,0,0,null,null,null,null,null,null,0,0,0,null,null,null,null,null,null,0,0,0,null,null,null,null,null,null,0,0,0,null,null,null,null,null,null,0,0,0,null,null,null,null,null,null,0,0,0,null,null,null,null,null,null,0,0,0,null,null,null,null,null,null,0,0,0,null,null,null,null,null,null,0,0,0,null,null,null,null,null,null,0,0,0,null,null,null,null,null,null,0,0,0,null,null,null,null,null,null,0,0,0,null,null,null,null,null,null,0,0,0,null,null,null,null,null,null,0,0,0,null,null,null,null,null,null,0,0,0,null,null,null,null,null,null,0,0,0,null,null,null,null,null,null,0,0,0,null,null,null,null,null,null,0,0,0,null,null,null,null,null,null,0,0,0,null,null,null,null,null,null,0,0,0,null,null,null,null,null,null,0,0,0,null,null,null,null,null,null,0,0,0,null,null,null,null,null,null,0,0,0,null,null,null,null,null,null,0,0,0,null,null,null,null,null,null,0,0,0,null,null,null,null,null,null,0,0,0,null,null,null,null,null,null,0,0,0,null,null,null,null,null,null,0,0,0,null,null,null,null,null,null,0,0,0,null,null,null,null,null,null,0,0,0]
[null,null,null,0,0,0,null,null,null,null,null,null,0,0,0,null,null,null,null,null,null,0,0,0,null,null,null,null,null,null,0,0,0,null,null,null,null,null,null,0,0,0,null,null,null,null,null,null,0,0,0,null,null,null,null,null,null,0,0,0,null,null,null,null,null,null,0,0,0,null,null,null,null,null,null,0,0,0,null,null,null,null,null,null,0,0,0,null,null,null,null,null,null,0,0,0,null,null,null,null,null,null,0,0,0,null,null,null,null,null,null,0,0,0,null,null,null,null,null,null,0,0,0,null,null,null,null,null,null,0,0,0,null,null,null,null,null,null,0,0,0,null,null,null,null,null,null,0,0,0,null,null,null,null,null,null,0,0,0,null,null,null,null,null,null,0,0,0,null,null,null,null,null,null,0,0,0,null,null,null,null,null,null,0,0,0,null,null,null,null,null,null,0,0,0,null,null,null,null,null,null,0,0,0,null,null,null,null,null,null,0,0,0,null,null,null,null,null,null,0,0,0,null,null,null,null,null,null,0,0,0,null,null,null,null,null,null,0,0,0,null,null,null,null,null,null,0,0,0,null,null,null,null,null,null,0,0,0,null,null,null,null,null,null,0,0,0,null,null,null,null,null,null,0,0,0,null,null,null,null,null,null,0,0,0,null,null,null,null,null,null,0,0,0,null,null,null,null,null,null,0,0,0,null,null,null,null,null,null,0,0,0]
[null,null,null,{"$f":"IF(C1468=\"\",0,1)","v":0},{"$f":"IF(H1468=\"TAK\",1,0)","v":0},{"$f":"IF(I1468=\"TAK\",1,0)","v":0},null,null,null,null,null,null,0,0,0,null,null,null,null,null,null,0,0,0,null,null,null,null,null,null,0,0,0,null,null,null,null,null,null,0,0,0,null,null,null,null,null,null,0,0,0,null,null,null,null,null,null,0,0,0,null,null,null,null,null,null,0,0,0,null,null,null,null,null,null,0,0,0,null,null,null,null,null,null,0,0,0,null,null,null,null,null,null,0,0,0,null,null,null,null,null,null,0,0,0,null,null,null,null,null,null,0,0,0,null,null,null,null,null,null,0,0,0,null,null,null,null,null,null,0,0,0,null,null,null,null,null,null,0,0,0,null,null,null,null,null,null,0,0,0,null,null,null,null,null,null,0,0,0,null,null,null,null,null,null,0,0,0,null,null,null,null,null,null,0,0,0,null,null,null,null,null,null,0,0,0,null,null,null,null,null,null,0,0,0,null,null,null,null,null,null,0,0,0,null,null,null,null,null,null,0,0,0,null,null,null,null,null,null,0,0,0,null,null,null,null,null,null,0,0,0,null,null,null,null,null,null,0,0,0,null,null,null,null,null,null,0,0,0,null,null,null,null,null,null,0,0,0,null,null,null,null,null,null,0,0,0,null,null,null,null,null,null,0,0,0,null,null,null,null,null,null,0,0,0,null,null,null,null,null,null,0,0,0,null,null,null,null,null,null,0,0,0,null,null,null,null,null,null,0,0,0]
[null,null,null,0,0,0,null,null,null,null,null,null,0,0,0,null,null,null,null,null,null,0,0,0,null,null,null,null,null,null,0,0,0,null,null,null,null,null,null,0,0,0,null,null,null,null,null,null,0,0,0,null,null,null,null,null,null,0,0,0,null,null,null,null,null,null,0,0,0,null,null,null,null,null,null,0,0,0,null,null,null,null,null,null,0,0,0,null,null,null,null,null,null,0,0,0,null,null,null,null,null,null,0,0,0,null,null,null,null,null,null,0,0,0,null,null,null,null,null,null,0,0,0,null,null,null,null,null,null,0,0,0,null,null,null,null,null,null,0,0,0,null,null,null,null,null,null,0,0,0,null,null,null,null,null,null,0,0,0,null,null,null,null,null,null,0,0,0,null,null,null,null,null,null,0,0,0,null,null,null,null,null,null,0,0,0,null,null,null,null,null,null,0,0,0,null,null,null,null,null,null,0,0,0,null,null,null,null,null,null,0,0,0,null,null,null,null,null,null,0,0,0,null,null,null,null,null,null,0,0,0,null,null,null,null,null,null,0,0,0,null,null,null,null,null,null,0,0,0,null,null,null,null,null,null,0,0,0,null,null,null,null,null,null,0,0,0,null,null,null,null,null,null,0,0,0,null,null,null,null,null,null,0,0,0,null,null,null,null,null,null,0,0,0,null,null,null,null,null,null,0,0,0,null,null,null,null,null,null,0,0,0]
[null,null,null,0,0,0,null,null,null,null,null,null,0,0,0,null,null,null,null,null,null,0,0,0,null,null,null,null,null,null,0,0,0,null,null,null,null,null,null,0,0,0,null,null,null,null,null,null,0,0,0,null,null,null,null,null,null,0,0,0,null,null,null,null,null,null,0,0,0,null,null,null,null,null,null,0,0,0,null,null,null,null,null,null,0,0,0,null,null,null,null,null,null,0,0,0,null,null,null,null,null,null,0,0,0,null,null,null,null,null,null,0,0,0,null,null,null,null,null,null,0,0,0,null,null,null,null,null,null,0,0,0,null,null,null,null,null,null,0,0,0,null,null,null,null,null,null,0,0,0,null,null,null,null,null,null,0,0,0,null,null,null,null,null,null,0,0,0,null,null,null,null,null,null,0,0,0,null,null,null,null,null,null,0,0,0,null,null,null,null,null,null,0,0,0,null,null,null,null,null,null,0,0,0,null,null,null,null,null,null,0,0,0,null,null,null,null,null,null,0,0,0,null,null,null,null,null,null,0,0,0,null,null,null,null,null,null,0,0,0,null,null,null,null,null,null,0,0,0,null,null,null,null,null,null,0,0,0,null,null,null,null,null,null,0,0,0,null,null,null,null,null,null,0,0,0,null,null,null,null,null,null,0,0,0,null,null,null,null,null,null,0,0,0,null,null,null,null,null,null,0,0,0,null,null,null,null,null,null,0,0,0]
[null,null,null,0,0,0,null,null,null,null,null,null,0,0,0,null,null,null,null,null,null,0,0,0,null,null,null,null,null,null,0,0,0,null,null,null,null,null,null,0,0,0,null,null,null,null,null,null,0,0,0,null,null,null,null,null,null,0,0,0,null,null,null,null,null,null,0,0,0,null,null,null,null,null,null,0,0,0,null,null,null,null,null,null,0,0,0,null,null,null,null,null,null,0,0,0,null,null,null,null,null,null,0,0,0,null,null,null,null,null,null,0,0,0,null,null,null,null,null,null,0,0,0,null,null,null,null,null,null,0,0,0,null,null,null,null,null,null,0,0,0,null,null,null,null,null,null,0,0,0,null,null,null,null,null,null,0,0,0,null,null,null,null,null,null,0,0,0,null,null,null,null,null,null,0,0,0,null,null,null,null,null,null,0,0,0,null,null,null,null,null,null,0,0,0,null,null,null,null,null,null,0,0,0,null,null,null,null,null,null,0,0,0,null,null,null,null,null,null,0,0,0,null,null,null,null,null,null,0,0,0,null,null,null,null,null,null,0,0,0,null,null,null,null,null,null,0,0,0,null,null,null,null,null,null,0,0,0,null,null,null,null,null,null,0,0,0,null,null,null,null,null,null,0,0,0,null,null,null,null,null,null,0,0,0,null,null,null,null,null,null,0,0,0,null,null,null,null,null,null,0,0,0,null,null,null,null,null,null,0,0,0]
[null,null,null,0,0,0,null,null,null,null,null,null,0,0,0,null,null,null,null,null,null,0,0,0,null,null,null,null,null,null,0,0,0,null,null,null,null,null,null,0,0,0,null,null,null,null,null,null,0,0,0,null,null,null,null,null,null,0,0,0,null,null,null,null,null,null,0,0,0,null,null,null,null,null,null,0,0,0,null,null,null,null,null,null,0,0,0,null,null,null,null,null,null,0,0,0,null,null,null,null,null,null,0,0,0,null,null,null,null,null,null,0,0,0,null,null,null,null,null,null,0,0,0,null,null,null,null,null,null,0,0,0,null,null,null,null,null,null,0,0,0,null,null,null,null,null,null,0,0,0,null,null,null,null,null,null,0,0,0,null,null,null,null,null,null,0,0,0,null,null,null,null,null,null,0,0,0,null,null,null,null,null,null,0,0,0,null,null,null,null,null,null,0,0,0,null,null,null,null,null,null,0,0,0,null,null,null,null,null,null,0,0,0,null,null,null,null,null,null,0,0,0,null,null,null,null,null,null,0,0,0,null,null,null,null,null,null,0,0,0,null,null,null,null,null,null,0,0,0,null,null,null,null,null,null,0,0,0,null,null,null,null,null,null,0,0,0,null,null,null,null,null,null,0,0,0,null,null,null,null,null,null,0,0,0,null,null,null,null,null,null,0,0,0,null,null,null,null,null,null,0,0,0,null,null,null,null,null,null,0,0,0]
[null,null,null,0,0,0,null,null,null,null,null,null,0,0,0,null,null,null,null,null,null,0,0,0,null,null,null,null,null,null,0,0,0,null,null,null,null,null,null,0,0,0,null,null,null,null,null,null,0,0,0,null,null,null,null,null,null,0,0,0,null,null,null,null,null,null,0,0,0,null,null,null,null,null,null,0,0,0,null,null,null,null,null,null,0,0,0,null,null,null,null,null,null,0,0,0,null,null,null,null,null,null,0,0,0,null,null,null,null,null,null,0,0,0,null,null,null,null,null,null,0,0,0,null,null,null,null,null,null,0,0,0,null,null,null,null,null,null,0,0,0,null,null,null,null,null,null,0,0,0,null,null,null,null,null,null,0,0,0,null,null,null,null,null,null,0,0,0,null,null,null,null,null,null,0,0,0,null,null,null,null,null,null,0,0,0,null,null,null,null,null,null,0,0,0,null,null,null,null,null,null,0,0,0,null,null,null,null,null,null,0,0,0,null,null,null,null,null,null,0,0,0,null,null,null,null,null,null,0,0,0,null,null,null,null,null,null,0,0,0,null,null,null,null,null,null,0,0,0,null,null,null,null,null,null,0,0,0,null,null,null,null,null,null,0,0,0,null,null,null,null,null,null,0,0,0,null,null,null,null,null,null,0,0,0,null,null,null,null,null,null,0,0,0,null,null,null,null,null,null,0,0,0,null,null,null,null,null,null,0,0,0]
[null,null,null,0,0,0,null,null,null,null,null,null,0,0,0,null,null,null,null,null,null,0,0,0,null,null,null,null,null,null,0,0,0,null,null,null,null,null,null,0,0,0,null,null,null,null,null,null,0,0,0,null,null,null,null,null,null,0,0,0,null,null,null,null,null,null,0,0,0,null,null,null,null,null,null,0,0,0,null,null,null,null,null,null,0,0,0,null,null,null,null,null,null,0,0,0,null,null,null,null,null,null,0,0,0,null,null,null,null,null,null,0,0,0,null,null,null,null,null,null,0,0,0,null,null,null,null,null,null,0,0,0,null,null,null,null,null,null,0,0,0,null,null,null,null,null,null,0,0,0,null,null,null,null,null,null,0,0,0,null,null,null,null,null,null,0,0,0,null,null,null,null,null,null,0,0,0,null,null,null,null,null,null,0,0,0,null,null,null,null,null,null,0,0,0,null,null,null,null,null,null,0,0,0,null,null,null,null,null,null,0,0,0,null,null,null,null,null,null,0,0,0,null,null,null,null,null,null,0,0,0,null,null,null,null,null,null,0,0,0,null,null,null,null,null,null,0,0,0,null,null,null,null,null,null,0,0,0,null,null,null,null,null,null,0,0,0,null,null,null,null,null,null,0,0,0,null,null,null,null,null,null,0,0,0,null,null,null,null,null,null,0,0,0,null,null,null,null,null,null,0,0,0,null,null,null,null,null,null,0,0,0]
[null,null,null,0,0,0,null,null,null,null,null,null,0,0,0,null,null,null,null,null,null,0,0,0,null,null,null,null,null,null,0,0,0,null,null,null,null,null,null,0,0,0,null,null,null,null,null,null,0,0,0,null,null,null,null,null,null,0,0,0,null,null,null,null,null,null,0,0,0,null,null,null,null,null,null,0,0,0,null,null,null,null,null,null,0,0,0,null,null,null,null,null,null,0,0,0,null,null,null,null,null,null,0,0,0,null,null,null,null,null,null,0,0,0,null,null,null,null,null,null,0,0,0,null,null,null,null,null,null,0,0,0,null,null,null,null,null,null,0,0,0,null,null,null,null,null,null,0,0,0,null,null,null,null,null,null,0,0,0,null,null,null,null,null,null,0,0,0,null,null,null,null,null,null,0,0,0,null,null,null,null,null,null,0,0,0,null,null,null,null,null,null,0,0,0,null,null,null,null,null,null,0,0,0,null,null,null,null,null,null,0,0,0,null,null,null,null,null,null,0,0,0,null,null,null,null,null,null,0,0,0,null,null,null,null,null,null,0,0,0,null,null,null,null,null,null,0,0,0,null,null,null,null,null,null,0,0,0,null,null,null,null,null,null,0,0,0,null,null,null,null,null,null,0,0,0,null,null,null,null,null,null,0,0,0,null,null,null,null,null,null,0,0,0,null,null,null,null,null,null,0,0,0,null,null,null,null,null,null,0,0,0]
[null,null,null,0,0,0,null,null,null,null,null,null,0,0,0,null,null,null,null,null,null,0,0,0,null,null,null,null,null,null,0,0,0,null,null,null,null,null,null,0,0,0,null,null,null,null,null,null,0,0,0,null,null,null,null,null,null,0,0,0,null,null,null,null,null,null,0,0,0,null,null,null,null,null,null,0,0,0,null,null,null,null,null,null,0,0,0,null,null,null,null,null,null,0,0,0,null,null,null,null,null,null,0,0,0,null,null,null,null,null,null,0,0,0,null,null,null,null,null,null,0,0,0,null,null,null,null,null,null,0,0,0,null,null,null,null,null,null,0,0,0,null,null,null,null,null,null,0,0,0,null,null,null,null,null,null,0,0,0,null,null,null,null,null,null,0,0,0,null,null,null,null,null,null,0,0,0,null,null,null,null,null,null,0,0,0,null,null,null,null,null,null,0,0,0,null,null,null,null,null,null,0,0,0,null,null,null,null,null,null,0,0,0,null,null,null,null,null,null,0,0,0,null,null,null,null,null,null,0,0,0,null,null,null,null,null,null,0,0,0,null,null,null,null,null,null,0,0,0,null,null,null,null,null,null,0,0,0,null,null,null,null,null,null,0,0,0,null,null,null,null,null,null,0,0,0,null,null,null,null,null,null,0,0,0,null,null,null,null,null,null,0,0,0,null,null,null,null,null,null,0,0,0,null,null,null,null,null,null,0,0,0]
[null,null,null,0,0,0,null,null,null,null,null,null,0,0,0,null,null,null,null,null,null,0,0,0,null,null,null,null,null,null,0,0,0,null,null,null,null,null,null,0,0,0,null,null,null,null,null,null,0,0,0,null,null,null,null,null,null,0,0,0,null,null,null,null,null,null,0,0,0,null,null,null,null,null,null,0,0,0,null,null,null,null,null,null,0,0,0,null,null,null,null,null,null,0,0,0,null,null,null,null,null,null,0,0,0,null,null,null,null,null,null,0,0,0,null,null,null,null,null,null,0,0,0,null,null,null,null,null,null,0,0,0,null,null,null,null,null,null,0,0,0,null,null,null,null,null,null,0,0,0,null,null,null,null,null,null,0,0,0,null,null,null,null,null,null,0,0,0,null,null,null,null,null,null,0,0,0,null,null,null,null,null,null,0,0,0,null,null,null,null,null,null,0,0,0,null,null,null,null,null,null,0,0,0,null,null,null,null,null,null,0,0,0,null,null,null,null,null,null,0,0,0,null,null,null,null,null,null,0,0,0,null,null,null,null,null,null,0,0,0,null,null,null,null,null,null,0,0,0,null,null,null,null,null,null,0,0,0,null,null,null,null,null,null,0,0,0,null,null,null,null,null,null,0,0,0,null,null,null,null,null,null,0,0,0,null,null,null,null,null,null,0,0,0,null,null,null,null,null,null,0,0,0,null,null,null,null,null,null,0,0,0]
[null,null,null,0,0,0,null,null,null,null,null,null,0,0,0,null,null,null,null,null,null,0,0,0,null,null,null,null,null,null,0,0,0,null,null,null,null,null,null,0,0,0,null,null,null,null,null,null,0,0,0,null,null,null,null,null,null,0,0,0,null,null,null,null,null,null,0,0,0,null,null,null,null,null,null,0,0,0,null,null,null,null,null,null,0,0,0,null,null,null,null,null,null,0,0,0,null,null,null,null,null,null,0,0,0,null,null,null,null,null,null,0,0,0,null,null,null,null,null,null,0,0,0,null,null,null,null,null,null,0,0,0,null,null,null,null,null,null,0,0,0,null,null,null,null,null,null,0,0,0,null,null,null,null,null,null,0,0,0,null,null,null,null,null,null,0,0,0,null,null,null,null,null,null,0,0,0,null,null,null,null,null,null,0,0,0,null,null,null,null,null,null,0,0,0,null,null,null,null,null,null,0,0,0,null,null,null,null,null,null,0,0,0,null,null,null,null,null,null,0,0,0,null,null,null,null,null,null,0,0,0,null,null,null,null,null,null,0,0,0,null,null,null,null,null,null,0,0,0,null,null,null,null,null,null,0,0,0,null,null,null,null,null,null,0,0,0,null,null,null,null,null,null,0,0,0,null,null,null,null,null,null,0,0,0,null,null,null,null,null,null,0,0,0,null,null,null,null,null,null,0,0,0,null,null,null,null,null,null,0,0,0]
[null,null,null,0,0,0,null,null,null,null,null,null,0,0,0,null,null,null,null,null,null,0,0,0,null,null,null,null,null,null,0,0,0,null,null,null,null,null,null,0,0,0,null,null,null,null,null,null,0,0,0,null,null,null,null,null,null,0,0,0,null,null,null,null,null,null,0,0,0,null,null,null,null,null,null,0,0,0,null,null,null,null,null,null,0,0,0,null,null,null,null,null,null,0,0,0,null,null,null,null,null,null,0,0,0,null,null,null,null,null,null,0,0,0,null,null,null,null,null,null,0,0,0,null,null,null,null,null,null,0,0,0,null,null,null,null,null,null,0,0,0,null,null,null,null,null,null,0,0,0,null,null,null,null,null,null,0,0,0,null,null,null,null,null,null,0,0,0,null,null,null,null,null,null,0,0,0,null,null,null,null,null,null,0,0,0,null,null,null,null,null,null,0,0,0,null,null,null,null,null,null,0,0,0,null,null,null,null,null,null,0,0,0,null,null,null,null,null,null,0,0,0,null,null,null,null,null,null,0,0,0,null,null,null,null,null,null,0,0,0,null,null,null,null,null,null,0,0,0,null,null,null,null,null,null,0,0,0,null,null,null,null,null,null,0,0,0,null,null,null,null,null,null,0,0,0,null,null,null,null,null,null,0,0,0,null,null,null,null,null,null,0,0,0,null,null,null,null,null,null,0,0,0,null,null,null,null,null,null,0,0,0]
[null,null,null,0,0,0,null,null,null,null,null,null,0,0,0,null,null,null,null,null,null,0,0,0,null,null,null,null,null,null,0,0,0,null,null,null,null,null,null,0,0,0,null,null,null,null,null,null,0,0,0,null,null,null,null,null,null,0,0,0,null,null,null,null,null,null,0,0,0,null,null,null,null,null,null,0,0,0,null,null,null,null,null,null,0,0,0,null,null,null,null,null,null,0,0,0,null,null,null,null,null,null,0,0,0,null,null,null,null,null,null,0,0,0,null,null,null,null,null,null,0,0,0,null,null,null,null,null,null,0,0,0,null,null,null,null,null,null,0,0,0,null,null,null,null,null,null,0,0,0,null,null,null,null,null,null,0,0,0,null,null,null,null,null,null,0,0,0,null,null,null,null,null,null,0,0,0,null,null,null,null,null,null,0,0,0,null,null,null,null,null,null,0,0,0,null,null,null,null,null,null,0,0,0,null,null,null,null,null,null,0,0,0,null,null,null,null,null,null,0,0,0,null,null,null,null,null,null,0,0,0,null,null,null,null,null,null,0,0,0,null,null,null,null,null,null,0,0,0,null,null,null,null,null,null,0,0,0,null,null,null,null,null,null,0,0,0,null,null,null,null,null,null,0,0,0,null,null,null,null,null,null,0,0,0,null,null,null,null,null,null,0,0,0,null,null,null,null,null,null,0,0,0,null,null,null,null,null,null,0,0,0]
[null,null,null,0,0,0,null,null,null,null,null,null,{"$f":"IF(L1659=\"\",0,1)","v":0},{"$f":"IF(Q1659=\"TAK\",1,0)","v":0},{"$f":"IF(R1659=\"TAK\",1,0)","v":0},null,null,null,null,null,null,{"$f":"IF(U1659=\"\",0,1)","v":0},{"$f":"IF(Z1659=\"TAK\",1,0)","v":0},{"$f":"IF(AA1659=\"TAK\",1,0)","v":0},null,null,null,null,null,null,{"$f":"IF(AD1659=\"\",0,1)","v":0},{"$f":"IF(AI1659=\"TAK\",1,0)","v":0},{"$f":"IF(AJ1659=\"TAK\",1,0)","v":0},null,null,null,null,null,null,{"$f":"IF(AM1659=\"\",0,1)","v":0},{"$f":"IF(AR1659=\"TAK\",1,0)","v":0},{"$f":"IF(AS1659=\"TAK\",1,0)","v":0},null,null,null,null,null,null,{"$f":"IF(AV1659=\"\",0,1)","v":0},{"$f":"IF(BA1659=\"TAK\",1,0)","v":0},{"$f":"IF(BB1659=\"TAK\",1,0)","v":0},null,null,null,null,null,null,{"$f":"IF(BE1659=\"\",0,1)","v":0},{"$f":"IF(BJ1659=\"TAK\",1,0)","v":0},{"$f":"IF(BK1659=\"TAK\",1,0)","v":0},null,null,null,null,null,null,{"$f":"IF(BN1659=\"\",0,1)","v":0},{"$f":"IF(BS1659=\"TAK\",1,0)","v":0},{"$f":"IF(BT1659=\"TAK\",1,0)","v":0},null,null,null,null,null,null,{"$f":"IF(BW1659=\"\",0,1)","v":0},{"$f":"IF(CB1659=\"TAK\",1,0)","v":0},{"$f":"IF(CC1659=\"TAK\",1,0)","v":0},null,null,null,null,null,null,{"$f":"IF(CF1659=\"\",0,1)","v":0},{"$f":"IF(CK1659=\"TAK\",1,0)","v":0},{"$f":"IF(CL1659=\"TAK\",1,0)","v":0},null,null,null,null,null,null,{"$f":"IF(CO1659=\"\",0,1)","v":0},{"$f":"IF(CT1659=\"TAK\",1,0)","v":0},{"$f":"IF(CU1659=\"TAK\",1,0)","v":0},null,null,null,null,null,null,{"$f":"IF(CX1659=\"\",0,1)","v":0},{"$f":"IF(DC1659=\"TAK\",1,0)","v":0},{"$f":"IF(DD1659=\"TAK\",1,0)","v":0},null,null,null,null,null,null,{"$f":"IF(DG1659=\"\",0,1)","v":0},{"$f":"IF(DL1659=\"TAK\",1,0)","v":0},{"$f":"IF(DM1659=\"TAK\",1,0)","v":0},null,null,null,null,null,null,{"$f":"IF(DP1659=\"\",0,1)","v":0},{"$f":"IF(DU1659=\"TAK\",1,0)","v":0},{"$f":"IF(DV1659=\"TAK\",1,0)","v":0},null,null,null,null,null,null,{"$f":"IF(DY1659=\"\",0,1)","v":0},{"$f":"IF(ED1659=\"TAK\",1,0)","v":0},{"$f":"IF(EE1659=\"TAK\",1,0)","v":0},null,null,null,null,null,null,{"$f":"IF(EH1659=\"\",0,1)","v":0},{"$f":"IF(EM1659=\"TAK\",1,0)","v":0},{"$f":"IF(EN1659=\"TAK\",1,0)","v":0},null,null,null,null,null,null,{"$f":"IF(EQ1659=\"\",0,1)","v":0},{"$f":"IF(EV1659=\"TAK\",1,0)","v":0},{"$f":"IF(EW1659=\"TAK\",1,0)","v":0},null,null,null,null,null,null,{"$f":"IF(EZ1659=\"\",0,1)","v":0},{"$f":"IF(FE1659=\"TAK\",1,0)","v":0},{"$f":"IF(FF1659=\"TAK\",1,0)","v":0},null,null,null,null,null,null,{"$f":"IF(FI1659=\"\",0,1)","v":0},{"$f":"IF(FN1659=\"TAK\",1,0)","v":0},{"$f":"IF(FO1659=\"TAK\",1,0)","v":0},null,null,null,null,null,null,{"$f":"IF(FR1659=\"\",0,1)","v":0},{"$f":"IF(FW1659=\"TAK\",1,0)","v":0},{"$f":"IF(FX1659=\"TAK\",1,0)","v":0},null,null,null,null,null,null,{"$f":"IF(GA1659=\"\",0,1)","v":0},{"$f":"IF(GF1659=\"TAK\",1,0)","v":0},{"$f":"IF(GG1659=\"TAK\",1,0)","v":0},null,null,null,null,null,null,{"$f":"IF(GJ1659=\"\",0,1)","v":0},{"$f":"IF(GO1659=\"TAK\",1,0)","v":0},{"$f":"IF(GP1659=\"TAK\",1,0)","v":0},null,null,null,null,null,null,{"$f":"IF(GS1659=\"\",0,1)","v":0},{"$f":"IF(GX1659=\"TAK\",1,0)","v":0},{"$f":"IF(GY1659=\"TAK\",1,0)","v":0},null,null,null,null,null,null,{"$f":"IF(HB1659=\"\",0,1)","v":0},{"$f":"IF(HG1659=\"TAK\",1,0)","v":0},{"$f":"IF(HH1659=\"TAK\",1,0)","v":0},null,null,null,null,null,null,{"$f":"IF(HK1659=\"\",0,1)","v":0},{"$f":"IF(HP1659=\"TAK\",1,0)","v":0},{"$f":"IF(HQ1659=\"TAK\",1,0)","v":0},null,null,null,null,null,null,{"$f":"IF(HT1659=\"\",0,1)","v":0},{"$f":"IF(HY1659=\"TAK\",1,0)","v":0},{"$f":"IF(HZ1659=\"TAK\",1,0)","v":0},null,null,null,null,null,null,{"$f":"IF(IC1659=\"\",0,1)","v":0},{"$f":"IF(IH1659=\"TAK\",1,0)","v":0},{"$f":"IF(II1659=\"TAK\",1,0)","v":0},null,null,null,null,null,null,{"$f":"IF(IL1659=\"\",0,1)","v":0},{"$f":"IF(IQ1659=\"TAK\",1,0)","v":0},{"$f":"IF(IR1659=\"TAK\",1,0)","v":0},null,null,null,null,null,null,{"$f":"IF(IU1659=\"\",0,1)","v":0},{"$f":"IF(IZ1659=\"TAK\",1,0)","v":0},{"$f":"IF(JA1659=\"TAK\",1,0)","v":0},null,null,null,null,null,null,{"$f":"IF(JD1659=\"\",0,1)","v":0},{"$f":"IF(JI1659=\"TAK\",1,0)","v":0},{"$f":"IF(JJ1659=\"TAK\",1,0)","v":0},null,null,null,null,null,null,{"$f":"IF(JM1659=\"\",0,1)","v":0},{"$f":"IF(JR1659=\"TAK\",1,0)","v":0},{"$f":"IF(JS1659=\"TAK\",1,0)","v":0},null,null,null,null,null,null,{"$f":"IF(JV1659=\"\",0,1)","v":0},{"$f":"IF(KA1659=\"TAK\",1,0)","v":0},{"$f":"IF(KB1659=\"TAK\",1,0)","v":0},null,null,null,null,null,null,{"$f":"IF(KE1659=\"\",0,1)","v":0},{"$f":"IF(KJ1659=\"TAK\",1,0)","v":0},{"$f":"IF(KK1659=\"TAK\",1,0)","v":0},null,null,null,null,null,null,{"$f":"IF(KN1659=\"\",0,1)","v":0},{"$f":"IF(KS1659=\"TAK\",1,0)","v":0},{"$f":"IF(KT1659=\"TAK\",1,0)","v":0},null,null,null,null,null,null,{"$f":"IF(KW1659=\"\",0,1)","v":0},{"$f":"IF(LB1659=\"TAK\",1,0)","v":0},{"$f":"IF(LC1659=\"TAK\",1,0)","v":0}]
[null,null,null,0,0,0,null,null,null,null,null,null,0,0,0,null,null,null,null,null,null,0,0,0,null,null,null,null,null,null,0,0,0,null,null,null,null,null,null,0,0,0,null,null,null,null,null,null,0,0,0,null,null,null,null,null,null,0,0,0,null,null,null,null,null,null,0,0,0,null,null,null,null,null,null,0,0,0,null,null,null,null,null,null,0,0,0,null,null,null,null,null,null,0,0,0,null,null,null,null,null,null,0,0,0,null,null,null,null,null,null,0,0,0,null,null,null,null,null,null,0,0,0,null,null,null,null,null,null,0,0,0,null,null,null,null,null,null,0,0,0,null,null,null,null,null,null,0,0,0,null,null,null,null,null,null,0,0,0,null,null,null,null,null,null,0,0,0,null,null,null,null,null,null,0,0,0,null,null,null,null,null,null,0,0,0,null,null,null,null,null,null,0,0,0,null,null,null,null,null,null,0,0,0,null,null,null,null,null,null,0,0,0,null,null,null,null,null,null,0,0,0,null,null,null,null,null,null,0,0,0,null,null,null,null,null,null,0,0,0,null,null,null,null,null,null,0,0,0,null,null,null,null,null,null,0,0,0,null,null,null,null,null,null,0,0,0,null,null,null,null,null,null,0,0,0,null,null,null,null,null,null,0,0,0,null,null,null,null,null,null,0,0,0,null,null,null,null,null,null,0,0,0,null,null,null,null,null,null,0,0,0]
[null,null,null,0,0,0,null,null,null,null,null,null,0,0,0,null,null,null,null,null,null,0,0,0,null,null,null,null,null,null,0,0,0,null,null,null,null,null,null,0,0,0,null,null,null,null,null,null,0,0,0,null,null,null,null,null,null,0,0,0,null,null,null,null,null,null,0,0,0,null,null,null,null,null,null,0,0,0,null,null,null,null,null,null,0,0,0,null,null,null,null,null,null,0,0,0,null,null,null,null,null,null,0,0,0,null,null,null,null,null,null,0,0,0,null,null,null,null,null,null,0,0,0,null,null,null,null,null,null,0,0,0,null,null,null,null,null,null,0,0,0,null,null,null,null,null,null,0,0,0,null,null,null,null,null,null,0,0,0,null,null,null,null,null,null,0,0,0,null,null,null,null,null,null,0,0,0,null,null,null,null,null,null,0,0,0,null,null,null,null,null,null,0,0,0,null,null,null,null,null,null,0,0,0,null,null,null,null,null,null,0,0,0,null,null,null,null,null,null,0,0,0,null,null,null,null,null,null,0,0,0,null,null,null,null,null,null,0,0,0,null,null,null,null,null,null,0,0,0,null,null,null,null,null,null,0,0,0,null,null,null,null,null,null,0,0,0,null,null,null,null,null,null,0,0,0,null,null,null,null,null,null,0,0,0,null,null,null,null,null,null,0,0,0,null,null,null,null,null,null,0,0,0,null,null,null,null,null,null,0,0,0]
[null,null,null,0,0,0,null,null,null,null,null,null,0,0,0,null,null,null,null,null,null,0,0,0,null,null,null,null,null,null,0,0,0,null,null,null,null,null,null,0,0,0,null,null,null,null,null,null,0,0,0,null,null,null,null,null,null,0,0,0,null,null,null,null,null,null,0,0,0,null,null,null,null,null,null,0,0,0,null,null,null,null,null,null,0,0,0,null,null,null,null,null,null,0,0,0,null,null,null,null,null,null,0,0,0,null,null,null,null,null,null,0,0,0,null,null,null,null,null,null,0,0,0,null,null,null,null,null,null,0,0,0,null,null,null,null,null,null,0,0,0,null,null,null,null,null,null,0,0,0,null,null,null,null,null,null,0,0,0,null,null,null,null,null,null,0,0,0,null,null,null,null,null,null,0,0,0,null,null,null,null,null,null,0,0,0,null,null,null,null,null,null,0,0,0,null,null,null,null,null,null,0,0,0,null,null,null,null,null,null,0,0,0,null,null,null,null,null,null,0,0,0,null,null,null,null,null,null,0,0,0,null,null,null,null,null,null,0,0,0,null,null,null,null,null,null,0,0,0,null,null,null,null,null,null,0,0,0,null,null,null,null,null,null,0,0,0,null,null,null,null,null,null,0,0,0,null,null,null,null,null,null,0,0,0,null,null,null,null,null,null,0,0,0,null,null,null,null,null,null,0,0,0,null,null,null,null,null,null,0,0,0]
[null,null,null,0,0,0,null,null,null,null,null,null,0,0,0,null,null,null,null,null,null,0,0,0,null,null,null,null,null,null,0,0,0,null,null,null,null,null,null,0,0,0,null,null,null,null,null,null,0,0,0,null,null,null,null,null,null,0,0,0,null,null,null,null,null,null,0,0,0,null,null,null,null,null,null,0,0,0,null,null,null,null,null,null,0,0,0,null,null,null,null,null,null,0,0,0,null,null,null,null,null,null,0,0,0,null,null,null,null,null,null,0,0,0,null,null,null,null,null,null,0,0,0,null,null,null,null,null,null,0,0,0,null,null,null,null,null,null,0,0,0,null,null,null,null,null,null,0,0,0,null,null,null,null,null,null,0,0,0,null,null,null,null,null,null,0,0,0,null,null,null,null,null,null,0,0,0,null,null,null,null,null,null,0,0,0,null,null,null,null,null,null,0,0,0,null,null,null,null,null,null,0,0,0,null,null,null,null,null,null,0,0,0,null,null,null,null,null,null,0,0,0,null,null,null,null,null,null,0,0,0,null,null,null,null,null,null,0,0,0,null,null,null,null,null,null,0,0,0,null,null,null,null,null,null,0,0,0,null,null,null,null,null,null,0,0,0,null,null,null,null,null,null,0,0,0,null,null,null,null,null,null,0,0,0,null,null,null,null,null,null,0,0,0,null,null,null,null,null,null,0,0,0,null,null,null,null,null,null,0,0,0]
[null,null,null,0,0,0,null,null,null,null,null,null,0,0,0,null,null,null,null,null,null,0,0,0,null,null,null,null,null,null,0,0,0,null,null,null,null,null,null,0,0,0,null,null,null,null,null,null,0,0,0,null,null,null,null,null,null,0,0,0,null,null,null,null,null,null,0,0,0,null,null,null,null,null,null,0,0,0,null,null,null,null,null,null,0,0,0,null,null,null,null,null,null,0,0,0,null,null,null,null,null,null,0,0,0,null,null,null,null,null,null,0,0,0,null,null,null,null,null,null,0,0,0,null,null,null,null,null,null,0,0,0,null,null,null,null,null,null,0,0,0,null,null,null,null,null,null,0,0,0,null,null,null,null,null,null,0,0,0,null,null,null,null,null,null,0,0,0,null,null,null,null,null,null,0,0,0,null,null,null,null,null,null,0,0,0,null,null,null,null,null,null,0,0,0,null,null,null,null,null,null,0,0,0,null,null,null,null,null,null,0,0,0,null,null,null,null,null,null,0,0,0,null,null,null,null,null,null,0,0,0,null,null,null,null,null,null,0,0,0,null,null,null,null,null,null,0,0,0,null,null,null,null,null,null,0,0,0,null,null,null,null,null,null,0,0,0,null,null,null,null,null,null,0,0,0,null,null,null,null,null,null,0,0,0,null,null,null,null,null,null,0,0,0,null,null,null,null,null,null,0,0,0,null,null,null,null,null,null,0,0,0]
[null,null,null,0,0,0,null,null,null,null,null,null,0,0,0,null,null,null,null,null,null,0,0,0,null,null,null,null,null,null,0,0,0,null,null,null,null,null,null,0,0,0,null,null,null,null,null,null,0,0,0,null,null,null,null,null,null,0,0,0,null,null,null,null,null,null,0,0,0,null,null,null,null,null,null,0,0,0,null,null,null,null,null,null,0,0,0,null,null,null,null,null,null,0,0,0,null,null,null,null,null,null,0,0,0,null,null,null,null,null,null,0,0,0,null,null,null,null,null,null,0,0,0,null,null,null,null,null,null,0,0,0,null,null,null,null,null,null,0,0,0,null,null,null,null,null,null,0,0,0,null,null,null,null,null,null,0,0,0,null,null,null,null,null,null,0,0,0,null,null,null,null,null,null,0,0,0,null,null,null,null,null,null,0,0,0,null,null,null,null,null,null,0,0,0,null,null,null,null,null,null,0,0,0,null,null,null,null,null,null,0,0,0,null,null,null,null,null,null,0,0,0,null,null,null,null,null,null,0,0,0,null,null,null,null,null,null,0,0,0,null,null,null,null,null,null,0,0,0,null,null,null,null,null,null,0,0,0,null,null,null,null,null,null,0,0,0,null,null,null,null,null,null,0,0,0,null,null,null,null,null,null,0,0,0,null,null,null,null,null,null,0,0,0,null,null,null,null,null,null,0,0,0,null,null,null,null,null,null,0,0,0]
[null,null,null,0,0,0,null,null,null,null,null,null,0,0,0,null,null,null,null,null,null,0,0,0,null,null,null,null,null,null,0,0,0,null,null,null,null,null,null,0,0,0,null,null,null,null,null,null,0,0,0,null,null,null,null,null,null,0,0,0,null,null,null,null,null,null,0,0,0,null,null,null,null,null,null,0,0,0,null,null,null,null,null,null,0,0,0,null,null,null,null,null,null,0,0,0,null,null,null,null,null,null,0,0,0,null,null,null,null,null,null,0,0,0,null,null,null,null,null,null,0,0,0,null,null,null,null,null,null,0,0,0,null,null,null,null,null,null,0,0,0,null,null,null,null,null,null,0,0,0,null,null,null,null,null,null,0,0,0,null,null,null,null,null,null,0,0,0,null,null,null,null,null,null,0,0,0,null,null,null,null,null,null,0,0,0,null,null,null,null,null,null,0,0,0,null,null,null,null,null,null,0,0,0,null,null,null,null,null,null,0,0,0,null,null,null,null,null,null,0,0,0,null,null,null,null,null,null,0,0,0,null,null,null,null,null,null,0,0,0,null,null,null,null,null,null,0,0,0,null,null,null,null,null,null,0,0,0,null,null,null,null,null,null,0,0,0,null,null,null,null,null,null,0,0,0,null,null,null,null,null,null,0,0,0,null,null,null,null,null,null,0,0,0,null,null,null,null,null,null,0,0,0,null,null,null,null,null,null,0,0,0]
[null,null,null,0,0,0,null,null,null,null,null,null,0,0,0,null,null,null,null,null,null,0,0,0,null,null,null,null,null,null,0,0,0,null,null,null,null,null,null,0,0,0,null,null,null,null,null,null,0,0,0,null,null,null,null,null,null,0,0,0,null,null,null,null,null,null,0,0,0,null,null,null,null,null,null,0,0,0,null,null,null,null,null,null,0,0,0,null,null,null,null,null,null,0,0,0,null,null,null,null,null,null,0,0,0,null,null,null,null,null,null,0,0,0,null,null,null,null,null,null,0,0,0,null,null,null,null,null,null,0,0,0,null,null,null,null,null,null,0,0,0,null,null,null,null,null,null,0,0,0,null,null,null,null,null,null,0,0,0,null,null,null,null,null,null,0,0,0,null,null,null,null,null,null,0,0,0,null,null,null,null,null,null,0,0,0,null,null,null,null,null,null,0,0,0,null,null,null,null,null,null,0,0,0,null,null,null,null,null,null,0,0,0,null,null,null,null,null,null,0,0,0,null,null,null,null,null,null,0,0,0,null,null,null,null,null,null,0,0,0,null,null,null,null,null,null,0,0,0,null,null,null,null,null,null,0,0,0,null,null,null,null,null,null,0,0,0,null,null,null,null,null,null,0,0,0,null,null,null,null,null,null,0,0,0,null,null,null,null,null,null,0,0,0,null,null,null,null,null,null,0,0,0,null,null,null,null,null,null,0,0,0]
[null,null,null,0,0,0,null,null,null,null,null,null,0,0,0,null,null,null,null,null,null,0,0,0,null,null,null,null,null,null,0,0,0,null,null,null,null,null,null,0,0,0,null,null,null,null,null,null,0,0,0,null,null,null,null,null,null,0,0,0,null,null,null,null,null,null,0,0,0,null,null,null,null,null,null,0,0,0,null,null,null,null,null,null,0,0,0,null,null,null,null,null,null,0,0,0,null,null,null,null,null,null,0,0,0,null,null,null,null,null,null,0,0,0,null,null,null,null,null,null,0,0,0,null,null,null,null,null,null,0,0,0,null,null,null,null,null,null,0,0,0,null,null,null,null,null,null,0,0,0,null,null,null,null,null,null,0,0,0,null,null,null,null,null,null,0,0,0,null,null,null,null,null,null,0,0,0,null,null,null,null,null,null,0,0,0,null,null,null,null,null,null,0,0,0,null,null,null,null,null,null,0,0,0,null,null,null,null,null,null,0,0,0,null,null,null,null,null,null,0,0,0,null,null,null,null,null,null,0,0,0,null,null,null,null,null,null,0,0,0,null,null,null,null,null,null,0,0,0,null,null,null,null,null,null,0,0,0,null,null,null,null,null,null,0,0,0,null,null,null,null,null,null,0,0,0,null,null,null,null,null,null,0,0,0,null,null,null,null,null,null,0,0,0,null,null,null,null,null,null,0,0,0,null,null,null,null,null,null,0,0,0]
[null,null,null,0,0,0,null,null,null,null,null,null,0,0,0,null,null,null,null,null,null,0,0,0,null,null,null,null,null,null,0,0,0,null,null,null,null,null,null,0,0,0,null,null,null,null,null,null,0,0,0,null,null,null,null,null,null,0,0,0,null,null,null,null,null,null,0,0,0,null,null,null,null,null,null,0,0,0,null,null,null,null,null,null,0,0,0,null,null,null,null,null,null,0,0,0,null,null,null,null,null,null,0,0,0,null,null,null,null,null,null,0,0,0,null,null,null,null,null,null,0,0,0,null,null,null,null,null,null,0,0,0,null,null,null,null,null,null,0,0,0,null,null,null,null,null,null,0,0,0,null,null,null,null,null,null,0,0,0,null,null,null,null,null,null,0,0,0,null,null,null,null,null,null,0,0,0,null,null,null,null,null,null,0,0,0,null,null,null,null,null,null,0,0,0,null,null,null,null,null,null,0,0,0,null,null,null,null,null,null,0,0,0,null,null,null,null,null,null,0,0,0,null,null,null,null,null,null,0,0,0,null,null,null,null,null,null,0,0,0,null,null,null,null,null,null,0,0,0,null,null,null,null,null,null,0,0,0,null,null,null,null,null,null,0,0,0,null,null,null,null,null,null,0,0,0,null,null,null,null,null,null,0,0,0,null,null,null,null,null,null,0,0,0,null,null,null,null,null,null,0,0,0,null,null,null,null,null,null,0,0,0]
[null,null,null,0,0,0,null,null,null,null,null,null,0,0,0,null,null,null,null,null,null,0,0,0,null,null,null,null,null,null,0,0,0,null,null,null,null,null,null,0,0,0,null,null,null,null,null,null,0,0,0,null,null,null,null,null,null,0,0,0,null,null,null,null,null,null,0,0,0,null,null,null,null,null,null,0,0,0,null,null,null,null,null,null,0,0,0,null,null,null,null,null,null,0,0,0,null,null,null,null,null,null,0,0,0,null,null,null,null,null,null,0,0,0,null,null,null,null,null,null,0,0,0,null,null,null,null,null,null,0,0,0,null,null,null,null,null,null,0,0,0,null,null,null,null,null,null,0,0,0,null,null,null,null,null,null,0,0,0,null,null,null,null,null,null,0,0,0,null,null,null,null,null,null,0,0,0,null,null,null,null,null,null,0,0,0,null,null,null,null,null,null,0,0,0,null,null,null,null,null,null,0,0,0,null,null,null,null,null,null,0,0,0,null,null,null,null,null,null,0,0,0,null,null,null,null,null,null,0,0,0,null,null,null,null,null,null,0,0,0,null,null,null,null,null,null,0,0,0,null,null,null,null,null,null,0,0,0,null,null,null,null,null,null,0,0,0,null,null,null,null,null,null,0,0,0,null,null,null,null,null,null,0,0,0,null,null,null,null,null,null,0,0,0,null,null,null,null,null,null,0,0,0,null,null,null,null,null,null,0,0,0]
[null,null,null,0,0,0,null,null,null,null,null,null,0,0,0,null,null,null,null,null,null,0,0,0,null,null,null,null,null,null,0,0,0,null,null,null,null,null,null,0,0,0,null,null,null,null,null,null,0,0,0,null,null,null,null,null,null,0,0,0,null,null,null,null,null,null,0,0,0,null,null,null,null,null,null,0,0,0,null,null,null,null,null,null,0,0,0,null,null,null,null,null,null,0,0,0,null,null,null,null,null,null,0,0,0,null,null,null,null,null,null,0,0,0,null,null,null,null,null,null,0,0,0,null,null,null,null,null,null,0,0,0,null,null,null,null,null,null,0,0,0,null,null,null,null,null,null,0,0,0,null,null,null,null,null,null,0,0,0,null,null,null,null,null,null,0,0,0,null,null,null,null,null,null,0,0,0,null,null,null,null,null,null,0,0,0,null,null,null,null,null,null,0,0,0,null,null,null,null,null,null,0,0,0,null,null,null,null,null,null,0,0,0,null,null,null,null,null,null,0,0,0,null,null,null,null,null,null,0,0,0,null,null,null,null,null,null,0,0,0,null,null,null,null,null,null,0,0,0,null,null,null,null,null,null,0,0,0,null,null,null,null,null,null,0,0,0,null,null,null,null,null,null,0,0,0,null,null,null,null,null,null,0,0,0,null,null,null,null,null,null,0,0,0,null,null,null,null,null,null,0,0,0,null,null,null,null,null,null,0,0,0]
[null,null,null,0,0,0,null,null,null,null,null,null,0,0,0,null,null,null,null,null,null,0,0,0,null,null,null,null,null,null,0,0,0,null,null,null,null,null,null,0,0,0,null,null,null,null,null,null,0,0,0,null,null,null,null,null,null,0,0,0,null,null,null,null,null,null,0,0,0,null,null,null,null,null,null,0,0,0,null,null,null,null,null,null,0,0,0,null,null,null,null,null,null,0,0,0,null,null,null,null,null,null,0,0,0,null,null,null,null,null,null,0,0,0,null,null,null,null,null,null,0,0,0,null,null,null,null,null,null,0,0,0,null,null,null,null,null,null,0,0,0,null,null,null,null,null,null,0,0,0,null,null,null,null,null,null,0,0,0,null,null,null,null,null,null,0,0,0,null,null,null,null,null,null,0,0,0,null,null,null,null,null,null,0,0,0,null,null,null,null,null,null,0,0,0,null,null,null,null,null,null,0,0,0,null,null,null,null,null,null,0,0,0,null,null,null,null,null,null,0,0,0,null,null,null,null,null,null,0,0,0,null,null,null,null,null,null,0,0,0,null,null,null,null,null,null,0,0,0,null,null,null,null,null,null,0,0,0,null,null,null,null,null,null,0,0,0,null,null,null,null,null,null,0,0,0,null,null,null,null,null,null,0,0,0,null,null,null,null,null,null,0,0,0,null,null,null,null,null,null,0,0,0,null,null,null,null,null,null,0,0,0]
[null,null,null,0,0,0,null,null,null,null,null,null,0,0,0,null,null,null,null,null,null,0,0,0,null,null,null,null,null,null,0,0,0,null,null,null,null,null,null,0,0,0,null,null,null,null,null,null,0,0,0,null,null,null,null,null,null,0,0,0,null,null,null,null,null,null,0,0,0,null,null,null,null,null,null,0,0,0,null,null,null,null,null,null,0,0,0,null,null,null,null,null,null,0,0,0,null,null,null,null,null,null,0,0,0,null,null,null,null,null,null,0,0,0,null,null,null,null,null,null,0,0,0,null,null,null,null,null,null,0,0,0,null,null,null,null,null,null,0,0,0,null,null,null,null,null,null,0,0,0,null,null,null,null,null,null,0,0,0,null,null,null,null,null,null,0,0,0,null,null,null,null,null,null,0,0,0,null,null,null,null,null,null,0,0,0,null,null,null,null,null,null,0,0,0,null,null,null,null,null,null,0,0,0,null,null,null,null,null,null,0,0,0,null,null,null,null,null,null,0,0,0,null,null,null,null,null,null,0,0,0,null,null,null,null,null,null,0,0,0,null,null,null,null,null,null,0,0,0,null,null,null,null,null,null,0,0,0,null,null,null,null,null,null,0,0,0,null,null,null,null,null,null,0,0,0,null,null,null,null,null,null,0,0,0,null,null,null,null,null,null,0,0,0,null,null,null,null,null,null,0,0,0,null,null,null,null,null,null,0,0,0]
[null,null,null,0,0,0,null,null,null,null,null,null,0,0,0,null,null,null,null,null,null,0,0,0,null,null,null,null,null,null,0,0,0,null,null,null,null,null,null,0,0,0,null,null,null,null,null,null,0,0,0,null,null,null,null,null,null,0,0,0,null,null,null,null,null,null,0,0,0,null,null,null,null,null,null,0,0,0,null,null,null,null,null,null,0,0,0,null,null,null,null,null,null,0,0,0,null,null,null,null,null,null,0,0,0,null,null,null,null,null,null,0,0,0,null,null,null,null,null,null,0,0,0,null,null,null,null,null,null,0,0,0,null,null,null,null,null,null,0,0,0,null,null,null,null,null,null,0,0,0,null,null,null,null,null,null,0,0,0,null,null,null,null,null,null,0,0,0,null,null,null,null,null,null,0,0,0,null,null,null,null,null,null,0,0,0,null,null,null,null,null,null,0,0,0,null,null,null,null,null,null,0,0,0,null,null,null,null,null,null,0,0,0,null,null,null,null,null,null,0,0,0,null,null,null,null,null,null,0,0,0,null,null,null,null,null,null,0,0,0,null,null,null,null,null,null,0,0,0,null,null,null,null,null,null,0,0,0,null,null,null,null,null,null,0,0,0,null,null,null,null,null,null,0,0,0,null,null,null,null,null,null,0,0,0,null,null,null,null,null,null,0,0,0,null,null,null,null,null,null,0,0,0,null,null,null,null,null,null,0,0,0]
[null,null,null,0,0,0,null,null,null,null,null,null,0,0,0,null,null,null,null,null,null,0,0,0,null,null,null,null,null,null,0,0,0,null,null,null,null,null,null,0,0,0,null,null,null,null,null,null,0,0,0,null,null,null,null,null,null,0,0,0,null,null,null,null,null,null,0,0,0,null,null,null,null,null,null,0,0,0,null,null,null,null,null,null,0,0,0,null,null,null,null,null,null,0,0,0,null,null,null,null,null,null,0,0,0,null,null,null,null,null,null,0,0,0,null,null,null,null,null,null,0,0,0,null,null,null,null,null,null,0,0,0,null,null,null,null,null,null,0,0,0,null,null,null,null,null,null,0,0,0,null,null,null,null,null,null,0,0,0,null,null,null,null,null,null,0,0,0,null,null,null,null,null,null,0,0,0,null,null,null,null,null,null,0,0,0,null,null,null,null,null,null,0,0,0,null,null,null,null,null,null,0,0,0,null,null,null,null,null,null,0,0,0,null,null,null,null,null,null,0,0,0,null,null,null,null,null,null,0,0,0,null,null,null,null,null,null,0,0,0,null,null,null,null,null,null,0,0,0,null,null,null,null,null,null,0,0,0,null,null,null,null,null,null,0,0,0,null,null,null,null,null,null,0,0,0,null,null,null,null,null,null,0,0,0,null,null,null,null,null,null,0,0,0,null,null,null,null,null,null,0,0,0,null,null,null,null,null,null,0,0,0]
[null,null,null,0,0,0,null,null,null,null,null,null,0,0,0,null,null,null,null,null,null,0,0,0,null,null,null,null,null,null,0,0,0,null,null,null,null,null,null,0,0,0,null,null,null,null,null,null,0,0,0,null,null,null,null,null,null,0,0,0,null,null,null,null,null,null,0,0,0,null,null,null,null,null,null,0,0,0,null,null,null,null,null,null,0,0,0,null,null,null,null,null,null,0,0,0,null,null,null,null,null,null,0,0,0,null,null,null,null,null,null,0,0,0,null,null,null,null,null,null,0,0,0,null,null,null,null,null,null,0,0,0,null,null,null,null,null,null,0,0,0,null,null,null,null,null,null,0,0,0,null,null,null,null,null,null,0,0,0,null,null,null,null,null,null,0,0,0,null,null,null,null,null,null,0,0,0,null,null,null,null,null,null,0,0,0,null,null,null,null,null,null,0,0,0,null,null,null,null,null,null,0,0,0,null,null,null,null,null,null,0,0,0,null,null,null,null,null,null,0,0,0,null,null,null,null,null,null,0,0,0,null,null,null,null,null,null,0,0,0,null,null,null,null,null,null,0,0,0,null,null,null,null,null,null,0,0,0,null,null,null,null,null,null,0,0,0,null,null,null,null,null,null,0,0,0,null,null,null,null,null,null,0,0,0,null,null,null,null,null,null,0,0,0,null,null,null,null,null,null,0,0,0,null,null,null,null,null,null,0,0,0]
[null,null,null,0,0,0,null,null,null,null,null,null,0,0,0,null,null,null,null,null,null,0,0,0,null,null,null,null,null,null,0,0,0,null,null,null,null,null,null,0,0,0,null,null,null,null,null,null,0,0,0,null,null,null,null,null,null,0,0,0,null,null,null,null,null,null,0,0,0,null,null,null,null,null,null,0,0,0,null,null,null,null,null,null,0,0,0,null,null,null,null,null,null,0,0,0,null,null,null,null,null,null,0,0,0,null,null,null,null,null,null,0,0,0,null,null,null,null,null,null,0,0,0,null,null,null,null,null,null,0,0,0,null,null,null,null,null,null,0,0,0,null,null,null,null,null,null,0,0,0,null,null,null,null,null,null,0,0,0,null,null,null,null,null,null,0,0,0,null,null,null,null,null,null,0,0,0,null,null,null,null,null,null,0,0,0,null,null,null,null,null,null,0,0,0,null,null,null,null,null,null,0,0,0,null,null,null,null,null,null,0,0,0,null,null,null,null,null,null,0,0,0,null,null,null,null,null,null,0,0,0,null,null,null,null,null,null,0,0,0,null,null,null,null,null,null,0,0,0,null,null,null,null,null,null,0,0,0,null,null,null,null,null,null,0,0,0,null,null,null,null,null,null,0,0,0,null,null,null,null,null,null,0,0,0,null,null,null,null,null,null,0,0,0,null,null,null,null,null,null,0,0,0,null,null,null,null,null,null,0,0,0]
[null,null,null,0,0,0,null,null,null,null,null,null,0,0,0,null,null,null,null,null,null,0,0,0,null,null,null,null,null,null,0,0,0,null,null,null,null,null,null,0,0,0,null,null,null,null,null,null,0,0,0,null,null,null,null,null,null,0,0,0,null,null,null,null,null,null,0,0,0,null,null,null,null,null,null,0,0,0,null,null,null,null,null,null,0,0,0,null,null,null,null,null,null,0,0,0,null,null,null,null,null,null,0,0,0,null,null,null,null,null,null,0,0,0,null,null,null,null,null,null,0,0,0,null,null,null,null,null,null,0,0,0,null,null,null,null,null,null,0,0,0,null,null,null,null,null,null,0,0,0,null,null,null,null,null,null,0,0,0,null,null,null,null,null,null,0,0,0,null,null,null,null,null,null,0,0,0,null,null,null,null,null,null,0,0,0,null,null,null,null,null,null,0,0,0,null,null,null,null,null,null,0,0,0,null,null,null,null,null,null,0,0,0,null,null,null,null,null,null,0,0,0,null,null,null,null,null,null,0,0,0,null,null,null,null,null,null,0,0,0,null,null,null,null,null,null,0,0,0,null,null,null,null,null,null,0,0,0,null,null,null,null,null,null,0,0,0,null,null,null,null,null,null,0,0,0,null,null,null,null,null,null,0,0,0,null,null,null,null,null,null,0,0,0,null,null,null,null,null,null,0,0,0,null,null,null,null,null,null,0,0,0]
[null,null,null,0,0,0,null,null,null,null,null,null,0,0,0,null,null,null,null,null,null,0,0,0,null,null,null,null,null,null,0,0,0,null,null,null,null,null,null,0,0,0,null,null,null,null,null,null,0,0,0,null,null,null,null,null,null,0,0,0,null,null,null,null,null,null,0,0,0,null,null,null,null,null,null,0,0,0,null,null,null,null,null,null,0,0,0,null,null,null,null,null,null,0,0,0,null,null,null,null,null,null,0,0,0,null,null,null,null,null,null,0,0,0,null,null,null,null,null,null,0,0,0,null,null,null,null,null,null,0,0,0,null,null,null,null,null,null,0,0,0,null,null,null,null,null,null,0,0,0,null,null,null,null,null,null,0,0,0,null,null,null,null,null,null,0,0,0,null,null,null,null,null,null,0,0,0,null,null,null,null,null,null,0,0,0,null,null,null,null,null,null,0,0,0,null,null,null,null,null,null,0,0,0,null,null,null,null,null,null,0,0,0,null,null,null,null,null,null,0,0,0,null,null,null,null,null,null,0,0,0,null,null,null,null,null,null,0,0,0,null,null,null,null,null,null,0,0,0,null,null,null,null,null,null,0,0,0,null,null,null,null,null,null,0,0,0,null,null,null,null,null,null,0,0,0,null,null,null,null,null,null,0,0,0,null,null,null,null,null,null,0,0,0,null,null,null,null,null,null,0,0,0,null,null,null,null,null,null,0,0,0]
[null,null,null,0,0,0,null,null,null,null,null,null,0,0,0,null,null,null,null,null,null,0,0,0,null,null,null,null,null,null,0,0,0,null,null,null,null,null,null,0,0,0,null,null,null,null,null,null,0,0,0,null,null,null,null,null,null,0,0,0,null,null,null,null,null,null,0,0,0,null,null,null,null,null,null,0,0,0,null,null,null,null,null,null,0,0,0,null,null,null,null,null,null,0,0,0,null,null,null,null,null,null,0,0,0,null,null,null,null,null,null,0,0,0,null,null,null,null,null,null,0,0,0,null,null,null,null,null,null,0,0,0,null,null,null,null,null,null,0,0,0,null,null,null,null,null,null,0,0,0,null,null,null,null,null,null,0,0,0,null,null,null,null,null,null,0,0,0,null,null,null,null,null,null,0,0,0,null,null,null,null,null,null,0,0,0,null,null,null,null,null,null,0,0,0,null,null,null,null,null,null,0,0,0,null,null,null,null,null,null,0,0,0,null,null,null,null,null,null,0,0,0,null,null,null,null,null,null,0,0,0,null,null,null,null,null,null,0,0,0,null,null,null,null,null,null,0,0,0,null,null,null,null,null,null,0,0,0,null,null,null,null,null,null,0,0,0,null,null,null,null,null,null,0,0,0,null,null,null,null,null,null,0,0,0,null,null,null,null,null,null,0,0,0,null,null,null,null,null,null,0,0,0,null,null,null,null,null,null,0,0,0]
[null,null,null,0,0,0,null,null,null,null,null,null,0,0,0,null,null,null,null,null,null,0,0,0,null,null,null,null,null,null,0,0,0,null,null,null,null,null,null,0,0,0,null,null,null,null,null,null,0,0,0,null,null,null,null,null,null,0,0,0,null,null,null,null,null,null,0,0,0,null,null,null,null,null,null,0,0,0,null,null,null,null,null,null,0,0,0,null,null,null,null,null,null,0,0,0,null,null,null,null,null,null,0,0,0,null,null,null,null,null,null,0,0,0,null,null,null,null,null,null,0,0,0,null,null,null,null,null,null,0,0,0,null,null,null,null,null,null,0,0,0,null,null,null,null,null,null,0,0,0,null,null,null,null,null,null,0,0,0,null,null,null,null,null,null,0,0,0,null,null,null,null,null,null,0,0,0,null,null,null,null,null,null,0,0,0,null,null,null,null,null,null,0,0,0,null,null,null,null,null,null,0,0,0,null,null,null,null,null,null,0,0,0,null,null,null,null,null,null,0,0,0,null,null,null,null,null,null,0,0,0,null,null,null,null,null,null,0,0,0,null,null,null,null,null,null,0,0,0,null,null,null,null,null,null,0,0,0,null,null,null,null,null,null,0,0,0,null,null,null,null,null,null,0,0,0,null,null,null,null,null,null,0,0,0,null,null,null,null,null,null,0,0,0,null,null,null,null,null,null,0,0,0,null,null,null,null,null,null,0,0,0]
[null,null,null,0,0,0,null,null,null,null,null,null,0,0,0,null,null,null,null,null,null,0,0,0,null,null,null,null,null,null,0,0,0,null,null,null,null,null,null,0,0,0,null,null,null,null,null,null,0,0,0,null,null,null,null,null,null,0,0,0,null,null,null,null,null,null,0,0,0,null,null,null,null,null,null,0,0,0,null,null,null,null,null,null,0,0,0,null,null,null,null,null,null,0,0,0,null,null,null,null,null,null,0,0,0,null,null,null,null,null,null,0,0,0,null,null,null,null,null,null,0,0,0,null,null,null,null,null,null,0,0,0,null,null,null,null,null,null,0,0,0,null,null,null,null,null,null,0,0,0,null,null,null,null,null,null,0,0,0,null,null,null,null,null,null,0,0,0,null,null,null,null,null,null,0,0,0,null,null,null,null,null,null,0,0,0,null,null,null,null,null,null,0,0,0,null,null,null,null,null,null,0,0,0,null,null,null,null,null,null,0,0,0,null,null,null,null,null,null,0,0,0,null,null,null,null,null,null,0,0,0,null,null,null,null,null,null,0,0,0,null,null,null,null,null,null,0,0,0,null,null,null,null,null,null,0,0,0,null,null,null,null,null,null,0,0,0,null,null,null,null,null,null,0,0,0,null,null,null,null,null,null,0,0,0,null,null,null,null,null,null,0,0,0,null,null,null,null,null,null,0,0,0,null,null,null,null,null,null,0,0,0]
[null,null,null,0,0,0,null,null,null,null,null,null,0,0,0,null,null,null,null,null,null,0,0,0,null,null,null,null,null,null,0,0,0,null,null,null,null,null,null,0,0,0,null,null,null,null,null,null,0,0,0,null,null,null,null,null,null,0,0,0,null,null,null,null,null,null,0,0,0,null,null,null,null,null,null,0,0,0,null,null,null,null,null,null,0,0,0,null,null,null,null,null,null,0,0,0,null,null,null,null,null,null,0,0,0,null,null,null,null,null,null,0,0,0,null,null,null,null,null,null,0,0,0,null,null,null,null,null,null,0,0,0,null,null,null,null,null,null,0,0,0,null,null,null,null,null,null,0,0,0,null,null,null,null,null,null,0,0,0,null,null,null,null,null,null,0,0,0,null,null,null,null,null,null,0,0,0,null,null,null,null,null,null,0,0,0,null,null,null,null,null,null,0,0,0,null,null,null,null,null,null,0,0,0,null,null,null,null,null,null,0,0,0,null,null,null,null,null,null,0,0,0,null,null,null,null,null,null,0,0,0,null,null,null,null,null,null,0,0,0,null,null,null,null,null,null,0,0,0,null,null,null,null,null,null,0,0,0,null,null,null,null,null,null,0,0,0,null,null,null,null,null,null,0,0,0,null,null,null,null,null,null,0,0,0,null,null,null,null,null,null,0,0,0,null,null,null,null,null,null,0,0,0,null,null,null,null,null,null,0,0,0]
[null,null,null,0,0,0,null,null,null,null,null,null,0,0,0,null,null,null,null,null,null,0,0,0,null,null,null,null,null,null,0,0,0,null,null,null,null,null,null,0,0,0,null,null,null,null,null,null,0,0,0,null,null,null,null,null,null,0,0,0,null,null,null,null,null,null,0,0,0,null,null,null,null,null,null,0,0,0,null,null,null,null,null,null,0,0,0,null,null,null,null,null,null,0,0,0,null,null,null,null,null,null,0,0,0,null,null,null,null,null,null,0,0,0,null,null,null,null,null,null,0,0,0,null,null,null,null,null,null,0,0,0,null,null,null,null,null,null,0,0,0,null,null,null,null,null,null,0,0,0,null,null,null,null,null,null,0,0,0,null,null,null,null,null,null,0,0,0,null,null,null,null,null,null,0,0,0,null,null,null,null,null,null,0,0,0,null,null,null,null,null,null,0,0,0,null,null,null,null,null,null,0,0,0,null,null,null,null,null,null,0,0,0,null,null,null,null,null,null,0,0,0,null,null,null,null,null,null,0,0,0,null,null,null,null,null,null,0,0,0,null,null,null,null,null,null,0,0,0,null,null,null,null,null,null,0,0,0,null,null,null,null,null,null,0,0,0,null,null,null,null,null,null,0,0,0,null,null,null,null,null,null,0,0,0,null,null,null,null,null,null,0,0,0,null,null,null,null,null,null,0,0,0,null,null,null,null,null,null,0,0,0]
[null,null,null,0,0,0,null,null,null,null,null,null,0,0,0,null,null,null,null,null,null,0,0,0,null,null,null,null,null,null,0,0,0,null,null,null,null,null,null,0,0,0,null,null,null,null,null,null,0,0,0,null,null,null,null,null,null,0,0,0,null,null,null,null,null,null,0,0,0,null,null,null,null,null,null,0,0,0,null,null,null,null,null,null,0,0,0,null,null,null,null,null,null,0,0,0,null,null,null,null,null,null,0,0,0,null,null,null,null,null,null,0,0,0,null,null,null,null,null,null,0,0,0,null,null,null,null,null,null,0,0,0,null,null,null,null,null,null,0,0,0,null,null,null,null,null,null,0,0,0,null,null,null,null,null,null,0,0,0,null,null,null,null,null,null,0,0,0,null,null,null,null,null,null,0,0,0,null,null,null,null,null,null,0,0,0,null,null,null,null,null,null,0,0,0,null,null,null,null,null,null,0,0,0,null,null,null,null,null,null,0,0,0,null,null,null,null,null,null,0,0,0,null,null,null,null,null,null,0,0,0,null,null,null,null,null,null,0,0,0,null,null,null,null,null,null,0,0,0,null,null,null,null,null,null,0,0,0,null,null,null,null,null,null,0,0,0,null,null,null,null,null,null,0,0,0,null,null,null,null,null,null,0,0,0,null,null,null,null,null,null,0,0,0,null,null,null,null,null,null,0,0,0,null,null,null,null,null,null,0,0,0]
[null,null,null,0,0,0,null,null,null,null,null,null,0,0,0,null,null,null,null,null,null,0,0,0,null,null,null,null,null,null,0,0,0,null,null,null,null,null,null,0,0,0,null,null,null,null,null,null,0,0,0,null,null,null,null,null,null,0,0,0,null,null,null,null,null,null,0,0,0,null,null,null,null,null,null,0,0,0,null,null,null,null,null,null,0,0,0,null,null,null,null,null,null,0,0,0,null,null,null,null,null,null,0,0,0,null,null,null,null,null,null,0,0,0,null,null,null,null,null,null,0,0,0,null,null,null,null,null,null,0,0,0,null,null,null,null,null,null,0,0,0,null,null,null,null,null,null,0,0,0,null,null,null,null,null,null,0,0,0,null,null,null,null,null,null,0,0,0,null,null,null,null,null,null,0,0,0,null,null,null,null,null,null,0,0,0,null,null,null,null,null,null,0,0,0,null,null,null,null,null,null,0,0,0,null,null,null,null,null,null,0,0,0,null,null,null,null,null,null,0,0,0,null,null,null,null,null,null,0,0,0,null,null,null,null,null,null,0,0,0,null,null,null,null,null,null,0,0,0,null,null,null,null,null,null,0,0,0,null,null,null,null,null,null,0,0,0,null,null,null,null,null,null,0,0,0,null,null,null,null,null,null,0,0,0,null,null,null,null,null,null,0,0,0,null,null,null,null,null,null,0,0,0,null,null,null,null,null,null,0,0,0]
[null,null,null,0,0,0,null,null,null,null,null,null,0,0,0,null,null,null,null,null,null,0,0,0,null,null,null,null,null,null,0,0,0,null,null,null,null,null,null,0,0,0,null,null,null,null,null,null,0,0,0,null,null,null,null,null,null,0,0,0,null,null,null,null,null,null,0,0,0,null,null,null,null,null,null,0,0,0,null,null,null,null,null,null,0,0,0,null,null,null,null,null,null,0,0,0,null,null,null,null,null,null,0,0,0,null,null,null,null,null,null,0,0,0,null,null,null,null,null,null,0,0,0,null,null,null,null,null,null,0,0,0,null,null,null,null,null,null,0,0,0,null,null,null,null,null,null,0,0,0,null,null,null,null,null,null,0,0,0,null,null,null,null,null,null,0,0,0,null,null,null,null,null,null,0,0,0,null,null,null,null,null,null,0,0,0,null,null,null,null,null,null,0,0,0,null,null,null,null,null,null,0,0,0,null,null,null,null,null,null,0,0,0,null,null,null,null,null,null,0,0,0,null,null,null,null,null,null,0,0,0,null,null,null,null,null,null,0,0,0,null,null,null,null,null,null,0,0,0,null,null,null,null,null,null,0,0,0,null,null,null,null,null,null,0,0,0,null,null,null,null,null,null,0,0,0,null,null,null,null,null,null,0,0,0,null,null,null,null,null,null,0,0,0,null,null,null,null,null,null,0,0,0,null,null,null,null,null,null,0,0,0]
[null,null,null,0,0,0,null,null,null,null,null,null,0,0,0,null,null,null,null,null,null,0,0,0,null,null,null,null,null,null,0,0,0,null,null,null,null,null,null,0,0,0,null,null,null,null,null,null,0,0,0,null,null,null,null,null,null,0,0,0,null,null,null,null,null,null,0,0,0,null,null,null,null,null,null,0,0,0,null,null,null,null,null,null,0,0,0,null,null,null,null,null,null,0,0,0,null,null,null,null,null,null,0,0,0,null,null,null,null,null,null,0,0,0,null,null,null,null,null,null,0,0,0,null,null,null,null,null,null,0,0,0,null,null,null,null,null,null,0,0,0,null,null,null,null,null,null,0,0,0,null,null,null,null,null,null,0,0,0,null,null,null,null,null,null,0,0,0,null,null,null,null,null,null,0,0,0,null,null,null,null,null,null,0,0,0,null,null,null,null,null,null,0,0,0,null,null,null,null,null,null,0,0,0,null,null,null,null,null,null,0,0,0,null,null,null,null,null,null,0,0,0,null,null,null,null,null,null,0,0,0,null,null,null,null,null,null,0,0,0,null,null,null,null,null,null,0,0,0,null,null,null,null,null,null,0,0,0,null,null,null,null,null,null,0,0,0,null,null,null,null,null,null,0,0,0,null,null,null,null,null,null,0,0,0,null,null,null,null,null,null,0,0,0,null,null,null,null,null,null,0,0,0,null,null,null,null,null,null,0,0,0]
[null,null,null,0,0,0,null,null,null,null,null,null,0,0,0,null,null,null,null,null,null,0,0,0,null,null,null,null,null,null,0,0,0,null,null,null,null,null,null,0,0,0,null,null,null,null,null,null,0,0,0,null,null,null,null,null,null,0,0,0,null,null,null,null,null,null,0,0,0,null,null,null,null,null,null,0,0,0,null,null,null,null,null,null,0,0,0,null,null,null,null,null,null,0,0,0,null,null,null,null,null,null,0,0,0,null,null,null,null,null,null,0,0,0,null,null,null,null,null,null,0,0,0,null,null,null,null,null,null,0,0,0,null,null,null,null,null,null,0,0,0,null,null,null,null,null,null,0,0,0,null,null,null,null,null,null,0,0,0,null,null,null,null,null,null,0,0,0,null,null,null,null,null,null,0,0,0,null,null,null,null,null,null,0,0,0,null,null,null,null,null,null,0,0,0,null,null,null,null,null,null,0,0,0,null,null,null,null,null,null,0,0,0,null,null,null,null,null,null,0,0,0,null,null,null,null,null,null,0,0,0,null,null,null,null,null,null,0,0,0,null,null,null,null,null,null,0,0,0,null,null,null,null,null,null,0,0,0,null,null,null,null,null,null,0,0,0,null,null,null,null,null,null,0,0,0,null,null,null,null,null,null,0,0,0,null,null,null,null,null,null,0,0,0,null,null,null,null,null,null,0,0,0,null,null,null,null,null,null,0,0,0]
[null,null,null,0,0,0,null,null,null,null,null,null,0,0,0,null,null,null,null,null,null,0,0,0,null,null,null,null,null,null,0,0,0,null,null,null,null,null,null,0,0,0,null,null,null,null,null,null,0,0,0,null,null,null,null,null,null,0,0,0,null,null,null,null,null,null,0,0,0,null,null,null,null,null,null,0,0,0,null,null,null,null,null,null,0,0,0,null,null,null,null,null,null,0,0,0,null,null,null,null,null,null,0,0,0,null,null,null,null,null,null,0,0,0,null,null,null,null,null,null,0,0,0,null,null,null,null,null,null,0,0,0,null,null,null,null,null,null,0,0,0,null,null,null,null,null,null,0,0,0,null,null,null,null,null,null,0,0,0,null,null,null,null,null,null,0,0,0,null,null,null,null,null,null,0,0,0,null,null,null,null,null,null,0,0,0,null,null,null,null,null,null,0,0,0,null,null,null,null,null,null,0,0,0,null,null,null,null,null,null,0,0,0,null,null,null,null,null,null,0,0,0,null,null,null,null,null,null,0,0,0,null,null,null,null,null,null,0,0,0,null,null,null,null,null,null,0,0,0,null,null,null,null,null,null,0,0,0,null,null,null,null,null,null,0,0,0,null,null,null,null,null,null,0,0,0,null,null,null,null,null,null,0,0,0,null,null,null,null,null,null,0,0,0,null,null,null,null,null,null,0,0,0,null,null,null,null,null,null,0,0,0]
[null,null,null,0,0,0,null,null,null,null,null,null,0,0,0,null,null,null,null,null,null,0,0,0,null,null,null,null,null,null,0,0,0,null,null,null,null,null,null,0,0,0,null,null,null,null,null,null,0,0,0,null,null,null,null,null,null,0,0,0,null,null,null,null,null,null,0,0,0,null,null,null,null,null,null,0,0,0,null,null,null,null,null,null,0,0,0,null,null,null,null,null,null,0,0,0,null,null,null,null,null,null,0,0,0,null,null,null,null,null,null,0,0,0,null,null,null,null,null,null,0,0,0,null,null,null,null,null,null,0,0,0,null,null,null,null,null,null,0,0,0,null,null,null,null,null,null,0,0,0,null,null,null,null,null,null,0,0,0,null,null,null,null,null,null,0,0,0,null,null,null,null,null,null,0,0,0,null,null,null,null,null,null,0,0,0,null,null,null,null,null,null,0,0,0,null,null,null,null,null,null,0,0,0,null,null,null,null,null,null,0,0,0,null,null,null,null,null,null,0,0,0,null,null,null,null,null,null,0,0,0,null,null,null,null,null,null,0,0,0,null,null,null,null,null,null,0,0,0,null,null,null,null,null,null,0,0,0,null,null,null,null,null,null,0,0,0,null,null,null,null,null,null,0,0,0,null,null,null,null,null,null,0,0,0,null,null,null,null,null,null,0,0,0,null,null,null,null,null,null,0,0,0,null,null,null,null,null,null,0,0,0]
[null,null,null,0,0,0,null,null,null,null,null,null,0,0,0,null,null,null,null,null,null,0,0,0,null,null,null,null,null,null,0,0,0,null,null,null,null,null,null,0,0,0,null,null,null,null,null,null,0,0,0,null,null,null,null,null,null,0,0,0,null,null,null,null,null,null,0,0,0,null,null,null,null,null,null,0,0,0,null,null,null,null,null,null,0,0,0,null,null,null,null,null,null,0,0,0,null,null,null,null,null,null,0,0,0,null,null,null,null,null,null,0,0,0,null,null,null,null,null,null,0,0,0,null,null,null,null,null,null,0,0,0,null,null,null,null,null,null,0,0,0,null,null,null,null,null,null,0,0,0,null,null,null,null,null,null,0,0,0,null,null,null,null,null,null,0,0,0,null,null,null,null,null,null,0,0,0,null,null,null,null,null,null,0,0,0,null,null,null,null,null,null,0,0,0,null,null,null,null,null,null,0,0,0,null,null,null,null,null,null,0,0,0,null,null,null,null,null,null,0,0,0,null,null,null,null,null,null,0,0,0,null,null,null,null,null,null,0,0,0,null,null,null,null,null,null,0,0,0,null,null,null,null,null,null,0,0,0,null,null,null,null,null,null,0,0,0,null,null,null,null,null,null,0,0,0,null,null,null,null,null,null,0,0,0,null,null,null,null,null,null,0,0,0,null,null,null,null,null,null,0,0,0,null,null,null,null,null,null,0,0,0]
[null,null,null,0,0,0,null,null,null,null,null,null,0,0,0,null,null,null,null,null,null,0,0,0,null,null,null,null,null,null,0,0,0,null,null,null,null,null,null,0,0,0,null,null,null,null,null,null,0,0,0,null,null,null,null,null,null,0,0,0,null,null,null,null,null,null,0,0,0,null,null,null,null,null,null,0,0,0,null,null,null,null,null,null,0,0,0,null,null,null,null,null,null,0,0,0,null,null,null,null,null,null,0,0,0,null,null,null,null,null,null,0,0,0,null,null,null,null,null,null,0,0,0,null,null,null,null,null,null,0,0,0,null,null,null,null,null,null,0,0,0,null,null,null,null,null,null,0,0,0,null,null,null,null,null,null,0,0,0,null,null,null,null,null,null,0,0,0,null,null,null,null,null,null,0,0,0,null,null,null,null,null,null,0,0,0,null,null,null,null,null,null,0,0,0,null,null,null,null,null,null,0,0,0,null,null,null,null,null,null,0,0,0,null,null,null,null,null,null,0,0,0,null,null,null,null,null,null,0,0,0,null,null,null,null,null,null,0,0,0,null,null,null,null,null,null,0,0,0,null,null,null,null,null,null,0,0,0,null,null,null,null,null,null,0,0,0,null,null,null,null,null,null,0,0,0,null,null,null,null,null,null,0,0,0,null,null,null,null,null,null,0,0,0,null,null,null,null,null,null,0,0,0,null,null,null,null,null,null,0,0,0]
[null,null,null,0,0,0,null,null,null,null,null,null,0,0,0,null,null,null,null,null,null,0,0,0,null,null,null,null,null,null,0,0,0,null,null,null,null,null,null,0,0,0,null,null,null,null,null,null,0,0,0,null,null,null,null,null,null,0,0,0,null,null,null,null,null,null,0,0,0,null,null,null,null,null,null,0,0,0,null,null,null,null,null,null,0,0,0,null,null,null,null,null,null,0,0,0,null,null,null,null,null,null,0,0,0,null,null,null,null,null,null,0,0,0,null,null,null,null,null,null,0,0,0,null,null,null,null,null,null,0,0,0,null,null,null,null,null,null,0,0,0,null,null,null,null,null,null,0,0,0,null,null,null,null,null,null,0,0,0,null,null,null,null,null,null,0,0,0,null,null,null,null,null,null,0,0,0,null,null,null,null,null,null,0,0,0,null,null,null,null,null,null,0,0,0,null,null,null,null,null,null,0,0,0,null,null,null,null,null,null,0,0,0,null,null,null,null,null,null,0,0,0,null,null,null,null,null,null,0,0,0,null,null,null,null,null,null,0,0,0,null,null,null,null,null,null,0,0,0,null,null,null,null,null,null,0,0,0,null,null,null,null,null,null,0,0,0,null,null,null,null,null,null,0,0,0,null,null,null,null,null,null,0,0,0,null,null,null,null,null,null,0,0,0,null,null,null,null,null,null,0,0,0,null,null,null,null,null,null,0,0,0]
[null,null,null,0,0,0,null,null,null,null,null,null,0,0,0,null,null,null,null,null,null,0,0,0,null,null,null,null,null,null,0,0,0,null,null,null,null,null,null,0,0,0,null,null,null,null,null,null,0,0,0,null,null,null,null,null,null,0,0,0,null,null,null,null,null,null,0,0,0,null,null,null,null,null,null,0,0,0,null,null,null,null,null,null,0,0,0,null,null,null,null,null,null,0,0,0,null,null,null,null,null,null,0,0,0,null,null,null,null,null,null,0,0,0,null,null,null,null,null,null,0,0,0,null,null,null,null,null,null,0,0,0,null,null,null,null,null,null,0,0,0,null,null,null,null,null,null,0,0,0,null,null,null,null,null,null,0,0,0,null,null,null,null,null,null,0,0,0,null,null,null,null,null,null,0,0,0,null,null,null,null,null,null,0,0,0,null,null,null,null,null,null,0,0,0,null,null,null,null,null,null,0,0,0,null,null,null,null,null,null,0,0,0,null,null,null,null,null,null,0,0,0,null,null,null,null,null,null,0,0,0,null,null,null,null,null,null,0,0,0,null,null,null,null,null,null,0,0,0,null,null,null,null,null,null,0,0,0,null,null,null,null,null,null,0,0,0,null,null,null,null,null,null,0,0,0,null,null,null,null,null,null,0,0,0,null,null,null,null,null,null,0,0,0,null,null,null,null,null,null,0,0,0,null,null,null,null,null,null,0,0,0]
[null,null,null,0,0,0,null,null,null,null,null,null,0,0,0,null,null,null,null,null,null,0,0,0,null,null,null,null,null,null,0,0,0,null,null,null,null,null,null,0,0,0,null,null,null,null,null,null,0,0,0,null,null,null,null,null,null,0,0,0,null,null,null,null,null,null,0,0,0,null,null,null,null,null,null,0,0,0,null,null,null,null,null,null,0,0,0,null,null,null,null,null,null,0,0,0,null,null,null,null,null,null,0,0,0,null,null,null,null,null,null,0,0,0,null,null,null,null,null,null,0,0,0,null,null,null,null,null,null,0,0,0,null,null,null,null,null,null,0,0,0,null,null,null,null,null,null,0,0,0,null,null,null,null,null,null,0,0,0,null,null,null,null,null,null,0,0,0,null,null,null,null,null,null,0,0,0,null,null,null,null,null,null,0,0,0,null,null,null,null,null,null,0,0,0,null,null,null,null,null,null,0,0,0,null,null,null,null,null,null,0,0,0,null,null,null,null,null,null,0,0,0,null,null,null,null,null,null,0,0,0,null,null,null,null,null,null,0,0,0,null,null,null,null,null,null,0,0,0,null,null,null,null,null,null,0,0,0,null,null,null,null,null,null,0,0,0,null,null,null,null,null,null,0,0,0,null,null,null,null,null,null,0,0,0,null,null,null,null,null,null,0,0,0,null,null,null,null,null,null,0,0,0,null,null,null,null,null,null,0,0,0]
[null,null,null,0,0,0,null,null,null,null,null,null,0,0,0,null,null,null,null,null,null,0,0,0,null,null,null,null,null,null,0,0,0,null,null,null,null,null,null,0,0,0,null,null,null,null,null,null,0,0,0,null,null,null,null,null,null,0,0,0,null,null,null,null,null,null,0,0,0,null,null,null,null,null,null,0,0,0,null,null,null,null,null,null,0,0,0,null,null,null,null,null,null,0,0,0,null,null,null,null,null,null,0,0,0,null,null,null,null,null,null,0,0,0,null,null,null,null,null,null,0,0,0,null,null,null,null,null,null,0,0,0,null,null,null,null,null,null,0,0,0,null,null,null,null,null,null,0,0,0,null,null,null,null,null,null,0,0,0,null,null,null,null,null,null,0,0,0,null,null,null,null,null,null,0,0,0,null,null,null,null,null,null,0,0,0,null,null,null,null,null,null,0,0,0,null,null,null,null,null,null,0,0,0,null,null,null,null,null,null,0,0,0,null,null,null,null,null,null,0,0,0,null,null,null,null,null,null,0,0,0,null,null,null,null,null,null,0,0,0,null,null,null,null,null,null,0,0,0,null,null,null,null,null,null,0,0,0,null,null,null,null,null,null,0,0,0,null,null,null,null,null,null,0,0,0,null,null,null,null,null,null,0,0,0,null,null,null,null,null,null,0,0,0,null,null,null,null,null,null,0,0,0,null,null,null,null,null,null,0,0,0]
[null,null,null,0,0,0,null,null,null,null,null,null,0,0,0,null,null,null,null,null,null,0,0,0,null,null,null,null,null,null,0,0,0,null,null,null,null,null,null,0,0,0,null,null,null,null,null,null,0,0,0,null,null,null,null,null,null,0,0,0,null,null,null,null,null,null,0,0,0,null,null,null,null,null,null,0,0,0,null,null,null,null,null,null,0,0,0,null,null,null,null,null,null,0,0,0,null,null,null,null,null,null,0,0,0,null,null,null,null,null,null,0,0,0,null,null,null,null,null,null,0,0,0,null,null,null,null,null,null,0,0,0,null,null,null,null,null,null,0,0,0,null,null,null,null,null,null,0,0,0,null,null,null,null,null,null,0,0,0,null,null,null,null,null,null,0,0,0,null,null,null,null,null,null,0,0,0,null,null,null,null,null,null,0,0,0,null,null,null,null,null,null,0,0,0,null,null,null,null,null,null,0,0,0,null,null,null,null,null,null,0,0,0,null,null,null,null,null,null,0,0,0,null,null,null,null,null,null,0,0,0,null,null,null,null,null,null,0,0,0,null,null,null,null,null,null,0,0,0,null,null,null,null,null,null,0,0,0,null,null,null,null,null,null,0,0,0,null,null,null,null,null,null,0,0,0,null,null,null,null,null,null,0,0,0,null,null,null,null,null,null,0,0,0,null,null,null,null,null,null,0,0,0,null,null,null,null,null,null,0,0,0]
[null,null,null,0,0,0,null,null,null,null,null,null,0,0,0,null,null,null,null,null,null,0,0,0,null,null,null,null,null,null,0,0,0,null,null,null,null,null,null,0,0,0,null,null,null,null,null,null,0,0,0,null,null,null,null,null,null,0,0,0,null,null,null,null,null,null,0,0,0,null,null,null,null,null,null,0,0,0,null,null,null,null,null,null,0,0,0,null,null,null,null,null,null,0,0,0,null,null,null,null,null,null,0,0,0,null,null,null,null,null,null,0,0,0,null,null,null,null,null,null,0,0,0,null,null,null,null,null,null,0,0,0,null,null,null,null,null,null,0,0,0,null,null,null,null,null,null,0,0,0,null,null,null,null,null,null,0,0,0,null,null,null,null,null,null,0,0,0,null,null,null,null,null,null,0,0,0,null,null,null,null,null,null,0,0,0,null,null,null,null,null,null,0,0,0,null,null,null,null,null,null,0,0,0,null,null,null,null,null,null,0,0,0,null,null,null,null,null,null,0,0,0,null,null,null,null,null,null,0,0,0,null,null,null,null,null,null,0,0,0,null,null,null,null,null,null,0,0,0,null,null,null,null,null,null,0,0,0,null,null,null,null,null,null,0,0,0,null,null,null,null,null,null,0,0,0,null,null,null,null,null,null,0,0,0,null,null,null,null,null,null,0,0,0,null,null,null,null,null,null,0,0,0,null,null,null,null,null,null,0,0,0]
[null,null,null,0,0,0,null,null,null,null,null,null,0,0,0,null,null,null,null,null,null,0,0,0,null,null,null,null,null,null,0,0,0,null,null,null,null,null,null,0,0,0,null,null,null,null,null,null,0,0,0,null,null,null,null,null,null,0,0,0,null,null,null,null,null,null,0,0,0,null,null,null,null,null,null,0,0,0,null,null,null,null,null,null,0,0,0,null,null,null,null,null,null,0,0,0,null,null,null,null,null,null,0,0,0,null,null,null,null,null,null,0,0,0,null,null,null,null,null,null,0,0,0,null,null,null,null,null,null,0,0,0,null,null,null,null,null,null,0,0,0,null,null,null,null,null,null,0,0,0,null,null,null,null,null,null,0,0,0,null,null,null,null,null,null,0,0,0,null,null,null,null,null,null,0,0,0,null,null,null,null,null,null,0,0,0,null,null,null,null,null,null,0,0,0,null,null,null,null,null,null,0,0,0,null,null,null,null,null,null,0,0,0,null,null,null,null,null,null,0,0,0,null,null,null,null,null,null,0,0,0,null,null,null,null,null,null,0,0,0,null,null,null,null,null,null,0,0,0,null,null,null,null,null,null,0,0,0,null,null,null,null,null,null,0,0,0,null,null,null,null,null,null,0,0,0,null,null,null,null,null,null,0,0,0,null,null,null,null,null,null,0,0,0,null,null,null,null,null,null,0,0,0,null,null,null,null,null,null,0,0,0]
[null,null,null,0,0,0,null,null,null,null,null,null,0,0,0,null,null,null,null,null,null,0,0,0,null,null,null,null,null,null,0,0,0,null,null,null,null,null,null,0,0,0,null,null,null,null,null,null,0,0,0,null,null,null,null,null,null,0,0,0,null,null,null,null,null,null,0,0,0,null,null,null,null,null,null,0,0,0,null,null,null,null,null,null,0,0,0,null,null,null,null,null,null,0,0,0,null,null,null,null,null,null,0,0,0,null,null,null,null,null,null,0,0,0,null,null,null,null,null,null,0,0,0,null,null,null,null,null,null,0,0,0,null,null,null,null,null,null,0,0,0,null,null,null,null,null,null,0,0,0,null,null,null,null,null,null,0,0,0,null,null,null,null,null,null,0,0,0,null,null,null,null,null,null,0,0,0,null,null,null,null,null,null,0,0,0,null,null,null,null,null,null,0,0,0,null,null,null,null,null,null,0,0,0,null,null,null,null,null,null,0,0,0,null,null,null,null,null,null,0,0,0,null,null,null,null,null,null,0,0,0,null,null,null,null,null,null,0,0,0,null,null,null,null,null,null,0,0,0,null,null,null,null,null,null,0,0,0,null,null,null,null,null,null,0,0,0,null,null,null,null,null,null,0,0,0,null,null,null,null,null,null,0,0,0,null,null,null,null,null,null,0,0,0,null,null,null,null,null,null,0,0,0,null,null,null,null,null,null,0,0,0]
[null,null,null,0,0,0,null,null,null,null,null,null,0,0,0,null,null,null,null,null,null,0,0,0,null,null,null,null,null,null,0,0,0,null,null,null,null,null,null,0,0,0,null,null,null,null,null,null,0,0,0,null,null,null,null,null,null,0,0,0,null,null,null,null,null,null,0,0,0,null,null,null,null,null,null,0,0,0,null,null,null,null,null,null,0,0,0,null,null,null,null,null,null,0,0,0,null,null,null,null,null,null,0,0,0,null,null,null,null,null,null,0,0,0,null,null,null,null,null,null,0,0,0,null,null,null,null,null,null,0,0,0,null,null,null,null,null,null,0,0,0,null,null,null,null,null,null,0,0,0,null,null,null,null,null,null,0,0,0,null,null,null,null,null,null,0,0,0,null,null,null,null,null,null,0,0,0,null,null,null,null,null,null,0,0,0,null,null,null,null,null,null,0,0,0,null,null,null,null,null,null,0,0,0,null,null,null,null,null,null,0,0,0,null,null,null,null,null,null,0,0,0,null,null,null,null,null,null,0,0,0,null,null,null,null,null,null,0,0,0,null,null,null,null,null,null,0,0,0,null,null,null,null,null,null,0,0,0,null,null,null,null,null,null,0,0,0,null,null,null,null,null,null,0,0,0,null,null,null,null,null,null,0,0,0,null,null,null,null,null,null,0,0,0,null,null,null,null,null,null,0,0,0,null,null,null,null,null,null,0,0,0]
[null,null,null,0,0,0,null,null,null,null,null,null,0,0,0,null,null,null,null,null,null,0,0,0,null,null,null,null,null,null,0,0,0,null,null,null,null,null,null,0,0,0,null,null,null,null,null,null,0,0,0,null,null,null,null,null,null,0,0,0,null,null,null,null,null,null,0,0,0,null,null,null,null,null,null,0,0,0,null,null,null,null,null,null,0,0,0,null,null,null,null,null,null,0,0,0,null,null,null,null,null,null,0,0,0,null,null,null,null,null,null,0,0,0,null,null,null,null,null,null,0,0,0,null,null,null,null,null,null,0,0,0,null,null,null,null,null,null,0,0,0,null,null,null,null,null,null,0,0,0,null,null,null,null,null,null,0,0,0,null,null,null,null,null,null,0,0,0,null,null,null,null,null,null,0,0,0,null,null,null,null,null,null,0,0,0,null,null,null,null,null,null,0,0,0,null,null,null,null,null,null,0,0,0,null,null,null,null,null,null,0,0,0,null,null,null,null,null,null,0,0,0,null,null,null,null,null,null,0,0,0,null,null,null,null,null,null,0,0,0,null,null,null,null,null,null,0,0,0,null,null,null,null,null,null,0,0,0,null,null,null,null,null,null,0,0,0,null,null,null,null,null,null,0,0,0,null,null,null,null,null,null,0,0,0,null,null,null,null,null,null,0,0,0,null,null,null,null,null,null,0,0,0,null,null,null,null,null,null,0,0,0]
[null,null,null,0,0,0,null,null,null,null,null,null,0,0,0,null,null,null,null,null,null,0,0,0,null,null,null,null,null,null,0,0,0,null,null,null,null,null,null,0,0,0,null,null,null,null,null,null,0,0,0,null,null,null,null,null,null,0,0,0,null,null,null,null,null,null,0,0,0,null,null,null,null,null,null,0,0,0,null,null,null,null,null,null,0,0,0,null,null,null,null,null,null,0,0,0,null,null,null,null,null,null,0,0,0,null,null,null,null,null,null,0,0,0,null,null,null,null,null,null,0,0,0,null,null,null,null,null,null,0,0,0,null,null,null,null,null,null,0,0,0,null,null,null,null,null,null,0,0,0,null,null,null,null,null,null,0,0,0,null,null,null,null,null,null,0,0,0,null,null,null,null,null,null,0,0,0,null,null,null,null,null,null,0,0,0,null,null,null,null,null,null,0,0,0,null,null,null,null,null,null,0,0,0,null,null,null,null,null,null,0,0,0,null,null,null,null,null,null,0,0,0,null,null,null,null,null,null,0,0,0,null,null,null,null,null,null,0,0,0,null,null,null,null,null,null,0,0,0,null,null,null,null,null,null,0,0,0,null,null,null,null,null,null,0,0,0,null,null,null,null,null,null,0,0,0,null,null,null,null,null,null,0,0,0,null,null,null,null,null,null,0,0,0,null,null,null,null,null,null,0,0,0,null,null,null,null,null,null,0,0,0]
[null,null,null,0,0,0,null,null,null,null,null,null,0,0,0,null,null,null,null,null,null,0,0,0,null,null,null,null,null,null,0,0,0,null,null,null,null,null,null,0,0,0,null,null,null,null,null,null,0,0,0,null,null,null,null,null,null,0,0,0,null,null,null,null,null,null,0,0,0,null,null,null,null,null,null,0,0,0,null,null,null,null,null,null,0,0,0,null,null,null,null,null,null,0,0,0,null,null,null,null,null,null,0,0,0,null,null,null,null,null,null,0,0,0,null,null,null,null,null,null,0,0,0,null,null,null,null,null,null,0,0,0,null,null,null,null,null,null,0,0,0,null,null,null,null,null,null,0,0,0,null,null,null,null,null,null,0,0,0,null,null,null,null,null,null,0,0,0,null,null,null,null,null,null,0,0,0,null,null,null,null,null,null,0,0,0,null,null,null,null,null,null,0,0,0,null,null,null,null,null,null,0,0,0,null,null,null,null,null,null,0,0,0,null,null,null,null,null,null,0,0,0,null,null,null,null,null,null,0,0,0,null,null,null,null,null,null,0,0,0,null,null,null,null,null,null,0,0,0,null,null,null,null,null,null,0,0,0,null,null,null,null,null,null,0,0,0,null,null,null,null,null,null,0,0,0,null,null,null,null,null,null,0,0,0,null,null,null,null,null,null,0,0,0,null,null,null,null,null,null,0,0,0,null,null,null,null,null,null,0,0,0]
[null,null,null,0,0,0,null,null,null,null,null,null,0,0,0,null,null,null,null,null,null,0,0,0,null,null,null,null,null,null,0,0,0,null,null,null,null,null,null,0,0,0,null,null,null,null,null,null,0,0,0,null,null,null,null,null,null,0,0,0,null,null,null,null,null,null,0,0,0,null,null,null,null,null,null,0,0,0,null,null,null,null,null,null,0,0,0,null,null,null,null,null,null,0,0,0,null,null,null,null,null,null,0,0,0,null,null,null,null,null,null,0,0,0,null,null,null,null,null,null,0,0,0,null,null,null,null,null,null,0,0,0,null,null,null,null,null,null,0,0,0,null,null,null,null,null,null,0,0,0,null,null,null,null,null,null,0,0,0,null,null,null,null,null,null,0,0,0,null,null,null,null,null,null,0,0,0,null,null,null,null,null,null,0,0,0,null,null,null,null,null,null,0,0,0,null,null,null,null,null,null,0,0,0,null,null,null,null,null,null,0,0,0,null,null,null,null,null,null,0,0,0,null,null,null,null,null,null,0,0,0,null,null,null,null,null,null,0,0,0,null,null,null,null,null,null,0,0,0,null,null,null,null,null,null,0,0,0,null,null,null,null,null,null,0,0,0,null,null,null,null,null,null,0,0,0,null,null,null,null,null,null,0,0,0,null,null,null,null,null,null,0,0,0,null,null,null,null,null,null,0,0,0,null,null,null,null,null,null,0,0,0]
[null,null,null,0,0,0,null,null,null,null,null,null,0,0,0,null,null,null,null,null,null,0,0,0,null,null,null,null,null,null,0,0,0,null,null,null,null,null,null,0,0,0,null,null,null,null,null,null,0,0,0,null,null,null,null,null,null,0,0,0,null,null,null,null,null,null,0,0,0,null,null,null,null,null,null,0,0,0,null,null,null,null,null,null,0,0,0,null,null,null,null,null,null,0,0,0,null,null,null,null,null,null,0,0,0,null,null,null,null,null,null,0,0,0,null,null,null,null,null,null,0,0,0,null,null,null,null,null,null,0,0,0,null,null,null,null,null,null,0,0,0,null,null,null,null,null,null,0,0,0,null,null,null,null,null,null,0,0,0,null,null,null,null,null,null,0,0,0,null,null,null,null,null,null,0,0,0,null,null,null,null,null,null,0,0,0,null,null,null,null,null,null,0,0,0,null,null,null,null,null,null,0,0,0,null,null,null,null,null,null,0,0,0,null,null,null,null,null,null,0,0,0,null,null,null,null,null,null,0,0,0,null,null,null,null,null,null,0,0,0,null,null,null,null,null,null,0,0,0,null,null,null,null,null,null,0,0,0,null,null,null,null,null,null,0,0,0,null,null,null,null,null,null,0,0,0,null,null,null,null,null,null,0,0,0,null,null,null,null,null,null,0,0,0,null,null,null,null,null,null,0,0,0,null,null,null,null,null,null,0,0,0]
[null,null,null,0,0,0,null,null,null,null,null,null,0,0,0,null,null,null,null,null,null,0,0,0,null,null,null,null,null,null,0,0,0,null,null,null,null,null,null,0,0,0,null,null,null,null,null,null,0,0,0,null,null,null,null,null,null,0,0,0,null,null,null,null,null,null,0,0,0,null,null,null,null,null,null,0,0,0,null,null,null,null,null,null,0,0,0,null,null,null,null,null,null,0,0,0,null,null,null,null,null,null,0,0,0,null,null,null,null,null,null,0,0,0,null,null,null,null,null,null,0,0,0,null,null,null,null,null,null,0,0,0,null,null,null,null,null,null,0,0,0,null,null,null,null,null,null,0,0,0,null,null,null,null,null,null,0,0,0,null,null,null,null,null,null,0,0,0,null,null,null,null,null,null,0,0,0,null,null,null,null,null,null,0,0,0,null,null,null,null,null,null,0,0,0,null,null,null,null,null,null,0,0,0,null,null,null,null,null,null,0,0,0,null,null,null,null,null,null,0,0,0,null,null,null,null,null,null,0,0,0,null,null,null,null,null,null,0,0,0,null,null,null,null,null,null,0,0,0,null,null,null,null,null,null,0,0,0,null,null,null,null,null,null,0,0,0,null,null,null,null,null,null,0,0,0,null,null,null,null,null,null,0,0,0,null,null,null,null,null,null,0,0,0,null,null,null,null,null,null,0,0,0,null,null,null,null,null,null,0,0,0]
[null,null,null,0,0,0,null,null,null,null,null,null,0,0,0,null,null,null,null,null,null,0,0,0,null,null,null,null,null,null,0,0,0,null,null,null,null,null,null,0,0,0,null,null,null,null,null,null,0,0,0,null,null,null,null,null,null,0,0,0,null,null,null,null,null,null,0,0,0,null,null,null,null,null,null,0,0,0,null,null,null,null,null,null,0,0,0,null,null,null,null,null,null,0,0,0,null,null,null,null,null,null,0,0,0,null,null,null,null,null,null,0,0,0,null,null,null,null,null,null,0,0,0,null,null,null,null,null,null,0,0,0,null,null,null,null,null,null,0,0,0,null,null,null,null,null,null,0,0,0,null,null,null,null,null,null,0,0,0,null,null,null,null,null,null,0,0,0,null,null,null,null,null,null,0,0,0,null,null,null,null,null,null,0,0,0,null,null,null,null,null,null,0,0,0,null,null,null,null,null,null,0,0,0,null,null,null,null,null,null,0,0,0,null,null,null,null,null,null,0,0,0,null,null,null,null,null,null,0,0,0,null,null,null,null,null,null,0,0,0,null,null,null,null,null,null,0,0,0,null,null,null,null,null,null,0,0,0,null,null,null,null,null,null,0,0,0,null,null,null,null,null,null,0,0,0,null,null,null,null,null,null,0,0,0,null,null,null,null,null,null,0,0,0,null,null,null,null,null,null,0,0,0,null,null,null,null,null,null,0,0,0]
[null,null,null,0,0,0,null,null,null,null,null,null,0,0,0,null,null,null,null,null,null,0,0,0,null,null,null,null,null,null,0,0,0,null,null,null,null,null,null,0,0,0,null,null,null,null,null,null,0,0,0,null,null,null,null,null,null,0,0,0,null,null,null,null,null,null,0,0,0,null,null,null,null,null,null,0,0,0,null,null,null,null,null,null,0,0,0,null,null,null,null,null,null,0,0,0,null,null,null,null,null,null,0,0,0,null,null,null,null,null,null,0,0,0,null,null,null,null,null,null,0,0,0,null,null,null,null,null,null,0,0,0,null,null,null,null,null,null,0,0,0,null,null,null,null,null,null,0,0,0,null,null,null,null,null,null,0,0,0,null,null,null,null,null,null,0,0,0,null,null,null,null,null,null,0,0,0,null,null,null,null,null,null,0,0,0,null,null,null,null,null,null,0,0,0,null,null,null,null,null,null,0,0,0,null,null,null,null,null,null,0,0,0,null,null,null,null,null,null,0,0,0,null,null,null,null,null,null,0,0,0,null,null,null,null,null,null,0,0,0,null,null,null,null,null,null,0,0,0,null,null,null,null,null,null,0,0,0,null,null,null,null,null,null,0,0,0,null,null,null,null,null,null,0,0,0,null,null,null,null,null,null,0,0,0,null,null,null,null,null,null,0,0,0,null,null,null,null,null,null,0,0,0,null,null,null,null,null,null,0,0,0]
[null,null,null,0,0,0,null,null,null,null,null,null,0,0,0,null,null,null,null,null,null,0,0,0,null,null,null,null,null,null,0,0,0,null,null,null,null,null,null,0,0,0,null,null,null,null,null,null,0,0,0,null,null,null,null,null,null,0,0,0,null,null,null,null,null,null,0,0,0,null,null,null,null,null,null,0,0,0,null,null,null,null,null,null,0,0,0,null,null,null,null,null,null,0,0,0,null,null,null,null,null,null,0,0,0,null,null,null,null,null,null,0,0,0,null,null,null,null,null,null,0,0,0,null,null,null,null,null,null,0,0,0,null,null,null,null,null,null,0,0,0,null,null,null,null,null,null,0,0,0,null,null,null,null,null,null,0,0,0,null,null,null,null,null,null,0,0,0,null,null,null,null,null,null,0,0,0,null,null,null,null,null,null,0,0,0,null,null,null,null,null,null,0,0,0,null,null,null,null,null,null,0,0,0,null,null,null,null,null,null,0,0,0,null,null,null,null,null,null,0,0,0,null,null,null,null,null,null,0,0,0,null,null,null,null,null,null,0,0,0,null,null,null,null,null,null,0,0,0,null,null,null,null,null,null,0,0,0,null,null,null,null,null,null,0,0,0,null,null,null,null,null,null,0,0,0,null,null,null,null,null,null,0,0,0,null,null,null,null,null,null,0,0,0,null,null,null,null,null,null,0,0,0,null,null,null,null,null,null,0,0,0]
[null,null,null,{"$f":"IF(C2024=\"\",0,1)","v":0},{"$f":"IF(H2024=\"TAK\",1,0)","v":0},{"$f":"IF(I2024=\"TAK\",1,0)","v":0},null,null,null,null,null,null,0,{"$f":"IF(Q2024=\"TAK\",1,0)","v":0},{"$f":"IF(R2024=\"TAK\",1,0)","v":0},null,null,null,null,null,null,0,{"$f":"IF(Z2024=\"TAK\",1,0)","v":0},{"$f":"IF(AA2024=\"TAK\",1,0)","v":0},null,null,null,null,null,null,0,{"$f":"IF(AI2024=\"TAK\",1,0)","v":0},{"$f":"IF(AJ2024=\"TAK\",1,0)","v":0},null,null,null,null,null,null,0,{"$f":"IF(AR2024=\"TAK\",1,0)","v":0},{"$f":"IF(AS2024=\"TAK\",1,0)","v":0},null,null,null,null,null,null,0,{"$f":"IF(BA2024=\"TAK\",1,0)","v":0},{"$f":"IF(BB2024=\"TAK\",1,0)","v":0},null,null,null,null,null,null,0,{"$f":"IF(BJ2024=\"TAK\",1,0)","v":0},{"$f":"IF(BK2024=\"TAK\",1,0)","v":0},null,null,null,null,null,null,0,{"$f":"IF(BS2024=\"TAK\",1,0)","v":0},{"$f":"IF(BT2024=\"TAK\",1,0)","v":0},null,null,null,null,null,null,0,{"$f":"IF(CB2024=\"TAK\",1,0)","v":0},{"$f":"IF(CC2024=\"TAK\",1,0)","v":0},null,null,null,null,null,null,0,{"$f":"IF(CK2024=\"TAK\",1,0)","v":0},{"$f":"IF(CL2024=\"TAK\",1,0)","v":0},null,null,null,null,null,null,0,{"$f":"IF(CT2024=\"TAK\",1,0)","v":0},{"$f":"IF(CU2024=\"TAK\",1,0)","v":0},null,null,null,null,null,null,0,{"$f":"IF(DC2024=\"TAK\",1,0)","v":0},{"$f":"IF(DD2024=\"TAK\",1,0)","v":0},null,null,null,null,null,null,0,{"$f":"IF(DL2024=\"TAK\",1,0)","v":0},{"$f":"IF(DM2024=\"TAK\",1,0)","v":0},null,null,null,null,null,null,0,{"$f":"IF(DU2024=\"TAK\",1,0)","v":0},{"$f":"IF(DV2024=\"TAK\",1,0)","v":0},null,null,null,null,null,null,0,{"$f":"IF(ED2024=\"TAK\",1,0)","v":0},{"$f":"IF(EE2024=\"TAK\",1,0)","v":0},null,null,null,null,null,null,0,{"$f":"IF(EM2024=\"TAK\",1,0)","v":0},{"$f":"IF(EN2024=\"TAK\",1,0)","v":0},null,null,null,null,null,null,0,{"$f":"IF(EV2024=\"TAK\",1,0)","v":0},{"$f":"IF(EW2024=\"TAK\",1,0)","v":0},null,null,null,null,null,null,0,{"$f":"IF(FE2024=\"TAK\",1,0)","v":0},{"$f":"IF(FF2024=\"TAK\",1,0)","v":0},null,null,null,null,null,null,0,{"$f":"IF(FN2024=\"TAK\",1,0)","v":0},{"$f":"IF(FO2024=\"TAK\",1,0)","v":0},null,null,null,null,null,null,0,{"$f":"IF(FW2024=\"TAK\",1,0)","v":0},{"$f":"IF(FX2024=\"TAK\",1,0)","v":0},null,null,null,null,null,null,0,{"$f":"IF(GF2024=\"TAK\",1,0)","v":0},{"$f":"IF(GG2024=\"TAK\",1,0)","v":0},null,null,null,null,null,null,0,{"$f":"IF(GO2024=\"TAK\",1,0)","v":0},{"$f":"IF(GP2024=\"TAK\",1,0)","v":0},null,null,null,null,null,null,0,{"$f":"IF(GX2024=\"TAK\",1,0)","v":0},{"$f":"IF(GY2024=\"TAK\",1,0)","v":0},null,null,null,null,null,null,0,{"$f":"IF(HG2024=\"TAK\",1,0)","v":0},{"$f":"IF(HH2024=\"TAK\",1,0)","v":0},null,null,null,null,null,null,0,{"$f":"IF(HP2024=\"TAK\",1,0)","v":0},{"$f":"IF(HQ2024=\"TAK\",1,0)","v":0},null,null,null,null,null,null,0,{"$f":"IF(HY2024=\"TAK\",1,0)","v":0},{"$f":"IF(HZ2024=\"TAK\",1,0)","v":0},null,null,null,null,null,null,0,{"$f":"IF(IH2024=\"TAK\",1,0)","v":0},{"$f":"IF(II2024=\"TAK\",1,0)","v":0},null,null,null,null,null,null,0,{"$f":"IF(IQ2024=\"TAK\",1,0)","v":0},{"$f":"IF(IR2024=\"TAK\",1,0)","v":0},null,null,null,null,null,null,0,{"$f":"IF(IZ2024=\"TAK\",1,0)","v":0},{"$f":"IF(JA2024=\"TAK\",1,0)","v":0},null,null,null,null,null,null,0,{"$f":"IF(JI2024=\"TAK\",1,0)","v":0},{"$f":"IF(JJ2024=\"TAK\",1,0)","v":0},null,null,null,null,null,null,0,{"$f":"IF(JR2024=\"TAK\",1,0)","v":0},{"$f":"IF(JS2024=\"TAK\",1,0)","v":0},null,null,null,null,null,null,0,{"$f":"IF(KA2024=\"TAK\",1,0)","v":0},{"$f":"IF(KB2024=\"TAK\",1,0)","v":0},null,null,null,null,null,null,0,{"$f":"IF(KJ2024=\"TAK\",1,0)","v":0},{"$f":"IF(KK2024=\"TAK\",1,0)","v":0},null,null,null,null,null,null,0,{"$f":"IF(KS2024=\"TAK\",1,0)","v":0},{"$f":"IF(KT2024=\"TAK\",1,0)","v":0},null,null,null,null,null,null,0,{"$f":"IF(LB2024=\"TAK\",1,0)","v":0},{"$f":"IF(LC2024=\"TAK\",1,0)","v":0}]

{"sheet":"WYCIĄG Z WNIOSKU","index":2,"n_rows":3,"n_cols":24,"rows_kept":3,"cut":false,"hidden":false,"merged":[[0,16,0,17],[0,20,0,22],[0,23,1,23],[0,0,0,2],[0,3,1,3],[0,4,0,6],[0,7,0,9],[0,10,0,12],[0,13,0,15],[0,18,0,19]]}
["ORGANIZATOR",null,null,"PLANOWANA ŁĄCZNA KWOTA DOPŁATY","GĘSTOŚĆ ZALUDNIENIA",null,null,"LICZBA LINII",null,null,"DŁUGOŚĆ LINII",null,null,"LICZBA ZATRZYMAŃ",null,null,"REALIZACJA POTRZEB NIEPEŁNOSPRAWNYCH",null,"ZAPEWNIENIE DOSTEPNOŚCI PROGRAMÓW INFRA",null,"WSKAŹNIK DOCHODÓW",null,null,"ŁĄCZNA PUNKTACJA WAŻONA"]
["TYP","NIP","NAZWA",null,"WARTOŚĆ","LICZBA PUNKTÓW","PUNKTACJA WAŻONA","WARTOŚĆ","LICZBA PUNKTÓW","PUNKTACJA WAŻONA","WARTOŚĆ","LICZBA PUNKTÓW","PUNKTACJA WAŻONA","WARTOŚĆ","LICZBA PUNKTÓW","PUNKTACJA WAŻONA","WARTOŚĆ","PUNKTACJA WAŻONA","WARTOŚĆ","PUNKTACJA WAŻONA","WARTOŚĆ","LICZBA PUNKTÓW","PUNKTACJA WAŻONA"]
[{"$f":"'WNIOSEK CZĘŚĆ I'!D5","v":""},{"$f":"'WNIOSEK CZĘŚĆ I'!B4","v":0},{"$f":"'WNIOSEK CZĘŚĆ I'!B5","v":""},{"$f":"'WNIOSEK CZĘŚĆ I'!A48","v":0},{"$f":"'WNIOSEK CZĘŚĆ I'!C26","v":""},null,null,{"$f":"'WNIOSEK CZĘŚĆ I'!C27","v":0},null,null,{"$f":"'WNIOSEK CZĘŚĆ I'!C28","v":0},null,null,{"$f":"'WNIOSEK CZĘŚĆ I'!C29","v":0},null,null,{"$f":"IFERROR('WNIOSEK CZĘŚĆ I'!D36/'WNIOSEK CZĘŚĆ I'!D37,0)","v":0},null,{"$f":"IFERROR('WNIOSEK CZĘŚĆ I'!D38/'WNIOSEK CZĘŚĆ I'!D39,0)","v":0},null,{"$f":"'WNIOSEK CZĘŚĆ I'!C32","v":""}]

{"sheet":"DANE DO UMOWY","index":3,"n_rows":2,"n_cols":83,"rows_kept":2,"cut":false,"hidden":false,"merged":[]}
["NR UMOWY","REPREZENTANT 1","REPREZENTANT 2","REPREZENTANT 3","NIP","NAZWA","NUMER RACHUNKU BANKOWEGO","KWOTA","KWOTA SŁOWNIE","LINIE","DŁUGOŚĆ","PRACA","CZĘSTOTLIWOŚĆ","LINIA 1 NAZWA","LINIA 1 DŁUGOŚĆ","LINIA 2 NAZWA","LINIA 2 DŁUGOŚĆ","LINIA 3 NAZWA","LINIA 3 DŁUGOŚĆ","LINIA 4 NAZWA","LINIA 4 DŁUGOŚĆ","LINIA 5 NAZWA","LINIA 5 DŁUGOŚĆ","LINIA 6 NAZWA","LINIA 6 DŁUGOŚĆ","LINIA 7 NAZWA","LINIA 7 DŁUGOŚĆ","LINIA 8 NAZWA","LINIA 8 DŁUGOŚĆ","LINIA 9 NAZWA","LINIA 9 DŁUGOŚĆ","LINIA 10 NAZWA","LINIA 10 DŁUGOŚĆ","LINIA 11 NAZWA","LINIA 11 DŁUGOŚĆ","LINIA 12 NAZWA","LINIA 12 DŁUGOŚĆ","LINIA 13 NAZWA","LINIA 13 DŁUGOŚĆ","LINIA 14 NAZWA","LINIA 14 DŁUGOŚĆ","LINIA 15 NAZWA","LINIA 15 DŁUGOŚĆ","LINIA 16 NAZWA","LINIA 16 DŁUGOŚĆ","LINIA 17 NAZWA","LINIA 17 DŁUGOŚĆ","LINIA 18 NAZWA","LINIA 18 DŁUGOŚĆ","LINIA 19 NAZWA","LINIA 19 DŁUGOŚĆ","LINIA 20 NAZWA","LINIA 20 DŁUGOŚĆ","LINIA 21 NAZWA","LINIA 21 DŁUGOŚĆ","LINIA 22 NAZWA","LINIA 22 DŁUGOŚĆ","LINIA 23 NAZWA","LINIA 23 DŁUGOŚĆ","LINIA 24 NAZWA","LINIA 24 DŁUGOŚĆ","LINIA 25 NAZWA","LINIA 25 DŁUGOŚĆ","LINIA 26 NAZWA","LINIA 26 DŁUGOŚĆ","LINIA 27 NAZWA","LINIA 27 DŁUGOŚĆ","LINIA 28 NAZWA","LINIA 28 DŁUGOŚĆ","LINIA 29 NAZWA","LINIA 29 DŁUGOŚĆ","LINIA 30 NAZWA","LINIA 30 DŁUGOŚĆ","LINIA 31 NAZWA","LINIA 31 DŁUGOŚĆ","LINIA 32 NAZWA","LINIA 32 DŁUGOŚĆ","LINIA 33 NAZWA","LINIA 33 DŁUGOŚĆ","LINIA 34 NAZWA","LINIA 34 DŁUGOŚĆ","LINIA 35 NAZWA","LINIA 35 DŁUGOŚĆ"]
[null,{"$f":"'WNIOSEK CZĘŚĆ I'!A16&\" \"&'WNIOSEK CZĘŚĆ I'!B16&\" \"&'WNIOSEK CZĘŚĆ I'!C16","v":"  "},{"$f":"'WNIOSEK CZĘŚĆ I'!A17&\" \"&'WNIOSEK CZĘŚĆ I'!B17&\" \"&'WNIOSEK CZĘŚĆ I'!C17","v":"  "},{"$f":"'WNIOSEK CZĘŚĆ I'!A18&\" \"&'WNIOSEK CZĘŚĆ I'!B18&\" \"&'WNIOSEK CZĘŚĆ I'!C18","v":"  "},{"$f":"'WNIOSEK CZĘŚĆ I'!B4","v":0},{"$f":"'WNIOSEK CZĘŚĆ I'!B5","v":""},{"$f":"'WNIOSEK CZĘŚĆ I'!A21","v":0},{"$f":"'WNIOSEK CZĘŚĆ I'!A48","v":0},{"$f":"Slownie(H2)","v":"zero groszy"},{"$f":"'WNIOSEK CZĘŚĆ I'!C27","v":0},{"$f":"'WNIOSEK CZĘŚĆ I'!C28","v":0},{"$f":"'WNIOSEK CZĘŚĆ I'!C30","v":0},{"$f":"'WNIOSEK CZĘŚĆ I'!C31","v":0},{"$f":"'WNIOSEK CZĘŚĆ II'!G25","v":0},{"$f":"'WNIOSEK CZĘŚĆ II'!C27","v":0},{"$f":"'WNIOSEK CZĘŚĆ II'!P25","v":0},{"$f":"'WNIOSEK CZĘŚĆ II'!L27","v":0},{"$f":"'WNIOSEK CZĘŚĆ II'!Y25","v":0},{"$f":"'WNIOSEK CZĘŚĆ II'!U27","v":0},{"$f":"'WNIOSEK CZĘŚĆ II'!AH25","v":0},{"$f":"'WNIOSEK CZĘŚĆ II'!AD27","v":0},{"$f":"'WNIOSEK CZĘŚĆ II'!AQ25","v":0},{"$f":"'WNIOSEK CZĘŚĆ II'!AM27","v":0},{"$f":"'WNIOSEK CZĘŚĆ II'!AZ25","v":0},{"$f":"'WNIOSEK CZĘŚĆ II'!AV27","v":0},{"$f":"'WNIOSEK CZĘŚĆ II'!BI25","v":0},{"$f":"'WNIOSEK CZĘŚĆ II'!BE27","v":0},{"$f":"'WNIOSEK CZĘŚĆ II'!BR25","v":0},{"$f":"'WNIOSEK CZĘŚĆ II'!BN27","v":0},{"$f":"'WNIOSEK CZĘŚĆ II'!CA25","v":0},{"$f":"'WNIOSEK CZĘŚĆ II'!BW27","v":0},{"$f":"'WNIOSEK CZĘŚĆ II'!CJ25","v":0},{"$f":"'WNIOSEK CZĘŚĆ II'!CF27","v":0},{"$f":"'WNIOSEK CZĘŚĆ II'!CS25","v":0},{"$f":"'WNIOSEK CZĘŚĆ II'!CO27","v":0},{"$f":"'WNIOSEK CZĘŚĆ II'!DB25","v":0},{"$f":"'WNIOSEK CZĘŚĆ II'!CX27","v":0},{"$f":"'WNIOSEK CZĘŚĆ II'!DK25","v":0},{"$f":"'WNIOSEK CZĘŚĆ II'!DG27","v":0},{"$f":"'WNIOSEK CZĘŚĆ II'!DT25","v":0},{"$f":"'WNIOSEK CZĘŚĆ II'!DP27","v":0},{"$f":"'WNIOSEK CZĘŚĆ II'!EC25","v":0},{"$f":"'WNIOSEK CZĘŚĆ II'!DY27","v":0},{"$f":"'WNIOSEK CZĘŚĆ II'!EL25","v":0},{"$f":"'WNIOSEK CZĘŚĆ II'!EH27","v":0},{"$f":"'WNIOSEK CZĘŚĆ II'!EU25","v":0},{"$f":"'WNIOSEK CZĘŚĆ II'!EQ27","v":0},{"$f":"'WNIOSEK CZĘŚĆ II'!FD25","v":0},{"$f":"'WNIOSEK CZĘŚĆ II'!EZ27","v":0},{"$f":"'WNIOSEK CZĘŚĆ II'!FM25","v":0},{"$f":"'WNIOSEK CZĘŚĆ II'!FI27","v":0},{"$f":"'WNIOSEK CZĘŚĆ II'!FV25","v":0},{"$f":"'WNIOSEK CZĘŚĆ II'!FR27","v":0},{"$f":"'WNIOSEK CZĘŚĆ II'!GE25","v":0},{"$f":"'WNIOSEK CZĘŚĆ II'!GA27","v":0},{"$f":"'WNIOSEK CZĘŚĆ II'!GN25","v":0},{"$f":"'WNIOSEK CZĘŚĆ II'!GJ27","v":0},{"$f":"'WNIOSEK CZĘŚĆ II'!GW25","v":0},{"$f":"'WNIOSEK CZĘŚĆ II'!GS27","v":0},{"$f":"'WNIOSEK CZĘŚĆ II'!HF25","v":0},{"$f":"'WNIOSEK CZĘŚĆ II'!HB27","v":0},{"$f":"'WNIOSEK CZĘŚĆ II'!HO25","v":0},{"$f":"'WNIOSEK CZĘŚĆ II'!HK27","v":0},{"$f":"'WNIOSEK CZĘŚĆ II'!HX25","v":0},{"$f":"'WNIOSEK CZĘŚĆ II'!HT27","v":0},{"$f":"'WNIOSEK CZĘŚĆ II'!IG25","v":0},{"$f":"'WNIOSEK CZĘŚĆ II'!IC27","v":0},{"$f":"'WNIOSEK CZĘŚĆ II'!IP25","v":0},{"$f":"'WNIOSEK CZĘŚĆ II'!IL27","v":0},{"$f":"'WNIOSEK CZĘŚĆ II'!IY25","v":0},{"$f":"'WNIOSEK CZĘŚĆ II'!IU27","v":0},{"$f":"'WNIOSEK CZĘŚĆ II'!JH25","v":0},{"$f":"'WNIOSEK CZĘŚĆ II'!JD27","v":0},{"$f":"'WNIOSEK CZĘŚĆ II'!JQ25","v":0},{"$f":"'WNIOSEK CZĘŚĆ II'!JM27","v":0},{"$f":"'WNIOSEK CZĘŚĆ II'!JZ25","v":0},{"$f":"'WNIOSEK CZĘŚĆ II'!JV27","v":0},{"$f":"'WNIOSEK CZĘŚĆ II'!KI25","v":0},{"$f":"'WNIOSEK CZĘŚĆ II'!KE27","v":0},{"$f":"'WNIOSEK CZĘŚĆ II'!KR25","v":0},{"$f":"'WNIOSEK CZĘŚĆ II'!KN27","v":0},{"$f":"'WNIOSEK CZĘŚĆ II'!LA25","v":0},{"$f":"'WNIOSEK CZĘŚĆ II'!KW27","v":0}]

{"sheet":"Arkusz2","index":4,"n_rows":203,"n_cols":18,"rows_kept":203,"cut":false,"hidden":true,"merged":[]}
["NIP","NAZWA","WOJ.","POW","GMINA","Kod pocztowy","Miejscowość poczty","Miejscowość","Ulica","nr nieruchomości",null,null,"","","TAK","NIE"]
["6282074477","GMINA ALWERNIA","12","03","014","32566","Alwernia","Alwernia","ul. Zbigniewa Gęsikowskiego","7","GMINA",{"$f":"C2*100000+D2*1000+E2","v":1203014},{"$f":"VLOOKUP(L2,Arkusz3!A:K,2,0)","v":""},{"$f":"IF(M2=M$1,L2-1,IF(M2=N$1,L2-2,L2))","v":1203013},{"$f":"VLOOKUP(N2,Arkusz3!A:E,5,0)","v":74},{"$f":"VLOOKUP(N2,Arkusz3!H:J,3,0)","v":12391},{"$f":"P2/O2","v":167.44594594594594},{"$f":"VLOOKUP(N2,Arkusz3!AN:AP,3,0)","v":1809.56}]
["5510013406","GMINA ANDRYCHÓW","12","18","014","34120","Andrychów","Andrychów","Rynek","15        ","GMINA",{"$f":"C3*100000+D3*1000+E3","v":1218014},{"$f":"VLOOKUP(L3,Arkusz3!A:K,2,0)","v":""},{"$f":"IF(M3=M$1,L3-1,IF(M3=N$1,L3-2,L3))","v":1218013},{"$f":"VLOOKUP(N3,Arkusz3!A:E,5,0)","v":100},{"$f":"VLOOKUP(N3,Arkusz3!H:J,3,0)","v":43042},{"$f":"P3/O3","v":430.42},{"$f":"VLOOKUP(N3,Arkusz3!AN:AP,3,0)","v":1592.51}]
["6282267905","GMINA BABICE","12","03","022","32551","Babice","Babice","ul. Krakowska","56        ","GMINA",1203022,{"$f":"VLOOKUP(L4,Arkusz3!A:K,2,0)","v":"  Babice.........................................................................................................................................................................................................................................................."},1203022,{"$f":"VLOOKUP(N4,Arkusz3!A:E,5,0)","v":55},{"$f":"VLOOKUP(N4,Arkusz3!H:J,3,0)","v":9051},164.56363636363636,{"$f":"VLOOKUP(N4,Arkusz3!AN:AP,3,0)","v":1626.41}]
["7361717680","GMINA BIAŁY DUNAJEC","12","17","022","34425","Biały Dunajec","Biały Dunajec","ul. Jana Pawła II",312,"GMINA",1217022,{"$f":"VLOOKUP(L5,Arkusz3!A:K,2,0)","v":"  Biały Dunajec.........................................................................................................................................................................................................................................................."},1217022,{"$f":"VLOOKUP(N5,Arkusz3!A:E,5,0)","v":35},{"$f":"VLOOKUP(N5,Arkusz3!H:J,3,0)","v":7091},202.6,{"$f":"VLOOKUP(N5,Arkusz3!AN:AP,3,0)","v":904.28}]
["7381973883","GMINA BIECZ","12","05","024","38340","Biecz","Biecz","ul. Rynek","1         ","GMINA",1205024,{"$f":"VLOOKUP(L6,Arkusz3!A:K,2,0)","v":""},1205023,{"$f":"VLOOKUP(N6,Arkusz3!A:E,5,0)","v":98},{"$f":"VLOOKUP(N6,Arkusz3!H:J,3,0)","v":16584},169.22448979591837,{"$f":"VLOOKUP(N6,Arkusz3!AN:AP,3,0)","v":1095.8599999999999}]
["6831573055","GMINA BISKUPICE","12","19","012","32020","Wieliczka","Tomaszkowice",null,"455","GMINA",1219012,{"$f":"VLOOKUP(L7,Arkusz3!A:K,2,0)","v":"  Biskupice.........................................................................................................................................................................................................................................................."},1219012,{"$f":"VLOOKUP(N7,Arkusz3!A:E,5,0)","v":41},{"$f":"VLOOKUP(N7,Arkusz3!H:J,3,0)","v":10664},260.09756097560978,{"$f":"VLOOKUP(N7,Arkusz3!AN:AP,3,0)","v":1479.86}]
["7382129965","GMINA BOBOWA","12","05","034","38350","Bobowa","Bobowa","ul. Rynek","21        ","GMINA",1205034,{"$f":"VLOOKUP(L8,Arkusz3!A:K,2,0)","v":""},1205033,{"$f":"VLOOKUP(N8,Arkusz3!A:E,5,0)","v":50},{"$f":"VLOOKUP(N8,Arkusz3!H:J,3,0)","v":9788},195.76,{"$f":"VLOOKUP(N8,Arkusz3!AN:AP,3,0)","v":759.69}]
["8681001825","GMINA MIASTA BOCHNIA","12","01","011","32700","Bochnia","Bochnia","ul. Kazimierza Wielkiego","2","GMINA",1201011,{"$f":"VLOOKUP(L9,Arkusz3!A:K,2,0)","v":"  Bochnia.........................................................................................................................................................................................................................................................."},1201011,{"$f":"VLOOKUP(N9,Arkusz3!A:E,5,0)","v":30},{"$f":"VLOOKUP(N9,Arkusz3!H:J,3,0)","v":29317},977.23333333333335,{"$f":"VLOOKUP(N9,Arkusz3!AN:AP,3,0)","v":2284.48}]
["8681021271","GMINA BOCHNIA","12","01","022","32700","Bochnia","Bochnia","ul. Kazimierza Wielkiego","26","GMINA",1201022,{"$f":"VLOOKUP(L10,Arkusz3!A:K,2,0)","v":"  Bochnia.........................................................................................................................................................................................................................................................."},1201022,{"$f":"VLOOKUP(N10,Arkusz3!A:E,5,0)","v":132},{"$f":"VLOOKUP(N10,Arkusz3!H:J,3,0)","v":20141},152.58333333333334,{"$f":"VLOOKUP(N10,Arkusz3!AN:AP,3,0)","v":1423.17}]
["8711770280"," GMINA BOLESŁAW (pow. dąbrowski)","12","04","012","33220","Bolesław","Bolesław",null,"68","GMINA",1204012,{"$f":"VLOOKUP(L11,Arkusz3!A:K,2,0)","v":"  Bolesław.........................................................................................................................................................................................................................................................."},1204012,{"$f":"VLOOKUP(N11,Arkusz3!A:E,5,0)","v":36},{"$f":"VLOOKUP(N11,Arkusz3!H:J,3,0)","v":2549},70.805555555555557,{"$f":"VLOOKUP(N11,Arkusz3!AN:AP,3,0)","v":935.69}]
["6371997976","GMINA BOLESŁAW (pow. olkuski)","12","12","032","32329","Bolesław","Bolesław","ul. Główna","58","GMINA",1212032,{"$f":"VLOOKUP(L12,Arkusz3!A:K,2,0)","v":"  Bolesław.........................................................................................................................................................................................................................................................."},1212032,{"$f":"VLOOKUP(N12,Arkusz3!A:E,5,0)","v":41},{"$f":"VLOOKUP(N12,Arkusz3!H:J,3,0)","v":7700},187.80487804878049,{"$f":"VLOOKUP(N12,Arkusz3!AN:AP,3,0)","v":2740.06}]
["8691318251","GMINA BORZĘCIN","12","02","012","32825","Borzęcin","Borzęcin",null,"583G","GMINA",1202012,{"$f":"VLOOKUP(L13,Arkusz3!A:K,2,0)","v":"  Borzęcin.........................................................................................................................................................................................................................................................."},1202012,{"$f":"VLOOKUP(N13,Arkusz3!A:E,5,0)","v":103},{"$f":"VLOOKUP(N13,Arkusz3!H:J,3,0)","v":8252},80.116504854368927,{"$f":"VLOOKUP(N13,Arkusz3!AN:AP,3,0)","v":1263.08}]
["8691002648","GMINA BRZESKO","12","02","024","32800","Brzesko","Brzesko","ul. Bartosza Głowackiego","51","GMINA",1202024,{"$f":"VLOOKUP(L14,Arkusz3!A:K,2,0)","v":""},1202023,{"$f":"VLOOKUP(N14,Arkusz3!A:E,5,0)","v":103},{"$f":"VLOOKUP(N14,Arkusz3!H:J,3,0)","v":36117},350.65048543689318,{"$f":"VLOOKUP(N14,Arkusz3!AN:AP,3,0)","v":1739.26}]
["5492197470","GMINA BRZESZCZE","12","13","024","32620","Brzeszcze","Brzeszcze","ul. Kościelna","4","GMINA",1213024,{"$f":"VLOOKUP(L15,Arkusz3!A:K,2,0)","v":""},1213023,{"$f":"VLOOKUP(N15,Arkusz3!A:E,5,0)","v":46},{"$f":"VLOOKUP(N15,Arkusz3!H:J,3,0)","v":20921},454.80434782608694,{"$f":"VLOOKUP(N15,Arkusz3!AN:AP,3,0)","v":2085.67}]
["5511123918","GMINA BRZEŹNICA","12","18","022","34114","Brzeźnica","Brzeźnica","ul. Krakowska","109       ","GMINA",1218022,{"$f":"VLOOKUP(L16,Arkusz3!A:K,2,0)","v":"  Brzeźnica.........................................................................................................................................................................................................................................................."},1218022,{"$f":"VLOOKUP(N16,Arkusz3!A:E,5,0)","v":66},{"$f":"VLOOKUP(N16,Arkusz3!H:J,3,0)","v":10552},159.87878787878788,{"$f":"VLOOKUP(N16,Arkusz3!AN:AP,3,0)","v":1327.35}]
["5521677860","GMINA BUDZÓW","12","15","032","34211","Budzów","Budzów",null,"445","GMINA",1215032,{"$f":"VLOOKUP(L17,Arkusz3!A:K,2,0)","v":"  Budzów.........................................................................................................................................................................................................................................................."},1215032,{"$f":"VLOOKUP(N17,Arkusz3!A:E,5,0)","v":74},{"$f":"VLOOKUP(N17,Arkusz3!H:J,3,0)","v":8889},120.12162162162163,{"$f":"VLOOKUP(N17,Arkusz3!AN:AP,3,0)","v":891.97}]
["7361717220","GMINA BUKOWINA TATRZAŃSKA","12","17","032","34530","Bukowina Tatrzańska","Bukowina Tatrzańska","ul. Długa","144","GMINA",1217032,{"$f":"VLOOKUP(L18,Arkusz3!A:K,2,0)","v":"  Bukowina Tatrzańska.........................................................................................................................................................................................................................................................."},1217032,{"$f":"VLOOKUP(N18,Arkusz3!A:E,5,0)","v":132},{"$f":"VLOOKUP(N18,Arkusz3!H:J,3,0)","v":13502},102.28787878787878,{"$f":"VLOOKUP(N18,Arkusz3!AN:AP,3,0)","v":1895.82}]
["6371998065","GMINA BUKOWNO","12","12","011","32332","Bukowno","Bukowno","ul. Kolejowa","16","GMINA",1212011,{"$f":"VLOOKUP(L19,Arkusz3!A:K,2,0)","v":"  Bukowno.........................................................................................................................................................................................................................................................."},1212011,{"$f":"VLOOKUP(N19,Arkusz3!A:E,5,0)","v":65},{"$f":"VLOOKUP(N19,Arkusz3!H:J,3,0)","v":9876},151.93846153846152,{"$f":"VLOOKUP(N19,Arkusz3!AN:AP,3,0)","v":2931.62}]
["5521570518","GMINA BYSTRA-SIDZINA W BYSTREJ PODHALAŃSKIEJ","12","15","042","34235","Bystra Podhalańska","Bystra Podhalańska",null,"373","GMINA",1215042,{"$f":"VLOOKUP(L20,Arkusz3!A:K,2,0)","v":"  Bystra-Sidzina.........................................................................................................................................................................................................................................................."},1215042,{"$f":"VLOOKUP(N20,Arkusz3!A:E,5,0)","v":81},{"$f":"VLOOKUP(N20,Arkusz3!H:J,3,0)","v":6885},85,{"$f":"VLOOKUP(N20,Arkusz3!AN:AP,3,0)","v":958.42}]
["6591153915","GMINA CHARSZNICA","12","08","012","32250","Charsznica","Miechów-Charsznica",null,"20        ","GMINA",1208012,{"$f":"VLOOKUP(L21,Arkusz3!A:K,2,0)","v":"  Charsznica.........................................................................................................................................................................................................................................................."},1208012,{"$f":"VLOOKUP(N21,Arkusz3!A:E,5,0)","v":78},{"$f":"VLOOKUP(N21,Arkusz3!H:J,3,0)","v":7304},93.641025641025635,{"$f":"VLOOKUP(N21,Arkusz3!AN:AP,3,0)","v":1141.3699999999999}]
["5492197441","GMINA CHEŁMEK","12","13","034","32660","Chełmek","Chełmek","ul. Krakowska","11","GMINA",1213034,{"$f":"VLOOKUP(L22,Arkusz3!A:K,2,0)","v":""},1213033,{"$f":"VLOOKUP(N22,Arkusz3!A:E,5,0)","v":27},{"$f":"VLOOKUP(N22,Arkusz3!H:J,3,0)","v":12713},470.85185185185185,{"$f":"VLOOKUP(N22,Arkusz3!AN:AP,3,0)","v":1654.68}]
["7343445768","GMINA CHEŁMIEC","12","10","022","33395","Chełmiec","Chełmiec","ul. Papieska","2","GMINA",1210022,{"$f":"VLOOKUP(L23,Arkusz3!A:K,2,0)","v":"  Chełmiec.........................................................................................................................................................................................................................................................."},1210022,{"$f":"VLOOKUP(N23,Arkusz3!A:E,5,0)","v":112},{"$f":"VLOOKUP(N23,Arkusz3!H:J,3,0)","v":29157},260.33035714285717,{"$f":"VLOOKUP(N23,Arkusz3!AN:AP,3,0)","v":1627.31}]
["6282260665","GMINA CHRZANÓW","12","03","034","32500","Chrzanów","Chrzanów","ul. Aleja Henryka","20        ","GMINA",1203034,{"$f":"VLOOKUP(L24,Arkusz3!A:K,2,0)","v":""},1203033,{"$f":"VLOOKUP(N24,Arkusz3!A:E,5,0)","v":79},{"$f":"VLOOKUP(N24,Arkusz3!H:J,3,0)","v":45797},579.70886075949363,{"$f":"VLOOKUP(N24,Arkusz3!AN:AP,3,0)","v":2018.76}]
["8731014848","GMINA CIĘŻKOWICE","12","16","014","33190","Ciężkowice","Ciężkowice","ul. Tysiąclecia","19","GMINA",1216014,{"$f":"VLOOKUP(L25,Arkusz3!A:K,2,0)","v":""},1216013,{"$f":"VLOOKUP(N25,Arkusz3!A:E,5,0)","v":103},{"$f":"VLOOKUP(N25,Arkusz3!H:J,3,0)","v":11174},108.48543689320388,{"$f":"VLOOKUP(N25,Arkusz3!AN:AP,3,0)","v":1060.52}]
["7352843273","GMINA CZARNY DUNAJEC","12","11","032","34470","Czarny Dunajec","Czarny Dunajec","ul. Józefa Piłsudskiego","2","GMINA",1211032,{"$f":"VLOOKUP(L26,Arkusz3!A:K,2,0)","v":"  Czarny Dunajec.........................................................................................................................................................................................................................................................."},1211032,{"$f":"VLOOKUP(N26,Arkusz3!A:E,5,0)","v":218},{"$f":"VLOOKUP(N26,Arkusz3!H:J,3,0)","v":22552},103.44954128440367,{"$f":"VLOOKUP(N26,Arkusz3!AN:AP,3,0)","v":722.84}]
["8691291026","GMINA CZCHÓW","12","02","034","32860","Czchów","Czchów","rynek Rynek","12","GMINA",1202034,{"$f":"VLOOKUP(L27,Arkusz3!A:K,2,0)","v":""},1202033,{"$f":"VLOOKUP(N27,Arkusz3!A:E,5,0)","v":66},{"$f":"VLOOKUP(N27,Arkusz3!H:J,3,0)","v":9742},147.60606060606059,{"$f":"VLOOKUP(N27,Arkusz3!AN:AP,3,0)","v":1092.4100000000001}]
["9442253228","GMINA CZERNICHÓW","12","06","012","32070","Czernichów","Czernichów","ul. Gminna","1","GMINA",1206012,{"$f":"VLOOKUP(L28,Arkusz3!A:K,2,0)","v":"  Czernichów.........................................................................................................................................................................................................................................................."},1206012,{"$f":"VLOOKUP(N28,Arkusz3!A:E,5,0)","v":85},{"$f":"VLOOKUP(N28,Arkusz3!H:J,3,0)","v":14818},174.3294117647059,{"$f":"VLOOKUP(N28,Arkusz3!AN:AP,3,0)","v":1639.23}]
["7352851410","GMINA CZORSZTYN","12","11","042","34436","Maniowy","Maniowy","ul. Gorczańska","3","GMINA",1211042,{"$f":"VLOOKUP(L29,Arkusz3!A:K,2,0)","v":"  Czorsztyn.........................................................................................................................................................................................................................................................."},1211042,{"$f":"VLOOKUP(N29,Arkusz3!A:E,5,0)","v":62},{"$f":"VLOOKUP(N29,Arkusz3!H:J,3,0)","v":7651},123.40322580645162,{"$f":"VLOOKUP(N29,Arkusz3!AN:AP,3,0)","v":1186.98}]
["8711771055","GMINA DĄBROWA TARNOWSKA","12","04","024","33200","Dąbrowa Tarnowska","Dąbrowa Tarnowska","rynek Rynek","34","GMINA",1204024,{"$f":"VLOOKUP(L30,Arkusz3!A:K,2,0)","v":""},1204023,{"$f":"VLOOKUP(N30,Arkusz3!A:E,5,0)","v":116},{"$f":"VLOOKUP(N30,Arkusz3!H:J,3,0)","v":21160},182.41379310344828,{"$f":"VLOOKUP(N30,Arkusz3!AN:AP,3,0)","v":1150.17}]
["8691326517","GMINA DĘBNO","12","02","042","32852","Dębno","Wola Dębińska",null,"240","GMINA",1202042,{"$f":"VLOOKUP(L31,Arkusz3!A:K,2,0)","v":"  Dębno.........................................................................................................................................................................................................................................................."},1202042,{"$f":"VLOOKUP(N31,Arkusz3!A:E,5,0)","v":82},{"$f":"VLOOKUP(N31,Arkusz3!H:J,3,0)","v":14753},179.91463414634146,{"$f":"VLOOKUP(N31,Arkusz3!AN:AP,3,0)","v":1121.32}]
["6811004443","GMINA DOBCZYCE","12","09","014","32410","Dobczyce","Dobczyce","ul. Rynek","26","GMINA",1209014,{"$f":"VLOOKUP(L32,Arkusz3!A:K,2,0)","v":""},1209013,{"$f":"VLOOKUP(N32,Arkusz3!A:E,5,0)","v":66},{"$f":"VLOOKUP(N32,Arkusz3!H:J,3,0)","v":15359},232.71212121212122,{"$f":"VLOOKUP(N32,Arkusz3!AN:AP,3,0)","v":1857.11}]
["7371005969","GMINA DOBRA","12","07","032","34642","Dobra","Dobra",null,"233       ","GMINA",1207032,{"$f":"VLOOKUP(L33,Arkusz3!A:K,2,0)","v":"  Dobra.........................................................................................................................................................................................................................................................."},1207032,{"$f":"VLOOKUP(N33,Arkusz3!A:E,5,0)","v":110},{"$f":"VLOOKUP(N33,Arkusz3!H:J,3,0)","v":10039},91.263636363636365,{"$f":"VLOOKUP(N33,Arkusz3!AN:AP,3,0)","v":926.08}]
["6831718453","GMINA DRWINIA","12","01","032","32709","Drwinia","Drwinia",null,"57","GMINA",1201032,{"$f":"VLOOKUP(L34,Arkusz3!A:K,2,0)","v":"  Drwinia.........................................................................................................................................................................................................................................................."},1201032,{"$f":"VLOOKUP(N34,Arkusz3!A:E,5,0)","v":108},{"$f":"VLOOKUP(N34,Arkusz3!H:J,3,0)","v":6488},60.074074074074076,{"$f":"VLOOKUP(N34,Arkusz3!AN:AP,3,0)","v":1208.45}]
["6831006563","GMINA GDÓW","12","19","022","32420","Gdów","Gdów",null,"40","GMINA",1219022,{"$f":"VLOOKUP(L35,Arkusz3!A:K,2,0)","v":"  Gdów.........................................................................................................................................................................................................................................................."},1219022,{"$f":"VLOOKUP(N35,Arkusz3!A:E,5,0)","v":109},{"$f":"VLOOKUP(N35,Arkusz3!H:J,3,0)","v":18378},168.60550458715596,{"$f":"VLOOKUP(N35,Arkusz3!AN:AP,3,0)","v":1664.49}]
["8691186447","GMINA GNOJNIK","12","02","052","32864","Gnojnik","Gnojnik",null,"363","GMINA",1202052,{"$f":"VLOOKUP(L36,Arkusz3!A:K,2,0)","v":"  Gnojnik.........................................................................................................................................................................................................................................................."},1202052,{"$f":"VLOOKUP(N36,Arkusz3!A:E,5,0)","v":55},{"$f":"VLOOKUP(N36,Arkusz3!H:J,3,0)","v":8004},145.52727272727273,{"$f":"VLOOKUP(N36,Arkusz3!AN:AP,3,0)","v":1011.1}]
["6591545880","GMINA GOŁCZA","12","08","022","32075","Gołcza","Gołcza",null,"80","GMINA",1208022,{"$f":"VLOOKUP(L37,Arkusz3!A:K,2,0)","v":"  Gołcza.........................................................................................................................................................................................................................................................."},1208022,{"$f":"VLOOKUP(N37,Arkusz3!A:E,5,0)","v":90},{"$f":"VLOOKUP(N37,Arkusz3!H:J,3,0)","v":6042},67.13333333333334,{"$f":"VLOOKUP(N37,Arkusz3!AN:AP,3,0)","v":1161.54}]
["7382125507","MIASTO GORLICE","12","05","011","38300","Gorlice","Gorlice","Rynek","2         ","GMINA",1205011,{"$f":"VLOOKUP(L38,Arkusz3!A:K,2,0)","v":"  Gorlice.........................................................................................................................................................................................................................................................."},1205011,{"$f":"VLOOKUP(N38,Arkusz3!A:E,5,0)","v":24},{"$f":"VLOOKUP(N38,Arkusz3!H:J,3,0)","v":26545},1106.0416666666667,{"$f":"VLOOKUP(N38,Arkusz3!AN:AP,3,0)","v":1824.88}]
["7382131749","GMINA GORLICE","12","05","042","38300","Gorlice","Gorlice","ul. 11 Listopada","2","GMINA",1205042,{"$f":"VLOOKUP(L39,Arkusz3!A:K,2,0)","v":"  Gorlice.........................................................................................................................................................................................................................................................."},1205042,{"$f":"VLOOKUP(N39,Arkusz3!A:E,5,0)","v":103},{"$f":"VLOOKUP(N39,Arkusz3!H:J,3,0)","v":17236},167.33980582524271,{"$f":"VLOOKUP(N39,Arkusz3!AN:AP,3,0)","v":983.32}]
["8711771090","GMINA GRĘBOSZÓW","12","04","032","33260","Gręboszów","Gręboszów",null,"144","GMINA",1204032,{"$f":"VLOOKUP(L40,Arkusz3!A:K,2,0)","v":"  Gręboszów.........................................................................................................................................................................................................................................................."},1204032,{"$f":"VLOOKUP(N40,Arkusz3!A:E,5,0)","v":49},{"$f":"VLOOKUP(N40,Arkusz3!H:J,3,0)","v":3265},66.632653061224488,{"$f":"VLOOKUP(N40,Arkusz3!AN:AP,3,0)","v":1028.42}]
["8732614007","GMINA GROMNIK","12","16","022","33180","Gromnik","Gromnik","ul. Witosa","2","GMINA",1216022,{"$f":"VLOOKUP(L41,Arkusz3!A:K,2,0)","v":"  Gromnik.........................................................................................................................................................................................................................................................."},1216022,{"$f":"VLOOKUP(N41,Arkusz3!A:E,5,0)","v":70},{"$f":"VLOOKUP(N41,Arkusz3!H:J,3,0)","v":8898},127.11428571428571,{"$f":"VLOOKUP(N41,Arkusz3!AN:AP,3,0)","v":774.16}]
["7343482812","GMINA GRÓDEK NAD DUNAJCEM","12","10","032","33318","Gródek nad Dunajcem","Gródek nad Dunajcem",null,"54        ","GMINA",1210032,{"$f":"VLOOKUP(L42,Arkusz3!A:K,2,0)","v":"  Gródek nad Dunajcem.........................................................................................................................................................................................................................................................."},1210032,{"$f":"VLOOKUP(N42,Arkusz3!A:E,5,0)","v":88},{"$f":"VLOOKUP(N42,Arkusz3!H:J,3,0)","v":9199},104.53409090909091,{"$f":"VLOOKUP(N42,Arkusz3!AN:AP,3,0)","v":1429.62}]
["7381010274","MIASTO GRYBÓW","12","10","011","33330","Grybów","Grybów","ul. Rynek","12","GMINA",1210011,{"$f":"VLOOKUP(L43,Arkusz3!A:K,2,0)","v":"  Grybów.........................................................................................................................................................................................................................................................."},1210011,{"$f":"VLOOKUP(N43,Arkusz3!A:E,5,0)","v":17},{"$f":"VLOOKUP(N43,Arkusz3!H:J,3,0)","v":5937},349.23529411764707,{"$f":"VLOOKUP(N43,Arkusz3!AN:AP,3,0)","v":1146.06}]
["7343515546","GMINA GRYBÓW","12","10","042","33330","Grybów","Grybów","ul. Jakubowskiego","33","GMINA",1210042,{"$f":"VLOOKUP(L44,Arkusz3!A:K,2,0)","v":"  Grybów.........................................................................................................................................................................................................................................................."},1210042,{"$f":"VLOOKUP(N44,Arkusz3!A:E,5,0)","v":154},{"$f":"VLOOKUP(N44,Arkusz3!H:J,3,0)","v":25662},166.63636363636363,{"$f":"VLOOKUP(N44,Arkusz3!AN:AP,3,0)","v":904.79}]
["6821642228","GMINA IGOŁOMIA-WAWRZEŃCZYCE","12","06","022","32125","Wawrzeńczyce","Wawrzeńczyce",null,"57","GMINA",1206022,{"$f":"VLOOKUP(L45,Arkusz3!A:K,2,0)","v":"  Igołomia-Wawrzeńczyce.........................................................................................................................................................................................................................................................."},1206022,{"$f":"VLOOKUP(N45,Arkusz3!A:E,5,0)","v":63},{"$f":"VLOOKUP(N45,Arkusz3!H:J,3,0)","v":7686},122,{"$f":"VLOOKUP(N45,Arkusz3!AN:AP,3,0)","v":1455.21}]
["6821634453","GMINA IWANOWICE","12","06","032","32095","Iwanowice Włościańskie","Iwanowice Włościańskie",null,"99","GMINA",1206032,{"$f":"VLOOKUP(L46,Arkusz3!A:K,2,0)","v":"  Iwanowice.........................................................................................................................................................................................................................................................."},1206032,{"$f":"VLOOKUP(N46,Arkusz3!A:E,5,0)","v":71},{"$f":"VLOOKUP(N46,Arkusz3!H:J,3,0)","v":9265},130.49295774647888,{"$f":"VLOOKUP(N46,Arkusz3!AN:AP,3,0)","v":1378.72}]
["8691212363","GMINA IWKOWA","12","02","062","32861","Iwkowa","Iwkowa",null,"468","GMINA",1202062,{"$f":"VLOOKUP(L47,Arkusz3!A:K,2,0)","v":"  Iwkowa.........................................................................................................................................................................................................................................................."},1202062,{"$f":"VLOOKUP(N47,Arkusz3!A:E,5,0)","v":47},{"$f":"VLOOKUP(N47,Arkusz3!H:J,3,0)","v":6540},139.14893617021278,{"$f":"VLOOKUP(N47,Arkusz3!AN:AP,3,0)","v":1133.26}]
["7352856459","GMINA JABŁONKA","12","11","052","34480","Jabłonka","Jabłonka","ul. 3 Maja","1","GMINA",1211052,{"$f":"VLOOKUP(L48,Arkusz3!A:K,2,0)","v":"  Jabłonka.........................................................................................................................................................................................................................................................."},1211052,{"$f":"VLOOKUP(N48,Arkusz3!A:E,5,0)","v":212},{"$f":"VLOOKUP(N48,Arkusz3!H:J,3,0)","v":18784},88.603773584905667,{"$f":"VLOOKUP(N48,Arkusz3!AN:AP,3,0)","v":1020.08}]
["6772019451","GMINA JERZMANOWICE-PRZEGINIA","12","06","042","32048","Jerzmanowice","Jerzmanowice","ul. Rajska","22","GMINA",1206042,{"$f":"VLOOKUP(L49,Arkusz3!A:K,2,0)","v":"  Jerzmanowice-Przeginia.........................................................................................................................................................................................................................................................."},1206042,{"$f":"VLOOKUP(N49,Arkusz3!A:E,5,0)","v":68},{"$f":"VLOOKUP(N49,Arkusz3!H:J,3,0)","v":10924},160.64705882352942,{"$f":"VLOOKUP(N49,Arkusz3!AN:AP,3,0)","v":1402.34}]
["7371007419","GMINA JODŁOWNIK","12","07","042","34620","Jodłownik","Jodłownik",null,"198","GMINA",1207042,{"$f":"VLOOKUP(L50,Arkusz3!A:K,2,0)","v":"  Jodłownik.........................................................................................................................................................................................................................................................."},1207042,{"$f":"VLOOKUP(N50,Arkusz3!A:E,5,0)","v":72},{"$f":"VLOOKUP(N50,Arkusz3!H:J,3,0)","v":8755},121.59722222222223,{"$f":"VLOOKUP(N50,Arkusz3!AN:AP,3,0)","v":1126.3900000000001}]
["5521579821","MIASTO JORDANÓW","12","15","011","34240","Jordanów","Jordanów","ul. Rynek","1","GMINA",1215011,{"$f":"VLOOKUP(L51,Arkusz3!A:K,2,0)","v":"  Jordanów.........................................................................................................................................................................................................................................................."},1215011,{"$f":"VLOOKUP(N51,Arkusz3!A:E,5,0)","v":21},{"$f":"VLOOKUP(N51,Arkusz3!H:J,3,0)","v":5231},249.0952380952381,{"$f":"VLOOKUP(N51,Arkusz3!AN:AP,3,0)","v":1774.49}]
["5521586100","GMINA JORDANÓW","12","15","052","34240","Jordanów","Jordanów","ul. Rynek","2","GMINA",1215052,{"$f":"VLOOKUP(L52,Arkusz3!A:K,2,0)","v":"  Jordanów.........................................................................................................................................................................................................................................................."},1215052,{"$f":"VLOOKUP(N52,Arkusz3!A:E,5,0)","v":92},{"$f":"VLOOKUP(N52,Arkusz3!H:J,3,0)","v":11269},122.48913043478261,{"$f":"VLOOKUP(N52,Arkusz3!AN:AP,3,0)","v":997.82}]
["5511158182","GMINA KALWARIA ZEBRZYDOWSKA","12","18","034","34130","Kalwaria Zebrzydowska","Kalwaria Zebrzydowska","ul. Adama Mickiewicza","7","GMINA",1218034,{"$f":"VLOOKUP(L53,Arkusz3!A:K,2,0)","v":""},1218033,{"$f":"VLOOKUP(N53,Arkusz3!A:E,5,0)","v":75},{"$f":"VLOOKUP(N53,Arkusz3!H:J,3,0)","v":19970},266.26666666666665,{"$f":"VLOOKUP(N53,Arkusz3!AN:AP,3,0)","v":1600.09}]
["7371193876","GMINA KAMIENICA","12","07","052","34608","Kamienica","Kamienica",null,"420","GMINA",1207052,{"$f":"VLOOKUP(L54,Arkusz3!A:K,2,0)","v":"  Kamienica.........................................................................................................................................................................................................................................................."},1207052,{"$f":"VLOOKUP(N54,Arkusz3!A:E,5,0)","v":95},{"$f":"VLOOKUP(N54,Arkusz3!H:J,3,0)","v":7888},83.031578947368416,{"$f":"VLOOKUP(N54,Arkusz3!AN:AP,3,0)","v":856.76}]
["7343514860","GMINA KAMIONKA WIELKA","12","10","052","33334","Kamionka Wielka","Kamionka Wielka",null,"5","GMINA",1210052,{"$f":"VLOOKUP(L55,Arkusz3!A:K,2,0)","v":"  Kamionka Wielka.........................................................................................................................................................................................................................................................."},1210052,{"$f":"VLOOKUP(N55,Arkusz3!A:E,5,0)","v":65},{"$f":"VLOOKUP(N55,Arkusz3!H:J,3,0)","v":10500},161.53846153846155,{"$f":"VLOOKUP(N55,Arkusz3!AN:AP,3,0)","v":1103.3399999999999}]
["5492202969","GMINA KĘTY","12","13","044","32650","Kęty","Kęty","Rynek","7","GMINA",1213044,{"$f":"VLOOKUP(L56,Arkusz3!A:K,2,0)","v":""},1213043,{"$f":"VLOOKUP(N56,Arkusz3!A:E,5,0)","v":76},{"$f":"VLOOKUP(N56,Arkusz3!H:J,3,0)","v":33870},445.65789473684208,{"$f":"VLOOKUP(N56,Arkusz3!AN:AP,3,0)","v":1899.38}]
["6371998059","GMINA KLUCZE","12","12","042","32310","Klucze","Klucze","ul. Partyzantów","1","GMINA",1212042,{"$f":"VLOOKUP(L57,Arkusz3!A:K,2,0)","v":"  Klucze.........................................................................................................................................................................................................................................................."},1212042,{"$f":"VLOOKUP(N57,Arkusz3!A:E,5,0)","v":119},{"$f":"VLOOKUP(N57,Arkusz3!H:J,3,0)","v":14731},123.78991596638656,{"$f":"VLOOKUP(N57,Arkusz3!AN:AP,3,0)","v":2301.48}]
["6831511752","GMINA KŁAJ","12","19","032","32015","Kłaj","Kłaj",null,"655","GMINA",1219032,{"$f":"VLOOKUP(L58,Arkusz3!A:K,2,0)","v":"  Kłaj.........................................................................................................................................................................................................................................................."},1219032,{"$f":"VLOOKUP(N58,Arkusz3!A:E,5,0)","v":65},{"$f":"VLOOKUP(N58,Arkusz3!H:J,3,0)","v":10912},167.87692307692308,{"$f":"VLOOKUP(N58,Arkusz3!AN:AP,3,0)","v":1990.89}]
["6821605658","GMINA KOCMYRZÓW-LUBORZYCA","12","06","052","32010","Luborzyca","Luborzyca",null,"97","GMINA",1206052,{"$f":"VLOOKUP(L59,Arkusz3!A:K,2,0)","v":"  Kocmyrzów-Luborzyca.........................................................................................................................................................................................................................................................."},1206052,{"$f":"VLOOKUP(N59,Arkusz3!A:E,5,0)","v":81},{"$f":"VLOOKUP(N59,Arkusz3!H:J,3,0)","v":16232},200.39506172839506,{"$f":"VLOOKUP(N59,Arkusz3!AN:AP,3,0)","v":1898.35}]
["6821773580","GMINA KONIUSZA","12","14","012","32104","Koniusza","Koniusza",null,"55        ","GMINA",1214012,{"$f":"VLOOKUP(L60,Arkusz3!A:K,2,0)","v":"  Koniusza.........................................................................................................................................................................................................................................................."},1214012,{"$f":"VLOOKUP(N60,Arkusz3!A:E,5,0)","v":89},{"$f":"VLOOKUP(N60,Arkusz3!H:J,3,0)","v":9021},101.35955056179775,{"$f":"VLOOKUP(N60,Arkusz3!AN:AP,3,0)","v":1215.8}]
["7343483272","GMINA KORZENNA","12","10","062","33322","Korzenna","Korzenna",null,"325","GMINA",1210062,{"$f":"VLOOKUP(L61,Arkusz3!A:K,2,0)","v":"  Korzenna.........................................................................................................................................................................................................................................................."},1210062,{"$f":"VLOOKUP(N61,Arkusz3!A:E,5,0)","v":107},{"$f":"VLOOKUP(N61,Arkusz3!H:J,3,0)","v":14543},135.9158878504673,{"$f":"VLOOKUP(N61,Arkusz3!AN:AP,3,0)","v":826.23}]
["6821606646","GMINA KOSZYCE","12","14","024","32130","Koszyce","Koszyce","ul. Elżbiety Łokietkówny","14        ","GMINA",1214024,{"$f":"VLOOKUP(L62,Arkusz3!A:K,2,0)","v":""},1214023,{"$f":"VLOOKUP(N62,Arkusz3!A:E,5,0)","v":66},{"$f":"VLOOKUP(N62,Arkusz3!H:J,3,0)","v":5327},80.712121212121218,{"$f":"VLOOKUP(N62,Arkusz3!AN:AP,3,0)","v":1135.76}]
["7361699456","GMINA KOŚCIELISKO","12","17","042","34511","Kościelisko","Kościelisko","ul. Strzelców Podhalańskich","44","GMINA",1217042,{"$f":"VLOOKUP(L63,Arkusz3!A:K,2,0)","v":"  Kościelisko.........................................................................................................................................................................................................................................................."},1217042,{"$f":"VLOOKUP(N63,Arkusz3!A:E,5,0)","v":137},{"$f":"VLOOKUP(N63,Arkusz3!H:J,3,0)","v":8881},64.824817518248182,{"$f":"VLOOKUP(N63,Arkusz3!AN:AP,3,0)","v":1568.93}]
["6591174001","GMINA KOZŁÓW","12","08","032","32241","Kozłów","Kozłów",null,"60        ","GMINA",1208032,{"$f":"VLOOKUP(L64,Arkusz3!A:K,2,0)","v":"  Kozłów.........................................................................................................................................................................................................................................................."},1208032,{"$f":"VLOOKUP(N64,Arkusz3!A:E,5,0)","v":86},{"$f":"VLOOKUP(N64,Arkusz3!H:J,3,0)","v":4531},52.686046511627907,{"$f":"VLOOKUP(N64,Arkusz3!AN:AP,3,0)","v":972.25}]
["7352849761","GMINA KROŚCIENKO NAD DUNAJCEM","12","11","062","34450","Krościenko nad Dunajcem","Krościenko nad Dunajcem","ul. Rynek","35","GMINA",1211062,{"$f":"VLOOKUP(L65,Arkusz3!A:K,2,0)","v":"  Krościenko nad Dunajcem.........................................................................................................................................................................................................................................................."},1211062,{"$f":"VLOOKUP(N65,Arkusz3!A:E,5,0)","v":57},{"$f":"VLOOKUP(N65,Arkusz3!H:J,3,0)","v":6713},117.7719298245614,{"$f":"VLOOKUP(N65,Arkusz3!AN:AP,3,0)","v":1032.21}]
["7343543100","GMINA KRYNICA -ZDRÓJ","12","10","074","33380","Krynica-Zdrój","Krynica-Zdrój","ul. Józefa Ignacego Kraszewskiego","7","GMINA",1210074,{"$f":"VLOOKUP(L66,Arkusz3!A:K,2,0)","v":""},1210073,{"$f":"VLOOKUP(N66,Arkusz3!A:E,5,0)","v":145},{"$f":"VLOOKUP(N66,Arkusz3!H:J,3,0)","v":16434},113.33793103448276,{"$f":"VLOOKUP(N66,Arkusz3!AN:AP,3,0)","v":1866.16}]
["5130233774","GMINA KRZESZOWICE","12","06","064","32065","Krzeszowice","Krzeszowice","ul. Grunwaldzka","4","GMINA",{"$f":"C67*100000+D67*1000+E67","v":1206064},{"$f":"VLOOKUP(L67,Arkusz3!A:K,2,0)","v":""},{"$f":"IF(M67=M$1,L67-1,IF(M67=N$1,L67-2,L67))","v":1206063},{"$f":"VLOOKUP(N67,Arkusz3!A:E,5,0)","v":139},{"$f":"VLOOKUP(N67,Arkusz3!H:J,3,0)","v":31970},{"$f":"P67/O67","v":230},{"$f":"VLOOKUP(N67,Arkusz3!AN:AP,3,0)","v":1819.42}]
["6591186961","GMINA KSIĄŻ WIELKI","12","08","042","32210","Książ Wielki","Książ Wielki","ul. Warszawska","17","GMINA",1208042,{"$f":"VLOOKUP(L68,Arkusz3!A:K,2,0)","v":"  Książ Wielki.........................................................................................................................................................................................................................................................."},1208042,{"$f":"VLOOKUP(N68,Arkusz3!A:E,5,0)","v":138},{"$f":"VLOOKUP(N68,Arkusz3!H:J,3,0)","v":4997},36.210144927536234,{"$f":"VLOOKUP(N68,Arkusz3!AN:AP,3,0)","v":1249.4100000000001}]
["5511158242","GMINA LANCKORONA","12","18","042","34143","Lanckorona","Lanckorona","ul. Krakowska",8,"GMINA",1218042,{"$f":"VLOOKUP(L69,Arkusz3!A:K,2,0)","v":"  Lanckorona.........................................................................................................................................................................................................................................................."},1218042,{"$f":"VLOOKUP(N69,Arkusz3!A:E,5,0)","v":40},{"$f":"VLOOKUP(N69,Arkusz3!H:J,3,0)","v":6210},155.25,{"$f":"VLOOKUP(N69,Arkusz3!AN:AP,3,0)","v":1180.53}]
["7371283697","GMINA LASKOWA","12","07","062","34602","Laskowa","Laskowa",null,"643","GMINA",1207062,{"$f":"VLOOKUP(L70,Arkusz3!A:K,2,0)","v":"  Laskowa.........................................................................................................................................................................................................................................................."},1207062,{"$f":"VLOOKUP(N70,Arkusz3!A:E,5,0)","v":72},{"$f":"VLOOKUP(N70,Arkusz3!H:J,3,0)","v":8201},113.90277777777777,{"$f":"VLOOKUP(N70,Arkusz3!AN:AP,3,0)","v":1187.46}]
["6282260168","GMINA LIBIĄŻ","12","03","044","32590","Libiąż","Libiąż","ul. Działkowa","1","GMINA",1203044,{"$f":"VLOOKUP(L71,Arkusz3!A:K,2,0)","v":""},1203043,{"$f":"VLOOKUP(N71,Arkusz3!A:E,5,0)","v":57},{"$f":"VLOOKUP(N71,Arkusz3!H:J,3,0)","v":21992},385.82456140350877,{"$f":"VLOOKUP(N71,Arkusz3!AN:AP,3,0)","v":1923.31}]
["7371004591","MIASTO LIMANOWA","12","07","011","34600","Limanowa","Limanowa","ul. Jana Pawła II","9","GMINA",1207011,{"$f":"VLOOKUP(L72,Arkusz3!A:K,2,0)","v":"  Limanowa.........................................................................................................................................................................................................................................................."},1207011,{"$f":"VLOOKUP(N72,Arkusz3!A:E,5,0)","v":19},{"$f":"VLOOKUP(N72,Arkusz3!H:J,3,0)","v":15012},790.10526315789468,{"$f":"VLOOKUP(N72,Arkusz3!AN:AP,3,0)","v":2127.7399999999998}]
["7371188119","GMINA LIMANOWA","12","07","072","34600","Limanowa","Limanowa","ul. Matki Boskiej Bolesnej","18 B","GMINA",1207072,{"$f":"VLOOKUP(L73,Arkusz3!A:K,2,0)","v":"  Limanowa.........................................................................................................................................................................................................................................................."},1207072,{"$f":"VLOOKUP(N73,Arkusz3!A:E,5,0)","v":152},{"$f":"VLOOKUP(N73,Arkusz3!H:J,3,0)","v":25904},170.42105263157896,{"$f":"VLOOKUP(N73,Arkusz3!AN:AP,3,0)","v":1092.28}]
["6851648081","GMINA LIPINKI","12","05","052","38305","Lipinki","Lipinki",null,57,"GMINA",1205052,{"$f":"VLOOKUP(L74,Arkusz3!A:K,2,0)","v":"  Lipinki.........................................................................................................................................................................................................................................................."},1205052,{"$f":"VLOOKUP(N74,Arkusz3!A:E,5,0)","v":66},{"$f":"VLOOKUP(N74,Arkusz3!H:J,3,0)","v":6783},102.77272727272727,{"$f":"VLOOKUP(N74,Arkusz3!AN:AP,3,0)","v":838.95}]
["8681021288","GMINA LIPNICA MUROWANA","12","01","042","32724","Lipnica Murowana","Lipnica Murowana",null,"44","GMINA",1201042,{"$f":"VLOOKUP(L75,Arkusz3!A:K,2,0)","v":"  Lipnica Murowana.........................................................................................................................................................................................................................................................."},1201042,{"$f":"VLOOKUP(N75,Arkusz3!A:E,5,0)","v":60},{"$f":"VLOOKUP(N75,Arkusz3!H:J,3,0)","v":5639},93.983333333333334,{"$f":"VLOOKUP(N75,Arkusz3!AN:AP,3,0)","v":871.86}]
["7352841452","GMINA LIPNICA WIELKA","12","11","072","34483","Lipnica Wielka","Lipnica Wielka",null,"518","GMINA",1211072,{"$f":"VLOOKUP(L76,Arkusz3!A:K,2,0)","v":"  Lipnica Wielka.........................................................................................................................................................................................................................................................."},1211072,{"$f":"VLOOKUP(N76,Arkusz3!A:E,5,0)","v":67},{"$f":"VLOOKUP(N76,Arkusz3!H:J,3,0)","v":5958},88.925373134328353,{"$f":"VLOOKUP(N76,Arkusz3!AN:AP,3,0)","v":588.74}]
["9930658661","GMINA LISIA GÓRA","12","16","032","33140","Lisia Góra","Lisia Góra","ul. 1 Maja","7","GMINA",1216032,{"$f":"VLOOKUP(L77,Arkusz3!A:K,2,0)","v":"  Lisia Góra.........................................................................................................................................................................................................................................................."},1216032,{"$f":"VLOOKUP(N77,Arkusz3!A:E,5,0)","v":105},{"$f":"VLOOKUP(N77,Arkusz3!H:J,3,0)","v":15455},147.1904761904762,{"$f":"VLOOKUP(N77,Arkusz3!AN:AP,3,0)","v":1263.68}]
["9442243129","GMINA LISZKI","12","06","072","32060","Liszki","Liszki",null,"230","GMINA",1206072,{"$f":"VLOOKUP(L78,Arkusz3!A:K,2,0)","v":"  Liszki.........................................................................................................................................................................................................................................................."},1206072,{"$f":"VLOOKUP(N78,Arkusz3!A:E,5,0)","v":72},{"$f":"VLOOKUP(N78,Arkusz3!H:J,3,0)","v":17599},244.43055555555554,{"$f":"VLOOKUP(N78,Arkusz3!AN:AP,3,0)","v":1952.52}]
["7351071414","GMINA LUBIEŃ","12","09","022","32433","Lubień","Lubień",null,"50","GMINA",1209022,{"$f":"VLOOKUP(L79,Arkusz3!A:K,2,0)","v":"  Lubień.........................................................................................................................................................................................................................................................."},1209022,{"$f":"VLOOKUP(N79,Arkusz3!A:E,5,0)","v":75},{"$f":"VLOOKUP(N79,Arkusz3!H:J,3,0)","v":10090},134.53333333333333,{"$f":"VLOOKUP(N79,Arkusz3!AN:AP,3,0)","v":905.88}]
["7343517410","GMINA ŁABOWA","12","10","082","33336","Łabowa","Łabowa",null,38,"GMINA",1210082,{"$f":"VLOOKUP(L80,Arkusz3!A:K,2,0)","v":"  Łabowa.........................................................................................................................................................................................................................................................."},1210082,{"$f":"VLOOKUP(N80,Arkusz3!A:E,5,0)","v":119},{"$f":"VLOOKUP(N80,Arkusz3!H:J,3,0)","v":6109},51.336134453781511,{"$f":"VLOOKUP(N80,Arkusz3!AN:AP,3,0)","v":1069.1400000000001}]
["8681021302","GMINA ŁAPANÓW","12","01","052","32740","Łapanów","Łapanów",null,"34","GMINA",1201052,{"$f":"VLOOKUP(L81,Arkusz3!A:K,2,0)","v":"  Łapanów.........................................................................................................................................................................................................................................................."},1201052,{"$f":"VLOOKUP(N81,Arkusz3!A:E,5,0)","v":72},{"$f":"VLOOKUP(N81,Arkusz3!H:J,3,0)","v":8242},114.47222222222223,{"$f":"VLOOKUP(N81,Arkusz3!AN:AP,3,0)","v":1213.43}]
["7352834759","GMINA ŁAPSZE NIŻNE","12","11","082","34442","Łapsze Niżne","Łapsze Niżne","ul. Jana Pawła II","20","GMINA",1211082,{"$f":"VLOOKUP(L82,Arkusz3!A:K,2,0)","v":"  Łapsze Niżne.........................................................................................................................................................................................................................................................."},1211082,{"$f":"VLOOKUP(N82,Arkusz3!A:E,5,0)","v":126},{"$f":"VLOOKUP(N82,Arkusz3!H:J,3,0)","v":9343},74.150793650793645,{"$f":"VLOOKUP(N82,Arkusz3!AN:AP,3,0)","v":1048.22}]
["7343514742","GMINA ŁĄCKO","12","10","092","33390","Łącko","Łącko",null,445,"GMINA",1210092,{"$f":"VLOOKUP(L83,Arkusz3!A:K,2,0)","v":"  Łącko.........................................................................................................................................................................................................................................................."},1210092,{"$f":"VLOOKUP(N83,Arkusz3!A:E,5,0)","v":132},{"$f":"VLOOKUP(N83,Arkusz3!H:J,3,0)","v":16629},125.97727272727273,{"$f":"VLOOKUP(N83,Arkusz3!AN:AP,3,0)","v":677.27}]
["7343472848","GMINA ŁOSOSINA DOLNA","12","10","102","33314","Łososina Dolna","Łososina Dolna",null,"300","GMINA",1210102,{"$f":"VLOOKUP(L84,Arkusz3!A:K,2,0)","v":"  Łososina Dolna.........................................................................................................................................................................................................................................................."},1210102,{"$f":"VLOOKUP(N84,Arkusz3!A:E,5,0)","v":85},{"$f":"VLOOKUP(N84,Arkusz3!H:J,3,0)","v":11190},131.64705882352942,{"$f":"VLOOKUP(N84,Arkusz3!AN:AP,3,0)","v":1423.77}]
["7371022962","GMINA ŁUKOWICA","12","07","082","34606","Łukowica","Łukowica",null,"334","GMINA",1207082,{"$f":"VLOOKUP(L85,Arkusz3!A:K,2,0)","v":"  Łukowica.........................................................................................................................................................................................................................................................."},1207082,{"$f":"VLOOKUP(N85,Arkusz3!A:E,5,0)","v":70},{"$f":"VLOOKUP(N85,Arkusz3!H:J,3,0)","v":10216},145.94285714285715,{"$f":"VLOOKUP(N85,Arkusz3!AN:AP,3,0)","v":799.81}]
["7381022314","GMINA ŁUŻNA","12","05","062","38322","Łużna","Łużna",null,"634","GMINA",1205062,{"$f":"VLOOKUP(L86,Arkusz3!A:K,2,0)","v":"  Łużna.........................................................................................................................................................................................................................................................."},1205062,{"$f":"VLOOKUP(N86,Arkusz3!A:E,5,0)","v":56},{"$f":"VLOOKUP(N86,Arkusz3!H:J,3,0)","v":8521},152.16071428571428,{"$f":"VLOOKUP(N86,Arkusz3!AN:AP,3,0)","v":733.9}]
["5521584963","GMINA MAKÓW PODHALAŃSKI","12","15","064","34220","Maków Podhalański","Maków Podhalański","ul. Szpitalna","3","GMINA",1215064,{"$f":"VLOOKUP(L87,Arkusz3!A:K,2,0)","v":""},1215063,{"$f":"VLOOKUP(N87,Arkusz3!A:E,5,0)","v":109},{"$f":"VLOOKUP(N87,Arkusz3!H:J,3,0)","v":15842},145.33944954128441,{"$f":"VLOOKUP(N87,Arkusz3!AN:AP,3,0)","v":1520.59}]
["8711770363","GMINA MĘDRZECHÓW","12","04","042","33221","Mędrzechów","Mędrzechów",null,"434","GMINA",1204042,{"$f":"VLOOKUP(L88,Arkusz3!A:K,2,0)","v":"  Mędrzechów.........................................................................................................................................................................................................................................................."},1204042,{"$f":"VLOOKUP(N88,Arkusz3!A:E,5,0)","v":44},{"$f":"VLOOKUP(N88,Arkusz3!H:J,3,0)","v":3397},77.204545454545453,{"$f":"VLOOKUP(N88,Arkusz3!AN:AP,3,0)","v":823.73}]
["5130060109","GMINA MICHAŁOWICE","12","06","082","32091","Michałowice","Michałowice","pl. Józefa Piłsudskiego","1         ","GMINA",1206082,{"$f":"VLOOKUP(L89,Arkusz3!A:K,2,0)","v":"  Michałowice.........................................................................................................................................................................................................................................................."},1206082,{"$f":"VLOOKUP(N89,Arkusz3!A:E,5,0)","v":51},{"$f":"VLOOKUP(N89,Arkusz3!H:J,3,0)","v":11141},218.45098039215685,{"$f":"VLOOKUP(N89,Arkusz3!AN:AP,3,0)","v":2515.56}]
["6590003697","GMINA MIECHÓW","12","08","054","32200","Miechów","Miechów","ul. Henryka Sienkiewicza","25","GMINA",1208054,{"$f":"VLOOKUP(L90,Arkusz3!A:K,2,0)","v":""},1208053,{"$f":"VLOOKUP(N90,Arkusz3!A:E,5,0)","v":148},{"$f":"VLOOKUP(N90,Arkusz3!H:J,3,0)","v":19257},130.11486486486487,{"$f":"VLOOKUP(N90,Arkusz3!AN:AP,3,0)","v":1503.17}]
["9442246027","GMINA MOGILANY","12","06","092","32031","Mogilany","Mogilany","rynek Rynek","2","GMINA",1206092,{"$f":"VLOOKUP(L91,Arkusz3!A:K,2,0)","v":"  Mogilany.........................................................................................................................................................................................................................................................."},1206092,{"$f":"VLOOKUP(N91,Arkusz3!A:E,5,0)","v":44},{"$f":"VLOOKUP(N91,Arkusz3!H:J,3,0)","v":14660},333.18181818181819,{"$f":"VLOOKUP(N91,Arkusz3!AN:AP,3,0)","v":2466.2199999999998}]
["7381021958","GMINA MOSZCZENICA","12","05","072","38321","Moszczenica","Moszczenica","ul. Samorządowa","4","GMINA",1205072,{"$f":"VLOOKUP(L92,Arkusz3!A:K,2,0)","v":"  Moszczenica.........................................................................................................................................................................................................................................................."},1205072,{"$f":"VLOOKUP(N92,Arkusz3!A:E,5,0)","v":38},{"$f":"VLOOKUP(N92,Arkusz3!H:J,3,0)","v":5000},131.57894736842104,{"$f":"VLOOKUP(N92,Arkusz3!AN:AP,3,0)","v":687.82}]
["7371008784","MIASTO MSZANA DOLNA","12","07","021","34730","Mszana Dolna","Mszana Dolna","ul. marsz. Józefa Piłsudskiego","2         ","GMINA",1207021,{"$f":"VLOOKUP(L93,Arkusz3!A:K,2,0)","v":"  Mszana Dolna.........................................................................................................................................................................................................................................................."},1207021,{"$f":"VLOOKUP(N93,Arkusz3!A:E,5,0)","v":27},{"$f":"VLOOKUP(N93,Arkusz3!H:J,3,0)","v":7875},291.66666666666669,{"$f":"VLOOKUP(N93,Arkusz3!AN:AP,3,0)","v":1611.98}]
["7371008991","GMINA MSZANA DOLNA","12","07","092","34730","Mszana Dolna","Mszana Dolna","ul. Spadochroniarzy","6","GMINA",1207092,{"$f":"VLOOKUP(L94,Arkusz3!A:K,2,0)","v":"  Mszana Dolna.........................................................................................................................................................................................................................................................."},1207092,{"$f":"VLOOKUP(N94,Arkusz3!A:E,5,0)","v":170},{"$f":"VLOOKUP(N94,Arkusz3!H:J,3,0)","v":17575},103.38235294117646,{"$f":"VLOOKUP(N94,Arkusz3!AN:AP,3,0)","v":958.81}]
["5512618591","GMINA MUCHARZ","12","18","052","34106","Mucharz","Mucharz",null,"226","GMINA",1218052,{"$f":"VLOOKUP(L95,Arkusz3!A:K,2,0)","v":"  Mucharz.........................................................................................................................................................................................................................................................."},1218052,{"$f":"VLOOKUP(N95,Arkusz3!A:E,5,0)","v":37},{"$f":"VLOOKUP(N95,Arkusz3!H:J,3,0)","v":4133},111.70270270270271,{"$f":"VLOOKUP(N95,Arkusz3!AN:AP,3,0)","v":1819.89}]
["7343472601","MIASTO I GMINA UZDROWISKOWA MUSZYNA","12","10","114","33370","Muszyna","Muszyna","ul. Rynek","31","GMINA",1210114,{"$f":"VLOOKUP(L96,Arkusz3!A:K,2,0)","v":""},1210113,{"$f":"VLOOKUP(N96,Arkusz3!A:E,5,0)","v":141},{"$f":"VLOOKUP(N96,Arkusz3!H:J,3,0)","v":11468},81.333333333333329,{"$f":"VLOOKUP(N96,Arkusz3!AN:AP,3,0)","v":1616.9}]
["6811004414","GMINA MYŚLENICE","12","09","034","32400","Myślenice","Myślenice","Rynek","8/9","GMINA",1209034,{"$f":"VLOOKUP(L97,Arkusz3!A:K,2,0)","v":""},1209033,{"$f":"VLOOKUP(N97,Arkusz3!A:E,5,0)","v":154},{"$f":"VLOOKUP(N97,Arkusz3!H:J,3,0)","v":44668},290.05194805194805,{"$f":"VLOOKUP(N97,Arkusz3!AN:AP,3,0)","v":1970.43}]
["7343450806","GMINA NAWOJOWA","12","10","122","33335","Nawojowa","Nawojowa","ul. Ogrodowa","2","GMINA",1210122,{"$f":"VLOOKUP(L98,Arkusz3!A:K,2,0)","v":"  Nawojowa.........................................................................................................................................................................................................................................................."},1210122,{"$f":"VLOOKUP(N98,Arkusz3!A:E,5,0)","v":50},{"$f":"VLOOKUP(N98,Arkusz3!H:J,3,0)","v":8794},175.88,{"$f":"VLOOKUP(N98,Arkusz3!AN:AP,3,0)","v":1402.33}]
["7371152618","GMINA NIEDŹWIEDŹ","12","07","102","34735","Niedźwiedź","Niedźwiedź",null,233,"GMINA",1207102,{"$f":"VLOOKUP(L99,Arkusz3!A:K,2,0)","v":"  Niedźwiedź.........................................................................................................................................................................................................................................................."},1207102,{"$f":"VLOOKUP(N99,Arkusz3!A:E,5,0)","v":74},{"$f":"VLOOKUP(N99,Arkusz3!H:J,3,0)","v":7366},99.540540540540547,{"$f":"VLOOKUP(N99,Arkusz3!AN:AP,3,0)","v":822.56}]
["6831395375","GMINA NIEPOŁOMICE","12","19","044","32005","Niepołomice","Niepołomice","ul. Plac Zwycięstwa","13","GMINA",1219044,{"$f":"VLOOKUP(L100,Arkusz3!A:K,2,0)","v":""},1219043,{"$f":"VLOOKUP(N100,Arkusz3!A:E,5,0)","v":96},{"$f":"VLOOKUP(N100,Arkusz3!H:J,3,0)","v":30248},315.08333333333331,{"$f":"VLOOKUP(N100,Arkusz3!AN:AP,3,0)","v":3132.63}]
["6821773870","GMINA NOWE BRZESKO","12","14","034","32120","Nowe Brzesko","Nowe Brzesko","ul. Krakowska","44","GMINA",1214034,{"$f":"VLOOKUP(L101,Arkusz3!A:K,2,0)","v":""},1214033,{"$f":"VLOOKUP(N101,Arkusz3!A:E,5,0)","v":54},{"$f":"VLOOKUP(N101,Arkusz3!H:J,3,0)","v":5660},104.81481481481481,{"$f":"VLOOKUP(N101,Arkusz3!AN:AP,3,0)","v":1268.07}]
["7350014012","GMINA MIASTO NOWY TARG","12","11","011","34400","Nowy Targ","Nowy Targ","ul. Krzywa","1","GMINA",1211011,{"$f":"VLOOKUP(L102,Arkusz3!A:K,2,0)","v":"  Nowy Targ.........................................................................................................................................................................................................................................................."},1211011,{"$f":"VLOOKUP(N102,Arkusz3!A:E,5,0)","v":51},{"$f":"VLOOKUP(N102,Arkusz3!H:J,3,0)","v":33090},648.82352941176475,{"$f":"VLOOKUP(N102,Arkusz3!AN:AP,3,0)","v":1818.52}]
["7352833352","GMINA NOWY TARG","12","11","092","34400","Nowy Targ","Nowy Targ","ul. Bulwarowa","9","GMINA",1211092,{"$f":"VLOOKUP(L103,Arkusz3!A:K,2,0)","v":"  Nowy Targ.........................................................................................................................................................................................................................................................."},1211092,{"$f":"VLOOKUP(N103,Arkusz3!A:E,5,0)","v":208},{"$f":"VLOOKUP(N103,Arkusz3!H:J,3,0)","v":24111},115.91826923076923,{"$f":"VLOOKUP(N103,Arkusz3!AN:AP,3,0)","v":819.33}]
["8681021360","GMINA NOWY WIŚNICZ","12","01","064","32720","Nowy Wiśnicz","Nowy Wiśnicz","rynek Rynek","38","GMINA",1201064,{"$f":"VLOOKUP(L104,Arkusz3!A:K,2,0)","v":""},1201063,{"$f":"VLOOKUP(N104,Arkusz3!A:E,5,0)","v":82},{"$f":"VLOOKUP(N104,Arkusz3!H:J,3,0)","v":14265},173.96341463414635,{"$f":"VLOOKUP(N104,Arkusz3!AN:AP,3,0)","v":1273.45}]
["7352834179","GMINA OCHOTNICA DOLNA","12","11","102","34452","Ochotnica Dolna","Ochotnica Dolna","os. Dłubacze","160       ","GMINA",1211102,{"$f":"VLOOKUP(L105,Arkusz3!A:K,2,0)","v":"  Ochotnica Dolna.........................................................................................................................................................................................................................................................."},1211102,{"$f":"VLOOKUP(N105,Arkusz3!A:E,5,0)","v":141},{"$f":"VLOOKUP(N105,Arkusz3!H:J,3,0)","v":8469},60.063829787234042,{"$f":"VLOOKUP(N105,Arkusz3!AN:AP,3,0)","v":1097.1300000000001}]
["8711771227","GMINA OLESNO","12","04","052","33210","Olesno","Olesno","ul. Wł. Jagiełły","1","GMINA",1204052,{"$f":"VLOOKUP(L106,Arkusz3!A:K,2,0)","v":"  Olesno.........................................................................................................................................................................................................................................................."},1204052,{"$f":"VLOOKUP(N106,Arkusz3!A:E,5,0)","v":78},{"$f":"VLOOKUP(N106,Arkusz3!H:J,3,0)","v":7881},101.03846153846153,{"$f":"VLOOKUP(N106,Arkusz3!AN:AP,3,0)","v":853.46}]
["6371998042","GMINA OLKUSZ","12","12","054","32300","Olkusz","Olkusz","Rynek","1         ","GMINA",1212054,{"$f":"VLOOKUP(L107,Arkusz3!A:K,2,0)","v":""},1212053,{"$f":"VLOOKUP(N107,Arkusz3!A:E,5,0)","v":151},{"$f":"VLOOKUP(N107,Arkusz3!H:J,3,0)","v":47704},315.92052980132451,{"$f":"VLOOKUP(N107,Arkusz3!AN:AP,3,0)","v":1828.51}]
["5492197435","GMINA OSIEK","12","13","052","32608","Osiek","Osiek","ul. Główna","125","GMINA",1213052,{"$f":"VLOOKUP(L108,Arkusz3!A:K,2,0)","v":"  Osiek.........................................................................................................................................................................................................................................................."},1213052,{"$f":"VLOOKUP(N108,Arkusz3!A:E,5,0)","v":41},{"$f":"VLOOKUP(N108,Arkusz3!H:J,3,0)","v":8251},201.2439024390244,{"$f":"VLOOKUP(N108,Arkusz3!AN:AP,3,0)","v":1453.22}]
["5492197458","MIASTO OŚWIĘCIM","12","13","011","32600","Oświęcim","Oświęcim","ul. Zaborska","2","GMINA",1213011,{"$f":"VLOOKUP(L109,Arkusz3!A:K,2,0)","v":"  Oświęcim.........................................................................................................................................................................................................................................................."},1213011,{"$f":"VLOOKUP(N109,Arkusz3!A:E,5,0)","v":30},{"$f":"VLOOKUP(N109,Arkusz3!H:J,3,0)","v":37031},1234.3666666666666,{"$f":"VLOOKUP(N109,Arkusz3!AN:AP,3,0)","v":2413.0700000000002}]
["5492198593","GMINA OŚWIĘCIM","12","13","062","32600","Oświęcim","Oświęcim","ul. Zamkowa","12","GMINA",1213062,{"$f":"VLOOKUP(L110,Arkusz3!A:K,2,0)","v":"  Oświęcim.........................................................................................................................................................................................................................................................."},1213062,{"$f":"VLOOKUP(N110,Arkusz3!A:E,5,0)","v":75},{"$f":"VLOOKUP(N110,Arkusz3!H:J,3,0)","v":18611},248.14666666666668,{"$f":"VLOOKUP(N110,Arkusz3!AN:AP,3,0)","v":1929.45}]
["6821635547","GMINA PAŁECZNICA","12","14","042","32109","Pałecznica","Pałecznica","ul. św. Jakuba","11","GMINA",1214042,{"$f":"VLOOKUP(L111,Arkusz3!A:K,2,0)","v":"  Pałecznica.........................................................................................................................................................................................................................................................."},1214042,{"$f":"VLOOKUP(N111,Arkusz3!A:E,5,0)","v":48},{"$f":"VLOOKUP(N111,Arkusz3!H:J,3,0)","v":3535},73.645833333333329,{"$f":"VLOOKUP(N111,Arkusz3!AN:AP,3,0)","v":1125.3499999999999}]
["6811355131","GMINA PCIM","12","09","042","32432","Pcim","Pcim",null,"563","GMINA",1209042,{"$f":"VLOOKUP(L112,Arkusz3!A:K,2,0)","v":"  Pcim.........................................................................................................................................................................................................................................................."},1209042,{"$f":"VLOOKUP(N112,Arkusz3!A:E,5,0)","v":89},{"$f":"VLOOKUP(N112,Arkusz3!H:J,3,0)","v":11102},124.74157303370787,{"$f":"VLOOKUP(N112,Arkusz3!AN:AP,3,0)","v":1276.81}]
["7343543904","MIASTO I GMINA PIWNICZNA-ZDRÓJ","12","10","134","33350","Piwniczna-Zdrój","Piwniczna-Zdrój","ul. Rynek","20","GMINA",1210134,{"$f":"VLOOKUP(L113,Arkusz3!A:K,2,0)","v":""},1210133,{"$f":"VLOOKUP(N113,Arkusz3!A:E,5,0)","v":126},{"$f":"VLOOKUP(N113,Arkusz3!H:J,3,0)","v":10502},83.349206349206355,{"$f":"VLOOKUP(N113,Arkusz3!AN:AP,3,0)","v":1055.95}]
["8732978229","GMINA PLEŚNA","12","16","042","33171","Pleśna","Pleśna",null,"240","GMINA",1216042,{"$f":"VLOOKUP(L114,Arkusz3!A:K,2,0)","v":"  Pleśna.........................................................................................................................................................................................................................................................."},1216042,{"$f":"VLOOKUP(N114,Arkusz3!A:E,5,0)","v":83},{"$f":"VLOOKUP(N114,Arkusz3!H:J,3,0)","v":11860},142.89156626506025,{"$f":"VLOOKUP(N114,Arkusz3!AN:AP,3,0)","v":1017.64}]
["7343456306","GMINA PODEGRODZIE","12","10","142","33386","Podegrodzie","Podegrodzie",null,"248","GMINA",1210142,{"$f":"VLOOKUP(L115,Arkusz3!A:K,2,0)","v":"  Podegrodzie.........................................................................................................................................................................................................................................................."},1210142,{"$f":"VLOOKUP(N115,Arkusz3!A:E,5,0)","v":65},{"$f":"VLOOKUP(N115,Arkusz3!H:J,3,0)","v":13463},207.12307692307692,{"$f":"VLOOKUP(N115,Arkusz3!AN:AP,3,0)","v":1072.83}]
["5492199463","GMINA POLANKA WIELKA","12","13","072","32607","Polanka Wielka","Polanka Wielka","ul. Długa","61","GMINA",1213072,{"$f":"VLOOKUP(L116,Arkusz3!A:K,2,0)","v":"  Polanka Wielka.........................................................................................................................................................................................................................................................."},1213072,{"$f":"VLOOKUP(N116,Arkusz3!A:E,5,0)","v":24},{"$f":"VLOOKUP(N116,Arkusz3!H:J,3,0)","v":4311},179.625,{"$f":"VLOOKUP(N116,Arkusz3!AN:AP,3,0)","v":1378.12}]
["7361705814","GMINA PORONIN","12","17","052","34520","Poronin","Poronin","ul. Józefa Piłsudskiego","5","GMINA",1217052,{"$f":"VLOOKUP(L117,Arkusz3!A:K,2,0)","v":"  Poronin.........................................................................................................................................................................................................................................................."},1217052,{"$f":"VLOOKUP(N117,Arkusz3!A:E,5,0)","v":84},{"$f":"VLOOKUP(N117,Arkusz3!H:J,3,0)","v":11705},139.3452380952381,{"$f":"VLOOKUP(N117,Arkusz3!AN:AP,3,0)","v":1236.53}]
["6821604469","GMINA PROSZOWICE","12","14","054","32100","Proszowice","Proszowice","ul. 3 Maja","72","GMINA",1214054,{"$f":"VLOOKUP(L118,Arkusz3!A:K,2,0)","v":""},1214053,{"$f":"VLOOKUP(N118,Arkusz3!A:E,5,0)","v":100},{"$f":"VLOOKUP(N118,Arkusz3!H:J,3,0)","v":15969},159.69,{"$f":"VLOOKUP(N118,Arkusz3!AN:AP,3,0)","v":1335.84}]
["5492197487","GMINA PRZECISZÓW","12","13","082","32641","Przeciszów","Przeciszów","ul. Podlesie","1","GMINA",1213082,{"$f":"VLOOKUP(L119,Arkusz3!A:K,2,0)","v":"  Przeciszów.........................................................................................................................................................................................................................................................."},1213082,{"$f":"VLOOKUP(N119,Arkusz3!A:E,5,0)","v":35},{"$f":"VLOOKUP(N119,Arkusz3!H:J,3,0)","v":6664},190.4,{"$f":"VLOOKUP(N119,Arkusz3!AN:AP,3,0)","v":1574.63}]
["7352854845","GMINA RABA WYŻNA","12","11","112","34721","Raba Wyżna","Raba Wyżna",null,"41","GMINA",1211112,{"$f":"VLOOKUP(L120,Arkusz3!A:K,2,0)","v":"  Raba Wyżna.........................................................................................................................................................................................................................................................."},1211112,{"$f":"VLOOKUP(N120,Arkusz3!A:E,5,0)","v":89},{"$f":"VLOOKUP(N120,Arkusz3!H:J,3,0)","v":14726},165.46067415730337,{"$f":"VLOOKUP(N120,Arkusz3!AN:AP,3,0)","v":843.19}]
["7351006084","GMINA RABKA ZDRÓJ","12","11","124","34700","Rabka-Zdrój","Rabka-Zdrój","ul. Parkowa","2","GMINA",1211124,{"$f":"VLOOKUP(L121,Arkusz3!A:K,2,0)","v":""},1211123,{"$f":"VLOOKUP(N121,Arkusz3!A:E,5,0)","v":69},{"$f":"VLOOKUP(N121,Arkusz3!H:J,3,0)","v":16927},245.31884057971016,{"$f":"VLOOKUP(N121,Arkusz3!AN:AP,3,0)","v":1431.9}]
["6811359293","GMINA RACIECHOWICE","12","09","052","32415","Raciechowice","Raciechowice",null,"277       ","GMINA",1209052,{"$f":"VLOOKUP(L122,Arkusz3!A:K,2,0)","v":"  Raciechowice.........................................................................................................................................................................................................................................................."},1209052,{"$f":"VLOOKUP(N122,Arkusz3!A:E,5,0)","v":61},{"$f":"VLOOKUP(N122,Arkusz3!H:J,3,0)","v":6457},105.85245901639344,{"$f":"VLOOKUP(N122,Arkusz3!AN:AP,3,0)","v":1113.19}]
["6591184436","GMINA RACŁAWICE","12","08","062","32222","Racławice","Racławice",null,"15","GMINA",1208062,{"$f":"VLOOKUP(L123,Arkusz3!A:K,2,0)","v":"  Racławice.........................................................................................................................................................................................................................................................."},1208062,{"$f":"VLOOKUP(N123,Arkusz3!A:E,5,0)","v":59},{"$f":"VLOOKUP(N123,Arkusz3!H:J,3,0)","v":2471},41.881355932203391,{"$f":"VLOOKUP(N123,Arkusz3!AN:AP,3,0)","v":1177.82}]
["8711665525","GMINA RADGOSZCZ","12","04","062","33207","Radgoszcz","Radgoszcz","pl. św. Kazimierza","7-8       ","GMINA",1204062,{"$f":"VLOOKUP(L124,Arkusz3!A:K,2,0)","v":"  Radgoszcz.........................................................................................................................................................................................................................................................."},1204062,{"$f":"VLOOKUP(N124,Arkusz3!A:E,5,0)","v":88},{"$f":"VLOOKUP(N124,Arkusz3!H:J,3,0)","v":7427},84.397727272727266,{"$f":"VLOOKUP(N124,Arkusz3!AN:AP,3,0)","v":671.31}]
["8731001716","GMINA RADŁÓW","12","16","054","33130","Radłów","Radłów","ul. Kolejowa","7","GMINA",1216054,{"$f":"VLOOKUP(L125,Arkusz3!A:K,2,0)","v":""},1216053,{"$f":"VLOOKUP(N125,Arkusz3!A:E,5,0)","v":86},{"$f":"VLOOKUP(N125,Arkusz3!H:J,3,0)","v":9562},111.18604651162791,{"$f":"VLOOKUP(N125,Arkusz3!AN:AP,3,0)","v":1284.29}]
["6821762292","GMINA RADZIEMICE","12","14","062","32107","Radziemice","Radziemice",null,"74","GMINA",1214062,{"$f":"VLOOKUP(L126,Arkusz3!A:K,2,0)","v":"  Radziemice.........................................................................................................................................................................................................................................................."},1214062,{"$f":"VLOOKUP(N126,Arkusz3!A:E,5,0)","v":58},{"$f":"VLOOKUP(N126,Arkusz3!H:J,3,0)","v":3303},56.948275862068968,{"$f":"VLOOKUP(N126,Arkusz3!AN:AP,3,0)","v":1131.79}]
["7382130282","GMINA ROPA","12","05","082","38312","Ropa","Ropa",null,"733","GMINA",1205082,{"$f":"VLOOKUP(L127,Arkusz3!A:K,2,0)","v":"  Ropa.........................................................................................................................................................................................................................................................."},1205082,{"$f":"VLOOKUP(N127,Arkusz3!A:E,5,0)","v":49},{"$f":"VLOOKUP(N127,Arkusz3!H:J,3,0)","v":5537},113,{"$f":"VLOOKUP(N127,Arkusz3!AN:AP,3,0)","v":694.83}]
["9930337247","GMINA RYGLICE","12","16","064","33160","Ryglice","Ryglice","ul. Rynek","9         ","GMINA",1216064,{"$f":"VLOOKUP(L128,Arkusz3!A:K,2,0)","v":""},1216063,{"$f":"VLOOKUP(N128,Arkusz3!A:E,5,0)","v":117},{"$f":"VLOOKUP(N128,Arkusz3!H:J,3,0)","v":11588},99.042735042735046,{"$f":"VLOOKUP(N128,Arkusz3!AN:AP,3,0)","v":875.42}]
["7343517947","GMINA RYTRO","12","10","152","33343","Rytro","Rytro",null,"265","GMINA",1210152,{"$f":"VLOOKUP(L129,Arkusz3!A:K,2,0)","v":"  Rytro.........................................................................................................................................................................................................................................................."},1210152,{"$f":"VLOOKUP(N129,Arkusz3!A:E,5,0)","v":42},{"$f":"VLOOKUP(N129,Arkusz3!H:J,3,0)","v":3737},88.976190476190482,{"$f":"VLOOKUP(N129,Arkusz3!AN:AP,3,0)","v":1019.73}]
["9930656314","GMINA RZEPIENNIK STRZYŻEWSKI","12","16","072","33163","Rzepiennik Strzyżewski","Rzepiennik Strzyżewski",null,"400","GMINA",1216072,{"$f":"VLOOKUP(L130,Arkusz3!A:K,2,0)","v":"  Rzepiennik Strzyżewski.........................................................................................................................................................................................................................................................."},1216072,{"$f":"VLOOKUP(N130,Arkusz3!A:E,5,0)","v":71},{"$f":"VLOOKUP(N130,Arkusz3!H:J,3,0)","v":6738},94.901408450704224,{"$f":"VLOOKUP(N130,Arkusz3!AN:AP,3,0)","v":977.1}]
["8681021294","GMINA RZEZAWA","12","01","072","32765","Rzezawa","Rzezawa","ul. Długa","21","GMINA",{"$f":"C131*100000+D131*1000+E131","v":1201072},{"$f":"VLOOKUP(L131,Arkusz3!A:K,2,0)","v":"  Rzezawa.........................................................................................................................................................................................................................................................."},{"$f":"IF(M131=M$1,L131-1,IF(M131=N$1,L131-2,L131))","v":1201072},{"$f":"VLOOKUP(N131,Arkusz3!A:E,5,0)","v":86},{"$f":"VLOOKUP(N131,Arkusz3!H:J,3,0)","v":11447},{"$f":"P131/O131","v":133.1046511627907},{"$f":"VLOOKUP(N131,Arkusz3!AN:AP,3,0)","v":1118.82}]
["7381013686","GMINA SĘKOWA","12","05","092","38307","Sękowa","Sękowa",null,"252       ","GMINA",1205092,{"$f":"VLOOKUP(L132,Arkusz3!A:K,2,0)","v":"  Sękowa.........................................................................................................................................................................................................................................................."},1205092,{"$f":"VLOOKUP(N132,Arkusz3!A:E,5,0)","v":195},{"$f":"VLOOKUP(N132,Arkusz3!H:J,3,0)","v":4938},25.323076923076922,{"$f":"VLOOKUP(N132,Arkusz3!AN:AP,3,0)","v":1057.3499999999999}]
["6811299390","GMINA SIEPRAW","12","09","062","32447","Siepraw","Siepraw","ul. Kawęciny","30        ","GMINA",1209062,{"$f":"VLOOKUP(L133,Arkusz3!A:K,2,0)","v":"  Siepraw.........................................................................................................................................................................................................................................................."},1209062,{"$f":"VLOOKUP(N133,Arkusz3!A:E,5,0)","v":32},{"$f":"VLOOKUP(N133,Arkusz3!H:J,3,0)","v":9183},286.96875,{"$f":"VLOOKUP(N133,Arkusz3!AN:AP,3,0)","v":1708.4}]
["6771024094","GMINA SKAŁA","12","06","104","32043","Skała","Skała","Rynek","29","GMINA",1206104,{"$f":"VLOOKUP(L134,Arkusz3!A:K,2,0)","v":""},1206103,{"$f":"VLOOKUP(N134,Arkusz3!A:E,5,0)","v":75},{"$f":"VLOOKUP(N134,Arkusz3!H:J,3,0)","v":10604},141.38666666666666,{"$f":"VLOOKUP(N134,Arkusz3!AN:AP,3,0)","v":1394.9}]
["6791023301","GMINA SKAWINA","12","06","114","32050","Skawina","Skawina","Rynek","1","GMINA",1206114,{"$f":"VLOOKUP(L135,Arkusz3!A:K,2,0)","v":""},1206113,{"$f":"VLOOKUP(N135,Arkusz3!A:E,5,0)","v":100},{"$f":"VLOOKUP(N135,Arkusz3!H:J,3,0)","v":43789},437.89,{"$f":"VLOOKUP(N135,Arkusz3!AN:AP,3,0)","v":2466.52}]
["9930340717","GMINA SKRZYSZÓW","12","16","082","33156","Skrzyszów","Skrzyszów",null,"642","GMINA",1216082,{"$f":"VLOOKUP(L136,Arkusz3!A:K,2,0)","v":"  Skrzyszów.........................................................................................................................................................................................................................................................."},1216082,{"$f":"VLOOKUP(N136,Arkusz3!A:E,5,0)","v":86},{"$f":"VLOOKUP(N136,Arkusz3!H:J,3,0)","v":14361},166.98837209302326,{"$f":"VLOOKUP(N136,Arkusz3!AN:AP,3,0)","v":1383.08}]
["6591222510","GMINA SŁABOSZÓW","12","08","072","32218","Słaboszów","Słaboszów",null,"57","GMINA",1208072,{"$f":"VLOOKUP(L137,Arkusz3!A:K,2,0)","v":"  Słaboszów.........................................................................................................................................................................................................................................................."},1208072,{"$f":"VLOOKUP(N137,Arkusz3!A:E,5,0)","v":77},{"$f":"VLOOKUP(N137,Arkusz3!H:J,3,0)","v":3445},44.740259740259738,{"$f":"VLOOKUP(N137,Arkusz3!AN:AP,3,0)","v":1129.69}]
["6821604831","GMINA SŁOMNIKI","12","06","124","32090","Słomniki","Słomniki","ul. Tadeusza Kościuszki","64","GMINA",1206124,{"$f":"VLOOKUP(L138,Arkusz3!A:K,2,0)","v":""},1206123,{"$f":"VLOOKUP(N138,Arkusz3!A:E,5,0)","v":113},{"$f":"VLOOKUP(N138,Arkusz3!H:J,3,0)","v":13512},119.57522123893806,{"$f":"VLOOKUP(N138,Arkusz3!AN:AP,3,0)","v":1431.06}]
["7371410411","GMINA SŁOPNICE","12","07","112","34615","Słopnice","Słopnice",null,"911","GMINA",1207112,{"$f":"VLOOKUP(L139,Arkusz3!A:K,2,0)","v":"  Słopnice.........................................................................................................................................................................................................................................................."},1207112,{"$f":"VLOOKUP(N139,Arkusz3!A:E,5,0)","v":57},{"$f":"VLOOKUP(N139,Arkusz3!H:J,3,0)","v":6851},120.19298245614036,{"$f":"VLOOKUP(N139,Arkusz3!AN:AP,3,0)","v":794.23}]
["7352703193","GMINA SPYTKOWICE (pow. nowotarski)","12","11","132","34745","Spytkowice","Spytkowice",null,"26","GMINA",1211132,{"$f":"VLOOKUP(L140,Arkusz3!A:K,2,0)","v":"  Spytkowice.........................................................................................................................................................................................................................................................."},1211132,{"$f":"VLOOKUP(N140,Arkusz3!A:E,5,0)","v":32},{"$f":"VLOOKUP(N140,Arkusz3!H:J,3,0)","v":4658},145.5625,{"$f":"VLOOKUP(N140,Arkusz3!AN:AP,3,0)","v":1119.51}]
["5511123930","GMINA SPYTKOWICE (pow. wadowicki)","12","18","062","34116","Spytkowice","Spytkowice","ul. Zamkowa","12","GMINA",1218062,{"$f":"VLOOKUP(L141,Arkusz3!A:K,2,0)","v":"  Spytkowice.........................................................................................................................................................................................................................................................."},1218062,{"$f":"VLOOKUP(N141,Arkusz3!A:E,5,0)","v":52},{"$f":"VLOOKUP(N141,Arkusz3!H:J,3,0)","v":10240},196.92307692307693,{"$f":"VLOOKUP(N141,Arkusz3!AN:AP,3,0)","v":1377.94}]
["7341009655","GMINA STARY SĄCZ","12","10","164","33340","Stary Sącz","Stary Sącz","ul. Stefana Batorego","25","GMINA",1210164,{"$f":"VLOOKUP(L142,Arkusz3!A:K,2,0)","v":""},1210163,{"$f":"VLOOKUP(N142,Arkusz3!A:E,5,0)","v":101},{"$f":"VLOOKUP(N142,Arkusz3!H:J,3,0)","v":23793},235.57425742574259,{"$f":"VLOOKUP(N142,Arkusz3!AN:AP,3,0)","v":1181.1400000000001}]
["5521707153","GMINA STRYSZAWA","12","15","072","34205","Stryszawa","Stryszawa",null,"17","GMINA",1215072,{"$f":"VLOOKUP(L143,Arkusz3!A:K,2,0)","v":"  Stryszawa.........................................................................................................................................................................................................................................................."},1215072,{"$f":"VLOOKUP(N143,Arkusz3!A:E,5,0)","v":114},{"$f":"VLOOKUP(N143,Arkusz3!H:J,3,0)","v":11874},104.15789473684211,{"$f":"VLOOKUP(N143,Arkusz3!AN:AP,3,0)","v":1345.45}]
["5511690907","GMINA STRYSZÓW","12","18","072","34146","Stryszów","Stryszów",null,"149","GMINA",1218072,{"$f":"VLOOKUP(L144,Arkusz3!A:K,2,0)","v":"  Stryszów.........................................................................................................................................................................................................................................................."},1218072,{"$f":"VLOOKUP(N144,Arkusz3!A:E,5,0)","v":46},{"$f":"VLOOKUP(N144,Arkusz3!H:J,3,0)","v":6844},148.78260869565219,{"$f":"VLOOKUP(N144,Arkusz3!AN:AP,3,0)","v":1141.43}]
["5521567404","GMINA SUCHA BESKIDZKA","12","15","021","34200","Sucha Beskidzka","Sucha Beskidzka","ul. Adama Mickiewicza","19","GMINA",1215021,{"$f":"VLOOKUP(L145,Arkusz3!A:K,2,0)","v":"  Sucha Beskidzka.........................................................................................................................................................................................................................................................."},1215021,{"$f":"VLOOKUP(N145,Arkusz3!A:E,5,0)","v":28},{"$f":"VLOOKUP(N145,Arkusz3!H:J,3,0)","v":8967},320.25,{"$f":"VLOOKUP(N145,Arkusz3!AN:AP,3,0)","v":2027.97}]
["6811036147","GMINA SUŁKOWICE","12","09","074","32440","Sułkowice","Sułkowice","Rynek","1         ","GMINA",1209074,{"$f":"VLOOKUP(L146,Arkusz3!A:K,2,0)","v":""},1209073,{"$f":"VLOOKUP(N146,Arkusz3!A:E,5,0)","v":60},{"$f":"VLOOKUP(N146,Arkusz3!H:J,3,0)","v":15152},252.53333333333333,{"$f":"VLOOKUP(N146,Arkusz3!AN:AP,3,0)","v":1243.73}]
["6771037576","GMINA SUŁOSZOWA","12","06","132","32045","Sułoszowa","Sułoszowa","ul. Krakowska","139","GMINA",1206132,{"$f":"VLOOKUP(L147,Arkusz3!A:K,2,0)","v":"  Sułoszowa.........................................................................................................................................................................................................................................................."},1206132,{"$f":"VLOOKUP(N147,Arkusz3!A:E,5,0)","v":53},{"$f":"VLOOKUP(N147,Arkusz3!H:J,3,0)","v":5749},108.47169811320755,{"$f":"VLOOKUP(N147,Arkusz3!AN:AP,3,0)","v":973.35}]
["7361198317","GMINA SZAFLARY","12","11","142","34424","Szaflary","Szaflary","ul. Zakopiańska","18","GMINA",1211142,{"$f":"VLOOKUP(L148,Arkusz3!A:K,2,0)","v":"  Szaflary.........................................................................................................................................................................................................................................................."},1211142,{"$f":"VLOOKUP(N148,Arkusz3!A:E,5,0)","v":54},{"$f":"VLOOKUP(N148,Arkusz3!H:J,3,0)","v":11196},207.33333333333334,{"$f":"VLOOKUP(N148,Arkusz3!AN:AP,3,0)","v":960.07}]
["7351026738","MIASTO I GMINA SZCZAWNICA","12","11","024","34460","Szczawnica","Szczawnica","ul. Szalaya","103","GMINA",1211024,{"$f":"VLOOKUP(L149,Arkusz3!A:K,2,0)","v":""},1211023,{"$f":"VLOOKUP(N149,Arkusz3!A:E,5,0)","v":88},{"$f":"VLOOKUP(N149,Arkusz3!H:J,3,0)","v":7040},80,{"$f":"VLOOKUP(N149,Arkusz3!AN:AP,3,0)","v":1643.27}]
["8711769963","GMINA SZCZUCIN","12","04","074","33230","Szczucin","Szczucin","ul. Wolności","3","GMINA",1204074,{"$f":"VLOOKUP(L150,Arkusz3!A:K,2,0)","v":""},1204073,{"$f":"VLOOKUP(N150,Arkusz3!A:E,5,0)","v":119},{"$f":"VLOOKUP(N150,Arkusz3!H:J,3,0)","v":12986},109.12605042016807,{"$f":"VLOOKUP(N150,Arkusz3!AN:AP,3,0)","v":1038.6300000000001}]
["8691186401","GMINA SZCZUROWA","12","02","072","32820","Szczurowa","Szczurowa","ul. Lwowska","2","GMINA",1202072,{"$f":"VLOOKUP(L151,Arkusz3!A:K,2,0)","v":"  Szczurowa.........................................................................................................................................................................................................................................................."},1202072,{"$f":"VLOOKUP(N151,Arkusz3!A:E,5,0)","v":135},{"$f":"VLOOKUP(N151,Arkusz3!H:J,3,0)","v":9316},69.007407407407413,{"$f":"VLOOKUP(N151,Arkusz3!AN:AP,3,0)","v":1228.31}]
["9930337193","GMINA SZERZYNY","12","16","162","38246","Szerzyny","Szerzyny",null,"521","GMINA",1216162,{"$f":"VLOOKUP(L152,Arkusz3!A:K,2,0)","v":"  Szerzyny.........................................................................................................................................................................................................................................................."},1216162,{"$f":"VLOOKUP(N152,Arkusz3!A:E,5,0)","v":82},{"$f":"VLOOKUP(N152,Arkusz3!H:J,3,0)","v":7811},95.256097560975604,{"$f":"VLOOKUP(N152,Arkusz3!AN:AP,3,0)","v":779.51}]
["9442226987","GMINA ŚWIĄTNIKI GÓRNE","12","06","144","32040","Świątniki Górne","Świątniki Górne","ul. Kazimierza Bruchnalskiego","36","GMINA",1206144,{"$f":"VLOOKUP(L153,Arkusz3!A:K,2,0)","v":""},1206143,{"$f":"VLOOKUP(N153,Arkusz3!A:E,5,0)","v":20},{"$f":"VLOOKUP(N153,Arkusz3!H:J,3,0)","v":10405},520.25,{"$f":"VLOOKUP(N153,Arkusz3!AN:AP,3,0)","v":2410.7399999999998}]
["8731550848","GMINA TARNÓW","12","16","092","33100","Tarnów","Tarnów","ul. Krakowska","19","GMINA",1216092,{"$f":"VLOOKUP(L154,Arkusz3!A:K,2,0)","v":"  Tarnów.........................................................................................................................................................................................................................................................."},1216092,{"$f":"VLOOKUP(N154,Arkusz3!A:E,5,0)","v":83},{"$f":"VLOOKUP(N154,Arkusz3!H:J,3,0)","v":26405},318.13253012048193,{"$f":"VLOOKUP(N154,Arkusz3!AN:AP,3,0)","v":1890.33}]
["6811304607","GMINA TOKARNIA","12","09","082","32436","Tokarnia","Tokarnia",null,"380","GMINA",1209082,{"$f":"VLOOKUP(L155,Arkusz3!A:K,2,0)","v":"  Tokarnia.........................................................................................................................................................................................................................................................."},1209082,{"$f":"VLOOKUP(N155,Arkusz3!A:E,5,0)","v":69},{"$f":"VLOOKUP(N155,Arkusz3!H:J,3,0)","v":8816},127.76811594202898,{"$f":"VLOOKUP(N155,Arkusz3!AN:AP,3,0)","v":839.28}]
["5511163935","GMINA TOMICE","12","18","082","34100","Wadowice","Tomice","ul. Wadowicka","51        ","GMINA",1218082,{"$f":"VLOOKUP(L156,Arkusz3!A:K,2,0)","v":"  Tomice.........................................................................................................................................................................................................................................................."},1218082,{"$f":"VLOOKUP(N156,Arkusz3!A:E,5,0)","v":42},{"$f":"VLOOKUP(N156,Arkusz3!H:J,3,0)","v":8242},196.23809523809524,{"$f":"VLOOKUP(N156,Arkusz3!AN:AP,3,0)","v":1325.24}]
["8681021259","GMINA TRZCIANA","12","01","082","32733","Trzciana","Trzciana",null,"302","GMINA",1201082,{"$f":"VLOOKUP(L157,Arkusz3!A:K,2,0)","v":"  Trzciana.........................................................................................................................................................................................................................................................."},1201082,{"$f":"VLOOKUP(N157,Arkusz3!A:E,5,0)","v":44},{"$f":"VLOOKUP(N157,Arkusz3!H:J,3,0)","v":5654},128.5,{"$f":"VLOOKUP(N157,Arkusz3!AN:AP,3,0)","v":1173.53}]
["6282260122","GMINA TRZEBINIA","12","03","054","32540","Trzebinia","Trzebinia","ul. Marszałka Piłsudskiego","14","GMINA",1203054,{"$f":"VLOOKUP(L158,Arkusz3!A:K,2,0)","v":""},1203053,{"$f":"VLOOKUP(N158,Arkusz3!A:E,5,0)","v":105},{"$f":"VLOOKUP(N158,Arkusz3!H:J,3,0)","v":33361},317.72380952380951,{"$f":"VLOOKUP(N158,Arkusz3!AN:AP,3,0)","v":2383.0300000000002}]
["6372024112","GMINA TRZYCIĄŻ","12","12","062","32353","Trzyciąż","Trzyciąż",null,"99","GMINA",1212062,{"$f":"VLOOKUP(L159,Arkusz3!A:K,2,0)","v":"  Trzyciąż.........................................................................................................................................................................................................................................................."},1212062,{"$f":"VLOOKUP(N159,Arkusz3!A:E,5,0)","v":95},{"$f":"VLOOKUP(N159,Arkusz3!H:J,3,0)","v":6995},73.631578947368425,{"$f":"VLOOKUP(N159,Arkusz3!AN:AP,3,0)","v":1431.9}]
["9930336443","GMINA TUCHÓW","12","16","104","33170","Tuchów","Tuchów","ul. Rynek","1","GMINA",1216104,{"$f":"VLOOKUP(L160,Arkusz3!A:K,2,0)","v":""},1216103,{"$f":"VLOOKUP(N160,Arkusz3!A:E,5,0)","v":100},{"$f":"VLOOKUP(N160,Arkusz3!H:J,3,0)","v":17615},176.15,{"$f":"VLOOKUP(N160,Arkusz3!AN:AP,3,0)","v":1076.4000000000001}]
["7371362818","GMINA TYMBARK","12","07","122","34650","Tymbark","Tymbark",null,"49","GMINA",1207122,{"$f":"VLOOKUP(L161,Arkusz3!A:K,2,0)","v":"  Tymbark.........................................................................................................................................................................................................................................................."},1207122,{"$f":"VLOOKUP(N161,Arkusz3!A:E,5,0)","v":33},{"$f":"VLOOKUP(N161,Arkusz3!H:J,3,0)","v":6602},200.06060606060606,{"$f":"VLOOKUP(N161,Arkusz3!AN:AP,3,0)","v":1530.5}]
["7382144864","GMINA UŚCIE GORLICKIE","12","05","102","38315","Uście Gorlickie","Uście Gorlickie",null,"80","GMINA",1205102,{"$f":"VLOOKUP(L162,Arkusz3!A:K,2,0)","v":"  Uście Gorlickie.........................................................................................................................................................................................................................................................."},1205102,{"$f":"VLOOKUP(N162,Arkusz3!A:E,5,0)","v":287},{"$f":"VLOOKUP(N162,Arkusz3!H:J,3,0)","v":6900},24.041811846689896,{"$f":"VLOOKUP(N162,Arkusz3!AN:AP,3,0)","v":1012.34}]
["5511003597","GMINA WADOWICE","12","18","094","34100","Wadowice","Wadowice","pl. Jana Pawła II","23","GMINA",1218094,{"$f":"VLOOKUP(L163,Arkusz3!A:K,2,0)","v":""},1218093,{"$f":"VLOOKUP(N163,Arkusz3!A:E,5,0)","v":113},{"$f":"VLOOKUP(N163,Arkusz3!H:J,3,0)","v":37319},330.25663716814159,{"$f":"VLOOKUP(N163,Arkusz3!AN:AP,3,0)","v":1780.73}]
["6830011450","GMINA WIELICZKA","12","19","054","32020","Wieliczka","Wieliczka","ul. Powstania Warszawskiego","1","GMINA",1219054,{"$f":"VLOOKUP(L164,Arkusz3!A:K,2,0)","v":""},1219053,{"$f":"VLOOKUP(N164,Arkusz3!A:E,5,0)","v":100},{"$f":"VLOOKUP(N164,Arkusz3!H:J,3,0)","v":62164},621.64,{"$f":"VLOOKUP(N164,Arkusz3!AN:AP,3,0)","v":2168.67}]
["5130066230","GMINA WIELKA WIEŚ","12","06","152","32085","Modlnica","Szyce","pl. Plac Wspólnoty","1  ","GMINA",1206152,{"$f":"VLOOKUP(L165,Arkusz3!A:K,2,0)","v":"  Wielka Wieś.........................................................................................................................................................................................................................................................."},1206152,{"$f":"VLOOKUP(N165,Arkusz3!A:E,5,0)","v":48},{"$f":"VLOOKUP(N165,Arkusz3!H:J,3,0)","v":13690},285.20833333333331,{"$f":"VLOOKUP(N165,Arkusz3!AN:AP,3,0)","v":3729.1}]
["5511123841","GMINA WIEPRZ","12","18","102","34122","Wieprz","Wieprz","ul. Centralna","5","GMINA",1218102,{"$f":"VLOOKUP(L166,Arkusz3!A:K,2,0)","v":"  Wieprz.........................................................................................................................................................................................................................................................."},1218102,{"$f":"VLOOKUP(N166,Arkusz3!A:E,5,0)","v":75},{"$f":"VLOOKUP(N166,Arkusz3!H:J,3,0)","v":12564},167.52,{"$f":"VLOOKUP(N166,Arkusz3!AN:AP,3,0)","v":1180.06}]
["8731111741","GMINA WIERZCHOSŁAWICE","12","16","112","33122","Wierzchosławice","Wierzchosławice",null,"550","GMINA",1216112,{"$f":"VLOOKUP(L167,Arkusz3!A:K,2,0)","v":"  Wierzchosławice.........................................................................................................................................................................................................................................................."},1216112,{"$f":"VLOOKUP(N167,Arkusz3!A:E,5,0)","v":75},{"$f":"VLOOKUP(N167,Arkusz3!H:J,3,0)","v":10745},143.26666666666668,{"$f":"VLOOKUP(N167,Arkusz3!AN:AP,3,0)","v":1628.79}]
["9930652629","GMINA WIETRZYCHOWICE","12","16","122","33270","Wietrzychowice","Wietrzychowice",null,"19","GMINA",1216122,{"$f":"VLOOKUP(L168,Arkusz3!A:K,2,0)","v":"  Wietrzychowice.........................................................................................................................................................................................................................................................."},1216122,{"$f":"VLOOKUP(N168,Arkusz3!A:E,5,0)","v":48},{"$f":"VLOOKUP(N168,Arkusz3!H:J,3,0)","v":3907},81.395833333333329,{"$f":"VLOOKUP(N168,Arkusz3!AN:AP,3,0)","v":778.1}]
["6811381938","GMINA WIŚNIOWA","12","09","092","32412","Wiśniowa","Wiśniowa",null,"441","GMINA",1209092,{"$f":"VLOOKUP(L169,Arkusz3!A:K,2,0)","v":"  Wiśniowa.........................................................................................................................................................................................................................................................."},1209092,{"$f":"VLOOKUP(N169,Arkusz3!A:E,5,0)","v":67},{"$f":"VLOOKUP(N169,Arkusz3!H:J,3,0)","v":7412},110.6268656716418,{"$f":"VLOOKUP(N169,Arkusz3!AN:AP,3,0)","v":1133.47}]
["8732630130","GMINA WOJNICZ","12","16","134","32830","Wojnicz","Wojnicz","ul. Rynek","1         ","GMINA",1216134,{"$f":"VLOOKUP(L170,Arkusz3!A:K,2,0)","v":""},1216133,{"$f":"VLOOKUP(N170,Arkusz3!A:E,5,0)","v":79},{"$f":"VLOOKUP(N170,Arkusz3!H:J,3,0)","v":13243},167.63291139240508,{"$f":"VLOOKUP(N170,Arkusz3!AN:AP,3,0)","v":1300.72}]
["6372003423","GMINA WOLBROM","12","12","074","32340","Wolbrom","Wolbrom","ul. Krakowska","1","GMINA",1212074,{"$f":"VLOOKUP(L171,Arkusz3!A:K,2,0)","v":""},1212073,{"$f":"VLOOKUP(N171,Arkusz3!A:E,5,0)","v":147},{"$f":"VLOOKUP(N171,Arkusz3!H:J,3,0)","v":22398},152.36734693877551,{"$f":"VLOOKUP(N171,Arkusz3!AN:AP,3,0)","v":1896.9}]
["6761706490","GMINA ZABIERZÓW","12","06","162","32080","Zabierzów","Zabierzów","Rynek","1","GMINA",1206162,{"$f":"VLOOKUP(L172,Arkusz3!A:K,2,0)","v":"  Zabierzów (a) .........................................................................................................................................................................................................................................................."},1206162,{"$f":"VLOOKUP(N172,Arkusz3!A:E,5,0)","v":99},{"$f":"VLOOKUP(N172,Arkusz3!H:J,3,0)","v":27432},277.09090909090907,{"$f":"VLOOKUP(N172,Arkusz3!AN:AP,3,0)","v":2931.74}]
["8691013238","GMINA ZAKLICZYN","12","16","144","32840","Zakliczyn","Zakliczyn","Rynek","32","GMINA",1216144,{"$f":"VLOOKUP(L173,Arkusz3!A:K,2,0)","v":""},1216143,{"$f":"VLOOKUP(N173,Arkusz3!A:E,5,0)","v":122},{"$f":"VLOOKUP(N173,Arkusz3!H:J,3,0)","v":12561},102.95901639344262,{"$f":"VLOOKUP(N173,Arkusz3!AN:AP,3,0)","v":950.54}]
["7360007798","MIASTO ZAKOPANE","12","17","011","34500","Zakopane","Zakopane","ul. Tadeusza Kościuszki","13","GMINA",1217011,{"$f":"VLOOKUP(L174,Arkusz3!A:K,2,0)","v":"  Zakopane.........................................................................................................................................................................................................................................................."},1217011,{"$f":"VLOOKUP(N174,Arkusz3!A:E,5,0)","v":84},{"$f":"VLOOKUP(N174,Arkusz3!H:J,3,0)","v":26540},315.95238095238096,{"$f":"VLOOKUP(N174,Arkusz3!AN:AP,3,0)","v":2712.72}]
["5492197464","GMINA ZATOR","12","13","094","32640","Zator","Zator","pl. Marszałka Józefa Piłsudskiego","1         ","GMINA",1213094,{"$f":"VLOOKUP(L175,Arkusz3!A:K,2,0)","v":""},1213093,{"$f":"VLOOKUP(N175,Arkusz3!A:E,5,0)","v":52},{"$f":"VLOOKUP(N175,Arkusz3!H:J,3,0)","v":9190},176.73076923076923,{"$f":"VLOOKUP(N175,Arkusz3!AN:AP,3,0)","v":2114}]
["5521588530","GMINA ZAWOJA","12","15","082","34222","Zawoja","Zawoja",null,"1307","GMINA",1215082,{"$f":"VLOOKUP(L176,Arkusz3!A:K,2,0)","v":"  Zawoja.........................................................................................................................................................................................................................................................."},1215082,{"$f":"VLOOKUP(N176,Arkusz3!A:E,5,0)","v":128},{"$f":"VLOOKUP(N176,Arkusz3!H:J,3,0)","v":8997},70.2890625,{"$f":"VLOOKUP(N176,Arkusz3!AN:AP,3,0)","v":1125.5899999999999}]
["5521576805","GMINA ZEMBRZYCE","12","15","092","34210","Zembrzyce","Zembrzyce",null,"540","GMINA",1215092,{"$f":"VLOOKUP(L177,Arkusz3!A:K,2,0)","v":"  Zembrzyce.........................................................................................................................................................................................................................................................."},1215092,{"$f":"VLOOKUP(N177,Arkusz3!A:E,5,0)","v":39},{"$f":"VLOOKUP(N177,Arkusz3!H:J,3,0)","v":5576},142.97435897435898,{"$f":"VLOOKUP(N177,Arkusz3!AN:AP,3,0)","v":1267.67}]
["5130038162","GMINA ZIELONKI","12","06","172","32087","Zielonki","Zielonki","ul. Krakowskie Przedmieście","116","GMINA",1206172,{"$f":"VLOOKUP(L178,Arkusz3!A:K,2,0)","v":"  Zielonki.........................................................................................................................................................................................................................................................."},1206172,{"$f":"VLOOKUP(N178,Arkusz3!A:E,5,0)","v":49},{"$f":"VLOOKUP(N178,Arkusz3!H:J,3,0)","v":24336},496.65306122448982,{"$f":"VLOOKUP(N178,Arkusz3!AN:AP,3,0)","v":2872.13}]
["9930370109","GMINA ŻABNO","12","16","154","33240","Żabno","Żabno","ul. Władysława Jagiełły","1         ","GMINA",1216154,{"$f":"VLOOKUP(L179,Arkusz3!A:K,2,0)","v":""},1216153,{"$f":"VLOOKUP(N179,Arkusz3!A:E,5,0)","v":102},{"$f":"VLOOKUP(N179,Arkusz3!H:J,3,0)","v":18788},184.19607843137254,{"$f":"VLOOKUP(N179,Arkusz3!AN:AP,3,0)","v":1465.69}]
["8681021319","GMINA ŻEGOCINA","12","01","092","32731","Żegocina","Żegocina",null,"316","GMINA",1201092,{"$f":"VLOOKUP(L180,Arkusz3!A:K,2,0)","v":"  Żegocina.........................................................................................................................................................................................................................................................."},1201092,{"$f":"VLOOKUP(N180,Arkusz3!A:E,5,0)","v":35},{"$f":"VLOOKUP(N180,Arkusz3!H:J,3,0)","v":5606},160.17142857142858,{"$f":"VLOOKUP(N180,Arkusz3!AN:AP,3,0)","v":1073.8699999999999}]
["8681599283","POWIAT BOCHEŃSKI","12","01","011","32700","Bochnia","Bochnia","ul. Kazimierza Wielkiego","31","POWIAT","1201",null,{"$f":"L181*1000","v":1201000},{"$f":"VLOOKUP(L181,Arkusz3!L:T,5,0)","v":649},{"$f":"VLOOKUP(N181,Arkusz3!H:J,3,0)","v":106799},164.5593220338983,{"$f":"VLOOKUP(N181,Arkusz3!AW:AY,3,0)","v":229.56}]
["8691652725","POWIAT BRZESKI","12","02","024","32800","Brzesko","Brzesko","ul. Bartosza Głowackiego","51","POWIAT","1202",null,{"$f":"L182*1000","v":1202000},{"$f":"VLOOKUP(L182,Arkusz3!L:T,5,0)","v":591},{"$f":"VLOOKUP(N182,Arkusz3!H:J,3,0)","v":92724},156.89340101522842,{"$f":"VLOOKUP(N182,Arkusz3!AW:AY,3,0)","v":190.25}]
["6281715276","POWIAT CHRZANOWSKI","12","03","034","32500","Chrzanów","Chrzanów","ul. Partyzantów","2","POWIAT","1203",null,1203000,{"$f":"VLOOKUP(L183,Arkusz3!L:T,5,0)","v":370},{"$f":"VLOOKUP(N183,Arkusz3!H:J,3,0)","v":122592},331.32972972972971,{"$f":"VLOOKUP(N183,Arkusz3!AW:AY,3,0)","v":290.35000000000002}]
["8711771285","POWIAT DĄBROWSKI","12","04","024","33200","Dąbrowa Tarnowska","Dąbrowa Tarnowska","ul. Berka Joselewicza","5","POWIAT","1204",null,1204000,{"$f":"VLOOKUP(L184,Arkusz3!L:T,5,0)","v":530},{"$f":"VLOOKUP(N184,Arkusz3!H:J,3,0)","v":58665},110.68867924528301,{"$f":"VLOOKUP(N184,Arkusz3!AW:AY,3,0)","v":129.80000000000001}]
["7382150787","POWIAT GORLICKI","12","05","011","38300","Gorlice","Gorlice","ul. Biecka","3","POWIAT","1205",null,1205000,{"$f":"VLOOKUP(L185,Arkusz3!L:T,5,0)","v":966},{"$f":"VLOOKUP(N185,Arkusz3!H:J,3,0)","v":107832},111.62732919254658,{"$f":"VLOOKUP(N185,Arkusz3!AW:AY,3,0)","v":163.47999999999999}]
["6772364194","POWIAT KRAKOWSKI","12","61","029","30037","Kraków","Kraków","Aleja Juliusza Słowackiego","20","POWIAT","1206",null,1206000,{"$f":"VLOOKUP(L186,Arkusz3!L:T,5,0)","v":1231},{"$f":"VLOOKUP(N186,Arkusz3!H:J,3,0)","v":283812},230.5540211210398,{"$f":"VLOOKUP(N186,Arkusz3!AW:AY,3,0)","v":374.69}]
["7372206836","POWIAT LIMANOWSKI","12","07","011","34600","Limanowa","Limanowa","ul. Józefa Marka","9","POWIAT","1207",null,1207000,{"$f":"VLOOKUP(L187,Arkusz3!L:T,5,0)","v":951},{"$f":"VLOOKUP(N187,Arkusz3!H:J,3,0)","v":132284},139.09989484752893,{"$f":"VLOOKUP(N187,Arkusz3!AW:AY,3,0)","v":178.29}]
["6591545868","POWIAT MIECHOWSKI","12","08","054","32200","Miechów","Miechów","ul. Racławicka","12","POWIAT","1208",null,1208000,{"$f":"VLOOKUP(L188,Arkusz3!L:T,5,0)","v":676},{"$f":"VLOOKUP(N188,Arkusz3!H:J,3,0)","v":48047},71.075443786982248,{"$f":"VLOOKUP(N188,Arkusz3!AW:AY,3,0)","v":172.68}]
["6811692325","POWIAT MYŚLENICKI","12","09","034","32400","Myślenice","Myślenice","ul. Mikołaja Reja","13","POWIAT","1209",null,1209000,{"$f":"VLOOKUP(L189,Arkusz3!L:T,5,0)","v":673},{"$f":"VLOOKUP(N189,Arkusz3!H:J,3,0)","v":128239},190.54829123328381,{"$f":"VLOOKUP(N189,Arkusz3!AW:AY,3,0)","v":231.47}]
["7343544080","POWIAT NOWOSĄDECKI","12","62","011","33300","Nowy Sącz","Nowy Sącz","ul. Jagiellońska","33","POWIAT","1210",null,1210000,{"$f":"VLOOKUP(L190,Arkusz3!L:T,5,0)","v":1549},{"$f":"VLOOKUP(N190,Arkusz3!H:J,3,0)","v":217117},140.16591349257587,{"$f":"VLOOKUP(N190,Arkusz3!AW:AY,3,0)","v":178.16}]
["7352175044","POWIAT NOWOTARSKI","12","11","011","34400","Nowy Targ","Nowy Targ","ul. Bolesława Wstydliwego","14","POWIAT","1211",null,1211000,{"$f":"VLOOKUP(L191,Arkusz3!L:T,5,0)","v":1474},{"$f":"VLOOKUP(N191,Arkusz3!H:J,3,0)","v":191218},129.72727272727272,{"$f":"VLOOKUP(N191,Arkusz3!AW:AY,3,0)","v":156.56}]
["6372024678","POWIAT OLKUSKI","12","12","054","32300","Olkusz","Olkusz","ul. Adama Mickiewicza","2","POWIAT","1212",null,1212000,{"$f":"VLOOKUP(L192,Arkusz3!L:T,5,0)","v":618},{"$f":"VLOOKUP(N192,Arkusz3!H:J,3,0)","v":109404},177.02912621359224,{"$f":"VLOOKUP(N192,Arkusz3!AW:AY,3,0)","v":305.58999999999997}]
["5492197501","POWIAT OŚWIĘCIMSKI","12","13","011","32602","Oświęcim","Oświęcim","ul. Stanisława Wyspiańskiego","10","POWIAT","1213",null,1213000,{"$f":"VLOOKUP(L193,Arkusz3!L:T,5,0)","v":406},{"$f":"VLOOKUP(N193,Arkusz3!H:J,3,0)","v":151562},373.30541871921184,{"$f":"VLOOKUP(N193,Arkusz3!AW:AY,3,0)","v":282.72000000000003}]
["6821436782","POWIAT PROSZOWICKI","12","14","054","32100","Proszowice","Proszowice","ul. 3 Maja","72","POWIAT","1214",null,1214000,{"$f":"VLOOKUP(L194,Arkusz3!L:T,5,0)","v":415},{"$f":"VLOOKUP(N194,Arkusz3!H:J,3,0)","v":42815},103.16867469879519,{"$f":"VLOOKUP(N194,Arkusz3!AW:AY,3,0)","v":162}]
["5521427933","POWIAT SUSKI","12","15","021","34200","Sucha Beskidzka","Sucha Beskidzka","ul. Kościelna","5b","POWIAT","1215",null,1215000,{"$f":"VLOOKUP(L195,Arkusz3!L:T,5,0)","v":686},{"$f":"VLOOKUP(N195,Arkusz3!H:J,3,0)","v":83530},{"$f":"P195/O195","v":121.76384839650146},{"$f":"VLOOKUP(N195,Arkusz3!AW:AY,3,0)","v":198.83}]
["9930660913","POWIAT TARNOWSKI","12","63","011","33100","Tarnów","Tarnów","ul. Gabriela Narutowicza","38","POWIAT","1216",null,1216000,{"$f":"VLOOKUP(L196,Arkusz3!L:T,5,0)","v":1412},{"$f":"VLOOKUP(N196,Arkusz3!H:J,3,0)","v":200711},142.14660056657223,{"$f":"VLOOKUP(N196,Arkusz3!AW:AY,3,0)","v":173.85}]
["7361720593","POWIAT TATRZAŃSKI","12","17","011","34500","Zakopane","Zakopane","ul. Chramcówki","15","POWIAT","1217",null,1217000,{"$f":"VLOOKUP(L197,Arkusz3!L:T,5,0)","v":472},{"$f":"VLOOKUP(N197,Arkusz3!H:J,3,0)","v":67719},143.47245762711864,{"$f":"VLOOKUP(N197,Arkusz3!AW:AY,3,0)","v":216.67}]
["5512129478","POWIAT WADOWICKI","12","18","094","34100","Wadowice","Wadowice","ul. Batorego","2","POWIAT","1218",null,1218000,{"$f":"VLOOKUP(L198,Arkusz3!L:T,5,0)","v":646},{"$f":"VLOOKUP(N198,Arkusz3!H:J,3,0)","v":159116},246.30959752321982,{"$f":"VLOOKUP(N198,Arkusz3!AW:AY,3,0)","v":242.52}]
["6831742730","POWIAT WIELICKI","12","19","054","32020","Wieliczka","Wieliczka","ul. Rynek Górny","2","POWIAT","1219",null,1219000,{"$f":"VLOOKUP(L199,Arkusz3!L:T,5,0)","v":411},{"$f":"VLOOKUP(N199,Arkusz3!H:J,3,0)","v":132366},322.05839416058393,{"$f":"VLOOKUP(N199,Arkusz3!AW:AY,3,0)","v":352.54}]
["7343507021","NOWY SĄCZ - MIASTO NA PRAWACH POWIATU","12","62","011","33300","Nowy Sącz","Nowy Sącz","ul. Rynek","1","MNPP","1262",null,1262000,{"$f":"VLOOKUP(L200,Arkusz3!L:T,5,0)","v":58},{"$f":"VLOOKUP(N200,Arkusz3!H:J,3,0)","v":83116},1433.0344827586207,{"$f":"VLOOKUP(N200,Arkusz3!AW:AY,3,0)","v":348.78}]
["8731011086","TARNÓW - MIASTO NA PRAWACH POWIATU","12","63","011","33100","Tarnów","Tarnów","ul. Adama Mickiewicza","2","MNPP","1263",null,1263000,{"$f":"VLOOKUP(L201,Arkusz3!L:T,5,0)","v":72},{"$f":"VLOOKUP(N201,Arkusz3!H:J,3,0)","v":105922},1471.1388888888889,{"$f":"VLOOKUP(N201,Arkusz3!AW:AY,3,0)","v":283.61}]
["6761013717","GMINA MIEJSKA KRAKÓW-MIASTO NA PRAWACH POWIATU","12","61","059","31004","Kraków","Kraków","Plac Wszystkich Świętych","3-4","MNPP","1261",null,1261000,{"$f":"VLOOKUP(L202,Arkusz3!L:T,5,0)","v":327},{"$f":"VLOOKUP(N202,Arkusz3!H:J,3,0)","v":782137},2391.8562691131497,{"$f":"VLOOKUP(N202,Arkusz3!AW:AY,3,0)","v":528.66}]
["6762178337","WOJEWÓDZTWO MAŁOPOLSKIE","12","61","059","31156","Kraków","Kraków","ul. Basztowa","22","WOJEWÓDZTWO","12",null,{"$f":"L203*1000*100","v":1200000},{"$f":"VLOOKUP(L203,Arkusz3!W:AD,4,0)","v":15183},{"$f":"VLOOKUP(N203,Arkusz3!H:J,3,0)","v":3407727},224.44358822367121,{"$f":"VLOOKUP(N203,Arkusz3!AW:AY,3,0)","v":264.02}]

{"sheet":"Arkusz3","index":5,"n_rows":4876,"n_cols":53,"rows_kept":2250,"cut":true,"hidden":true,"merged":[],"bounds":{"rows_first":1000,"rows_last":250,"rows_between":1000,"halvings":1}}
["TABL.21.POWIERZCHNIA,LUDNOŚĆORAZLOKATYWEDŁUGGMIN\nAREA,POPULATIONANDRANKINGPOSITIONSBYGMINAS",null,null,null,null,null,null,null,null,null,null,"",null,null,null,null,null,null,null,null,null,null,"",null,null,null,null,null,null,null,null,"Warszawa, 15.10.2019 r.",null,null,null,null,null,null,null,null,null,null,null,"Warszawa, 15.10.2019 r."]
[null,null,null,null,null,null,null,null,null,null,null,null,null,null,null,null,null,null,null,null,null,null,null,null,null,null,null,null,null,null,null,"Wskaźnik G - podstawowych dochodów podatkowych  na 1 mieszkańca gminy przyjęty do obliczania subwencji wyrównawczej na 2020 r."]
["","","",null,null,null,null,null,null,null,null,"",null,"","",null,"",null,"",null,null,null,"","","",null,"",null,"",null,null,null,null,null,null,null,null,null,null,null,null,null,null,""]
[null,null,"",null,"",null,null,null,null,null,null,null,null,null,"","","","","","",null,null,null,null,"","","","","","",null,null,null,null,null,null,null,null,null,null,null,null,null,"WK","PK",null,null,null,null,"P O W I A T","Wskaźnik P\nna 2021 r.",null,"5130038162"]
["","WOJ. DOLNOŚLĄSKIE",null,null,null,null,null,null,null,null,null,"",null,"WOJ. DOLNOŚLĄSKIE",null,null,null,null,null,null,null,null,"","P O L S K A",31270525,312705,38411148,123,"x","x",null,null,null,null,null,null,null,null,null,null,null,null,null,"02","01",{"$f":"AR5*100","v":200},{"$f":"+AS5*1","v":1},{"$f":"AT5+AU5","v":201},{"$f":"AV5*1000","v":201000},"bolesławiecki",244.24,null,"5130060109"]
["","Powiat bolesławiecki  (6 gmin)",null,null,null,null,null,null,null,null,null,"",null," Powiaty:",null,null,null,null,null,null,null,null,"","P O L A N D",null,null,null,null,null,null,null,"Kod gminy",null,null,null,null,null,null,null,null,"GMINA","Wskaźnik G \n na 2021 r.",null,"02","02",{"$f":"AR6*100","v":200},{"$f":"+AS6*1","v":2},{"$f":"AT6+AU6","v":202},{"$f":"AV6*1000","v":202000},"dzierżoniowski",219.03,null,"5130066230"]
["","",null,null,null,null,null,null,null,null,null,"",null," Powiats:",null,null,null,null,null,null,null,null,"02","Dolnośląskie",1994670,19947,2901225,145,7,5,null,"02","01","01",1,{"$f":"AF7*100000","v":200000},{"$f":"AG7*1000","v":1000},{"$f":"AH7*10","v":10},{"$f":"AI7*1","v":1},{"$f":"SUM(AJ7:AM7)","v":201011},"BOLESŁAWIEC",2049.98,null,"02","03",200,3,203,203000,"głogowski",344.6,null,"5130233774"]
[201011,"  Bolesławiec..........................................................................................................................................................................................................................................................",2357,"",24,null,"1200000",1200000,"MAŁOPOLSKIE",{"$f":"2436552+971175","v":3407727},null,"0201",{"$f":"L8*1000","v":201000},"   bolesławiecki",130351,1304,90200,69,64,98,null,null,"04","Kujawsko-pomorskie",1797134,17971,2077775,116,10,10,null,"02","01","02",2,{"$f":"AF8*100000","v":200000},{"$f":"AG8*1000","v":1000},{"$f":"AH8*10","v":20},{"$f":"AI8*1","v":2},{"$f":"SUM(AJ8:AM8)","v":201022},"BOLESŁAWIEC",2162.34,null,"02","04",200,4,204,204000,"górowski",171.86,null,"5492197435"]
["","",null,null,null,null,"1201000",1201000,"Powiat bocheński",106799,null,"0202",{"$f":"L9*1000","v":202000},"   dzierżoniowski",47851,479,101437,212,285,78,null,null,"06","Lubelskie",2512246,25123,2117619,84,3,9,null,"02","01","03",2,200000,1000,30,2,201032,"GROMADKA",3384.12,null,"02","05",200,5,205,205000,"jaworski",213.41,null,"5492197441"]
[201022,"  Bolesławiec..........................................................................................................................................................................................................................................................",28849,"",289,null,"1201011",1201011,"Bochnia (1)",29317,null,"0203",203000,"   głogowski",44327,443,89541,202,293,101,null,null,"08","Lubuskie",1398793,13988,1014548,73,13,15,null,"02","01","04",3,200000,1000,40,3,201043,"NOWOGRODZIEC",1915.97,null,"02","06",200,6,206,206000,"jeleniogórski",242.68,null,"5492197458"]
[201032,"  Gromadka..........................................................................................................................................................................................................................................................",26768,"",268,null,"1201022",1201022,"Bochnia (2)",20141,null,"0204",204000,"   górowski",73827,738,35182,48,199,299,null,null,"10","Łódzkie",1821895,18219,2466322,135,9,6,null,"02","01","05",2,200000,1000,50,2,201052,"OSIECZNICA",2587.52,null,"02","07",200,7,207,207000,"kamiennogórski",198.47,null,"5492197464"]
[201052,"  Osiecznica..........................................................................................................................................................................................................................................................",43704,"↑",437,null,"1201032",1201032,"Drwinia (2)",6488,null,"0205",205000,"   jaworski",58155,582,50545,87,261,240,null,null,"12","Małopolskie",1518279,15183,3400577,224,12,4,null,"02","01","06",2,200000,1000,60,2,201062,"WARTA BOLESŁAWIECKA",1931.85,null,"02","08",200,8,208,208000,"kłodzki",197.67,null,"5492197470"]
[201062,"  Warta Bolesławiecka..........................................................................................................................................................................................................................................................",11044,"",110,null,"1201042",1201042,"Lipnica Murowana (2)",5639,null,"0206",206000,"   jeleniogórski",62714,627,63855,102,242,184,null,null,"14","Mazowieckie",3555847,35559,5403412,152,1,1,null,"02","02","01",1,200000,2000,10,1,202011,"BIELAWA",1258.78,null,"02","09",200,9,209,209000,"legnicki",258.97000000000003,null,"5492197487"]
["","",null,null,null,null,"1201052",1201052,"Łapanów (2)",8242,null,"0207",207000,"   kamiennogórski",39569,396,43621,110,301,270,null,null,"16","Opolskie",941187,9412,986506,105,16,16,null,"02","02","02",1,200000,2000,20,1,202021,"DZIERŻONIÓW",1801.49,null,"02","10",200,10,210,210000,"lubański",207.7,null,"5492197501"]
[201043,"  Nowogrodziec..........................................................................................................................................................................................................................................................",17629,"",176,null,"1201063",1201063,"Nowy Wiśnicz (3)",14265,null,"0208",208000,"   kłodzki",164330,1642,159337,97,25,18,null,null,"18","Podkarpackie",1784576,17846,2129015,119,11,8,null,"02","02","03",3,200000,2000,30,3,202033,"PIESZYCE",1366.24,null,"02","11",200,11,211,211000,"lubiński",420.05,null,"5492198593"]
[201044,"",1610,"",16,null,"1201064",1201064,"Nowy Wiśnicz - miasto (4)",2748,null,"0209",209000,"   legnicki",74408,744,55326,74,196,223,null,null,"20","Podlaskie",2018702,20187,1181533,59,6,14,null,"02","02","04",1,200000,2000,40,1,202041,"PIŁAWA GÓRNA",1290.2,null,"02","12",200,12,212,212000,"lwówecki",170.39,null,"5492199463"]
[201045,"",16019,"",160,null,"1201065",1201065,"Nowy Wiśnicz - obszar wiejski (5)",11517,null,"0210",210000,"   lubański",42830,428,54699,128,296,227,null,null,"22","Pomorskie",1832368,18323,2333523,127,8,7,null,"02","02","05",2,200000,2000,50,2,202052,"DZIERŻONIÓW",1662.35,null,"02","13",200,13,213,213000,"milicki",223,null,"5492202969"]
["","Powiat dzierżoniowski  (7 gmin)",null,null,null,null,"1201072",1201072,"Rzezawa (2)",11447,null,"0211",211000,"   lubiński",71162,712,106254,149,212,76,null,null,"24","Śląskie",1233309,12333,4533565,368,14,2,null,"02","02","06",2,200000,2000,60,2,202062,"ŁAGIEWNIKI",1952.99,null,"02","14",200,14,214,214000,"oleśnicki",270.64999999999998,null,"5510013406"]
["","",null,null,null,null,"1201082",1201082,"Trzciana (2)",5654,null,"0212",212000,"   lwówecki",70969,710,46059,65,214,256,null,null,"26","Świętokrzyskie",1171050,11710,1241546,106,15,13,null,"02","02","07",3,200000,2000,70,3,202073,"NIEMCZA",1535.09,null,"02","15",200,15,215,215000,"oławski",332.33,null,"5511003597"]
[202011,"  Bielawa..........................................................................................................................................................................................................................................................",3621,"",36,null,"1201092",1201092,"Żegocina (2)",5606,null,"0213",213000,"   milicki",71493,715,37093,52,209,293,null,null,"28","Warmińsko-mazurskie",2417347,24173,1428983,59,4,12,null,"02","03","01",1,200000,3000,10,1,203011,"GŁOGÓW",2807.69,null,"02","16",200,16,216,216000,"polkowicki",396.28,null,"5511123841"]
[202021,"  Dzierżoniów..........................................................................................................................................................................................................................................................",2007,"",20,null,"1202000",1202000,"Powiat brzeski",92724,null,"0214",214000,"   oleśnicki",104931,1049,107062,102,112,72,null,null,"30","Wielkopolskie",2982650,29826,3493969,117,2,3,null,"02","03","02",2,200000,3000,20,2,203022,"GŁOGÓW",2638.34,null,"02","17",200,17,217,217000,"strzeliński",224.6,null,"5511123918"]
[202041,"  Piława Górna..........................................................................................................................................................................................................................................................",2093,"",21,null,"1202012",1202012,"Borzęcin (2)",8252,null,"0215",215000,"   oławski",52410,524,76595,146,276,142,null,null,"32","Zachodniopomorskie",2290472,22905,1701030,74,5,11,null,"02","03","03",2,200000,3000,30,2,203032,"JERZMANOWA",7330.33,null,"02","18",200,18,218,218000,"średzki",296.57,null,"5511123930"]
["","",null,null,null,null,"1202023",1202023,"Brzesko (3)",36117,null,"0216",216000,"   polkowicki",77946,779,62982,81,185,188,null,null,null,null,null,null,null,null,null,null,null,"02","03","04",2,200000,3000,40,2,203042,"KOTLA",1689.39,null,"02","19",200,19,219,219000,"świdnicki",273.11,null,"5511158182"]
[202052,"  Dzierżoniów..........................................................................................................................................................................................................................................................",14106,"",141,null,"1202024",1202024,"Brzesko - miasto (4)",16665,null,"0217",217000,"   strzeliński",62206,622,43773,70,246,269,null,null,null,null,null,null,null,null,null,null,null,"02","03","05",2,200000,3000,50,2,203052,"PĘCŁAW",1431.47,null,"02","20",200,20,220,220000,"trzebnicki",313.37,null,"5511158242"]
[202062,"  Łagiewniki..........................................................................................................................................................................................................................................................",12477,"",125,null,"1202025",1202025,"Brzesko - obszar wiejski (5)",19452,null,"0218",218000,"   średzki",70414,704,54269,77,216,228,null,null,null,null,null,null,null,null,null,null,null,"02","03","06",2,200000,3000,60,2,203062,"ŻUKOWICE",1840.9,null,"02","21",200,21,221,221000,"wałbrzyski",223.99,null,"5511163935"]
["","",null,null,null,null,"1202033",1202033,"Czchów (3)",9742,null,"0219",219000,"   świdnicki",74114,741,157615,213,197,20,null,null,null,null,null,null,null,null,null,null,null,"02","04","01",3,200000,4000,10,3,204013,"GÓRA",1568.57,null,"02","22",200,22,222,222000,"wołowski",248.43,null,"5511690907"]
[202073,"  Niemcza..........................................................................................................................................................................................................................................................",7186,"",72,null,"1202034",1202034,"Czchów - miasto (4)",2288,null,"0220",220000,"   trzebnicki",102478,1025,84886,83,121,114,null,null,null,null,null,null,null,null,null,null,null,"02","04","02",2,200000,4000,20,2,204022,"JEMIELNO",1108.6600000000001,null,"02","23",200,23,223,223000,"wrocławski",529.04,null,"5512129478"]
[202074,"",1981,"",20,null,"1202035",1202035,"Czchów - obszar wiejski (5)",7454,null,"0221",221000,"   wałbrzyski",43022,430,56004,130,295,218,null,null,null,null,null,null,null,null,null,null,null,"02","04","03",2,200000,4000,30,2,204032,"NIECHLÓW",1286.31,null,"02","24",200,24,224,224000,"ząbkowicki",206.42,null,"5512618591"]
[202075,"",5205,"",52,null,"1202042",1202042,"Dębno (2)",14753,null,"0222",222000,"   wołowski",67496,675,47056,70,229,255,null,null,null,null,null,null,null,null,null,null,null,"02","04","04",3,200000,4000,40,3,204043,"WĄSOSZ",1696.83,null,"02","25",200,25,225,225000,"zgorzelecki",272.57,null,"5521427933"]
[202033,"  Pieszyce..........................................................................................................................................................................................................................................................",6361,"",64,null,"1202052",1202052,"Gnojnik (2)",8004,null,"0223",223000,"   wrocławski",111770,1118,146060,131,104,28,null,null,null,null,null,null,null,null,null,null,null,"02","05","01",1,200000,5000,10,1,205011,"JAWOR",2022.08,null,"02","26",200,26,226,226000,"złotoryjski",202.85,null,"5521567404"]
[202034,"",1772,"",18,null,"1202062",1202062,"Iwkowa (2)",6540,null,"0224",224000,"   ząbkowicki",80153,802,65428,82,180,180,null,null,null,null,null,null,null,null,null,null,null,"02","05","02",3,200000,5000,20,3,205023,"BOLKÓW",1150.1199999999999,null,"02","61",200,61,261,261000,"Jelenia Góra",286.35000000000002,null,"5521570518"]
[202035,"",4589,"",46,null,"1202072",1202072,"Szczurowa (2)",9316,null,"0225",225000,"   zgorzelecki",83860,839,90003,107,167,99,null,null,null,null,null,null,null,null,null,null,null,"02","05","03",2,200000,5000,30,2,205032,"MĘCINKA",2067.59,null,"02","62",200,62,262,262000,"Legnica",307.39,null,"5521576805"]
["","Powiat głogowski  (6 gmin)",null,null,null,null,"1203000",1203000,"Powiat chrzanowski",122592,null,"0226",226000,"   złotoryjski",57581,576,43869,76,264,266,null,null,null,null,null,null,null,null,null,null,null,"02","05","04",2,200000,5000,40,2,205042,"MŚCIWOJÓW",1825.5,null,"02","64",200,64,264,264000,"Wrocław",531.66,null,"5521579821"]
["","",null,null,null,null,"1203013",1203013,"Alwernia (3)",12391,null,"",{"$error":"#VALUE!"}," Miasta na prawach powiatu:",null,null,null,null,null,null,null,null,null,null,null,null,null,null,null,null,null,"02","05","05",2,200000,5000,50,2,205052,"PASZOWICE",1525.71,null,"02","65",200,65,265,265000,"Wałbrzych",238.25,null,"5521584963"]
[203011,"  Głogów..........................................................................................................................................................................................................................................................",3511,"",35,null,"1203014",1203014,"Alwernia - miasto (4)",3310,null,"",{"$error":"#VALUE!"}," Cities with powiat status:",null,null,null,null,null,null,null,null,null,null,null,null,null,null,null,null,null,"02","05","06",2,200000,5000,60,2,205062,"WĄDROŻE WIELKIE",1556.69,null,"04","01",400,1,401,401000,"aleksandrowski",192.53,null,"5521586100"]
["","",null,null,null,null,"1203015",1203015,"Alwernia - obszar wiejski (5)",9081,null,"0261",261000,"   Jelenia Góra",10922,109,79480,728,25,45,null,null,null,null,null,null,null,null,null,null,null,"02","06","01",1,200000,6000,10,1,206011,"KARPACZ",4022.79,null,"04","02",400,2,402,402000,"brodnicki",202.33,null,"5521588530"]
[203022,"  Głogów..........................................................................................................................................................................................................................................................",8479,"",85,null,"1203022",1203022,"Babice (2)",9051,null,"0262",262000,"   Legnica",5629,56,99752,1772,50,39,null,null,null,null,null,null,null,null,null,null,null,"02","06","02",1,200000,6000,20,1,206021,"KOWARY",1558.99,null,"04","03",400,3,403,403000,"bydgoski",364.53,null,"5521677860"]
[203032,"  Jerzmanowa..........................................................................................................................................................................................................................................................",6332,"",63,null,"1203033",1203033,"Chrzanów (3)",45797,null,"0265",265000,"   Wałbrzych",8470,85,112594,1329,34,33,null,null,null,null,null,null,null,null,null,null,null,"02","06","03",1,200000,6000,30,1,206031,"PIECHOWICE",2406.2199999999998,null,"04","04",400,4,404,404000,"chełmiński",197.82,null,"5521707153"]
[203042,"  Kotla..........................................................................................................................................................................................................................................................",12752,"",128,null,"1203034",1203034,"Chrzanów - miasto (4)",35651,null,"0264",264000,"   Wrocław",29282,293,640648,2188,5,4,null,null,null,null,null,null,null,null,null,null,null,"02","06","04",1,200000,6000,40,1,206041,"SZKLARSKA PORĘBA",2906.18,null,"04","05",400,5,405,405000,"golubsko-dobrzyński",188.95,null,"6281715276"]
[203052,"  Pęcław..........................................................................................................................................................................................................................................................",6427,"",64,null,"1203035",1203035,"Chrzanów - obszar wiejski (5)",10146,null,"",{"$error":"#VALUE!"},"WOJ. KUJAWSKO-POMORSKIE",null,null,null,null,null,null,null,null,null,null,null,null,null,null,null,null,null,"02","06","05",2,200000,6000,50,2,206052,"JANOWICE WIELKIE",1389.18,null,"04","06",400,6,406,406000,"grudziądzki",185.88,null,"6282074477"]
[203062,"  Żukowice..........................................................................................................................................................................................................................................................",6826,"",68,null,"1203043",1203043,"Libiąż (3)",21992,null,"",{"$error":"#VALUE!"}," Powiaty:",null,null,null,null,null,null,null,null,null,null,null,null,null,null,null,null,null,"02","06","06",2,200000,6000,60,2,206062,"JEŻÓW SUDECKI",1952.95,null,"04","07",400,7,407,407000,"inowrocławski",227.07,null,"6282260122"]
["","Powiat górowski  (4 gminy)",null,null,null,null,"1203044",1203044,"Libiąż - miasto (4)",16694,null,"",{"$error":"#VALUE!"}," Powiats:",null,null,null,null,null,null,null,null,null,null,null,null,null,null,null,null,null,"02","06","07",2,200000,6000,70,2,206072,"MYSŁAKOWICE",1732.17,null,"04","08",400,8,408,408000,"lipnowski",149.72,null,"6282260168"]
["","",null,null,null,null,"1203045",1203045,"Libiąż - obszar wiejski (5)",5298,null,"0401",401000,"   aleksandrowski",47463,475,55274,116,286,224,null,null,null,null,null,null,null,null,null,null,null,"02","06","08",2,200000,6000,80,2,206082,"PODGÓRZYN",2221.77,null,"04","09",400,9,409,409000,"mogileński",201.36,null,"6282260665"]
[204022,"  Jemielno..........................................................................................................................................................................................................................................................",12402,"",124,null,"1203053",1203053,"Trzebinia (3)",33361,null,"0402",402000,"   brodnicki",103997,1040,78898,76,116,131,null,null,null,null,null,null,null,null,null,null,null,"02","06","09",2,200000,6000,90,2,206092,"STARA KAMIENICA",2749.86,null,"04","10",400,10,410,410000,"nakielski",190.95,null,"6282267905"]
[204032,"  Niechlów..........................................................................................................................................................................................................................................................",15103,"",151,null,"1203054",1203054,"Trzebinia - miasto (4)",19242,null,"0403",403000,"   bydgoski",139412,1394,117325,84,48,51,null,null,null,null,null,null,null,null,null,null,null,"02","07","01",1,200000,7000,10,1,207011,"KAMIENNA GÓRA",1382.93,null,"04","11",400,11,411,411000,"radziejowski",159.81,null,"6371997976"]
["","",null,null,null,null,"1203055",1203055,"Trzebinia - obszar wiejski (5)",14119,null,"0404",404000,"   chełmiński",52694,527,52193,99,275,235,null,null,null,null,null,null,null,null,null,null,null,"02","07","02",2,200000,7000,20,2,207022,"KAMIENNA GÓRA",1464.65,null,"04","12",400,12,412,412000,"rypiński",169.07,null,"6371998042"]
[204013,"  Góra..........................................................................................................................................................................................................................................................",26611,"",266,null,"1204000",1204000,"Powiat dąbrowski",58665,null,"0405",405000,"   golubsko-dobrzyński",61285,613,45140,74,254,263,null,null,null,null,null,null,null,null,null,null,null,"02","07","03",3,200000,7000,30,3,207033,"LUBAWKA",1226.26,null,"04","13",400,13,413,413000,"sępoleński",150.22,null,"6371998059"]
[204014,"",1365,"",14,null,"1204012",1204012,"Bolesław (2)",2549,null,"0406",406000,"   grudziądzki",72776,728,40271,55,205,283,null,null,null,null,null,null,null,null,null,null,null,"02","07","04",2,200000,7000,40,2,207042,"MARCISZÓW",1099.54,null,"04","14",400,14,414,414000,"świecki",263.17,null,"6371998065"]
[204015,"",25246,"",252,null,"1204023",1204023,"Dąbrowa Tarnowska (3)",21160,null,"0407",407000,"   inowrocławski",122518,1225,160647,131,78,16,null,null,null,null,null,null,null,null,null,null,null,"02","08","01",1,200000,8000,10,1,208011,"DUSZNIKI-ZDRÓJ",2041.33,null,"04","15",400,15,415,415000,"toruński",259.52999999999997,null,"6372003423"]
[204043,"  Wąsosz..........................................................................................................................................................................................................................................................",19711,"",197,null,"1204024",1204024,"Dąbrowa Tarnowska - miasto (4)",11828,null,"0408",408000,"   lipnowski",101574,1016,66062,65,123,176,null,null,null,null,null,null,null,null,null,null,null,"02","08","02",1,200000,8000,20,1,208021,"KŁODZKO",1622.88,null,"04","16",400,16,416,416000,"tucholski",182.81,null,"6372024112"]
[204044,"",324,"",3,null,"1204025",1204025,"Dąbrowa Tarnowska - obszar wiejski (5)",9332,null,"0409",409000,"   mogileński",67512,675,45821,68,228,259,null,null,null,null,null,null,null,null,null,null,null,"02","08","03",1,200000,8000,30,1,208031,"KUDOWA-ZDRÓJ",1466.66,null,"04","17",400,17,417,417000,"wąbrzeski",178.6,null,"6372024678"]
[204045,"",19387,"",194,null,"1204032",1204032,"Gręboszów (2)",3265,null,"0410",410000,"   nakielski",112008,1120,86590,77,101,108,null,null,null,null,null,null,null,null,null,null,null,"02","08","04",1,200000,8000,40,1,208041,"NOWA RUDA",1427.07,null,"04","18",400,18,418,418000,"włocławski",185.18,null,"6590003697"]
["","Powiat jaworski  (6 gmin)",null,null,null,null,"1204042",1204042,"Mędrzechów (2)",3397,null,"0411",411000,"   radziejowski",60720,607,40714,67,256,281,null,null,null,null,null,null,null,null,null,null,null,"02","08","05",1,200000,8000,50,1,208051,"POLANICA-ZDRÓJ",2102.7199999999998,null,"04","19",400,19,419,419000,"żniński",191.98,null,"6591153915"]
["","",null,null,null,null,"1204052",1204052,"Olesno (2)",7881,null,"0412",412000,"   rypiński",58647,586,43826,75,259,267,null,null,null,null,null,null,null,null,null,null,null,"02","08","06",3,200000,8000,60,3,208063,"BYSTRZYCA KŁODZKA",1395.45,null,"04","61",400,61,461,461000,"Bydgoszcz",326.52999999999997,null,"6591174001"]
[205011,"  Jawor..........................................................................................................................................................................................................................................................",1880,"",19,null,"1204062",1204062,"Radgoszcz (2)",7427,null,"0413",413000,"   sępoleński",79109,791,41147,52,183,280,null,null,null,null,null,null,null,null,null,null,null,"02","08","07",2,200000,8000,70,2,208072,"KŁODZKO",1399.11,null,"04","62",400,62,462,462000,"Grudziądz",236.7,null,"6591184436"]
["","",null,null,null,null,"1204073",1204073,"Szczucin (3)",12986,null,"0414",414000,"   świecki",147418,1474,99281,67,39,80,null,null,null,null,null,null,null,null,null,null,null,"02","08","08",3,200000,8000,80,3,208083,"LĄDEK-ZDRÓJ",1399.92,null,"04","63",400,63,463,463000,"Toruń",347.22,null,"6591186961"]
[205032,"  Męcinka..........................................................................................................................................................................................................................................................",14778,"",148,null,"1204074",1204074,"Szczucin - miasto (4)",4097,null,"0415",415000,"   toruński",123042,1230,106935,87,77,73,null,null,null,null,null,null,null,null,null,null,null,"02","08","09",2,200000,8000,90,2,208092,"LEWIN KŁODZKI",1231.6099999999999,null,"04","64",400,64,464,464000,"Włocławek",266.73,null,"6591222510"]
[205042,"  Mściwojów..........................................................................................................................................................................................................................................................",7194,"",72,null,"1204075",1204075,"Szczucin - obszar wiejski (5)",8889,null,"0416",416000,"   tucholski",107546,1075,48374,45,107,248,null,null,null,null,null,null,null,null,null,null,null,"02","08","10",3,200000,8000,100,3,208103,"MIĘDZYLESIE",1085.3800000000001,null,"06","01",600,1,601,601000,"bialski",148.49,null,"6591545868"]
[205052,"  Paszowice..........................................................................................................................................................................................................................................................",10128,"",101,null,"1205000",1205000,"Powiat gorlicki",107832,null,"0417",417000,"   wąbrzeski",50195,502,34413,69,280,302,null,null,null,null,null,null,null,null,null,null,null,"02","08","11",2,200000,8000,110,2,208112,"NOWA RUDA",1237.23,null,"06","02",600,2,602,602000,"biłgorajski",146.1,null,"6591545880"]
[205062,"  Wądroże Wielkie..........................................................................................................................................................................................................................................................",8915,"",89,null,"1205011",1205011,"Gorlice (1)",26545,null,"0418",418000,"   włocławski",147363,1474,86352,59,40,109,null,null,null,null,null,null,null,null,null,null,null,"02","08","12",3,200000,8000,120,3,208123,"RADKÓW",1617.61,null,"06","03",600,3,603,603000,"chełmski",123.27,null,"6761013717"]
["","",null,null,null,null,"1205023",1205023,"Biecz (3)",16584,null,"0419",419000,"   żniński",98477,985,70413,72,132,163,null,null,null,null,null,null,null,null,null,null,null,"02","08","13",3,200000,8000,130,3,208133,"STRONIE ŚLĄSKIE",1621.17,null,"06","04",600,4,604,604000,"hrubieszowski",126.1,null,"6761706490"]
[205023,"  Bolków..........................................................................................................................................................................................................................................................",15260,"",153,null,"1205024",1205024,"Biecz - miasto (4)",4468,null,"",{"$error":"#VALUE!"}," Miasta na prawach powiatu:",null,null,null,null,null,null,null,null,null,null,null,null,null,null,null,null,null,"02","08","14",3,200000,8000,140,3,208143,"SZCZYTNA",1192.94,null,"06","05",600,5,605,605000,"janowski",150.75,null,"6762178337"]
[205024,"",768,"",8,null,"1205025",1205025,"Biecz - obszar wiejski (5)",12116,null,"",{"$error":"#VALUE!"}," Cities with powiat status:",null,null,null,null,null,null,null,null,null,null,null,null,null,null,null,null,null,"02","09","01",1,200000,9000,10,1,209011,"CHOJNÓW",1477.27,null,"06","06",600,6,606,606000,"krasnostawski",152.57,null,"6771024094"]
[205025,"",14492,"",145,null,"1205033",1205033,"Bobowa (3)",9788,null,"0461",461000,"   Bydgoszcz",17598,176,350178,1990,11,8,null,null,null,null,null,null,null,null,null,null,null,"02","09","02",2,200000,9000,20,2,209022,"CHOJNÓW",1994.32,null,"06","07",600,7,607,607000,"kraśnicki",151.1,null,"6771037576"]
["","Powiat jeleniogórski  (9 gmin)",null,null,null,null,"1205034",1205034,"Bobowa - miasto (4)",3101,null,"0462",462000,"   Grudziądz",5776,58,95045,1646,48,40,null,null,null,null,null,null,null,null,null,null,null,"02","09","03",2,200000,9000,30,2,209032,"KROTOSZYCE",2123.02,null,"06","08",600,8,608,608000,"lubartowski",162.83000000000001,null,"6772019451"]
["","",null,null,null,null,"1205035",1205035,"Bobowa - obszar wiejski (5)",6687,null,"0463",463000,"   Toruń",11572,116,202074,1746,22,15,null,null,null,null,null,null,null,null,null,null,null,"02","09","04",2,200000,9000,40,2,209042,"KUNICE",2856.92,null,"06","09",600,9,609,609000,"lubelski",236.51,null,"6772364194"]
[206011,"  Karpacz..........................................................................................................................................................................................................................................................",3799,"",38,null,"1205042",1205042,"Gorlice (2)",17236,null,"0464",464000,"   Włocławek",8432,84,110802,1314,35,34,null,null,null,null,null,null,null,null,null,null,null,"02","09","05",2,200000,9000,50,2,209052,"LEGNICKIE POLE",4135.01,null,"06","10",600,10,610,610000,"łęczyński",211.45,null,"6791023301"]
[206021,"  Kowary..........................................................................................................................................................................................................................................................",3739,"",37,null,"1205052",1205052,"Lipinki (2)",6783,null,"",{"$error":"#VALUE!"},"WOJ. LUBELSKIE",null,null,null,null,null,null,null,null,null,null,null,null,null,null,null,null,null,"02","09","06",2,200000,9000,60,2,209062,"MIŁKOWICE",1928.45,null,"06","11",600,11,611,611000,"łukowski",183.56,null,"6811004414"]
[206031,"  Piechowice..........................................................................................................................................................................................................................................................",4322,"",43,null,"1205062",1205062,"Łużna (2)",8521,null,"",{"$error":"#VALUE!"}," Powiaty:",null,null,null,null,null,null,null,null,null,null,null,null,null,null,null,null,null,"02","09","07",3,200000,9000,70,3,209073,"PROCHOWICE",2057.63,null,"06","12",600,12,612,612000,"opolski",129,null,"6811004443"]
[206041,"  Szklarska Poręba..........................................................................................................................................................................................................................................................",7544,"",75,null,"1205072",1205072,"Moszczenica (2)",5000,null,"",{"$error":"#VALUE!"}," Powiats:",null,null,null,null,null,null,null,null,null,null,null,null,null,null,null,null,null,"02","09","08",2,200000,9000,80,2,209082,"RUJA",1503.23,null,"06","13",{"$f":"AR70*100","v":600},{"$f":"+AS70*1","v":13},{"$f":"AT70+AU70","v":613},{"$f":"AV70*1000","v":613000},"parczewski",158.58000000000001,null,"6811036147"]
["","",null,null,null,null,"1205082",1205082,"Ropa (2)",5537,null,"0601",601000,"   bialski",275426,2754,111391,40,3,64,null,null,null,null,null,null,null,null,null,null,null,"02","10","01",1,200000,10000,10,1,210011,"LUBAŃ",1678.83,null,"06","14",600,14,614,614000,"puławski",232.6,null,"6811299390"]
[206052,"  Janowice Wielkie..........................................................................................................................................................................................................................................................",5783,"",58,null,"1205092",1205092,"Sękowa (2)",4938,null,"0602",602000,"   biłgorajski",168110,1681,101435,60,20,79,null,null,null,null,null,null,null,null,null,null,null,"02","10","02",1,{"$f":"AF72*100000","v":200000},{"$f":"AG72*1000","v":10000},{"$f":"AH72*10","v":20},{"$f":"AI72*1","v":1},{"$f":"SUM(AJ72:AM72)","v":210021},"ŚWIERADÓW-ZDRÓJ",2416.0100000000002,null,"06","15",600,15,615,615000,"radzyński",149.84,null,"6811304607"]
[206062,"  Jeżów Sudecki..........................................................................................................................................................................................................................................................",9428,"",94,null,"1205102",1205102,"Uście Gorlickie (2)",6900,null,"0603",{"$f":"L73*1000","v":603000},"   chełmski",188560,1886,78228,41,11,134,null,null,null,null,null,null,null,null,null,null,null,"02","10","03",3,200000,10000,30,3,210033,"LEŚNA",1028.43,null,"06","16",600,16,616,616000,"rycki",210.62,null,"6811355131"]
[206072,"  Mysłakowice..........................................................................................................................................................................................................................................................",8798,"",88,null,"1206000",1206000,"Powiat krakowski",283812,null,"0604",604000,"   hrubieszowski",126802,1268,63698,50,70,186,null,null,null,null,null,null,null,null,null,null,null,"02","10","04",2,200000,10000,40,2,210042,"LUBAŃ",1547,null,"06","17",600,17,617,617000,"świdnicki",230.15,null,"6811359293"]
[206082,"  Podgórzyn..........................................................................................................................................................................................................................................................",8251,"",83,null,"1206012",1206012,"Czernichów (2)",14818,null,"0605",605000,"   janowski",87528,876,46057,53,160,257,null,null,null,null,null,null,null,null,null,null,null,"02","10","05",3,200000,10000,50,3,210053,"OLSZYNA",1513.9,null,"06","18",600,18,618,618000,"tomaszowski",136.97999999999999,null,"6811381938"]
[206092,"  Stara Kamienica..........................................................................................................................................................................................................................................................",11050,"",111,null,"1206022",1206022,"Igołomia-Wawrzeńczyce (2)",7686,null,"0606",606000,"   krasnostawski",103144,1032,63925,62,118,183,null,null,null,null,null,null,null,null,null,null,null,"02","10","06",2,200000,10000,60,2,210062,"PLATERÓWKA",2229.1799999999998,null,"06","19",600,19,619,619000,"włodawski",148.13,null,"6811692325"]
["","Powiat kamiennogórski  (4 gminy)",null,null,null,null,"1206032",1206032,"Iwanowice (2)",9265,null,"0607",607000,"   kraśnicki",100530,1005,96043,96,127,87,null,null,null,null,null,null,null,null,null,null,null,"02","10","07",2,200000,10000,70,2,210072,"SIEKIERCZYN",1284.42,null,"06","20",600,20,620,620000,"zamojski",142.55000000000001,null,"6821436782"]
["","",null,null,null,null,"1206042",1206042,"Jerzmanowice-Przeginia (2)",10924,null,"0608",608000,"   lubartowski",128874,1289,88789,69,66,102,null,null,null,null,null,null,null,null,null,null,null,"02","11","01",1,200000,11000,10,1,211011,"LUBIN",2721.82,null,"06","61",600,61,661,661000,"Biała Podlaska",245.34,null,"6821604469"]
[207011,"  Kamienna Góra..........................................................................................................................................................................................................................................................",1804,"",18,null,"1206052",1206052,"Kocmyrzów-Luborzyca (2)",16232,null,"0609",609000,"   lubelski",167953,1680,154387,92,21,21,null,null,null,null,null,null,null,null,null,null,null,"02","11","02",2,200000,11000,20,2,211022,"LUBIN",3998.11,null,"06","62",600,62,662,662000,"Chełm",233.8,null,"6821604831"]
["","",null,null,null,null,"1206063",1206063,"Krzeszowice (3)",31970,null,"0610",610000,"   łęczyński",63664,637,57457,90,241,207,null,null,null,null,null,null,null,null,null,null,null,"02","11","03",2,200000,11000,30,2,211032,"RUDNA",5236.62,null,"06","63",600,63,663,663000,"Lublin",352.56,null,"6821605658"]
[207022,"  Kamienna Góra..........................................................................................................................................................................................................................................................",15803,"",158,null,"1206064",1206064,"Krzeszowice - miasto (4)",9917,null,"0611",611000,"   łukowski",139421,1394,107449,77,47,71,null,null,null,null,null,null,null,null,null,null,null,"02","11","04",3,200000,11000,40,3,211043,"ŚCINAWA",1622.74,null,"06","64",600,64,664,664000,"Zamość",249.43,null,"6821606646"]
[207042,"  Marciszów..........................................................................................................................................................................................................................................................",8157,"",82,null,"1206065",1206065,"Krzeszowice - obszar wiejski (5)",22053,null,"0612",612000,"   opolski",81002,810,59726,74,176,198,null,null,null,null,null,null,null,null,null,null,null,"02","12","01",3,200000,12000,10,3,212013,"GRYFÓW ŚLĄSKI",1279.3800000000001,null,"08","01",800,1,801,801000,"gorzowski",281.32,null,"6821634453"]
["","",null,null,null,null,"1206072",1206072,"Liszki (2)",17599,null,"0613",613000,"   parczewski",95220,952,34954,37,142,300,null,null,null,null,null,null,null,null,null,null,null,"02","12","02",3,200000,12000,20,3,212023,"LUBOMIERZ",932.88,null,"08","02",800,2,802,802000,"krośnieński",199.24,null,"6821635547"]
[207033,"  Lubawka..........................................................................................................................................................................................................................................................",13805,"",138,null,"1206082",1206082,"Michałowice (2)",11141,null,"0614",614000,"   puławski",93409,934,113762,122,146,59,null,null,null,null,null,null,null,null,null,null,null,"02","12","03",3,200000,12000,30,3,212033,"LWÓWEK ŚLĄSKI",1592.8,null,"08","03",800,3,803,803000,"międzyrzecki",216.03,null,"6821642228"]
[207034,"",2244,"",22,null,"1206092",1206092,"Mogilany (2)",14660,null,"0615",615000,"   radzyński",96506,965,59278,61,138,201,null,null,null,null,null,null,null,null,null,null,null,"02","12","04",3,200000,12000,40,3,212043,"MIRSK",1222.6500000000001,null,"08","04",800,4,804,804000,"nowosolski",200.14,null,"6821762292"]
[207035,"",11561,"",116,null,"1206103",1206103,"Skała (3)",10604,null,"0616",616000,"   rycki",61453,615,56166,91,253,217,null,null,null,null,null,null,null,null,null,null,null,"02","12","05",3,200000,12000,50,3,212053,"WLEŃ",1147.81,null,"08","05",800,5,805,805000,"słubicki",229.57,null,"6821773580"]
["","Powiat kłodzki  (14 gmin)",null,null,null,null,"1206104",1206104,"Skała - miasto (4)",3794,null,"0617",617000,"   świdnicki",46835,468,72039,154,289,158,null,null,null,null,null,null,null,null,null,null,null,"02","13","01",2,200000,13000,10,2,213012,"CIESZKÓW",1425.5,null,"08","06",800,6,806,806000,"strzelecko-drezdenecki",191.28,null,"6821773870"]
["","",null,null,null,null,"1206105",1206105,"Skała - obszar wiejski (5)",6810,null,"0618",618000,"   tomaszowski",148889,1489,83715,56,37,117,null,null,null,null,null,null,null,null,null,null,null,"02","13","02",2,200000,13000,20,2,213022,"KROŚNICE",2500.71,null,"08","07",800,7,807,807000,"sulęciński",206.23,null,"6830011450"]
[208011,"  Duszniki-Zdrój..........................................................................................................................................................................................................................................................",2228,"",22,null,"1206113",1206113,"Skawina (3)",43789,null,"0619",619000,"   włodawski",125642,1256,38668,31,73,289,null,null,null,null,null,null,null,null,null,null,null,"02","13","03",3,200000,13000,30,3,213033,"MILICZ",1738.69,null,"08","08",800,8,808,808000,"świebodziński",248,null,"6831006563"]
[208021,"  Kłodzko..........................................................................................................................................................................................................................................................",2484,"",25,null,"1206114",1206114,"Skawina - miasto (4)",24294,null,"0620",620000,"   zamojski",187029,1870,106935,57,12,73,null,null,null,null,null,null,null,null,null,null,null,"02","14","01",1,200000,14000,10,1,214011,"OLEŚNICA",1851.97,null,"08","09",800,9,809,809000,"zielonogórski",239.2,null,"6831395375"]
[208031,"  Kudowa-Zdrój..........................................................................................................................................................................................................................................................",3390,"",34,null,"1206115",1206115,"Skawina - obszar wiejski (5)",19495,null,"",{"$error":"#VALUE!"}," Miasta na prawach powiatu:",null,null,null,null,null,null,null,null,null,null,null,null,null,null,null,null,null,"02","14","02",3,200000,14000,20,3,214023,"BIERUTÓW",1329.24,null,"08","10",800,10,810,810000,"żagański",196.57,null,"6831511752"]
[208041,"  Nowa Ruda..........................................................................................................................................................................................................................................................",3705,"",37,null,"1206123",1206123,"Słomniki (3)",13512,null,"",{"$error":"#VALUE!"}," Cities with powiat status:",null,null,null,null,null,null,null,null,null,null,null,null,null,null,null,null,null,"02","14","03",2,200000,14000,30,2,214032,"DOBROSZYCE",1987.97,null,"08","11",800,11,811,811000,"żarski",215.96,null,"6831573055"]
[208051,"  Polanica-Zdrój..........................................................................................................................................................................................................................................................",1722,"",17,null,"1206124",1206124,"Słomniki - miasto (4)",4279,null,"0661",661000,"   Biała Podlaska",4940,49,57352,1161,51,58,null,null,null,null,null,null,null,null,null,null,null,"02","14","04",2,200000,14000,40,2,214042,"DZIADOWA KŁODA",1168.45,null,"08","12",800,12,812,812000,"wschowski",198.83,null,"6831718453"]
["","",null,null,null,null,"1206125",1206125,"Słomniki - obszar wiejski (5)",9233,null,"0662",662000,"   Chełm",3528,35,62670,1776,56,55,null,null,null,null,null,null,null,null,null,null,null,"02","14","05",3,200000,14000,50,3,214053,"MIĘDZYBÓRZ",1721.14,null,"08","61",800,61,861,861000,"Gorzów Wielkopolski",290.82,null,"6831742730"]
[208072,"  Kłodzko..........................................................................................................................................................................................................................................................",25325,"",252,null,"1206132",1206132,"Sułoszowa (2)",5749,null,"0663",663000,"   Lublin",14747,148,339682,2303,17,9,null,null,null,null,null,null,null,null,null,null,null,"02","14","06",2,200000,14000,60,2,214062,"OLEŚNICA",2292.7600000000002,null,"08","62",800,62,862,862000,"Zielona Góra",409.4,null,"6851648081"]
[208092,"  Lewin Kłodzki..........................................................................................................................................................................................................................................................",5214,"",52,null,"1206143",1206143,"Świątniki Górne (3)",10405,null,"0664",664000,"   Zamość",3034,30,63813,2103,62,53,null,null,null,null,null,null,null,null,null,null,null,"02","14","07",3,200000,14000,70,3,214073,"SYCÓW",1719.35,null,"10","01",1000,1,1001,1001000,"bełchatowski",336.71,null,"7341009655"]
[208112,"  Nowa Ruda..........................................................................................................................................................................................................................................................",13967,"",140,null,"1206144",1206144,"Świątniki Górne - miasto (4)",2440,null,"",{"$error":"#VALUE!"},"WOJ. LUBUSKIE",null,null,null,null,null,null,null,null,null,null,null,null,null,null,null,null,null,"02","14","08",3,200000,14000,80,3,214083,"TWARDOGÓRA",2251.0100000000002,null,"10","02",1000,2,1002,1002000,"kutnowski",246.02,null,"7343445768"]
["","",null,null,null,null,"1206145",1206145,"Świątniki Górne - obszar wiejski (5)",7965,null,"",{"$error":"#VALUE!"}," Powiaty:",null,null,null,null,null,null,null,null,null,null,null,null,null,null,null,null,null,"02","15","01",1,200000,15000,10,1,215011,"OŁAWA",2167.52,null,"10","03",1000,3,1003,1003000,"łaski",236.71,null,"7343450806"]
[208063,"  Bystrzyca Kłodzka..........................................................................................................................................................................................................................................................",33853,"",339,null,"1206152",1206152,"Wielka Wieś (2)",13690,null,"",{"$error":"#VALUE!"}," Powiats:",null,null,null,null,null,null,null,null,null,null,null,null,null,null,null,null,null,"02","15","02",2,200000,15000,20,2,215022,"DOMANIÓW",1668.05,null,"10","04",1000,4,1004,1004000,"łęczycki",185.27,null,"7343456306"]
[208064,"",1074,"",11,null,"1206162",1206162,"Zabierzów (2)",27432,null,"0801",801000,"   gorzowski",121423,1214,71549,59,83,161,null,null,null,null,null,null,null,null,null,null,null,"02","15","03",3,200000,15000,30,3,215033,"JELCZ-LASKOWICE",2641.59,null,"10","05",1000,5,1005,1005000,"łowicki",227.38,null,"7343472601"]
[208065,"",32779,"",328,null,"1206172",1206172,"Zielonki (2)",24336,null,"0802",802000,"   krośnieński",139125,1391,55245,40,50,225,null,null,null,null,null,null,null,null,null,null,null,"02","15","04",2,200000,15000,40,2,215042,"OŁAWA",3072.63,null,"10","06",1000,6,1006,1006000,"łódzki wschodni",373.04,null,"7343472848"]
[208083,"  Lądek-Zdrój..........................................................................................................................................................................................................................................................",11727,"",117,null,"1207000",1207000,"Powiat limanowski",132284,null,"0803",803000,"   międzyrzecki",138761,1388,58024,42,51,204,null,null,null,null,null,null,null,null,null,null,null,"02","16","01",3,200000,16000,10,3,216013,"CHOCIANÓW",1773.03,null,"10","07",1000,7,1007,1007000,"opoczyński",184.57,null,"7343482812"]
[208084,"",2032,"",20,null,"1207011",1207011,"Limanowa (1)",15012,null,"0804",804000,"   nowosolski",77073,771,86634,112,192,107,null,null,null,null,null,null,null,null,null,null,null,"02","16","02",2,200000,16000,20,2,216022,"GAWORZYCE",1411.93,null,"10","08",1000,8,1008,1008000,"pabianicki",323.38,null,"7343483272"]
[208085,"",9695,"",97,null,"1207021",1207021,"Mszana Dolna (1)",7875,null,"0805",805000,"   słubicki",99929,999,47101,47,129,254,null,null,null,null,null,null,null,null,null,null,null,"02","16","03",2,200000,16000,30,2,216032,"GRĘBOCICE",5980.14,null,"10","09",1000,9,1009,1009000,"pajęczański",224.27,null,"7343507021"]
[208103,"  Międzylesie..........................................................................................................................................................................................................................................................",18875,"",189,null,"1207032",1207032,"Dobra (2)",10039,null,"0806",806000,"   strzelecko-drezdenecki",124786,1248,49366,40,75,244,null,null,null,null,null,null,null,null,null,null,null,"02","16","04",3,200000,16000,40,3,216043,"POLKOWICE",6585.53,null,"10","10",1000,10,1010,1010000,"piotrkowski",202.85,null,"7343514742"]
[208104,"",1437,"",14,null,"1207042",1207042,"Jodłownik (2)",8755,null,"0807",807000,"   sulęciński",117780,1178,35297,30,89,298,null,null,null,null,null,null,null,null,null,null,null,"02","16","05",3,200000,16000,50,3,216053,"PRZEMKÓW",1384.46,null,"10","11",1000,11,1011,1011000,"poddębicki",196.08,null,"7343514860"]
[208105,"",17438,"",175,null,"1207052",1207052,"Kamienica (2)",7888,null,"0808",808000,"   świebodziński",93657,937,55840,60,145,219,null,null,null,null,null,null,null,null,null,null,null,"02","16","06",2,200000,16000,60,2,216062,"RADWANICE",3528.82,null,"10","12",1000,12,1012,1012000,"radomszczański",235.64,null,"7343515546"]
[208123,"  Radków..........................................................................................................................................................................................................................................................",13995,"",140,null,"1207062",1207062,"Laskowa (2)",8201,null,"0812",812000,"   wschowski",62420,624,39065,63,244,287,null,null,null,null,null,null,null,null,null,null,null,"02","17","01",2,200000,17000,10,2,217012,"BORÓW",1660.32,null,"10","13",1000,13,1013,1013000,"rawski",245.9,null,"7343517410"]
[208124,"",1503,"",15,null,"1207072",1207072,"Limanowa (2)",25904,null,"0809",809000,"   zielonogórski",134975,1350,75750,56,58,146,null,null,null,null,null,null,null,null,null,null,null,"02","17","02",2,200000,17000,20,2,217022,"KONDRATOWICE",1750.76,null,"10","14",1000,14,1014,1014000,"sieradzki",215.57,null,"7343517947"]
[208125,"",12492,"",125,null,"1207082",1207082,"Łukowica (2)",10216,null,"0810",810000,"   żagański",113182,1132,79583,70,98,125,null,null,null,null,null,null,null,null,null,null,null,"02","17","03",2,200000,17000,30,2,217032,"PRZEWORNO",1239.17,null,"10","15",1000,15,1015,1015000,"skierniewicki",197.84,null,"7343543100"]
[208133,"  Stronie Śląskie..........................................................................................................................................................................................................................................................",14608,"",146,null,"1207092",1207092,"Mszana Dolna (2)",17575,null,"0811",811000,"   żarski",139278,1393,96876,70,49,86,null,null,null,null,null,null,null,null,null,null,null,"02","17","04",3,200000,17000,40,3,217043,"STRZELIN",2317.85,null,"10","16",1000,16,1016,1016000,"tomaszowski",243.97,null,"7343543904"]
[208134,"",238,"",2,null,"1207102",1207102,"Niedźwiedź (2)",7366,null,"",{"$error":"#VALUE!"}," Miasta na prawach powiatu:",null,null,null,null,null,null,null,null,null,null,null,null,null,null,null,null,null,"02","17","05",3,200000,17000,50,3,217053,"WIĄZÓW",1443.02,null,"10","17",1000,17,1017,1017000,"wieluński",209.04,null,"7343544080"]
[208135,"",14370,"",144,null,"1207112",1207112,"Słopnice (2)",6851,null,"",{"$error":"#VALUE!"}," Cities with powiat status:",null,null,null,null,null,null,null,null,null,null,null,null,null,null,null,null,null,"02","18","01",2,200000,18000,10,2,218012,"KOSTOMŁOTY",1698.61,null,"10","18",1000,18,1018,1018000,"wieruszowski",233.72,null,"7350014012"]
[208143,"  Szczytna..........................................................................................................................................................................................................................................................",13237,"",132,null,"1207122",1207122,"Tymbark (2)",6602,null,"0861",861000,"   Gorzów Wielkopolski",8572,86,123921,1446,31,29,null,null,null,null,null,null,null,null,null,null,null,"02","18","02",2,200000,18000,20,2,218022,"MALCZYCE",1352.39,null,"10","19",1000,19,1019,1019000,"zduńskowolski",240.56,null,"7351006084"]
[208144,"",8038,"",80,null,"1208000",1208000,"Powiat miechowski",48047,null,"0862",862000,"   Zielona Góra",27832,277,140297,504,6,24,null,null,null,null,null,null,null,null,null,null,null,"02","18","03",2,200000,18000,30,2,218032,"MIĘKINIA",3134.06,null,"10","20",1000,20,1020,1020000,"zgierski",299.72000000000003,null,"7351026738"]
[208145,"",5199,"",52,null,"1208012",1208012,"Charsznica (2)",7304,null,"",{"$error":"#VALUE!"},"WOJ. ŁÓDZKIE",null,null,null,null,null,null,null,null,null,null,null,null,null,null,null,null,null,"02","18","04",3,200000,18000,40,3,218043,"ŚRODA ŚLĄSKA",2524.46,null,"10","21",1000,21,1021,1021000,"brzeziński",242.32,null,"7351071414"]
["","Powiat legnicki  (8 gmin)",null,null,null,null,"1208022",1208022,"Gołcza (2)",6042,null,"",{"$error":"#VALUE!"}," Powiaty:",null,null,null,null,null,null,null,null,null,null,null,null,null,null,null,null,null,"02","18","05",2,200000,18000,50,2,218052,"UDANIN",1477.89,null,"10","61",1000,61,1061,1061000,"Łódź",391.82,null,"7352175044"]
["","",null,null,null,null,"1208032",1208032,"Kozłów (2)",4531,null,"",{"$error":"#VALUE!"}," Powiats:",null,null,null,null,null,null,null,null,null,null,null,null,null,null,null,null,null,"02","19","01",1,200000,19000,10,1,219011,"ŚWIDNICA",2093.35,null,"10","62",1000,62,1062,1062000,"Piotrków Trybunalski",314.2,null,"7352703193"]
[209011,"  Chojnów..........................................................................................................................................................................................................................................................",532,"↓",5,null,"1208042",1208042,"Książ Wielki (2)",4997,null,"1001",1001000,"   bełchatowski",96760,968,112997,117,136,61,null,null,null,null,null,null,null,null,null,null,null,"02","19","02",1,200000,19000,20,1,219021,"ŚWIEBODZICE",1925.76,null,"10","63",1000,63,1063,1063000,"Skierniewice",367,null,"7352833352"]
["","",null,null,null,null,"1208053",1208053,"Miechów (3)",19257,null,"1021",1021000,"   brzeziński",35856,359,30890,86,308,308,null,null,null,null,null,null,null,null,null,null,null,"02","19","03",2,200000,19000,30,2,219032,"DOBROMIERZ",1579.77,null,"12","01",1200,1,1201,1201000,"bocheński",229.56,null,"7352834179"]
[209022,"  Chojnów..........................................................................................................................................................................................................................................................",23092,"",231,null,"1208054",1208054,"Miechów - miasto (4)",11364,null,"1002",1002000,"   kutnowski",88686,887,97295,110,155,85,null,null,null,null,null,null,null,null,null,null,null,"02","19","04",3,200000,19000,40,3,219043,"JAWORZYNA ŚLĄSKA",1543.36,null,"12","02",1200,2,1202,1202000,"brzeski",190.25,null,"7352834759"]
[209032,"  Krotoszyce..........................................................................................................................................................................................................................................................",6750,"",67,null,"1208055",1208055,"Miechów - obszar wiejski (5)",7893,null,"1003",1003000,"   łaski",61823,618,50103,81,248,242,null,null,null,null,null,null,null,null,null,null,null,"02","19","05",2,200000,19000,50,2,219052,"MARCINOWICE",1700.5,null,"12","03",1200,3,1203,1203000,"chrzanowski",290.35000000000002,null,"7352841452"]
[209042,"  Kunice..........................................................................................................................................................................................................................................................",9266,"",93,null,"1208062",1208062,"Racławice (2)",2471,null,"1004",1004000,"   łęczycki",77275,773,50143,65,188,241,null,null,null,null,null,null,null,null,null,null,null,"02","19","06",3,200000,19000,60,3,219063,"STRZEGOM",2275.9499999999998,null,"12","04",1200,4,1204,1204000,"dąbrowski",129.80000000000001,null,"7352843273"]
[209052,"  Legnickie Pole..........................................................................................................................................................................................................................................................",8524,"",85,null,"1208072",1208072,"Słaboszów (2)",3445,null,"1005",1005000,"   łowicki",98817,988,78616,80,131,132,null,null,null,null,null,null,null,null,null,null,null,"02","19","07",2,200000,19000,70,2,219072,"ŚWIDNICA",1991.42,null,"12","05",1200,5,1205,1205000,"gorlicki",163.47999999999999,null,"7352849761"]
[209062,"  Miłkowice..........................................................................................................................................................................................................................................................",8663,"",87,null,"1209000",1209000,"Powiat myślenicki",128239,null,"1006",1006000,"   łódzki wschodni",49976,500,71705,143,281,159,null,null,null,null,null,null,null,null,null,null,null,"02","19","08",3,200000,19000,80,3,219083,"ŻARÓW",2298.16,null,"12","06",1200,6,1206,1206000,"krakowski",374.69,null,"7352851410"]
[209082,"  Ruja..........................................................................................................................................................................................................................................................",7330,"",73,null,"1209013",1209013,"Dobczyce (3)",15359,null,"1007",1007000,"   opoczyński",104019,1040,76623,74,114,141,null,null,null,null,null,null,null,null,null,null,null,"02","20","01",3,200000,20000,10,3,220013,"OBORNIKI ŚLĄSKIE",2044.36,null,"12","07",1200,7,1207,1207000,"limanowski",178.29,null,"7352854845"]
["","",null,null,null,null,"1209014",1209014,"Dobczyce - miasto (4)",6388,null,"1008",1008000,"   pabianicki",49218,492,119289,242,283,48,null,null,null,null,null,null,null,null,null,null,null,"02","20","02",3,200000,20000,20,3,220023,"PRUSICE",1719.79,null,"12","08",1200,8,1208,1208000,"miechowski",172.68,null,"7352856459"]
[209073,"  Prochowice..........................................................................................................................................................................................................................................................",10251,"",103,null,"1209015",1209015,"Dobczyce - obszar wiejski (5)",8971,null,"1009",1009000,"   pajęczański",80382,804,51597,64,179,238,null,null,null,null,null,null,null,null,null,null,null,"02","20","03",3,200000,20000,30,3,220033,"TRZEBNICA",1977.55,null,"12","09",1200,9,1209,1209000,"myślenicki",231.47,null,"7360007798"]
[209074,"",985,"",10,null,"1209022",1209022,"Lubień (2)",10090,null,"1010",1010000,"   piotrkowski",142874,1429,91315,64,43,94,null,null,null,null,null,null,null,null,null,null,null,"02","20","04",2,200000,20000,40,2,220042,"WISZNIA MAŁA",2994.39,null,"12","10",1200,10,1210,1210000,"nowosądecki",178.16,null,"7361198317"]
[209075,"",9266,"",93,null,"1209033",1209033,"Myślenice (3)",44668,null,"1011",1011000,"   poddębicki",88121,881,41205,47,156,279,null,null,null,null,null,null,null,null,null,null,null,"02","20","05",2,200000,20000,50,2,220052,"ZAWONIA",2855.28,null,"12","11",1200,11,1211,1211000,"nowotarski",156.56,null,"7361699456"]
["","Powiat lubański  (7 gmin)",null,null,null,null,"1209034",1209034,"Myślenice - miasto (4)",18265,null,"1012",1012000,"   radomszczański",144257,1443,113315,79,42,60,null,null,null,null,null,null,null,null,null,null,null,"02","20","06",3,200000,20000,60,3,220063,"ŻMIGRÓD",1572.8,null,"12","12",1200,12,1212,1212000,"olkuski",305.58999999999997,null,"7361705814"]
["","",null,null,null,null,"1209035",1209035,"Myślenice - obszar wiejski (5)",26403,null,"1013",1013000,"   rawski",64620,646,48808,76,236,246,null,null,null,null,null,null,null,null,null,null,null,"02","21","01",1,200000,21000,10,1,221011,"BOGUSZÓW-GORCE",1039.06,null,"12","13",1200,13,1213,1213000,"oświęcimski",282.72000000000003,null,"7361717220"]
[210011,"  Lubań..........................................................................................................................................................................................................................................................",1612,"",16,null,"1209042",1209042,"Pcim (2)",11102,null,"1014",1014000,"   sieradzki",149083,1491,118240,79,36,50,null,null,null,null,null,null,null,null,null,null,null,"02","21","02",1,200000,21000,20,1,221021,"JEDLINA-ZDRÓJ",1369.88,null,"12","14",1200,14,1214,1214000,"proszowicki",162,null,"7361717680"]
[210021,"  Świeradów-Zdrój..........................................................................................................................................................................................................................................................",2072,"",21,null,"1209052",1209052,"Raciechowice (2)",6457,null,"1015",1015000,"   skierniewicki",75338,753,38195,51,193,291,null,null,null,null,null,null,null,null,null,null,null,"02","21","03",1,200000,21000,30,1,221031,"SZCZAWNO-ZDRÓJ",2525.63,null,"12","15",{"$f":"AR134*100","v":1200},{"$f":"+AS134*1","v":15},{"$f":"AT134+AU134","v":1215},{"$f":"AV134*1000","v":1215000},"suski",198.83,null,"7361720593"]
["","",null,null,null,null,"1209062",1209062,"Siepraw (2)",9183,null,"1016",1016000,"   tomaszowski",102479,1025,117259,114,120,52,null,null,null,null,null,null,null,null,null,null,null,"02","21","04",2,200000,21000,40,2,221042,"CZARNY BÓR",2075.0500000000002,null,"12","16",1200,16,1216,1216000,"tarnowski",173.85,null,"7371004591"]
[210042,"  Lubań..........................................................................................................................................................................................................................................................",14234,"",142,null,"1209073",1209073,"Sułkowice (3)",15152,null,"1017",1017000,"   wieluński",92648,926,76699,83,148,140,null,null,null,null,null,null,null,null,null,null,null,"02","21","05",3,{"$f":"AF136*100000","v":200000},{"$f":"AG136*1000","v":21000},{"$f":"AH136*10","v":50},{"$f":"AI136*1","v":3},{"$f":"SUM(AJ136:AM136)","v":221053},"GŁUSZYCA",1033.1199999999999,null,"12","17",1200,17,1217,1217000,"tatrzański",216.67,null,"7371005969"]
[210062,"  Platerówka..........................................................................................................................................................................................................................................................",4790,"",48,null,"1209074",1209074,"Sułkowice - miasto (4)",6641,null,"1018",{"$f":"L137*1000","v":1018000},"   wieruszowski",57713,577,42213,73,263,274,null,null,null,null,null,null,null,null,null,null,null,"02","21","06",3,200000,21000,60,3,221063,"MIEROSZÓW",1650.1,null,"12","18",1200,18,1218,1218000,"wadowicki",242.52,null,"7371007419"]
[210072,"  Siekierczyn..........................................................................................................................................................................................................................................................",4950,"",49,null,"1209075",1209075,"Sułkowice - obszar wiejski (5)",8511,null,"1019",1019000,"   zduńskowolski",36923,369,66766,181,305,171,null,null,null,null,null,null,null,null,null,null,null,"02","21","07",2,200000,21000,70,2,221072,"STARE BOGACZOWICE",1454.09,null,"12","19",1200,19,1219,1219000,"wielicki",352.54,null,"7371008784"]
["","",null,null,null,null,"1209082",1209082,"Tokarnia (2)",8816,null,"1020",1020000,"   zgierski",85518,855,165916,194,162,12,null,null,null,null,null,null,null,null,null,null,null,"02","21","08",2,200000,21000,80,2,221082,"WALIM",1768.37,null,"12","61",1200,61,1261,1261000,"Kraków",528.66,null,"7371008991"]
[210033,"  Leśna..........................................................................................................................................................................................................................................................",10460,"",105,null,"1209092",1209092,"Wiśniowa (2)",7412,null,"",{"$error":"#VALUE!"}," Miasta na prawach powiatu:",null,null,null,null,null,null,null,null,null,null,null,null,null,null,null,null,null,"02","22","01",3,200000,22000,10,3,222013,"BRZEG DOLNY",2821.88,null,"12","62",1200,62,1262,1262000,"Nowy Sącz",348.78,null,"7371022962"]
[210034,"",856,"",9,null,"1210000",1210000,"Powiat nowosądecki",217117,null,"",{"$error":"#VALUE!"}," Cities with powiat status:",null,null,null,null,null,null,null,null,null,null,null,null,null,null,null,null,null,"02","22","02",2,200000,22000,20,2,222022,"WIŃSKO",1196.71,null,"12","63",1200,63,1263,1263000,"Tarnów",283.61,null,"7371152618"]
[210035,"",9604,"",96,null,"1210011",1210011,"Grybów (1)",5937,null,"1061",1061000,"   Łódź",29325,293,685285,2337,4,3,null,null,null,null,null,null,null,null,null,null,null,"02","22","03",3,200000,22000,30,3,222033,"WOŁÓW",1572.44,null,"14","01",1400,1,1401,1401000,"białobrzeski",170.16,null,"7371188119"]
[210053,"  Olszyna..........................................................................................................................................................................................................................................................",4712,"",47,null,"1210022",1210022,"Chełmiec (2)",29157,null,"1062",1062000,"   Piotrków Trybunalski",6724,67,73670,1096,44,49,null,null,null,null,null,null,null,null,null,null,null,"02","23","01",2,200000,23000,10,2,223012,"CZERNICA",2715.24,null,"14","02",1400,2,1402,1402000,"ciechanowski",247.54,null,"7371193876"]
[210054,"",2026,"",20,null,"1210032",1210032,"Gródek nad Dunajcem (2)",9199,null,"1063",1063000,"   Skierniewice",3460,35,48178,1392,57,62,null,null,null,null,null,null,null,null,null,null,null,"02","23","02",2,200000,23000,20,2,223022,"DŁUGOŁĘKA",3144.1,null,"14","03",1400,3,1403,1403000,"garwoliński",226.41,null,"7371283697"]
[210055,"",2686,"",27,null,"1210042",1210042,"Grybów (2)",25662,null,"",{"$error":"#VALUE!"},"WOJ. MAŁOPOLSKIE",null,null,null,null,null,null,null,null,null,null,null,null,null,null,null,null,null,"02","23","03",2,200000,23000,30,2,223032,"JORDANÓW ŚLĄSKI",1682.11,null,"14","04",1400,4,1404,1404000,"gostyniński",188.34,null,"7371362818"]
["","Powiat lubiński  (4 gminy)",null,null,null,null,"1210052",1210052,"Kamionka Wielka (2)",10500,null,"",{"$error":"#VALUE!"}," Powiaty:",null,null,null,null,null,null,null,null,null,null,null,null,null,null,null,null,null,"02","23","04",3,200000,23000,40,3,223043,"KĄTY WROCŁAWSKIE",4046.56,null,"14","05",1400,5,1405,1405000,"grodziski",486.73,null,"7371410411"]
["","",null,null,null,null,"1210062",1210062,"Korzenna (2)",14543,null,"",{"$error":"#VALUE!"}," Powiats:",null,null,null,null,null,null,null,null,null,null,null,null,null,null,null,null,null,"02","23","05",2,200000,23000,50,2,223052,"KOBIERZYCE",8124.74,null,"14","06",1400,6,1406,1406000,"grójecki",255.68,null,"7372206836"]
[211011,"  Lubin..........................................................................................................................................................................................................................................................",4077,"",41,null,"1210073",1210073,"Krynica-Zdrój (3)",16434,null,"1201",1201000,"   bocheński",64856,649,106514,164,235,75,null,null,null,null,null,null,null,null,null,null,null,"02","23","06",2,200000,23000,60,2,223062,"MIETKÓW",2260.16,null,"14","07",1400,7,1407,1407000,"kozienicki",247.64,null,"7381010274"]
["","",null,null,null,null,"1210074",1210074,"Krynica-Zdrój - miasto (4)",10279,null,"1202",1202000,"   brzeski",59052,591,93206,158,257,91,null,null,null,null,null,null,null,null,null,null,null,"02","23","07",3,200000,23000,70,3,223073,"SOBÓTKA",2125.52,null,"14","08",1400,8,1408,1408000,"legionowski",459.85,null,"7381013686"]
[211022,"  Lubin..........................................................................................................................................................................................................................................................",28978,"",290,null,"1210075",1210075,"Krynica-Zdrój - obszar wiejski (5)",6155,null,"1203",1203000,"   chrzanowski",37012,370,125385,339,304,43,null,null,null,null,null,null,null,null,null,null,null,"02","23","08",3,200000,23000,80,3,223083,"SIECHNICE",3939.25,null,"14","09",1400,9,1409,1409000,"lipski",145.13,null,"7381021958"]
[211032,"  Rudna..........................................................................................................................................................................................................................................................",21664,"",217,null,"1210082",1210082,"Łabowa (2)",6109,null,"1204",1204000,"   dąbrowski",53025,530,59350,112,274,200,null,null,null,null,null,null,null,null,null,null,null,"02","23","09",2,200000,23000,90,2,223092,"ŻÓRAWINA",2796.88,null,"14","10",1400,10,1410,1410000,"łosicki",156.08000000000001,null,"7381022314"]
["","",null,null,null,null,"1210092",1210092,"Łącko (2)",16629,null,"1205",1205000,"   gorlicki",96646,966,109104,113,137,68,null,null,null,null,null,null,null,null,null,null,null,"02","24","01",3,200000,24000,10,3,224013,"BARDO",1714.94,null,"14","11",1400,11,1411,1411000,"makowski",174.54,null,"7381973883"]
[211043,"  Ścinawa..........................................................................................................................................................................................................................................................",16443,"",164,null,"1210102",1210102,"Łososina Dolna (2)",11190,null,"1206",1206000,"   krakowski",123052,1231,277145,225,76,2,null,null,null,null,null,null,null,null,null,null,null,"02","24","02",2,200000,24000,20,2,224022,"CIEPŁOWODY",1913.89,null,"14","12",1400,12,1412,1412000,"miński",330.62,null,"7382125507"]
[211044,"",1354,"",13,null,"1210113",1210113,"Muszyna (3)",11468,null,"1207",1207000,"   limanowski",95123,951,131523,138,143,37,null,null,null,null,null,null,null,null,null,null,null,"02","24","03",2,200000,24000,30,2,224032,"KAMIENIEC ZĄBKOWICKI",1761.01,null,"14","13",1400,13,1413,1413000,"mławski",252.73,null,"7382129965"]
[211045,"",15089,"",151,null,"1210114",1210114,"Muszyna - miasto (4)",4665,null,"1208",1208000,"   miechowski",67629,676,49137,73,226,245,null,null,null,null,null,null,null,null,null,null,null,"02","24","04",2,200000,24000,40,2,224042,"STOSZOWICE",1417.5,null,"14","14",1400,14,1414,1414000,"nowodworski",342.48,null,"7382130282"]
["","Powiat lwówecki  (5 gmin)",null,null,null,null,"1210115",1210115,"Muszyna - obszar wiejski (5)",6803,null,"1209",1209000,"   myślenicki",67308,673,127028,189,231,41,null,null,null,null,null,null,null,null,null,null,null,"02","24","05",3,200000,24000,50,3,224053,"ZĄBKOWICE ŚLĄSKIE",1850.1,null,"14","15",1400,15,1415,1415000,"ostrołęcki",192.7,null,"7382131749"]
["","",null,null,null,null,"1210122",1210122,"Nawojowa (2)",8794,null,"1210",1210000,"   nowosądecki",154980,1549,216176,139,31,4,null,null,null,null,null,null,null,null,null,null,null,"02","24","06",3,200000,24000,60,3,224063,"ZIĘBICE",1251.26,null,"14","16",1400,16,1416,1416000,"ostrowski",206.85,null,"7382144864"]
[212013,"  Gryfów Śląski..........................................................................................................................................................................................................................................................",6667,"",67,null,"1210133",1210133,"Piwniczna-Zdrój (3)",10502,null,"1211",1211000,"   nowotarski",147499,1474,191508,130,38,8,null,null,null,null,null,null,null,null,null,null,null,"02","24","07",3,200000,24000,70,3,224073,"ZŁOTY STOK",1248.45,null,"14","17",1400,17,1417,1417000,"otwocki",432.23,null,"7382150787"]
[212014,"",663,"",7,null,"1210134",1210134,"Piwniczna-Zdrój - miasto (4)",5771,null,"1212",1212000,"   olkuski",61811,618,112035,181,249,63,null,null,null,null,null,null,null,null,null,null,null,"02","25","01",1,200000,25000,10,1,225011,"ZAWIDÓW",1528.51,null,"14","18",1400,18,1418,1418000,"piaseczyński",652.70000000000005,null,"8681001825"]
[212015,"",6004,"",60,null,"1210135",1210135,"Piwniczna-Zdrój - obszar wiejski (5)",4731,null,"1213",1213000,"   oświęcimski",40558,406,153737,379,300,23,null,null,null,null,null,null,null,null,null,null,null,"02","25","02",1,200000,25000,20,1,225021,"ZGORZELEC",1846.33,null,"14","19",1400,19,1419,1419000,"płocki",223.48,null,"8681021259"]
[212023,"  Lubomierz..........................................................................................................................................................................................................................................................",13053,"",130,null,"1210142",1210142,"Podegrodzie (2)",13463,null,"1214",1214000,"   proszowicki",41487,415,43523,105,298,271,null,null,null,null,null,null,null,null,null,null,null,"02","25","03",3,200000,25000,30,3,225033,"BOGATYNIA",4780.71,null,"14","20",1400,20,1420,1420000,"płoński",207.97,null,"8681021271"]
[212024,"",805,"",8,null,"1210152",1210152,"Rytro (2)",3737,null,"1215",1215000,"   suski",68571,686,84255,123,223,115,null,null,null,null,null,null,null,null,null,null,null,"02","25","04",3,200000,25000,40,3,225043,"PIEŃSK",1288.32,null,"14","21",1400,21,1421,1421000,"pruszkowski",589.84,null,"8681021288"]
[212025,"",12248,"",122,null,"1210163",1210163,"Stary Sącz (3)",23793,null,"1216",1216000,"   tarnowski",141158,1412,201570,143,46,7,null,null,null,null,null,null,null,null,null,null,null,"02","25","05",2,200000,25000,50,2,225052,"SULIKÓW",2234.46,null,"14","22",1400,22,1422,1422000,"przasnyski",168.76,null,"8681021294"]
[212033,"  Lwówek Śląski..........................................................................................................................................................................................................................................................",23993,"",240,null,"1210164",1210164,"Stary Sącz - miasto (4)",8974,null,"1217",1217000,"   tatrzański",47165,472,68146,144,287,168,null,null,null,null,null,null,null,null,null,null,null,"02","25","06",3,200000,25000,60,3,225063,"WĘGLINIEC",1590.45,null,"14","23",1400,23,1423,1423000,"przysuski",137.88,null,"8681021302"]
[212034,"",1665,"",17,null,"1210165",1210165,"Stary Sącz - obszar wiejski (5)",14819,null,"1218",1218000,"   wadowicki",64588,646,160130,248,237,17,null,null,null,null,null,null,null,null,null,null,null,"02","25","07",2,200000,25000,70,2,225072,"ZGORZELEC",2722.47,null,"14","24",1400,24,1424,1424000,"pułtuski",210.97,null,"8681021319"]
[212035,"",22328,"",223,null,"1211000",1211000,"Powiat nowotarski",191218,null,"1219",1219000,"   wielicki",41078,411,127078,309,299,40,null,null,null,null,null,null,null,null,null,null,null,"02","26","01",1,200000,26000,10,1,226011,"WOJCIESZÓW",1357.31,null,"14","25",1400,25,1425,1425000,"radomski",191.22,null,"8681021360"]
[212043,"  Mirsk..........................................................................................................................................................................................................................................................",18650,"",187,null,"1211011",1211011,"Nowy Targ (1)",33090,null,"",{"$error":"#VALUE!"}," Miasta na prawach powiatu:",null,null,null,null,null,null,null,null,null,null,null,null,null,null,null,null,null,"02","26","02",1,200000,26000,20,1,226021,"ZŁOTORYJA",1683.49,null,"14","26",1400,26,1426,1426000,"siedlecki",202.62,null,"8681599283"]
[212044,"",1466,"",15,null,"1211023",1211023,"Szczawnica (3)",7040,null,"",{"$error":"#VALUE!"}," Cities with powiat status:",null,null,null,null,null,null,null,null,null,null,null,null,null,null,null,null,null,"02","26","03",2,200000,26000,30,2,226032,"PIELGRZYMKA",1417.97,null,"14","27",1400,27,1427,1427000,"sierpecki",179.15,null,"8691002648"]
[212045,"",17184,"",172,null,"1211024",1211024,"Szczawnica - miasto (4)",5563,null,"1261",1261000,"   Kraków",32685,327,771069,2359,2,2,null,null,null,null,null,null,null,null,null,null,null,"02","26","04",3,200000,26000,40,3,226043,"ŚWIERZAWA",1396.92,null,"14","28",1400,28,1428,1428000,"sochaczewski",305.69,null,"8691013238"]
[212053,"  Wleń..........................................................................................................................................................................................................................................................",8606,"",86,null,"1211025",1211025,"Szczawnica - obszar wiejski (5)",1477,null,"1262",1262000,"   Nowy Sącz",5758,58,83896,1457,49,44,null,null,null,null,null,null,null,null,null,null,null,"02","26","05",2,200000,26000,50,2,226052,"ZAGRODNO",2032.91,null,"14","29",1400,29,1429,1429000,"sokołowski",232.85,null,"8691186401"]
[212054,"",722,"",7,null,"1211032",1211032,"Czarny Dunajec (2)",22552,null,"1263",1263000,"   Tarnów",7238,72,109062,1507,41,35,null,null,null,null,null,null,null,null,null,null,null,"02","26","06",2,200000,26000,60,2,226062,"ZŁOTORYJA",1784.76,null,"14","30",1400,30,1430,1430000,"szydłowiecki",153.21,null,"8691186447"]
[212055,"",7884,"",79,null,"1211042",1211042,"Czorsztyn (2)",7651,null,"",{"$error":"#VALUE!"},"WOJ. MAZOWIECKIE",null,null,null,null,null,null,null,null,null,null,null,null,null,null,null,null,null,"02","61","01",1,200000,61000,10,1,261011,"Jelenia Góra",1919.27,null,"14","32",1400,32,1432,1432000,"warszawski zachodni",657.36,null,"8691212363"]
["","Powiat milicki  (3 gminy)",null,null,null,null,"1211052",1211052,"Jabłonka (2)",18784,null,"",{"$error":"#VALUE!"}," Powiaty:",null,null,null,null,null,null,null,null,null,null,null,null,null,null,null,null,null,"02","62","01",1,200000,62000,10,1,262011,"Legnica",2061.08,null,"14","33",1400,33,1433,1433000,"węgrowski",216.66,null,"8691291026"]
["","",null,null,null,null,"1211062",1211062,"Krościenko nad Dunajcem (2)",6713,null,"",{"$error":"#VALUE!"}," Powiats:",null,null,null,null,null,null,null,null,null,null,null,null,null,null,null,null,null,"02","64","01",1,200000,64000,10,1,264011,"Wrocław",3029.35,null,"14","34",1400,34,1434,1434000,"wołomiński",387.67,null,"8691318251"]
[213012,"  Cieszków..........................................................................................................................................................................................................................................................",10083,"",101,null,"1211072",1211072,"Lipnica Wielka (2)",5958,null,"1401",1401000,"   białobrzeski",63910,639,33551,52,240,305,null,null,null,null,null,null,null,null,null,null,null,"02","65","01",1,200000,65000,10,1,265011,"WAŁBRZYCH",1588.28,null,"14","35",1400,35,1435,1435000,"wyszkowski",244.52,null,"8691326517"]
[213022,"  Krośnice..........................................................................................................................................................................................................................................................",17854,"",178,null,"1211082",1211082,"Łapsze Niżne (2)",9343,null,"1402",1402000,"   ciechanowski",105980,1060,89670,85,111,100,null,null,null,null,null,null,null,null,null,null,null,"04","01","01",1,400000,1000,10,1,401011,"ALEKSANDRÓW KUJAWSKI",1385.49,null,"14","36",1400,36,1436,1436000,"zwoleński",151.80000000000001,null,"8691652725"]
["","",null,null,null,null,"1211092",1211092,"Nowy Targ (2)",24111,null,"1403",1403000,"   garwoliński",128483,1285,108993,85,68,69,null,null,null,null,null,null,null,null,null,null,null,"04","01","02",1,400000,1000,20,1,401021,"CIECHOCINEK",1987.01,null,"14","37",1400,37,1437,1437000,"żuromiński",159.66999999999999,null,"8711665525"]
[213033,"  Milicz..........................................................................................................................................................................................................................................................",43556,"",436,null,"1211102",1211102,"Ochotnica Dolna (2)",8469,null,"1404",1404000,"   gostyniński",61481,615,45203,74,252,262,null,null,null,null,null,null,null,null,null,null,null,"04","01","03",1,400000,1000,30,1,401031,"NIESZAWA",2079.0300000000002,null,"14","38",1400,38,1438,1438000,"żyrardowski",303.07,null,"8711769963"]
[213034,"",1350,"",14,null,"1211112",1211112,"Raba Wyżna (2)",14726,null,"1405",1405000,"   grodziski",36704,367,94091,256,306,90,null,null,null,null,null,null,null,null,null,null,null,"04","01","04",2,400000,1000,40,2,401042,"ALEKSANDRÓW KUJAWSKI",1281.8599999999999,null,"14","61",1400,61,1461,1461000,"Ostrołęka",310.51,null,"8711770280"]
[213035,"",42206,"",422,null,"1211123",1211123,"Rabka-Zdrój (3)",16927,null,"1406",1406000,"   grójecki",126773,1268,98451,78,71,82,null,null,null,null,null,null,null,null,null,null,null,"04","01","05",2,400000,1000,50,2,401052,"BĄDKOWO",1470.46,null,"14","62",1400,62,1462,1462000,"Płock",468.28,null,"8711770363"]
["","Powiat oleśnicki  (8 gmin)",null,null,null,null,"1211124",1211124,"Rabka-Zdrój - miasto (4)",12599,null,"1407",1407000,"   kozienicki",91610,916,60472,66,151,194,null,null,null,null,null,null,null,null,null,null,null,"04","01","06",2,400000,1000,60,2,401062,"KONECK",1326.63,null,"14","63",1400,63,1463,1463000,"Radom",287.92,null,"8711771055"]
["","",null,null,null,null,"1211125",1211125,"Rabka-Zdrój - obszar wiejski (5)",4328,null,"1408",1408000,"   legionowski",39076,391,116775,299,303,54,null,null,null,null,null,null,null,null,null,null,null,"04","01","07",2,400000,1000,70,2,401072,"RACIĄŻEK",1179.3699999999999,null,"14","64",1400,64,1464,1464000,"Siedlce",336.76,null,"8711771090"]
[214011,"  Oleśnica..........................................................................................................................................................................................................................................................",2096,"",21,null,"1211132",1211132,"Spytkowice (2)",4658,null,"1409",1409000,"   lipski",74022,740,34214,46,198,303,null,null,null,null,null,null,null,null,null,null,null,"04","01","08",2,400000,1000,80,2,401082,"WAGANIEC",1221.33,null,"14","65",1400,65,1465,1465000,"m. st. Warszawa",847.11,null,"8711771227"]
["","",null,null,null,null,"1211142",1211142,"Szaflary (2)",11196,null,"1410",1410000,"   łosicki",77245,772,31023,40,190,307,null,null,null,null,null,null,null,null,null,null,null,"04","01","09",2,400000,1000,90,2,401092,"ZAKRZEWO",1794.21,null,"16","01",1600,1,1601,1601000,"brzeski",236.65,null,"8711771285"]
[214032,"  Dobroszyce..........................................................................................................................................................................................................................................................",13196,"",132,null,"1212000",1212000,"Powiat olkuski",109404,null,"1411",1411000,"   makowski",106463,1065,45247,43,110,261,null,null,null,null,null,null,null,null,null,null,null,"04","02","01",1,400000,2000,10,1,402011,"BRODNICA",1970.62,null,"16","02",1600,2,1602,1602000,"głubczycki",190.62,null,"8731001716"]
[214042,"  Dziadowa Kłoda..........................................................................................................................................................................................................................................................",10579,"",106,null,"1212011",1212011,"Bukowno (1)",9876,null,"1412",1412000,"   miński",116372,1164,153824,132,91,22,null,null,null,null,null,null,null,null,null,null,null,"04","02","02",2,400000,2000,20,2,402022,"BOBROWO",1153.27,null,"16","03",1600,3,1603,1603000,"kędzierzyńsko-kozielski",244.4,null,"8731011086"]
[214062,"  Oleśnica..........................................................................................................................................................................................................................................................",24285,"",242,null,"1212032",1212032,"Bolesław (2)",7700,null,"1413",1413000,"   mławski",118182,1182,73102,62,88,153,null,null,null,null,null,null,null,null,null,null,null,"04","02","03",2,400000,2000,30,2,402032,"BRODNICA",1687.76,null,"16","04",1600,4,1604,1604000,"kluczborski",194.82,null,"8731014848"]
["","",null,null,null,null,"1212042",1212042,"Klucze (2)",14731,null,"1414",1414000,"   nowodworski",69479,695,79291,114,220,129,null,null,null,null,null,null,null,null,null,null,null,"04","02","04",2,400000,2000,40,2,402042,"BRZOZIE",1182.1500000000001,null,"16","05",1600,5,1605,1605000,"krapkowicki",243.56,null,"8731111741"]
[214023,"  Bierutów..........................................................................................................................................................................................................................................................",14700,"",147,null,"1212053",1212053,"Olkusz (3)",47704,null,"1415",1415000,"   ostrołęcki",209355,2093,88735,42,7,103,null,null,null,null,null,null,null,null,null,null,null,"04","02","05",3,400000,2000,50,3,402053,"GÓRZNO",1498.51,null,"16","06",1600,6,1606,1606000,"namysłowski",228.8,null,"8731550848"]
[214024,"",836,"",8,null,"1212054",1212054,"Olkusz - miasto (4)",34265,null,"1416",1416000,"   ostrowski",121779,1218,72782,60,82,154,null,null,null,null,null,null,null,null,null,null,null,"04","02","06",2,400000,2000,60,2,402062,"BARTNICZKA",1294.1099999999999,null,"16","07",1600,7,1607,1607000,"nyski",201.56,null,"8732614007"]
[214025,"",13864,"",139,null,"1212055",1212055,"Olkusz - obszar wiejski (5)",13439,null,"1417",1417000,"   otwocki",61592,616,124036,201,251,44,null,null,null,null,null,null,null,null,null,null,null,"04","02","07",3,400000,2000,70,3,402073,"JABŁONOWO POMORSKIE",1282.3800000000001,null,"16","08",1600,8,1608,1608000,"oleski",197.37,null,"8732630130"]
[214053,"  Międzybórz..........................................................................................................................................................................................................................................................",8778,"",88,null,"1212062",1212062,"Trzyciąż (2)",6995,null,"1418",1418000,"   piaseczyński",62100,621,184951,298,247,9,null,null,null,null,null,null,null,null,null,null,null,"04","02","08",2,400000,2000,80,2,402082,"OSIEK",1457.35,null,"16","09",1600,9,1609,1609000,"opolski",237.39,null,"8732978229"]
[214054,"",641,"",6,null,"1212073",1212073,"Wolbrom (3)",22398,null,"1419",1419000,"   płocki",179663,1796,111088,62,15,66,null,null,null,null,null,null,null,null,null,null,null,"04","02","09",2,400000,2000,90,2,402092,"ŚWIEDZIEBNIA",867.8,null,"16","10",1600,10,1610,1610000,"prudnicki",173.35,null,"9442226987"]
[214055,"",8137,"",82,null,"1212074",1212074,"Wolbrom - miasto (4)",8346,null,"1420",1420000,"   płoński",137979,1380,87409,63,55,105,null,null,null,null,null,null,null,null,null,null,null,"04","02","10",2,400000,2000,100,2,402102,"ZBICZNO",1473.31,null,"16","11",1600,11,1611,1611000,"strzelecki",227.1,null,"9442243129"]
[214073,"  Syców..........................................................................................................................................................................................................................................................",14511,"",145,null,"1212075",1212075,"Wolbrom - obszar wiejski (5)",14052,null,"1421",1421000,"   pruszkowski",24630,246,164240,667,310,14,null,null,null,null,null,null,null,null,null,null,null,"04","03","01",2,400000,3000,10,2,403012,"BIAŁE BŁOTA",2872.07,null,"16","61",1600,61,1661,1661000,"Opole",401.76,null,"9442246027"]
[214074,"",1705,"",17,null,"1213000",1213000,"Powiat oświęcimski",151562,null,"1422",1422000,"   przasnyski",121862,1219,52824,43,81,232,null,null,null,null,null,null,null,null,null,null,null,"04","03","02",2,400000,3000,20,2,403022,"DĄBROWA CHEŁMIŃSKA",1585.27,null,"18","01",1800,1,1801,1801000,"bieszczadzki",167.85,null,"9442253228"]
[214075,"",12806,"",128,null,"1213011",1213011,"Oświęcim (1)",37031,null,"1423",1423000,"   przysuski",80119,801,41922,52,181,275,null,null,null,null,null,null,null,null,null,null,null,"04","03","03",2,400000,3000,30,2,403032,"DOBRCZ",1763.16,null,"18","02",1800,2,1802,1802000,"brzozowski",147.59,null,"9930336443"]
[214083,"  Twardogóra..........................................................................................................................................................................................................................................................",16786,"",168,null,"1213023",1213023,"Brzeszcze (3)",20921,null,"1424",1424000,"   pułtuski",82742,827,51809,63,173,237,null,null,null,null,null,null,null,null,null,null,null,"04","03","04",3,400000,3000,40,3,403043,"KORONOWO",1579.46,null,"18","03",{"$f":"AR198*100","v":1800},{"$f":"+AS198*1","v":3},{"$f":"AT198+AU198","v":1803},{"$f":"AV198*1000","v":1803000},"dębicki",222.44,null,"9930337193"]
[214084,"",829,"",8,null,"1213024",1213024,"Brzeszcze - miasto (4)",10935,null,"1425",1425000,"   radomski",152978,1530,152117,99,33,25,null,null,null,null,null,null,null,null,null,null,null,"04","03","05",2,400000,3000,50,2,403052,"NOWA WIEŚ WIELKA",2793.78,null,"18","04",1800,4,1804,1804000,"jarosławski",165.64,null,"9930337247"]
[214085,"",15957,"",160,null,"1213025",1213025,"Brzeszcze - obszar wiejski (5)",9986,null,"1426",1426000,"   siedlecki",160348,1603,81352,51,28,122,null,null,null,null,null,null,null,null,null,null,null,"04","03","06",2,{"$f":"AF200*100000","v":400000},{"$f":"AG200*1000","v":3000},{"$f":"AH200*10","v":60},{"$f":"AI200*1","v":2},{"$f":"SUM(AJ200:AM200)","v":403062},"OSIELSKO",3969.6,null,"18","05",1800,5,1805,1805000,"jasielski",176.29,null,"9930340717"]
["","Powiat oławski  (4 gminy)",null,null,null,null,"1213033",1213033,"Chełmek (3)",12713,null,"1427",{"$f":"L201*1000","v":1427000},"   sierpecki",85204,852,52196,61,164,234,null,null,null,null,null,null,null,null,null,null,null,"04","03","07",2,400000,3000,70,2,403072,"SICIENKO",2088.2800000000002,null,"18","06",1800,6,1806,1806000,"kolbuszowski",154.74,null,"9930370109"]
["","",null,null,null,null,"1213034",1213034,"Chełmek - miasto (4)",8810,null,"1428",1428000,"   sochaczewski",73480,735,85105,116,201,112,null,null,null,null,null,null,null,null,null,null,null,"04","03","08",3,400000,3000,80,3,403083,"SOLEC KUJAWSKI",2323.35,null,"18","07",1800,7,1807,1807000,"krośnieński",164.14,null,"9930652629"]
[215011,"  Oława..........................................................................................................................................................................................................................................................",2736,"",27,null,"1213035",1213035,"Chełmek - obszar wiejski (5)",3903,null,"1429",1429000,"   sokołowski",113117,1131,54217,48,99,229,null,null,null,null,null,null,null,null,null,null,null,"04","04","01",1,400000,4000,10,1,404011,"CHEŁMNO",1582.56,null,"18","08",1800,8,1808,1808000,"leżajski",150.16999999999999,null,"9930656314"]
["","",null,null,null,null,"1213043",1213043,"Kęty (3)",33870,null,"1430",1430000,"   szydłowiecki",45181,452,39864,88,292,284,null,null,null,null,null,null,null,null,null,null,null,"04","04","02",2,400000,4000,20,2,404022,"CHEŁMNO",1181.8,null,"18","09",1800,9,1809,1809000,"lubaczowski",126.71,null,"9930658661"]
[215022,"  Domaniów..........................................................................................................................................................................................................................................................",9446,"",94,null,"1213044",1213044,"Kęty - miasto (4)",18306,null,"1432",1432000,"   warszawski zachodni",53379,534,117007,219,272,53,null,null,null,null,null,null,null,null,null,null,null,"04","04","03",2,400000,4000,30,2,404032,"KIJEWO KRÓLEWSKIE",1377.62,null,"18","10",1800,10,1810,1810000,"łańcucki",205.78,null,"9930660913"]
[215042,"  Oława..........................................................................................................................................................................................................................................................",23465,"",235,null,"1213045",1213045,"Kęty - obszar wiejski (5)",15564,null,"1433",1433000,"   węgrowski",122076,1221,66174,54,80,175,null,null,null,null,null,null,null,null,null,null,null,"04","04","04",2,400000,4000,40,2,404042,"LISEWO",1475.34,null,"18","11",1800,11,1811,1811000,"mielecki",237.1]
["","",null,null,null,null,"1213052",1213052,"Osiek (2)",8251,null,"1434",1434000,"   wołomiński",95356,954,245357,257,141,3,null,null,null,null,null,null,null,null,null,null,null,"04","04","05",2,400000,4000,50,2,404052,"PAPOWO BISKUPIE",1156.93,null,"18","12",1800,12,1812,1812000,"niżański",154.81]
[215033,"  Jelcz-Laskowice..........................................................................................................................................................................................................................................................",16763,"",168,null,"1213062",1213062,"Oświęcim (2)",18611,null,"1435",1435000,"   wyszkowski",87643,876,74065,85,158,152,null,null,null,null,null,null,null,null,null,null,null,"04","04","06",2,400000,4000,60,2,404062,"STOLNO",1635.89,null,"18","13",1800,13,1813,1813000,"przemyski",141.5]
[215034,"",1706,"",17,null,"1213072",1213072,"Polanka Wielka (2)",4311,null,"1436",1436000,"   zwoleński",57330,573,36328,63,266,295,null,null,null,null,null,null,null,null,null,null,null,"04","04","07",2,400000,4000,70,2,404072,"UNISŁAW",1238.78,null,"18","14",1800,14,1814,1814000,"przeworski",164.32]
[215035,"",15057,"",151,null,"1213082",1213082,"Przeciszów (2)",6664,null,"1437",1437000,"   żuromiński",80660,807,38944,48,177,288,null,null,null,null,null,null,null,null,null,null,null,"04","05","01",1,400000,5000,10,1,405011,"GOLUB-DOBRZYŃ",1648.98,null,"18","15",1800,15,1815,1815000,"ropczycko-sędziszowski",171.56]
["","Powiat polkowicki  (6 gmin)",null,null,null,null,"1213093",1213093,"Zator (3)",9190,null,"1438",1438000,"   żyrardowski",53254,533,75848,142,273,145,null,null,null,null,null,null,null,null,null,null,null,"04","05","02",2,400000,5000,20,2,405022,"CIECHOCIN",1293.9100000000001,null,"18","16",1800,16,1816,1816000,"rzeszowski",217.53]
["","",null,null,null,null,"1213094",1213094,"Zator - miasto (4)",3588,null,"",{"$error":"#VALUE!"}," Miasta na prawach powiatu:",null,null,null,null,null,null,null,null,null,null,null,null,null,null,null,null,null,"04","05","03",2,400000,5000,30,2,405032,"GOLUB-DOBRZYŃ",1474.81,null,"18","17",1800,17,1817,1817000,"sanocki",188.47]
[216022,"  Gaworzyce..........................................................................................................................................................................................................................................................",7676,"",77,null,"1213095",1213095,"Zator - obszar wiejski (5)",5602,null,"",{"$error":"#VALUE!"}," Cities with powiat status:",null,null,null,null,null,null,null,null,null,null,null,null,null,null,null,null,null,"04","05","04",3,400000,5000,40,3,405043,"KOWALEWO POMORSKIE",1477.05,null,"18","18",1800,18,1818,1818000,"stalowowolski",221.08]
[216032,"  Grębocice..........................................................................................................................................................................................................................................................",12170,"",121,null,"1214000",1214000,"Powiat proszowicki",42815,null,"1461",1461000,"   Ostrołęka",3346,33,52262,1562,58,60,null,null,null,null,null,null,null,null,null,null,null,"04","05","05",2,400000,5000,50,2,405052,"RADOMIN",1288.45,null,"18","19",1800,19,1819,1819000,"strzyżowski",157.26]
[216062,"  Radwanice..........................................................................................................................................................................................................................................................",8424,"",84,null,"1214012",1214012,"Koniusza (2)",9021,null,"1462",1462000,"   Płock",8804,88,120000,1363,30,32,null,null,null,null,null,null,null,null,null,null,null,"04","05","06",2,400000,5000,60,2,405062,"ZBÓJNO",1140.29,null,"18","20",1800,20,1820,1820000,"tarnobrzeski",174.69]
["","",null,null,null,null,"1214023",1214023,"Koszyce (3)",5327,null,"1463",1463000,"   Radom",11180,112,213029,1905,23,14,null,null,null,null,null,null,null,null,null,null,null,"04","06","01",2,400000,6000,10,2,406012,"GRUDZIĄDZ",2219.16,null,"18","21",1800,21,1821,1821000,"leski",153.35]
[216013,"  Chocianów..........................................................................................................................................................................................................................................................",22166,"",222,null,"1214024",1214024,"Koszyce - miasto (4)",762,null,"1464",1464000,"   Siedlce",3186,32,77872,2444,61,46,null,null,null,null,null,null,null,null,null,null,null,"04","06","02",2,400000,6000,20,2,406022,"GRUTA",1169.05,null,"18","61",1800,61,1861,1861000,"Krosno",297.97000000000003]
[216014,"",900,"",9,null,"1214025",1214025,"Koszyce - obszar wiejski (5)",4565,null,"1465",1465000,"   m.st. Warszawa",51724,517,1777972,3437,1,1,null,null,null,null,null,null,null,null,null,null,null,"04","06","03",3,400000,6000,30,3,406033,"ŁASIN",1530.73,null,"18","62",1800,62,1862,1862000,"Przemyśl",222.14]
[216015,"",21266,"",213,null,"1214033",1214033,"Nowe Brzesko (3)",5660,null,"",{"$error":"#VALUE!"},"WOJ. OPOLSKIE",null,null,null,null,null,null,null,null,null,null,null,null,null,null,null,null,null,"04","06","04",3,400000,6000,40,3,406043,"RADZYŃ CHEŁMIŃSKI",2031.93,null,"18","63",1800,63,1863,1863000,"Rzeszów",372.66]
[216043,"  Polkowice..........................................................................................................................................................................................................................................................",16765,"",168,null,"1214034",1214034,"Nowe Brzesko - miasto (4)",1653,null,"",{"$error":"#VALUE!"}," Powiaty:",null,null,null,null,null,null,null,null,null,null,null,null,null,null,null,null,null,"04","06","05",2,400000,6000,50,2,406052,"ROGÓŹNO",1233.1199999999999,null,"18","64",1800,64,1864,1864000,"Tarnobrzeg",236.14]
[216044,"",2374,"",24,null,"1214035",1214035,"Nowe Brzesko - obszar wiejski (5)",4007,null,"",{"$error":"#VALUE!"}," Powiats:",null,null,null,null,null,null,null,null,null,null,null,null,null,null,null,null,null,"04","06","06",2,400000,6000,60,2,406062,"ŚWIECIE NAD OSĄ",1263.69,null,"20","01",2000,1,2001,2001000,"augustowski",207.85]
[216045,"",14391,"",144,null,"1214042",1214042,"Pałecznica (2)",3535,null,"1601",1601000,"   brzeski",87596,876,90275,103,159,97,null,null,null,null,null,null,null,null,null,null,null,"04","07","01",1,400000,7000,10,1,407011,"INOWROCŁAW",1729.27,null,"20","02",2000,2,2002,2002000,"białostocki",263.33]
[216053,"  Przemków..........................................................................................................................................................................................................................................................",10745,"",107,null,"1214053",1214053,"Proszowice (3)",15969,null,"1602",1602000,"   głubczycki",67263,673,45883,68,232,258,null,null,null,null,null,null,null,null,null,null,null,"04","07","02",2,400000,7000,20,2,407022,"DĄBROWA BISKUPIA",1407.94,null,"20","03",2000,3,2003,2003000,"bielski",208.01]
[216054,"",617,"",6,null,"1214054",1214054,"Proszowice - miasto (4)",5901,null,"1603",1603000,"   kędzierzyńsko-kozielski",62513,625,94487,151,243,89,null,null,null,null,null,null,null,null,null,null,null,"04","07","03",3,400000,7000,30,3,407033,"GNIEWKOWO",1542.55,null,"20","04",2000,4,2004,2004000,"grajewski",160.69999999999999]
[216055,"",10128,"",101,null,"1214055",1214055,"Proszowice - obszar wiejski (5)",10068,null,"1604",1604000,"   kluczborski",85191,852,65837,77,165,177,null,null,null,null,null,null,null,null,null,null,null,"04","07","04",2,400000,7000,40,2,407042,"INOWROCŁAW",2710.1,null,"20","05",2000,5,2005,2005000,"hajnowski",197.25]
["","Powiat strzeliński  (5 gmin)",null,null,null,null,"1214062",1214062,"Radziemice (2)",3303,null,"1605",1605000,"   krapkowicki",44180,442,63942,145,294,182,null,null,null,null,null,null,null,null,null,null,null,"04","07","05",3,400000,7000,50,3,407053,"JANIKOWO",2019.03,null,"20","06",2000,6,2006,2006000,"kolneński",127.94]
["","",null,null,null,null,"1215000",1215000,"Powiat suski",83530,null,"1606",1606000,"   namysłowski",74818,748,42688,57,194,273,null,null,null,null,null,null,null,null,null,null,null,"04","07","06",3,400000,7000,60,3,407063,"KRUSZWICA",1770.4,null,"20","07",2000,7,2007,2007000,"łomżyński",150.25]
[217012,"  Borów..........................................................................................................................................................................................................................................................",9865,"",99,null,"1215011",1215011,"Jordanów (1)",5231,null,"1607",1607000,"   nyski",122388,1224,136946,112,79,31,null,null,null,null,null,null,null,null,null,null,null,"04","07","07",3,400000,7000,70,3,407073,"PAKOŚĆ",1845.9,null,"20","08",2000,8,2008,2008000,"moniecki",120.38]
[217022,"  Kondratowice..........................................................................................................................................................................................................................................................",9826,"",98,null,"1215021",1215021,"Sucha Beskidzka (1)",8967,null,"1608",1608000,"   oleski",97338,973,64602,66,133,181,null,null,null,null,null,null,null,null,null,null,null,"04","07","08",2,400000,7000,80,2,407082,"ROJEWO",1549.05,null,"20","09",2000,9,2009,2009000,"sejneński",145.85]
[217032,"  Przeworno..........................................................................................................................................................................................................................................................",11197,"",112,null,"1215032",1215032,"Budzów (2)",8889,null,"1609",1609000,"   opolski",153430,1534,123520,81,32,45,null,null,null,null,null,null,null,null,null,null,null,"04","07","09",2,400000,7000,90,2,407092,"ZŁOTNIKI KUJAWSKIE",1393.27,null,"20","10",2000,10,2010,2010000,"siemiatycki",156.02000000000001]
["","",null,null,null,null,"1215042",1215042,"Bystra-Sidzina (2)",6885,null,"1610",1610000,"   prudnicki",57155,572,55524,97,267,221,null,null,null,null,null,null,null,null,null,null,null,"04","08","01",1,400000,8000,10,1,408011,"LIPNO",1420.16,null,"20","11",2000,11,2011,2011000,"sokólski",148.57]
[217043,"  Strzelin..........................................................................................................................................................................................................................................................",17141,"",171,null,"1215052",1215052,"Jordanów (2)",11269,null,"1611",1611000,"   strzelecki",74427,744,74665,100,195,149,null,null,null,null,null,null,null,null,null,null,null,"04","08","02",2,400000,8000,20,2,408022,"BOBROWNIKI",1569.46,null,"20","12",2000,12,2012,2012000,"suwalski",152.61000000000001]
[217044,"",1034,"",10,null,"1215063",1215063,"Maków Podhalański (3)",15842,null,"",{"$error":"#VALUE!"}," Miasto na prawach powiatu",null,null,null,null,null,null,null,null,null,null,null,null,null,null,null,null,null,"04","08","03",2,400000,8000,30,2,408032,"CHROSTKOWO",1376.12,null,"20","13",2000,13,2013,2013000,"wysokomazowiecki",184.78]
[217045,"",16107,"",161,null,"1215064",1215064,"Maków Podhalański - miasto (4)",5726,null,"",{"$error":"#VALUE!"}," City with powiat status:",null,null,null,null,null,null,null,null,null,null,null,null,null,null,null,null,null,"04","08","04",3,400000,8000,40,3,408043,"DOBRZYŃ NAD WISŁĄ",1222.49,null,"20","14",2000,14,2014,2014000,"zambrowski",209.34]
[217053,"  Wiązów..........................................................................................................................................................................................................................................................",14177,"",142,null,"1215065",1215065,"Maków Podhalański - obszar wiejski (5)",10116,null,"1661",1661000,"   Opole",14888,149,128137,861,15,27,null,null,null,null,null,null,null,null,null,null,null,"04","08","05",2,400000,8000,50,2,408052,"KIKÓŁ",982.78,null,"20","61",2000,61,2061,2061000,"Białystok",327.32]
[217054,"",916,"",9,null,"1215072",1215072,"Stryszawa (2)",11874,null,"",{"$error":"#VALUE!"},"WOJ. PODKARPACKIE",null,null,null,null,null,null,null,null,null,null,null,null,null,null,null,null,null,"04","08","06",2,400000,8000,60,2,408062,"LIPNO",1023.68,null,"20","62",2000,62,2062,2062000,"Łomża",282.45]
[217055,"",13261,"",133,null,"1215082",1215082,"Zawoja (2)",8997,null,"",{"$error":"#VALUE!"}," Powiaty:",null,null,null,null,null,null,null,null,null,null,null,null,null,null,null,null,null,"04","08","07",3,400000,8000,70,3,408073,"SKĘPE",1282.4100000000001,null,"20","63",2000,63,2063,2063000,"Suwałki",249.05]
["","Powiat średzki  (5 gmin)",null,null,null,null,"1215092",1215092,"Zembrzyce (2)",5576,null,"",{"$error":"#VALUE!"}," Powiats:",null,null,null,null,null,null,null,null,null,null,null,null,null,null,null,null,null,"04","08","08",2,400000,8000,80,2,408082,"TŁUCHOWO",1486.31,null,"22","01",2200,1,2201,2201000,"bytowski",211.86]
["","",null,null,null,null,"1216000",1216000,"Powiat tarnowski",200711,null,"1801",1801000,"   bieszczadzki",113907,1139,21879,19,97,312,null,null,null,null,null,null,null,null,null,null,null,"04","08","09",2,400000,8000,90,2,408092,"WIELGIE",1168.5899999999999,null,"22","02",2200,2,2202,2202000,"chojnicki",249.57]
[218012,"  Kostomłoty..........................................................................................................................................................................................................................................................",14524,"",145,null,"1216013",1216013,"Ciężkowice (3)",11174,null,"1802",1802000,"   brzozowski",53934,539,65713,122,271,178,null,null,null,null,null,null,null,null,null,null,null,"04","09","01",2,400000,9000,10,2,409012,"DĄBROWA",1452.43,null,"22","03",2200,3,2203,2203000,"człuchowski",179.9]
[218022,"  Malczyce..........................................................................................................................................................................................................................................................",5257,"",53,null,"1216014",1216014,"Ciężkowice - miasto (4)",2444,null,"1803",1803000,"   dębicki",77748,777,135471,174,186,35,null,null,null,null,null,null,null,null,null,null,null,"04","09","02",2,400000,9000,20,2,409022,"JEZIORA WIELKIE",1160.49,null,"22","04",2200,4,2204,2204000,"gdański",347.74]
[218032,"  Miękinia..........................................................................................................................................................................................................................................................",17948,"",179,null,"1216015",1216015,"Ciężkowice - obszar wiejski (5)",8730,null,"1804",1804000,"   jarosławski",102866,1029,120714,117,119,46,null,null,null,null,null,null,null,null,null,null,null,"04","09","03",3,400000,9000,30,3,409033,"MOGILNO",2172.2199999999998,null,"22","05",2200,5,2205,2205000,"kartuski",269.66000000000003]
[218052,"  Udanin..........................................................................................................................................................................................................................................................",11089,"",111,null,"1216022",1216022,"Gromnik (2)",8898,null,"1805",1805000,"   jasielski",83087,831,113962,137,172,58,null,null,null,null,null,null,null,null,null,null,null,"04","09","04",3,400000,9000,40,3,409043,"STRZELNO",1636.69,null,"22","06",2200,6,2206,2206000,"kościerski",188.26]
["","",null,null,null,null,"1216032",1216032,"Lisia Góra (2)",15455,null,"1806",1806000,"   kolbuszowski",77317,774,62476,81,187,190,null,null,null,null,null,null,null,null,null,null,null,"04","10","01",3,400000,10000,10,3,410013,"KCYNIA",1129.96,null,"22","07",2200,7,2207,2207000,"kwidzyński",234.77]
[218043,"  Środa Śląska..........................................................................................................................................................................................................................................................",21596,"",216,null,"1216042",1216042,"Pleśna (2)",11860,null,"1807",1807000,"   krośnieński",99311,993,112414,113,130,62,null,null,null,null,null,null,null,null,null,null,null,"04","10","02",3,400000,10000,20,3,410023,"MROCZA",1038.68,null,"22","08",2200,8,2208,2208000,"lęborski",220.53]
[218044,"",1494,"",15,null,"1216053",1216053,"Radłów (3)",9562,null,"1821",1821000,"   leski",83494,835,26562,32,169,310,null,null,null,null,null,null,null,null,null,null,null,"04","10","03",3,400000,10000,30,3,410033,"NAKŁO NAD NOTECIĄ",1546.66,null,"22","09",2200,9,2209,2209000,"malborski",206.82]
[218045,"",20102,"",201,null,"1216054",1216054,"Radłów - miasto (4)",2735,null,"1808",1808000,"   leżajski",58371,584,69562,119,260,167,null,null,null,null,null,null,null,null,null,null,null,"04","10","04",2,400000,10000,40,2,410042,"SADKI",1264.58,null,"22","10",2200,10,2210,2210000,"nowodworski",182.37]
["","Powiat świdnicki  (8 gmin)",null,null,null,null,"1216055",1216055,"Radłów - obszar wiejski (5)",6827,null,"1809",1809000,"   lubaczowski",130837,1308,55652,43,61,220,null,null,null,null,null,null,null,null,null,null,null,"04","10","05",3,400000,10000,50,3,410053,"SZUBIN",1504.65,null,"22","11",2200,11,2211,2211000,"pucki",263.23]
["","",null,null,null,null,"1216063",1216063,"Ryglice (3)",11588,null,"1810",1810000,"   łańcucki",45184,452,80834,179,291,123,null,null,null,null,null,null,null,null,null,null,null,"04","11","01",1,400000,11000,10,1,411011,"RADZIEJÓW",1931.08,null,"22","12",2200,12,2212,2212000,"słupski",234.33]
[219011,"  Świdnica..........................................................................................................................................................................................................................................................",2176,"",22,null,"1216064",1216064,"Ryglice - miasto (4)",2808,null,"1811",1811000,"   mielecki",88050,881,136673,155,157,32,null,null,null,null,null,null,null,null,null,null,null,"04","11","02",2,400000,11000,20,2,411022,"BYTOŃ",1118.8699999999999,null,"22","13",2200,13,2213,2213000,"starogardzki",224.64]
[219021,"  Świebodzice..........................................................................................................................................................................................................................................................",3043,"",30,null,"1216065",1216065,"Ryglice - obszar wiejski (5)",8780,null,"1812",1812000,"   niżański",78564,786,66843,85,184,170,null,null,null,null,null,null,null,null,null,null,null,"04","11","03",2,400000,11000,30,2,411032,"DOBRE",1543.6,null,"22","14",2200,14,2214,2214000,"tczewski",229.13]
["","",null,null,null,null,"1216072",1216072,"Rzepiennik Strzyżewski (2)",6738,null,"1813",1813000,"   przemyski",121122,1211,74398,61,85,150,null,null,null,null,null,null,null,null,null,null,null,"04","11","04",2,400000,11000,40,2,411042,"OSIĘCINY",1092.8499999999999,null,"22","15",2200,15,2215,2215000,"wejherowski",271.08]
[219032,"  Dobromierz..........................................................................................................................................................................................................................................................",8593,"",86,null,"1216082",1216082,"Skrzyszów (2)",14361,null,"1814",1814000,"   przeworski",69802,698,78458,112,218,133,null,null,null,null,null,null,null,null,null,null,null,"04","11","05",3,400000,11000,50,3,411053,"PIOTRKÓW KUJAWSKI",1414.77,null,"22","16",2200,16,2216,2216000,"sztumski",156.37]
[219052,"  Marcinowice..........................................................................................................................................................................................................................................................",9524,"",95,null,"1216092",1216092,"Tarnów (2)",26405,null,"1815",1815000,"   ropczycko-sędziszowski",54831,548,74374,136,269,151,null,null,null,null,null,null,null,null,null,null,null,"04","11","06",2,400000,11000,60,2,411062,"RADZIEJÓW",2084.17,null,"22","61",2200,61,2261,2261000,"Gdańsk",480.43]
[219072,"  Świdnica..........................................................................................................................................................................................................................................................",20784,"",208,null,"1216103",1216103,"Tuchów (3)",17615,null,"1816",1816000,"   rzeszowski",114713,1147,168167,147,95,11,null,null,null,null,null,null,null,null,null,null,null,"04","11","07",2,400000,11000,70,2,411072,"TOPÓLKA",1161.32,null,"22","62",2200,62,2262,2262000,"Gdynia",433.8]
["","",null,null,null,null,"1216104",1216104,"Tuchów - miasto (4)",6438,null,"1817",1817000,"   sanocki",115643,1156,94758,82,94,88,null,null,null,null,null,null,null,null,null,null,null,"04","12","01",1,400000,12000,10,1,412011,"RYPIN",1775.63,null,"22","63",2200,63,2263,2263000,"Słupsk",292.20999999999998]
[219043,"  Jaworzyna Śląska..........................................................................................................................................................................................................................................................",6745,"",67,null,"1216105",1216105,"Tuchów - obszar wiejski (5)",11177,null,"1818",1818000,"   stalowowolski",83174,832,106619,128,171,74,null,null,null,null,null,null,null,null,null,null,null,"04","12","02",2,400000,12000,20,2,412022,"BRZUZE",1061.77,null,"22","64",2200,64,2264,2264000,"Sopot",651.61]
[219044,"",434,"",4,null,"1216112",1216112,"Wierzchosławice (2)",10745,null,"1819",1819000,"   strzyżowski",50347,504,61558,122,279,191,null,null,null,null,null,null,null,null,null,null,null,"04","12","03",2,400000,12000,30,2,412032,"ROGOWO",903.67,null,"24","01",2400,1,2401,2401000,"będziński",332.15]
[219045,"",6311,"",63,null,"1216122",1216122,"Wietrzychowice (2)",3907,null,"1820",1820000,"   tarnobrzeski",52106,521,53236,102,278,231,null,null,null,null,null,null,null,null,null,null,null,"04","12","04",2,400000,12000,40,2,412042,"RYPIN",1406.75,null,"24","02",2400,2,2402,2402000,"bielski",337.87]
[219063,"  Strzegom..........................................................................................................................................................................................................................................................",14465,"",145,null,"1216133",1216133,"Wojnicz (3)",13243,null,"",{"$error":"#VALUE!"}," Miasta na prawach powiatu:",null,null,null,null,null,null,null,null,null,null,null,null,null,null,null,null,null,"04","12","05",2,400000,12000,50,2,412052,"SKRWILNO",752.87,null,"24","03",2400,3,2403,2403000,"cieszyński",272.33999999999997]
[219064,"",2049,"",21,null,"1216134",1216134,"Wojnicz - miasto (4)",3293,null,"",{"$error":"#VALUE!"}," Cities with powiat status:",null,null,null,null,null,null,null,null,null,null,null,null,null,null,null,null,null,"04","12","06",2,400000,12000,60,2,412062,"WĄPIELSK",1002.47,null,"24","04",2400,4,2404,2404000,"częstochowski",253.27]
[219065,"",12416,"",124,null,"1216135",1216135,"Wojnicz - obszar wiejski (5)",9950,null,"1861",1861000,"   Krosno",4350,44,46511,1069,53,64,null,null,null,null,null,null,null,null,null,null,null,"04","13","01",3,400000,13000,10,3,413013,"KAMIEŃ KRAJEŃSKI",1141.18,null,"24","05",{"$f":"AR262*100","v":2400},{"$f":"+AS262*1","v":5},{"$f":"AT262+AU262","v":2405},{"$f":"AV262*1000","v":2405000},"gliwicki",298.10000000000002]
[219083,"  Żarów..........................................................................................................................................................................................................................................................",8784,"",88,null,"1216143",1216143,"Zakliczyn (3)",12561,null,"1862",1862000,"   Przemyśl",4617,46,61251,1327,52,57,null,null,null,null,null,null,null,null,null,null,null,"04","13","02",3,400000,13000,20,3,413023,"SĘPÓLNO KRAJEŃSKIE",1514.94,null,"24","06",2400,6,2406,2406000,"kłobucki",265.18]
[219084,"",757,"",8,null,"1216144",1216144,"Zakliczyn - miasto (4)",1612,null,"1863",1863000,"   Rzeszów",12661,126,193883,1531,20,18,null,null,null,null,null,null,null,null,null,null,null,"04","13","03",2,{"$f":"AF264*100000","v":400000},{"$f":"AG264*1000","v":13000},{"$f":"AH264*10","v":30},{"$f":"AI264*1","v":2},{"$f":"SUM(AJ264:AM264)","v":413032},"SOŚNO",1020.68,null,"24","07",2400,7,2407,2407000,"lubliniecki",241.79]
[219085,"",8027,"",80,null,"1216145",1216145,"Zakliczyn - obszar wiejski (5)",10949,null,"1864",{"$f":"L265*1000","v":1864000},"   Tarnobrzeg",8540,85,47047,551,32,63,null,null,null,null,null,null,null,null,null,null,null,"04","13","04",3,400000,13000,40,3,413043,"WIĘCBORK",1236.1600000000001,null,"24","08",2400,8,2408,2408000,"mikołowski",376.88]
["","Powiat trzebnicki  (6 gmin)",null,null,null,null,"1216153",1216153,"Żabno (3)",18788,null,"",{"$error":"#VALUE!"},"WOJ. PODLASKIE",null,null,null,null,null,null,null,null,null,null,null,null,null,null,null,null,null,"04","14","01",2,400000,14000,10,2,414012,"BUKOWIEC",1779.07,null,"24","09",2400,9,2409,2409000,"myszkowski",259.95]
["","",null,null,null,null,"1216154",1216154,"Żabno - miasto (4)",4156,null,"",{"$error":"#VALUE!"}," Powiaty:",null,null,null,null,null,null,null,null,null,null,null,null,null,null,null,null,null,"04","14","02",2,400000,14000,20,2,414022,"DRAGACZ",1523.55,null,"24","10",2400,10,2410,2410000,"pszczyński",315.91000000000003]
[220042,"  Wisznia Mała..........................................................................................................................................................................................................................................................",10336,"",103,null,"1216155",1216155,"Żabno - obszar wiejski (5)",14632,null,"",{"$error":"#VALUE!"}," Powiats:",null,null,null,null,null,null,null,null,null,null,null,null,null,null,null,null,null,"04","14","03",2,400000,14000,30,2,414032,"DRZYCIM",1410.01,null,"24","11",2400,11,2411,2411000,"raciborski",226.39]
[220052,"  Zawonia..........................................................................................................................................................................................................................................................",11745,"",118,null,"1216162",1216162,"Szerzyny (2)",7811,null,"2001",2001000,"   augustowski",165939,1659,58367,35,23,203,null,null,null,null,null,null,null,null,null,null,null,"04","14","04",2,400000,14000,40,2,414042,"JEŻEWO",1421.82,null,"24","12",2400,12,2412,2412000,"rybnicki",281.64]
["","",null,null,null,null,"1217000",1217000,"Powiat tatrzański",67719,null,"2002",2002000,"   białostocki",297644,2975,148145,50,1,27,null,null,null,null,null,null,null,null,null,null,null,"04","14","05",2,400000,14000,50,2,414052,"LNIANO",1659.17,null,"24","13",2400,13,2413,2413000,"tarnogórski",329.54]
[220013,"  Oborniki Śląskie..........................................................................................................................................................................................................................................................",15426,"",154,null,"1217011",1217011,"Zakopane (1)",26540,null,"2003",2003000,"   bielski",138509,1385,54863,40,53,226,null,null,null,null,null,null,null,null,null,null,null,"04","14","06",3,400000,14000,60,3,414063,"NOWE",1183.25,null,"24","14",2400,14,2414,2414000,"bieruńsko-lędziński",333.16]
[220014,"",1446,"",14,null,"1217022",1217022,"Biały Dunajec (2)",7091,null,"2004",2004000,"   grajewski",96762,968,47518,49,135,250,null,null,null,null,null,null,null,null,null,null,null,"04","14","07",2,400000,14000,70,2,414072,"OSIE",2218.2600000000002,null,"24","15",2400,15,2415,2415000,"wodzisławski",263.08999999999997]
[220015,"",13980,"",140,null,"1217032",1217032,"Bukowina Tatrzańska (2)",13502,null,"2005",2005000,"   hajnowski",162353,1624,43143,27,26,272,null,null,null,null,null,null,null,null,null,null,null,"04","14","08",2,400000,14000,80,2,414082,"PRUSZCZ",1350.81,null,"24","16",2400,16,2416,2416000,"zawierciański",263.2]
[220023,"  Prusice..........................................................................................................................................................................................................................................................",15798,"",158,null,"1217042",1217042,"Kościelisko (2)",8881,null,"2006",2006000,"   kolneński",94010,940,38396,41,144,290,null,null,null,null,null,null,null,null,null,null,null,"04","14","09",3,400000,14000,90,3,414093,"ŚWIECIE",3124.26,null,"24","17",2400,17,2417,2417000,"żywiecki",239.18]
[220024,"",1094,"",11,null,"1217052",1217052,"Poronin (2)",11705,null,"2007",2007000,"   łomżyński",135459,1355,51000,38,57,239,null,null,null,null,null,null,null,null,null,null,null,"04","14","10",2,400000,14000,100,2,414102,"ŚWIEKATOWO",922.81,null,"24","61",2400,61,2461,2461000,"Bielsko-Biała",419.26]
[220025,"",14704,"",147,null,"1218000",1218000,"Powiat wadowicki",159116,null,"2008",2008000,"   moniecki",138179,1382,40712,29,54,282,null,null,null,null,null,null,null,null,null,null,null,"04","14","11",2,400000,14000,110,2,414112,"WARLUBIE",1201.8800000000001,null,"24","62",2400,62,2462,2462000,"Bytom",241.15]
[220033,"  Trzebnica..........................................................................................................................................................................................................................................................",19996,"",200,null,"1218013",1218013,"Andrychów (3)",43042,null,"2009",2009000,"   sejneński",85517,855,20092,23,163,313,null,null,null,null,null,null,null,null,null,null,null,"04","15","01",1,400000,15000,10,1,415011,"CHEŁMŻA",1385.95,null,"24","63",2400,63,2463,2463000,"Chorzów",305.25]
[220034,"",1061,"",11,null,"1218014",1218014,"Andrychów - miasto (4)",19524,null,"2010",2010000,"   siemiatycki",145946,1459,44689,31,41,264,null,null,null,null,null,null,null,null,null,null,null,"04","15","02",2,400000,15000,20,2,415022,"CHEŁMŻA",1534,null,"24","64",2400,64,2464,2464000,"Częstochowa",318.62]
[220035,"",18935,"",189,null,"1218015",1218015,"Andrychów - obszar wiejski (5)",23518,null,"2011",2011000,"   sokólski",205450,2055,67466,33,8,169,null,null,null,null,null,null,null,null,null,null,null,"04","15","03",2,400000,15000,30,2,415032,"CZERNIKOWO",1078.68,null,"24","65",2400,65,2465,2465000,"Dąbrowa Górnicza",352.26]
[220063,"  Żmigród..........................................................................................................................................................................................................................................................",29177,"",292,null,"1218022",1218022,"Brzeźnica (2)",10552,null,"2012",2012000,"   suwalski",130700,1307,35792,27,63,296,null,null,null,null,null,null,null,null,null,null,null,"04","15","04",2,400000,15000,40,2,415042,"LUBICZ",2284.9899999999998,null,"24","66",2400,66,2466,2466000,"Gliwice",404.2]
[220064,"",949,"",10,null,"1218033",1218033,"Kalwaria Zebrzydowska (3)",19970,null,"2013",2013000,"   wysokomazowiecki",128891,1289,57248,44,65,210,null,null,null,null,null,null,null,null,null,null,null,"04","15","05",2,400000,15000,50,2,415052,"ŁUBIANKA",1554.36,null,"24","67",2400,67,2467,2467000,"Jastrzębie-Zdrój",288.29000000000002]
[220065,"",28228,"",282,null,"1218034",1218034,"Kalwaria Zebrzydowska - miasto (4)",4423,null,"2014",2014000,"   zambrowski",73312,733,43816,60,202,268,null,null,null,null,null,null,null,null,null,null,null,"04","15","06",2,400000,15000,60,2,415062,"ŁYSOMICE",3364.43,null,"24","68",2400,68,2468,2468000,"Jaworzno",324.58]
["","Powiat wałbrzyski  (8 gmin)",null,null,null,null,"1218035",1218035,"Kalwaria Zebrzydowska - obszar wiejski (5)",15547,null,"",{"$error":"#VALUE!"}," Miasta na prawach powiatu:",null,null,null,null,null,null,null,null,null,null,null,null,null,null,null,null,null,"04","15","07",2,400000,15000,70,2,415072,"OBROWO",1491.5,null,"24","69",2400,69,2469,2469000,"Katowice",489.94]
["","",null,null,null,null,"1218042",1218042,"Lanckorona (2)",6210,null,"",{"$error":"#VALUE!"}," Cities with powiat status:",null,null,null,null,null,null,null,null,null,null,null,null,null,null,null,null,null,"04","15","08",2,400000,15000,80,2,415082,"WIELKA NIESZAWKA",2877.94,null,"24","70",2400,70,2470,2470000,"Mysłowice",336.55]
[221011,"  Boguszów-Gorce..........................................................................................................................................................................................................................................................",2702,"",27,null,"1218052",1218052,"Mucharz (2)",4133,null,"2061",2061000,"   Białystok",10213,102,297459,2913,26,10,null,null,null,null,null,null,null,null,null,null,null,"04","15","09",2,400000,15000,90,2,415092,"ZŁAWIEŚ WIELKA",1898.45,null,"24","71",2400,71,2471,2471000,"Piekary Śląskie",285.48]
[221021,"  Jedlina-Zdrój..........................................................................................................................................................................................................................................................",1745,"",17,null,"1218062",1218062,"Spytkowice (2)",10240,null,"2062",2062000,"   Łomża",3267,33,63000,1928,60,54,null,null,null,null,null,null,null,null,null,null,null,"04","16","01",2,400000,16000,10,2,416012,"CEKCYN",1393.61,null,"24","72",2400,72,2472,2472000,"Ruda Śląska",294.87]
[221031,"  Szczawno-Zdrój..........................................................................................................................................................................................................................................................",1474,"",15,null,"1218072",1218072,"Stryszów (2)",6844,null,"2063",2063000,"   Suwałki",6551,66,69827,1066,46,50,null,null,null,null,null,null,null,null,null,null,null,"04","16","02",2,400000,16000,20,2,416022,"GOSTYCYN",1200.78,null,"24","73",2400,73,2473,2473000,"Rybnik",319.26]
["","",null,null,null,null,"1218082",1218082,"Tomice (2)",8242,null,"",{"$error":"#VALUE!"},"WOJ. POMORSKIE",null,null,null,null,null,null,null,null,null,null,null,null,null,null,null,null,null,"04","16","03",2,400000,16000,30,2,416032,"KĘSOWO",1022.9,null,"24","74",2400,74,2474,2474000,"Siemianowice Śląskie",304.14999999999998]
[221042,"  Czarny Bór..........................................................................................................................................................................................................................................................",6640,"",66,null,"1218093",1218093,"Wadowice (3)",37319,null,"",{"$error":"#VALUE!"}," Powiaty:",null,null,null,null,null,null,null,null,null,null,null,null,null,null,null,null,null,"04","16","04",2,400000,16000,40,2,416042,"LUBIEWO",1412.66,null,"24","75",2400,75,2475,2475000,"Sosnowiec",314.3]
[221072,"  Stare Bogaczowice..........................................................................................................................................................................................................................................................",8729,"",88,null,"1218094",1218094,"Wadowice - miasto (4)",18074,null,"",{"$error":"#VALUE!"}," Powiats:",null,null,null,null,null,null,null,null,null,null,null,null,null,null,null,null,null,"04","16","05",2,400000,16000,50,2,416052,"ŚLIWICE",1717.01,null,"24","76",2400,76,2476,2476000,"Świętochłowice",245.73]
[221082,"  Walim..........................................................................................................................................................................................................................................................",7914,"",79,null,"1218095",1218095,"Wadowice - obszar wiejski (5)",19245,null,"2201",2201000,"   bytowski",219207,2192,79299,36,6,128,null,null,null,null,null,null,null,null,null,null,null,"04","16","06",3,400000,16000,60,3,416063,"TUCHOLA",1526.87,null,"24","77",2400,77,2477,2477000,"Tychy",406.6]
["","",null,null,null,null,"1218102",1218102,"Wieprz (2)",12564,null,"2202",2202000,"   chojnicki",136421,1364,97551,72,56,84,null,null,null,null,null,null,null,null,null,null,null,"04","17","01",1,400000,17000,10,1,417011,"WĄBRZEŹNO",1781.63,null,"24","78",2400,78,2478,2478000,"Zabrze",283.8]
[221053,"  Głuszyca..........................................................................................................................................................................................................................................................",6212,"",62,null,"1219000",1219000,"Powiat wielicki",132366,null,"2203",2203000,"   człuchowski",157527,1575,56370,36,30,216,null,null,null,null,null,null,null,null,null,null,null,"04","17","02",2,400000,17000,20,2,417022,"DĘBOWA ŁĄKA",1173.69,null,"24","79",2400,79,2479,2479000,"Żory",323.39]
[221054,"",1621,"",16,null,"1219012",1219012,"Biskupice (2)",10664,null,"2204",2204000,"   gdański",79375,794,116199,146,182,55,null,null,null,null,null,null,null,null,null,null,null,"04","17","03",2,400000,17000,30,2,417032,"KSIĄŻKI",1056.5899999999999,null,"26","01",2600,1,2601,2601000,"buski",181.34]
[221055,"",4591,"",46,null,"1219022",1219022,"Gdów (2)",18378,null,"2205",2205000,"   kartuski",112054,1121,136619,122,100,34,null,null,null,null,null,null,null,null,null,null,null,"04","17","04",2,400000,17000,40,2,417042,"PŁUŻNICA",1657.89,null,"26","02",2600,2,2602,2602000,"jędrzejowski",172.08]
[221063,"  Mieroszów..........................................................................................................................................................................................................................................................",7606,"",76,null,"1219032",1219032,"Kłaj (2)",10912,null,"2206",2206000,"   kościerski",116567,1166,72528,62,90,155,null,null,null,null,null,null,null,null,null,null,null,"04","17","05",2,400000,17000,50,2,417052,"RYŃSK",1352.08,null,"26","03",2600,3,2603,2603000,"kazimierski",119.26]
[221064,"",1031,"",10,null,"1219043",1219043,"Niepołomice (3)",30248,null,"2207",2207000,"   kwidzyński",83470,835,83291,100,170,118,null,null,null,null,null,null,null,null,null,null,null,"04","18","01",1,400000,18000,10,1,418011,"KOWAL",1393.93,null,"26","04",2600,4,2604,2604000,"kielecki",210.23]
[221065,"",6575,"",66,null,"1219044",1219044,"Niepołomice - miasto (4)",14523,null,"2208",2208000,"   lęborski",70777,708,66280,94,215,173,null,null,null,null,null,null,null,null,null,null,null,"04","18","02",2,400000,18000,20,2,418022,"BARUCHOWO",1305.8499999999999,null,"26","05",2600,5,2605,2605000,"konecki",172.37]
["","Powiat wołowski  (3 gminy)",null,null,null,null,"1219045",1219045,"Niepołomice - obszar wiejski (5)",15725,null,"2209",2209000,"   malborski",49423,494,63748,129,282,185,null,null,null,null,null,null,null,null,null,null,null,"04","18","03",2,400000,18000,30,2,418032,"BONIEWO",897.79,null,"26","06",2600,6,2606,2606000,"opatowski",161.56]
["","",null,null,null,null,"1219053",1219053,"Wieliczka (3)",62164,null,"2210",2210000,"   nowodworski",67408,674,35746,53,230,297,null,null,null,null,null,null,null,null,null,null,null,"04","18","04",3,400000,18000,40,3,418043,"BRZEŚĆ KUJAWSKI",2156.1,null,"26","07",2600,7,2607,2607000,"ostrowiecki",197.58]
[222022,"  Wińsko..........................................................................................................................................................................................................................................................",24946,"",250,null,"1219054",1219054,"Wieliczka - miasto (4)",24594,null,"2211",2211000,"   pucki",58118,581,85726,148,262,111,null,null,null,null,null,null,null,null,null,null,null,"04","18","05",2,400000,18000,50,2,418052,"CHOCEŃ",1182.45,null,"26","08",2600,8,2608,2608000,"pińczowski",171.82]
["","",null,null,null,null,"1219055",1219055,"Wieliczka - obszar wiejski (5)",37570,null,"2212",2212000,"   słupski",230424,2304,98816,43,4,81,null,null,null,null,null,null,null,null,null,null,null,"04","18","06",3,400000,18000,60,3,418063,"CHODECZ",1303.3399999999999,null,"26","09",2600,9,2609,2609000,"sandomierski",182.13]
[222013,"  Brzeg Dolny..........................................................................................................................................................................................................................................................",9440,"",94,null,"1261000",1261000,"Powiat m.Kraków",782137,null,"2213",2213000,"   starogardzki",134534,1345,128004,95,59,39,null,null,null,null,null,null,null,null,null,null,null,"04","18","07",2,400000,18000,70,2,418072,"FABIANKI",1922.97,null,"26","10",2600,10,2610,2610000,"skarżyski",220.72]
[222014,"",1720,"",17,null,"1261011",1261011,"Kraków (1)",782137,null,"2216",2216000,"   sztumski",73074,731,41569,57,203,276,null,null,null,null,null,null,null,null,null,null,null,"04","18","08",3,400000,18000,80,3,418083,"IZBICA KUJAWSKA",1038.03,null,"26","11",2600,11,2611,2611000,"starachowicki",210.59]
[222015,"",7720,"",77,null,"1262000",1262000,"Powiat m.Nowy Sącz",83116,null,"2214",2214000,"   tczewski",69711,697,115876,166,219,56,null,null,null,null,null,null,null,null,null,null,null,"04","18","09",2,400000,18000,90,2,418092,"KOWAL",1101.1099999999999,null,"26","12",2600,12,2612,2612000,"staszowski",191.74]
[222033,"  Wołów..........................................................................................................................................................................................................................................................",33110,"",331,null,"1262011",1262011,"Nowy Sącz (1)",83116,null,"2215",2215000,"   wejherowski",128525,1285,215908,168,67,5,null,null,null,null,null,null,null,null,null,null,null,"04","18","10",2,400000,18000,100,2,418102,"LUBANIE",2178.66,null,"26","13",2600,13,2613,2613000,"włoszczowski",197.03]
[222034,"",1854,"",19,null,"1263000",1263000,"Powiat m.Tarnów",105922,null,"",{"$error":"#VALUE!"}," Miasta na prawach powiatu:",null,null,null,null,null,null,null,null,null,null,null,null,null,null,null,null,null,"04","18","11",3,400000,18000,110,3,418113,"LUBIEŃ KUJAWSKI",1604.05,null,"26","61",2600,61,2661,2661000,"Kielce",342.64]
[222035,"",31256,"",312,null,"1263011",1263011,"Tarnów (1)",105922,null,"",{"$error":"#VALUE!"}," Cities with powiat status:",null,null,null,null,null,null,null,null,null,null,null,null,null,null,null,null,null,"04","18","12",3,400000,18000,120,3,418123,"LUBRANIEC",1143.3,null,"28","01",2800,1,2801,2801000,"bartoszycki",172.81]
["","Powiat wrocławski  (9 gmin)",null,null,null,null,null,null,null,null,null,"2261",2261000,"   Gdańsk",26196,262,466631,1781,7,6,null,null,null,null,null,null,null,null,null,null,null,"04","18","13",2,400000,18000,130,2,418132,"WŁOCŁAWEK",2042.03,null,"28","02",2800,2,2802,2802000,"braniewski",172.99]
["","",null,null,null,null,null,null,null,null,null,"2262",2262000,"   Gdynia",13514,135,246309,1823,18,12,null,null,null,null,null,null,null,null,null,null,null,"04","19","01",3,400000,19000,10,3,419013,"BARCIN",2876.03,null,"28","03",2800,3,2803,2803000,"działdowski",186.82]
[223012,"  Czernica..........................................................................................................................................................................................................................................................",8363,"",84,null,null,null,null,null,null,"2263",2263000,"   Słupsk",4315,43,91007,2109,54,42,null,null,null,null,null,null,null,null,null,null,null,"04","19","02",2,400000,19000,20,2,419022,"GĄSAWA",1438.14,null,"28","04",2800,4,2804,2804000,"elbląski",172.54]
[223022,"  Długołęka..........................................................................................................................................................................................................................................................",21284,"",213,null,null,null,null,null,null,"2264",2264000,"   Sopot",1728,17,36046,2086,64,66,null,null,null,null,null,null,null,null,null,null,null,"04","19","03",3,400000,19000,30,3,419033,"JANOWIEC WIELKOPOLSKI",1307.25,null,"28","05",2800,5,2805,2805000,"ełcki",195.6]
[223032,"  Jordanów Śląski..........................................................................................................................................................................................................................................................",5669,"",57,null,null,null,null,null,null,"",{"$error":"#VALUE!"},"WOJ. ŚLĄSKIE",null,null,null,null,null,null,null,null,null,null,null,null,null,null,null,null,null,"04","19","04",3,400000,19000,40,3,419043,"ŁABISZYN",1299.49,null,"28","06",2800,6,2806,2806000,"giżycki",208.32]
[223052,"  Kobierzyce..........................................................................................................................................................................................................................................................",14926,"",149,null,null,null,null,null,null,"",{"$error":"#VALUE!"}," Powiaty:",null,null,null,null,null,null,null,null,null,null,null,null,null,null,null,null,null,"04","19","05",2,400000,19000,50,2,419052,"ROGOWO",1233.5899999999999,null,"28","07",2800,7,2807,2807000,"iławski",211.97]
[223062,"  Mietków..........................................................................................................................................................................................................................................................",8338,"",83,null,null,null,null,null,null,"",{"$error":"#VALUE!"}," Powiats:",null,null,null,null,null,null,null,null,null,null,null,null,null,null,null,null,null,"04","19","06",3,400000,19000,60,3,419063,"ŻNIN",1641.63,null,"28","08",2800,8,2808,2808000,"kętrzyński",165.18]
[223092,"  Żórawina..........................................................................................................................................................................................................................................................",12027,"",120,null,null,null,null,null,null,"2401",2401000,"   będziński",36413,364,148762,409,307,26,null,null,null,null,null,null,null,null,null,null,null,"04","61","01",1,400000,61000,10,1,461011,"Bydgoszcz",2101.9699999999998,null,"28","09",2800,9,2809,2809000,"lidzbarski",178.27]
["","",null,null,null,null,null,null,null,null,null,"2402",2402000,"   bielski",45864,459,165000,360,290,13,null,null,null,null,null,null,null,null,null,null,null,"04","62","01",1,400000,62000,10,1,462011,"Grudziądz",1686.58,null,"28","10",2800,10,2810,2810000,"mrągowski",206.8]
[223043,"  Kąty Wrocławskie..........................................................................................................................................................................................................................................................",17666,"",177,null,null,null,null,null,null,"2414",2414000,"   bieruńsko-lędziński",15815,158,59760,378,313,197,null,null,null,null,null,null,null,null,null,null,null,"04","63","01",1,400000,63000,10,1,463011,"Toruń",2198.0700000000002,null,"28","11",2800,11,2811,2811000,"nidzicki",151.01]
[223044,"",861,"",9,null,null,null,null,null,null,"2403",2403000,"   cieszyński",73029,730,178139,244,204,10,null,null,null,null,null,null,null,null,null,null,null,"04","64","01",1,400000,64000,10,1,464011,"Włocławek",2332.46,null,"28","12",2800,12,2812,2812000,"nowomiejski",155.29]
[223045,"",16805,"",168,null,null,null,null,null,null,"2404",2404000,"   częstochowski",152205,1521,134919,89,34,36,null,null,null,null,null,null,null,null,null,null,null,"06","01","01",1,600000,1000,10,1,601011,"MIĘDZYRZEC PODLASKI",1575.12,null,"28","13",2800,13,2813,2813000,"olecki",160.72]
[223083,"  Siechnice..........................................................................................................................................................................................................................................................",9871,"",99,null,null,null,null,null,null,"2405",2405000,"   gliwicki",66437,664,115558,174,234,57,null,null,null,null,null,null,null,null,null,null,null,"06","01","02",1,600000,1000,20,1,601021,"TERESPOL",1519.7,null,"28","14",2800,14,2814,2814000,"olsztyński",256.45999999999998]
[223084,"",1563,"",16,null,null,null,null,null,null,"2406",2406000,"   kłobucki",88859,889,84924,96,154,113,null,null,null,null,null,null,null,null,null,null,null,"06","01","03",2,600000,1000,30,2,601032,"BIAŁA PODLASKA",1300.02,null,"28","15",2800,15,2815,2815000,"ostródzki",195.95]
[223085,"",8308,"",83,null,null,null,null,null,null,"2407",2407000,"   lubliniecki",82225,822,76593,93,174,143,null,null,null,null,null,null,null,null,null,null,null,"06","01","04",2,600000,1000,40,2,601042,"DRELÓW",905.74,null,"28","16",2800,16,2816,2816000,"piski",160.94]
[223073,"  Sobótka..........................................................................................................................................................................................................................................................",13626,"",136,null,null,null,null,null,null,"2408",2408000,"   mikołowski",23310,233,98373,422,311,83,null,null,null,null,null,null,null,null,null,null,null,"06","01","05",2,600000,1000,50,2,601052,"JANÓW PODLASKI",1190.94,null,"28","17",2800,17,2817,2817000,"szczycieński",174.68]
[223074,"",3220,"",32,null,null,null,null,null,null,"2409",2409000,"   myszkowski",47925,479,71119,148,284,162,null,null,null,null,null,null,null,null,null,null,null,"06","01","06",2,600000,1000,60,2,601062,"KODEŃ",870.84,null,"28","18",2800,18,2818,2818000,"gołdapski",150.72]
[223075,"",10406,"",104,null,null,null,null,null,null,"2410",2410000,"   pszczyński",47116,471,111202,236,288,65,null,null,null,null,null,null,null,null,null,null,null,"06","01","07",2,600000,1000,70,2,601072,"KONSTANTYNÓW",997.24,null,"28","19",{"$f":"AR326*100","v":2800},{"$f":"+AS326*1","v":19},{"$f":"AT326+AU326","v":2819},{"$f":"AV326*1000","v":2819000},"węgorzewski",171.82]
["","Powiat ząbkowicki  (7 gmin)",null,null,null,null,null,null,null,null,null,"2411",2411000,"   raciborski",54376,544,108513,200,270,70,null,null,null,null,null,null,null,null,null,null,null,"06","01","08",2,600000,1000,80,2,601082,"LEŚNA PODLASKA",830.34,null,"28","61",2800,61,2861,2861000,"Elbląg",279.14999999999998]
["","",null,null,null,null,null,null,null,null,null,"2412",2412000,"   rybnicki",22364,224,78104,349,312,135,null,null,null,null,null,null,null,null,null,null,null,"06","01","09",2,{"$f":"AF328*100000","v":600000},{"$f":"AG328*1000","v":1000},{"$f":"AH328*10","v":90},{"$f":"AI328*1","v":2},{"$f":"SUM(AJ328:AM328)","v":601092},"ŁOMAZY",879.88,null,"28","62",2800,62,2862,2862000,"Olsztyn",364.29]
[224022,"  Ciepłowody..........................................................................................................................................................................................................................................................",7741,"",77,null,null,null,null,null,null,"2413",{"$f":"L329*1000","v":2413000},"   tarnogórski",64419,644,139833,217,238,30,null,null,null,null,null,null,null,null,null,null,null,"06","01","10",2,600000,1000,100,2,601102,"MIĘDZYRZEC PODLASKI",1025.1600000000001,null,"30","01",3000,1,3001,3001000,"chodzieski",272.32]
[224032,"  Kamieniec Ząbkowicki..........................................................................................................................................................................................................................................................",9669,"",97,null,null,null,null,null,null,"2415",2415000,"   wodzisławski",28675,287,157616,550,309,19,null,null,null,null,null,null,null,null,null,null,null,"06","01","11",2,600000,1000,110,2,601112,"PISZCZAC",929.86,null,"30","02",3000,2,3002,3002000,"czarnkowsko-trzcianecki",204.7]
[224042,"  Stoszowice..........................................................................................................................................................................................................................................................",11072,"",112,null,null,null,null,null,null,"2416",2416000,"   zawierciański",100223,1003,118434,118,128,49,null,null,null,null,null,null,null,null,null,null,null,"06","01","12",2,600000,1000,120,2,601122,"ROKITNO",1058.45,null,"30","03",3000,3,3003,3003000,"gnieźnieński",240.22]
["","",null,null,null,null,null,null,null,null,null,"2417",2417000,"   żywiecki",104006,1040,153226,147,115,24,null,null,null,null,null,null,null,null,null,null,null,"06","01","13",2,600000,1000,130,2,601132,"ROSSOSZ",939,null,"30","04",3000,4,3004,3004000,"gostyński",264.54000000000002]
[224013,"  Bardo..........................................................................................................................................................................................................................................................",7303,"",73,null,null,null,null,null,null,"",{"$error":"#VALUE!"}," Miasta na prawach powiatu:",null,null,null,null,null,null,null,null,null,null,null,null,null,null,null,null,null,"06","01","14",2,600000,1000,140,2,601142,"SŁAWATYCZE",934.75,null,"30","05",3000,5,3005,3005000,"grodziski",254.06]
[224014,"",471,"",5,null,null,null,null,null,null,"",{"$error":"#VALUE!"}," Cities with powiat status:",null,null,null,null,null,null,null,null,null,null,null,null,null,null,null,null,null,"06","01","15",2,600000,1000,150,2,601152,"SOSNÓWKA",890.44,null,"30","06",3000,6,3006,3006000,"jarociński",241.08]
[224015,"",6832,"",68,null,null,null,null,null,null,"2461",2461000,"   Bielsko-Biała",12451,125,171259,1375,21,22,null,null,null,null,null,null,null,null,null,null,null,"06","01","16",2,600000,1000,160,2,601162,"TERESPOL",2435.2399999999998,null,"30","07",3000,7,3007,3007000,"kaliski",250.41]
[224053,"  Ząbkowice Śląskie..........................................................................................................................................................................................................................................................",14613,"",146,null,null,null,null,null,null,"2462",2462000,"   Bytom",6944,69,166795,2402,42,23,null,null,null,null,null,null,null,null,null,null,null,"06","01","17",2,600000,1000,170,2,601172,"TUCZNA",742.76,null,"30","08",3000,8,3008,3008000,"kępiński",438.22]
[224054,"",1367,"",14,null,null,null,null,null,null,"2463",2463000,"   Chorzów",3324,33,108434,3262,59,36,null,null,null,null,null,null,null,null,null,null,null,"06","01","18",2,600000,1000,180,2,601182,"WISZNICE",1292.1199999999999,null,"30","09",3000,9,3009,3009000,"kolski",200.71]
[224055,"",13246,"",132,null,null,null,null,null,null,"2464",2464000,"   Częstochowa",15971,160,222292,1392,13,13,null,null,null,null,null,null,null,null,null,null,null,"06","01","19",2,600000,1000,190,2,601192,"ZALESIE",1587.79,null,"30","10",3000,10,3010,3010000,"koniński",192.52]
[224063,"  Ziębice..........................................................................................................................................................................................................................................................",22228,"",222,null,null,null,null,null,null,"2465",2465000,"   Dąbrowa Górnicza",18873,189,120259,637,10,30,null,null,null,null,null,null,null,null,null,null,null,"06","02","01",1,600000,2000,10,1,602011,"BIŁGORAJ",1724.05,null,"30","11",3000,11,3011,3011000,"kościański",256.10000000000002]
[224064,"",1507,"",15,null,null,null,null,null,null,"2466",2466000,"   Gliwice",13388,134,179806,1343,19,19,null,null,null,null,null,null,null,null,null,null,null,"06","02","02",2,600000,2000,20,2,602022,"ALEKSANDRÓW",590.57000000000005,null,"30","12",3000,12,3012,3012000,"krotoszyński",239.74]
[224065,"",20721,"",207,null,null,null,null,null,null,"2467",2467000,"   Jastrzębie-Zdrój",8533,85,89128,1045,33,43,null,null,null,null,null,null,null,null,null,null,null,"06","02","03",2,600000,2000,30,2,602032,"BIŁGORAJ",1052.8800000000001,null,"30","13",3000,13,3013,3013000,"leszczyński",255.58]
[224073,"  Złoty Stok..........................................................................................................................................................................................................................................................",7527,"",75,null,null,null,null,null,null,"2468",2468000,"   Jaworzno",15259,153,91563,600,14,41,null,null,null,null,null,null,null,null,null,null,null,"06","02","04",2,600000,2000,40,2,602042,"BISZCZA",1007.21,null,"30","14",3000,14,3014,3014000,"międzychodzki",230.07]
[224074,"",773,"",8,null,null,null,null,null,null,"2469",2469000,"   Katowice",16464,165,294510,1789,12,11,null,null,null,null,null,null,null,null,null,null,null,"06","02","05",3,600000,2000,50,3,602053,"FRAMPOL",884.76,null,"30","15",3000,15,3015,3015000,"nowotomyski",272.8]
[224075,"",6754,"",67,null,null,null,null,null,null,"2470",2470000,"   Mysłowice",6562,66,74586,1137,45,47,null,null,null,null,null,null,null,null,null,null,null,"06","02","06",2,600000,2000,60,2,602062,"GORAJ",707.49,null,"30","16",3000,16,3016,3016000,"obornicki",248.52]
["","Powiat zgorzelecki  (7 gmin)",null,null,null,null,null,null,null,null,null,"2471",2471000,"   Piekary Śląskie",3998,40,55299,1383,55,59,null,null,null,null,null,null,null,null,null,null,null,"06","02","07",3,600000,2000,70,3,602073,"JÓZEFÓW",963.51,null,"30","17",3000,17,3017,3017000,"ostrowski",272.12]
["","",null,null,null,null,null,null,null,null,null,"2472",2472000,"   Ruda Śląska",7773,78,138000,1775,40,26,null,null,null,null,null,null,null,null,null,null,null,"06","02","08",2,600000,2000,80,2,602082,"KSIĘŻPOL",1044.8,null,"30","18",3000,18,3018,3018000,"ostrzeszowski",248.34]
[225011,"  Zawidów..........................................................................................................................................................................................................................................................",607,"",6,null,null,null,null,null,null,"2473",2473000,"   Rybnik",14836,148,138696,935,16,25,null,null,null,null,null,null,null,null,null,null,null,"06","02","09",2,600000,2000,90,2,602092,"ŁUKOWA",1329.43,null,"30","19",3000,19,3019,3019000,"pilski",255.98]
[225021,"  Zgorzelec..........................................................................................................................................................................................................................................................",1588,"",16,null,null,null,null,null,null,"2474",2474000,"   Siemianowice Śląskie",2550,25,67154,2633,63,51,null,null,null,null,null,null,null,null,null,null,null,"06","02","10",2,600000,2000,100,2,602102,"OBSZA",823.72,null,"30","20",3000,20,3020,3020000,"pleszewski",212.38]
["","",null,null,null,null,null,null,null,null,null,"2475",2475000,"   Sosnowiec",9106,91,202036,2219,28,16,null,null,null,null,null,null,null,null,null,null,null,"06","02","11",2,600000,2000,110,2,602112,"POTOK GÓRNY",523.72,null,"30","21",3000,21,3021,3021000,"poznański",484.57]
[225052,"  Sulików..........................................................................................................................................................................................................................................................",9451,"",95,null,null,null,null,null,null,"2476",2476000,"   Świętochłowice",1331,13,50012,3757,65,61,null,null,null,null,null,null,null,null,null,null,null,"06","02","12",3,600000,2000,120,3,602123,"TARNOGRÓD",1233.18,null,"30","22",3000,22,3022,3022000,"rawicki",222.47]
[225072,"  Zgorzelec..........................................................................................................................................................................................................................................................",13715,"",137,null,null,null,null,null,null,"2477",2477000,"   Tychy",8181,82,127831,1563,37,28,null,null,null,null,null,null,null,null,null,null,null,"06","02","13",2,600000,2000,130,2,602132,"TERESZPOL",958.48,null,"30","23",3000,23,3023,3023000,"słupecki",211.47]
["","",null,null,null,null,null,null,null,null,null,"2478",2478000,"   Zabrze",8040,80,173374,2156,38,20,null,null,null,null,null,null,null,null,null,null,null,"06","02","14",2,600000,2000,140,2,602142,"TUROBIN",894.23,null,"30","24",3000,24,3024,3024000,"szamotulski",274.02]
[225033,"  Bogatynia..........................................................................................................................................................................................................................................................",13612,"",136,null,null,null,null,null,null,"2479",2479000,"   Żory",6464,65,62456,966,47,56,null,null,null,null,null,null,null,null,null,null,null,"06","03","01",1,600000,3000,10,1,603011,"REJOWIEC FABRYCZNY",1493.76,null,"30","25",3000,25,3025,3025000,"średzki",283.55]
[225034,"",5988,"",60,null,null,null,null,null,null,"",{"$error":"#VALUE!"},"WOJ. ŚWIĘTOKRZYSKIE",null,null,null,null,null,null,null,null,null,null,null,null,null,null,null,null,null,"06","03","02",2,600000,3000,20,2,603022,"BIAŁOPOLE",1013.84,null,"30","26",3000,26,3026,3026000,"śremski",267.64999999999998]
[225035,"",7624,"",76,null,null,null,null,null,null,"",{"$error":"#VALUE!"}," Powiaty:",null,null,null,null,null,null,null,null,null,null,null,null,null,null,null,null,null,"06","03","03",2,600000,3000,30,2,603032,"CHEŁM",1463.63,null,"30","27",3000,27,3027,3027000,"turecki",208.72]
[225043,"  Pieńsk..........................................................................................................................................................................................................................................................",11053,"",111,null,null,null,null,null,null,"",{"$error":"#VALUE!"}," Powiats:",null,null,null,null,null,null,null,null,null,null,null,null,null,null,null,null,null,"06","03","04",2,600000,3000,40,2,603042,"DOROHUSK",1322.7,null,"30","28",3000,28,3028,3028000,"wągrowiecki",200.3]
[225044,"",992,"",10,null,null,null,null,null,null,"2601",2601000,"   buski",96800,968,72058,74,134,157,null,null,null,null,null,null,null,null,null,null,null,"06","03","05",2,600000,3000,50,2,603052,"DUBIENKA",949.92,null,"30","29",3000,29,3029,3029000,"wolsztyński",254.72]
[225045,"",10061,"",101,null,null,null,null,null,null,"2602",2602000,"   jędrzejowski",125696,1257,86076,68,72,110,null,null,null,null,null,null,null,null,null,null,null,"06","03","06",2,600000,3000,60,2,603062,"KAMIEŃ",1159.42,null,"30","30",3000,30,3030,3030000,"wrzesiński",273.57]
[225063,"  Węgliniec..........................................................................................................................................................................................................................................................",33834,"",338,null,null,null,null,null,null,"2603",2603000,"   kazimierski",42218,422,33851,80,297,304,null,null,null,null,null,null,null,null,null,null,null,"06","03","07",2,600000,3000,70,2,603072,"LEŚNIOWICE",996.46,null,"30","31",3000,31,3031,3031000,"złotowski",194.85]
[225064,"",873,"",9,null,null,null,null,null,null,"2604",2604000,"   kielecki",224607,2246,210694,94,5,6,null,null,null,null,null,null,null,null,null,null,null,"06","03","08",2,600000,3000,80,2,603082,"REJOWIEC FABRYCZNY",870.28,null,"30","61",3000,61,3061,3061000,"Kalisz",395.46]
[225065,"",32961,"",329,null,null,null,null,null,null,"2605",2605000,"   konecki",113972,1139,80648,71,96,124,null,null,null,null,null,null,null,null,null,null,null,"06","03","09",2,600000,3000,90,2,603092,"RUDA-HUTA",760.61,null,"30","62",3000,62,3062,3062000,"Konin",285.18]
["","Powiat złotoryjski  (6 gmin)",null,null,null,null,null,null,null,null,null,"2606",2606000,"   opatowski",91090,911,52577,58,152,233,null,null,null,null,null,null,null,null,null,null,null,"06","03","10",2,600000,3000,100,2,603102,"SAWIN",918.6,null,"30","63",3000,63,3063,3063000,"Leszno",375.32]
["","",null,null,null,null,null,null,null,null,null,"2607",2607000,"   ostrowiecki",61678,617,110127,179,250,67,null,null,null,null,null,null,null,null,null,null,null,"06","03","11",3,600000,3000,110,3,603113,"SIEDLISZCZE",1016.69,null,"30","64",3000,64,3064,3064000,"Poznań",534.79]
[226011,"  Wojcieszów..........................................................................................................................................................................................................................................................",3217,"",32,null,null,null,null,null,null,"2608",2608000,"   pińczowski",61285,613,39271,64,254,286,null,null,null,null,null,null,null,null,null,null,null,"06","03","12",2,600000,3000,120,2,603122,"WIERZBICA",975.56,null,"32","01",3200,1,3201,3201000,"białogardzki",185.52]
[226021,"  Złotoryja..........................................................................................................................................................................................................................................................",1151,"",12,null,null,null,null,null,null,"2609",2609000,"   sandomierski",67589,676,77773,115,227,137,null,null,null,null,null,null,null,null,null,null,null,"06","03","13",2,600000,3000,130,2,603132,"WOJSŁAWICE",873.98,null,"32","02",3200,2,3202,3202000,"choszczeński",167.59]
["","",null,null,null,null,null,null,null,null,null,"2610",2610000,"   skarżyski",39543,395,74817,189,302,148,null,null,null,null,null,null,null,null,null,null,null,"06","03","14",2,600000,3000,140,2,603142,"ŻMUDŹ",939.2,null,"32","03",3200,3,3203,3203000,"drawski",189.41]
[226032,"  Pielgrzymka..........................................................................................................................................................................................................................................................",10485,"",105,null,null,null,null,null,null,"2611",2611000,"   starachowicki",52341,523,90377,173,277,96,null,null,null,null,null,null,null,null,null,null,null,"06","03","15",3,600000,3000,150,3,603153,"REJOWIEC",971.27,null,"32","04",3200,4,3204,3204000,"goleniowski",259.18]
[226052,"  Zagrodno..........................................................................................................................................................................................................................................................",12234,"",122,null,null,null,null,null,null,"2612",2612000,"   staszowski",92480,925,72167,78,150,156,null,null,null,null,null,null,null,null,null,null,null,"06","04","01",1,600000,4000,10,1,604011,"HRUBIESZÓW",1544.16,null,"32","05",3200,5,3205,3205000,"gryficki",198.72]
[226062,"  Złotoryja..........................................................................................................................................................................................................................................................",14495,"",145,null,null,null,null,null,null,"2613",2613000,"   włoszczowski",90786,908,45336,50,153,260,null,null,null,null,null,null,null,null,null,null,null,"06","04","02",2,600000,4000,20,2,604022,"DOŁHOBYCZÓW",1309.79,null,"32","06",3200,6,3206,3206000,"gryfiński",199.78]
["","",null,null,null,null,null,null,null,null,null,"",{"$error":"#VALUE!"}," Miasto na prawach powiatu",null,null,null,null,null,null,null,null,null,null,null,null,null,null,null,null,null,"06","04","03",2,600000,4000,30,2,604032,"HORODŁO",1221.9100000000001,null,"32","07",3200,7,3207,3207000,"kamieński",212.9]
[226043,"  Świerzawa..........................................................................................................................................................................................................................................................",15999,"",160,null,null,null,null,null,null,"",{"$error":"#VALUE!"}," City with powiat status",null,null,null,null,null,null,null,null,null,null,null,null,null,null,null,null,null,"06","04","04",2,600000,4000,40,2,604042,"HRUBIESZÓW",1036.81,null,"32","08",3200,8,3208,3208000,"kołobrzeski",274.37]
[226044,"",176,"",2,null,null,null,null,null,null,"2661",2661000,"   Kielce",10965,110,195774,1785,24,17,null,null,null,null,null,null,null,null,null,null,null,"06","04","05",2,600000,4000,50,2,604052,"MIRCZE",1244.46,null,"32","09",3200,9,3209,3209000,"koszaliński",237.48]
[226045,"",15823,"",158,null,null,null,null,null,null,"",{"$error":"#VALUE!"},"WOJ. WARMIŃSKO-MAZURSKIE",null,null,null,null,null,null,null,null,null,null,null,null,null,null,null,null,null,"06","04","06",2,600000,4000,60,2,604062,"TRZESZCZANY",1024.69,null,"32","10",3200,10,3210,3210000,"myśliborski",205.1]
["","",null,null,null,null,null,null,null,null,null,"",{"$error":"#VALUE!"}," Powiaty:",null,null,null,null,null,null,null,null,null,null,null,null,null,null,null,null,null,"06","04","07",2,600000,4000,70,2,604072,"UCHANIE",1209.21,null,"32","11",3200,11,3211,3211000,"policki",421.59]
[261011,"  Jelenia Góra..........................................................................................................................................................................................................................................................",10922,"",109,null,null,null,null,null,null,"",{"$error":"#VALUE!"}," Powiats:",null,null,null,null,null,null,null,null,null,null,null,null,null,null,null,null,null,"06","04","08",2,600000,4000,80,2,604082,"WERBKOWICE",1373.09,null,"32","12",3200,12,3212,3212000,"pyrzycki",160.05000000000001]
[262011,"  Legnica..........................................................................................................................................................................................................................................................",5629,"",56,null,null,null,null,null,null,"2801",2801000,"   bartoszycki",130749,1307,57916,44,62,205,null,null,null,null,null,null,null,null,null,null,null,"06","05","01",2,600000,5000,10,2,605012,"BATORZ",1230.83,null,"32","13",3200,13,3213,3213000,"sławieński",182.07]
[265011,"  Wałbrzych..........................................................................................................................................................................................................................................................",8470,"",85,null,null,null,null,null,null,"2802",2802000,"   braniewski",120165,1202,41391,34,86,278,null,null,null,null,null,null,null,null,null,null,null,"06","05","02",2,600000,5000,20,2,605022,"CHRZANÓW",872.3,null,"32","14",3200,14,3214,3214000,"stargardzki",238.93]
[264011,"  Wrocław (a)..........................................................................................................................................................................................................................................................",29282,"",293,null,null,null,null,null,null,"2803",2803000,"   działdowski",95393,954,65442,69,140,179,null,null,null,null,null,null,null,null,null,null,null,"06","05","03",2,600000,5000,30,2,605032,"DZWOLA",926.5,null,"32","15",3200,15,3215,3215000,"szczecinecki",200.2]
["","WOJ. KUJAWSKO-POMORSKIE",null,null,null,null,null,null,null,null,null,"2804",2804000,"   elbląski",141558,1416,57549,41,44,206,null,null,null,null,null,null,null,null,null,null,null,"06","05","04",2,600000,5000,40,2,605042,"GODZISZÓW",817.97,null,"32","16",3200,16,3216,3216000,"świdwiński",180.24]
["","Powiat aleksandrowski  (9 gmin)",null,null,null,null,null,null,null,null,null,"2805",2805000,"   ełcki",111279,1113,91359,82,105,93,null,null,null,null,null,null,null,null,null,null,null,"06","05","05",3,600000,5000,50,3,605053,"JANÓW LUBELSKI",1523.11,null,"32","17",3200,17,3217,3217000,"wałecki",204.66]
["","",null,null,null,null,null,null,null,null,null,"2806",2806000,"   giżycki",111951,1120,56754,51,102,211,null,null,null,null,null,null,null,null,null,null,null,"06","05","06",3,600000,5000,60,3,605063,"MODLIBORZYCE",1072.02,null,"32","18",3200,18,3218,3218000,"łobeski",165.73]
[401011,"  Aleksandrów Kujawski..........................................................................................................................................................................................................................................................",723,"",7,null,null,null,null,null,null,"2818",2818000,"   gołdapski",77229,772,26908,35,191,309,null,null,null,null,null,null,null,null,null,null,null,"06","05","07",2,600000,5000,70,2,605072,"POTOK WIELKI",935.1,null,"32","61",3200,61,3261,3261000,"Koszalin",328.79]
[401021,"  Ciechocinek..........................................................................................................................................................................................................................................................",1526,"",15,null,null,null,null,null,null,"2807",2807000,"   iławski",138522,1385,93020,67,52,92,null,null,null,null,null,null,null,null,null,null,null,"06","06","01",1,600000,6000,10,1,606011,"KRASNYSTAW",1659.6,null,"32","62",3200,62,3262,3262000,"Szczecin",348.77]
[401031,"  Nieszawa..........................................................................................................................................................................................................................................................",979,"",10,null,null,null,null,null,null,"2808",2808000,"   kętrzyński",121299,1213,62924,52,84,189,null,null,null,null,null,null,null,null,null,null,null,"06","06","02",2,600000,6000,20,2,606022,"FAJSŁAWICE",1042.67,null,"32","63",3200,63,3263,3263000,"Świnoujście",290.11]
["","",null,null,null,null,null,null,null,null,null,"2809",2809000,"   lidzbarski",92500,925,41512,45,149,277,null,null,null,null,null,null,null,null,null,null,null,"06","06","03",2,600000,6000,30,2,606032,"GORZKÓW",1092.81,null,null,null,0,0,0,0]
[401042,"  Aleksandrów Kujawski..........................................................................................................................................................................................................................................................",13145,"",131,null,null,null,null,null,null,"2810",2810000,"   mrągowski",106538,1065,50080,47,108,243,null,null,null,null,null,null,null,null,null,null,null,"06","06","04",2,600000,6000,40,2,606042,"IZBICA",961.06,null,null,null,null,null,null,0,"Wskaźnik Pp dla kraju ",317.61]
[401052,"  Bądkowo..........................................................................................................................................................................................................................................................",7970,"",80,null,null,null,null,null,null,"2811",2811000,"   nidzicki",96064,961,33068,34,139,306,null,null,null,null,null,null,null,null,null,null,null,"06","06","05",2,600000,6000,50,2,606052,"KRASNYSTAW",1611.52]
[401062,"  Koneck..........................................................................................................................................................................................................................................................",6784,"",68,null,null,null,null,null,null,"2812",2812000,"   nowomiejski",69393,694,43997,63,221,265,null,null,null,null,null,null,null,null,null,null,null,"06","06","06",2,600000,6000,60,2,606062,"KRAŚNICZYN",1077.67,null,null,null,null,null,null,1200000,"Małopolskie",264.02]
[401072,"  Raciążek..........................................................................................................................................................................................................................................................",3288,"",33,null,null,null,null,null,null,"2813",2813000,"   olecki",87360,874,34433,39,161,301,null,null,null,null,null,null,null,null,null,null,null,"06","06","07",2,600000,6000,70,2,606072,"ŁOPIENNIK GÓRNY",1161.71]
[401082,"  Waganiec..........................................................................................................................................................................................................................................................",5452,"",55,null,null,null,null,null,null,"2814",2814000,"   olsztyński",283802,2837,126018,44,2,42,null,null,null,null,null,null,null,null,null,null,null,"06","06","09",2,600000,6000,90,2,606092,"RUDNIK",867.86]
[401092,"  Zakrzewo..........................................................................................................................................................................................................................................................",7596,"",76,null,null,null,null,null,null,"2815",2815000,"   ostródzki",176629,1766,104780,59,17,77,null,null,null,null,null,null,null,null,null,null,null,"06","06","10",2,600000,6000,100,2,606102,"SIENNICA RÓŻANA",1084.3399999999999]
["","Powiat brodnicki  (10 gmin)",null,null,null,null,null,null,null,null,null,"2816",2816000,"   piski",177458,1775,56570,32,16,212,null,null,null,null,null,null,null,null,null,null,null,"06","06","11",2,{"$f":"AF392*100000","v":600000},{"$f":"AG392*1000","v":6000},{"$f":"AH392*10","v":110},{"$f":"AI392*1","v":2},{"$f":"SUM(AJ392:AM392)","v":606112},"ŻÓŁKIEWKA",1219.8699999999999]
["","",null,null,null,null,null,null,null,null,null,"2817",{"$f":"L393*1000","v":2817000},"   szczycieński",193321,1933,69885,36,9,165,null,null,null,null,null,null,null,null,null,null,null,"06","07","01",1,600000,7000,10,1,607011,"KRAŚNIK",1457.33]
[402011,"  Brodnica..........................................................................................................................................................................................................................................................",2315,"",23,null,null,null,null,null,null,"2819",2819000,"   węgorzewski",69322,693,22873,33,222,311,null,null,null,null,null,null,null,null,null,null,null,"06","07","02",3,600000,7000,20,3,607023,"ANNOPOL",922.95]
["","",null,null,null,null,null,null,null,null,null,"",{"$error":"#VALUE!"}," Miasta na prawach powiatu:",null,null,null,null,null,null,null,null,null,null,null,null,null,null,null,null,null,"06","07","03",2,600000,7000,30,2,607032,"DZIERZKOWICE",953.08]
[402062,"  Bartniczka..........................................................................................................................................................................................................................................................",8340,"",83,null,null,null,null,null,null,"",{"$error":"#VALUE!"}," Cities with powiat status:",null,null,null,null,null,null,null,null,null,null,null,null,null,null,null,null,null,"06","07","04",2,600000,7000,40,2,607042,"GOŚCIERADÓW",1048.58]
[402022,"  Bobrowo..........................................................................................................................................................................................................................................................",14591,"",145,null,null,null,null,null,null,"2861",2861000,"   Elbląg",7982,80,120142,1505,39,31,null,null,null,null,null,null,null,null,null,null,null,"06","07","05",2,600000,7000,50,2,607052,"KRAŚNIK",1231.1500000000001]
[402032,"  Brodnica..........................................................................................................................................................................................................................................................",12687,"",127,null,null,null,null,null,null,"2862",2862000,"   Olsztyn",8833,88,172362,1951,29,21,null,null,null,null,null,null,null,null,null,null,null,"06","07","06",2,600000,7000,60,2,607062,"SZASTARKA",752.45]
[402042,"  Brzozie..........................................................................................................................................................................................................................................................",9366,"",94,null,null,null,null,null,null,"",{"$error":"#VALUE!"},"WOJ. WIELKOPOLSKIE",null,null,null,null,null,null,null,null,null,null,null,null,null,null,null,null,null,"06","07","07",2,600000,7000,70,2,607072,"TRZYDNIK DUŻY",1080.6099999999999]
[402082,"  Osiek..........................................................................................................................................................................................................................................................",7500,"",75,null,null,null,null,null,null,"",{"$error":"#VALUE!"}," Powiaty:",null,null,null,null,null,null,null,null,null,null,null,null,null,null,null,null,null,"06","07","08",3,600000,7000,80,3,607083,"URZĘDÓW",885.7]
[402092,"  Świedziebnia..........................................................................................................................................................................................................................................................",10367,"",104,null,null,null,null,null,null,"",{"$error":"#VALUE!"}," Powiats:",null,null,null,null,null,null,null,null,null,null,null,null,null,null,null,null,null,"06","07","09",2,600000,7000,90,2,607092,"WILKOŁAZ",1104.01]
[402102,"  Zbiczno..........................................................................................................................................................................................................................................................",13377,"",134,null,null,null,null,null,null,"3001",3001000,"   chodzieski",68506,685,47229,69,224,252,null,null,null,null,null,null,null,null,null,null,null,"06","07","10",2,600000,7000,100,2,607102,"ZAKRZÓWEK",849.65]
["","",null,null,null,null,null,null,null,null,null,"3002",3002000,"   czarnkowsko-trzcianecki",180605,1806,87420,48,14,104,null,null,null,null,null,null,null,null,null,null,null,"06","08","01",1,600000,8000,10,1,608011,"LUBARTÓW",1914.09]
[402053,"  Górzno..........................................................................................................................................................................................................................................................",11968,"",120,null,null,null,null,null,null,"3003",3003000,"   gnieźnieński",125503,1255,145317,116,74,29,null,null,null,null,null,null,null,null,null,null,null,"06","08","02",2,600000,8000,20,2,608022,"ABRAMÓW",907.07]
[402054,"",343,"",4,null,null,null,null,null,null,"3004",3004000,"   gostyński",81025,810,76011,94,175,144,null,null,null,null,null,null,null,null,null,null,null,"06","08","03",2,600000,8000,30,2,608032,"FIRLEJ",949.93]
[402055,"",11625,"",116,null,null,null,null,null,null,"3005",3005000,"   grodziski",64187,642,51972,81,239,236,null,null,null,null,null,null,null,null,null,null,null,"06","08","04",2,600000,8000,40,2,608042,"JEZIORZANY",928.25]
[402073,"  Jabłonowo Pomorskie..........................................................................................................................................................................................................................................................",13486,"",135,null,null,null,null,null,null,"3006",3006000,"   jarociński",58729,587,71686,122,258,160,null,null,null,null,null,null,null,null,null,null,null,"06","08","05",2,600000,8000,50,2,608052,"KAMIONKA",1081.75]
[402074,"",335,"",3,null,null,null,null,null,null,"3007",3007000,"   kaliski",115999,1160,83030,72,93,119,null,null,null,null,null,null,null,null,null,null,null,"06","08","06",3,600000,8000,60,3,608063,"KOCK",778.19]
[402075,"",13151,"",132,null,null,null,null,null,null,"3008",3008000,"   kępiński",60826,608,56486,93,255,213,null,null,null,null,null,null,null,null,null,null,null,"06","08","07",2,600000,8000,70,2,608072,"LUBARTÓW",1447.42]
["","Powiat bydgoski  (8 gmin)",null,null,null,null,null,null,null,null,null,"3009",3009000,"   kolski",101071,1011,87216,86,125,106,null,null,null,null,null,null,null,null,null,null,null,"06","08","08",2,600000,8000,80,2,608082,"MICHÓW",1222.32]
["","",null,null,null,null,null,null,null,null,null,"3010",3010000,"   koniński",157824,1578,129966,82,29,38,null,null,null,null,null,null,null,null,null,null,null,"06","08","09",2,600000,8000,90,2,608092,"NIEDŹWIADA",819.34]
[403012,"  Białe Błota (a) ..........................................................................................................................................................................................................................................................",12242,"",122,null,null,null,null,null,null,"3011",3011000,"   kościański",72242,722,79230,110,208,130,null,null,null,null,null,null,null,null,null,null,null,"06","08","10",3,600000,8000,100,3,608103,"OSTRÓW LUBELSKI",1096.4000000000001]
[403022,"  Dąbrowa Chełmińska..........................................................................................................................................................................................................................................................",12504,"",125,null,null,null,null,null,null,"3012",3012000,"   krotoszyński",71368,714,77488,109,210,139,null,null,null,null,null,null,null,null,null,null,null,"06","08","11",2,600000,8000,110,2,608112,"OSTRÓWEK",619.67999999999995]
[403032,"  Dobrcz..........................................................................................................................................................................................................................................................",13007,"",130,null,null,null,null,null,null,"3013",3013000,"   leszczyński",80581,806,56485,70,178,214,null,null,null,null,null,null,null,null,null,null,null,"06","08","12",2,600000,8000,120,2,608122,"SERNIKI",707.35]
[403052,"  Nowa Wieś Wielka..........................................................................................................................................................................................................................................................",14828,"",148,null,null,null,null,null,null,"3014",3014000,"   międzychodzki",73644,736,36982,50,200,294,null,null,null,null,null,null,null,null,null,null,null,"06","08","13",2,600000,8000,130,2,608132,"UŚCIMÓW",1276.9000000000001]
[403062,"  Osielsko..........................................................................................................................................................................................................................................................",10172,"",102,null,null,null,null,null,null,"3015",3015000,"   nowotomyski",101362,1014,75363,74,124,147,null,null,null,null,null,null,null,null,null,null,null,"06","09","01",3,600000,9000,10,3,609013,"BEŁŻYCE",1316.32]
[403072,"  Sicienko..........................................................................................................................................................................................................................................................",17999,"",180,null,null,null,null,null,null,"3016",3016000,"   obornicki",71104,711,59858,84,213,196,null,null,null,null,null,null,null,null,null,null,null,"06","09","02",2,600000,9000,20,2,609022,"BORZECHÓW",783.28]
["","",null,null,null,null,null,null,null,null,null,"3017",3017000,"   ostrowski",116012,1160,161519,139,92,15,null,null,null,null,null,null,null,null,null,null,null,"06","09","03",3,600000,9000,30,3,609033,"BYCHAWA",1172.97]
[403043,"  Koronowo..........................................................................................................................................................................................................................................................",41153,"↑",412,null,null,null,null,null,null,"3018",3018000,"   ostrzeszowski",77263,773,55403,72,189,222,null,null,null,null,null,null,null,null,null,null,null,"06","09","04",2,600000,9000,40,2,609042,"GARBÓW",1237.08]
[403044,"",2815,"",28,null,null,null,null,null,null,"3019",3019000,"   pilski",126821,1268,136621,108,69,33,null,null,null,null,null,null,null,null,null,null,null,"06","09","05",2,600000,9000,50,2,609052,"GŁUSK",1891.44]
[403045,"",38338,"",384,null,null,null,null,null,null,"3020",3020000,"   pleszewski",71307,713,63147,89,211,187,null,null,null,null,null,null,null,null,null,null,null,"06","09","06",2,600000,9000,60,2,609062,"JABŁONNA",1137.76]
[403083,"  Solec Kujawski..........................................................................................................................................................................................................................................................",17507,"",175,null,null,null,null,null,null,"3021",3021000,"   poznański",189988,1900,390308,205,10,1,null,null,null,null,null,null,null,null,null,null,null,"06","09","07",2,600000,9000,70,2,609072,"JASTKÓW",1970.49]
[403084,"",1868,"",19,null,null,null,null,null,null,"3022",3022000,"   rawicki",55352,554,60405,109,268,195,null,null,null,null,null,null,null,null,null,null,null,"06","09","08",2,600000,9000,80,2,609082,"KONOPNICA",2300.15]
[403085,"",15639,"",156,null,null,null,null,null,null,"3023",3023000,"   słupecki",83801,838,59371,71,168,199,null,null,null,null,null,null,null,null,null,null,null,"06","09","09",2,600000,9000,90,2,609092,"KRZCZONÓW",1136.3599999999999]
["","Powiat chełmiński  (7 gmin)",null,null,null,null,null,null,null,null,null,"3024",3024000,"   szamotulski",111929,1119,91185,81,103,95,null,null,null,null,null,null,null,null,null,null,null,"06","09","10",2,600000,9000,100,2,609102,"NIEDRZWICA DUŻA",1345.12]
["","",null,null,null,null,null,null,null,null,null,"3025",3025000,"   średzki",62386,624,58456,94,245,202,null,null,null,null,null,null,null,null,null,null,null,"06","09","11",2,600000,9000,110,2,609112,"NIEMCE",1981.84]
[404011,"  Chełmno..........................................................................................................................................................................................................................................................",1356,"",14,null,null,null,null,null,null,"3026",3026000,"   śremski",57410,574,61325,107,265,192,null,null,null,null,null,null,null,null,null,null,null,"06","09","12",2,600000,9000,120,2,609122,"STRZYŻEWICE",1290.95]
["","",null,null,null,null,null,null,null,null,null,"3027",3027000,"   turecki",92943,929,84101,90,147,116,null,null,null,null,null,null,null,null,null,null,null,"06","09","13",2,600000,9000,130,2,609132,"WOJCIECHÓW",1048.08]
[404022,"  Chełmno..........................................................................................................................................................................................................................................................",11371,"",114,null,null,null,null,null,null,"3028",3028000,"   wągrowiecki",103965,1040,70274,68,117,164,null,null,null,null,null,null,null,null,null,null,null,"06","09","14",2,600000,9000,140,2,609142,"WÓLKA",1676.2]
[404032,"  Kijewo Królewskie..........................................................................................................................................................................................................................................................",7184,"",72,null,null,null,null,null,null,"3029",3029000,"   wolsztyński",67973,680,57326,84,225,209,null,null,null,null,null,null,null,null,null,null,null,"06","09","15",2,600000,9000,150,2,609152,"WYSOKIE",1107.19]
[404042,"  Lisewo..........................................................................................................................................................................................................................................................",8631,"",86,null,null,null,null,null,null,"3030",3030000,"   wrzesiński",70357,704,77667,110,217,138,null,null,null,null,null,null,null,null,null,null,null,"06","09","16",2,600000,9000,160,2,609162,"ZAKRZEW",856.78]
[404052,"  Papowo Biskupie..........................................................................................................................................................................................................................................................",7045,"",70,null,null,null,null,null,null,"3031",3031000,"   złotowski",166017,1660,69606,42,22,166,null,null,null,null,null,null,null,null,null,null,null,"06","10","01",2,600000,10000,10,2,610012,"CYCÓW",2745.9]
[404062,"  Stolno..........................................................................................................................................................................................................................................................",9852,"",98,null,null,null,null,null,null,"",{"$error":"#VALUE!"}," Miasta na prawach powiatu:",null,null,null,null,null,null,null,null,null,null,null,null,null,null,null,null,null,"06","10","02",2,600000,10000,20,2,610022,"LUDWIN",1976.81]
[404072,"  Unisław..........................................................................................................................................................................................................................................................",7255,"",73,null,null,null,null,null,null,"",{"$error":"#VALUE!"}," Cities with powiat status:",null,null,null,null,null,null,null,null,null,null,null,null,null,null,null,null,null,"06","10","03",3,600000,10000,30,3,610033,"ŁĘCZNA",1485.1]
["","Powiat golubsko-dobrzyński  (6 gmin)",null,null,null,null,null,null,null,null,null,"3061",3061000,"   Kalisz",6942,69,100975,1455,43,38,null,null,null,null,null,null,null,null,null,null,null,"06","10","04",2,600000,10000,40,2,610042,"MILEJÓW",1307.75]
["","",null,null,null,null,null,null,null,null,null,"3062",3062000,"   Konin",8231,82,74151,901,36,48,null,null,null,null,null,null,null,null,null,null,null,"06","10","05",2,600000,10000,50,2,610052,"PUCHACZÓW",5953.56]
[405011,"  Golub-Dobrzyń..........................................................................................................................................................................................................................................................",750,"",8,null,null,null,null,null,null,"3063",3063000,"   Leszno",3186,32,63952,2007,61,52,null,null,null,null,null,null,null,null,null,null,null,"06","10","06",2,600000,10000,60,2,610062,"SPICZYN",1066.74]
["","",null,null,null,null,null,null,null,null,null,"3064",3064000,"   Poznań",26191,262,536438,2048,8,5,null,null,null,null,null,null,null,null,null,null,null,"06","11","01",1,600000,11000,10,1,611011,"ŁUKÓW",1883.59]
[405022,"  Ciechocin..........................................................................................................................................................................................................................................................",10123,"",101,null,null,null,null,null,null,"",{"$error":"#VALUE!"},"WOJ. ZACHODNIOPOMORSKIE",null,null,null,null,null,null,null,null,null,null,null,null,null,null,null,null,null,"06","11","02",1,600000,11000,20,1,611021,"STOCZEK ŁUKOWSKI",1685.74]
[405032,"  Golub-Dobrzyń..........................................................................................................................................................................................................................................................",19779,"",198,null,null,null,null,null,null,"",{"$error":"#VALUE!"}," Powiaty:",null,null,null,null,null,null,null,null,null,null,null,null,null,null,null,null,null,"06","11","03",2,600000,11000,30,2,611032,"ADAMÓW",855.89]
[405052,"  Radomin..........................................................................................................................................................................................................................................................",8081,"",81,null,null,null,null,null,null,"",{"$error":"#VALUE!"}," Powiats:",null,null,null,null,null,null,null,null,null,null,null,null,null,null,null,null,null,"06","11","04",2,600000,11000,40,2,611042,"KRZYWDA",911.67]
[405062,"  Zbójno..........................................................................................................................................................................................................................................................",8432,"",84,null,null,null,null,null,null,"3201",3201000,"   białogardzki",84546,845,47846,57,166,249,null,null,null,null,null,null,null,null,null,null,null,"06","11","05",2,600000,11000,50,2,611052,"ŁUKÓW",1341.56]
["","",null,null,null,null,null,null,null,null,null,"3202",3202000,"   choszczeński",132763,1328,48602,37,60,247,null,null,null,null,null,null,null,null,null,null,null,"06","11","06",2,600000,11000,60,2,611062,"SEROKOMLA",759.54]
[405043,"  Kowalewo Pomorskie..........................................................................................................................................................................................................................................................",14120,"",141,null,null,null,null,null,null,"3203",3203000,"   drawski",176424,1764,57397,33,19,208,null,null,null,null,null,null,null,null,null,null,null,"06","11","07",2,600000,11000,70,2,611072,"STANIN",959.52]
[405044,"",445,"",4,null,null,null,null,null,null,"3204",3204000,"   goleniowski",161548,1616,82540,51,27,120,null,null,null,null,null,null,null,null,null,null,null,"06","11","08",2,600000,11000,80,2,611082,"STOCZEK ŁUKOWSKI",1373.88]
[405045,"",13675,"",137,null,null,null,null,null,null,"3205",3205000,"   gryficki",102105,1021,60617,59,122,193,null,null,null,null,null,null,null,null,null,null,null,"06","11","09",2,600000,11000,90,2,611092,"TRZEBIESZÓW",1478.04]
["","Powiat grudziądzki  (6 gmin)",null,null,null,null,null,null,null,null,null,"3206",3206000,"   gryfiński",186911,1870,82530,44,13,121,null,null,null,null,null,null,null,null,null,null,null,"06","11","10",2,600000,11000,100,2,611102,"WOJCIESZKÓW",759.97]
["","",null,null,null,null,null,null,null,null,null,"3207",3207000,"   kamieński",100716,1007,47227,47,126,253,null,null,null,null,null,null,null,null,null,null,null,"06","11","11",2,600000,11000,110,2,611112,"WOLA MYSŁOWSKA",1094.49]
[406012,"  Grudziądz..........................................................................................................................................................................................................................................................",16533,"",165,null,null,null,null,null,null,"3208",3208000,"   kołobrzeski",72466,725,79547,110,207,126,null,null,null,null,null,null,null,null,null,null,null,"06","12","01",2,600000,12000,10,2,612012,"CHODEL",942.72]
[406022,"  Gruta..........................................................................................................................................................................................................................................................",12375,"",124,null,null,null,null,null,null,"3209",3209000,"   koszaliński",165346,1653,66355,40,24,172,null,null,null,null,null,null,null,null,null,null,null,"06","12","02",3,600000,12000,20,3,612023,"JÓZEFÓW nad Wisłą",763.1]
[406052,"  Rogóźno..........................................................................................................................................................................................................................................................",11624,"",116,null,null,null,null,null,null,"3218",3218000,"   łobeski",106513,1065,37104,35,109,292,null,null,null,null,null,null,null,null,null,null,null,"06","12","03",2,600000,12000,30,2,612032,"KARCZMISKA",822.85]
[406062,"  Świecie nad Osą..........................................................................................................................................................................................................................................................",9475,"",95,null,null,null,null,null,null,"3210",3210000,"   myśliborski",118240,1182,66264,56,87,174,null,null,null,null,null,null,null,null,null,null,null,"06","12","04",2,600000,12000,40,2,612042,"ŁAZISKA",923.86]
["","",null,null,null,null,null,null,null,null,null,"3211",3211000,"   policki",66533,665,79476,119,233,127,null,null,null,null,null,null,null,null,null,null,null,"06","12","05",3,600000,12000,50,3,612053,"OPOLE LUBELSKIE",1231.4000000000001]
[406033,"  Łasin..........................................................................................................................................................................................................................................................",13655,"",137,null,null,null,null,null,null,"3212",3212000,"   pyrzycki",72600,726,39639,55,206,285,null,null,null,null,null,null,null,null,null,null,null,"06","12","06",3,600000,12000,60,3,612063,"PONIATOWA",1146.48]
[406034,"",479,"",5,null,null,null,null,null,null,"3213",3213000,"   sławieński",104320,1043,56409,54,113,215,null,null,null,null,null,null,null,null,null,null,null,"06","12","07",2,600000,12000,70,2,612072,"WILKÓW",1125.78]
[406035,"",13176,"",132,null,null,null,null,null,null,"3214",3214000,"   stargardzki",151994,1520,120112,79,35,47,null,null,null,null,null,null,null,null,null,null,null,"06","13","01",2,{"$f":"AF456*100000","v":600000},{"$f":"AG456*1000","v":13000},{"$f":"AH456*10","v":10},{"$f":"AI456*1","v":2},{"$f":"SUM(AJ456:AM456)","v":613012},"DĘBOWA KŁODA",1077.3599999999999]
[406043,"  Radzyń Chełmiński..........................................................................................................................................................................................................................................................",9114,"",91,null,null,null,null,null,null,"3215",{"$f":"L457*1000","v":3215000},"   szczecinecki",176542,1766,77965,44,18,136,null,null,null,null,null,null,null,null,null,null,null,"06","13","02",2,600000,13000,20,2,613022,"JABŁOŃ",870.34]
[406044,"",178,"",2,null,null,null,null,null,null,"3216",3216000,"   świdwiński",109306,1093,47242,43,106,251,null,null,null,null,null,null,null,null,null,null,null,"06","13","03",2,600000,13000,30,2,613032,"MILANÓW",1073.1500000000001]
[406045,"",8936,"",89,null,null,null,null,null,null,"3217",3217000,"   wałecki",141498,1415,53462,38,45,230,null,null,null,null,null,null,null,null,null,null,null,"06","13","04",3,600000,13000,40,3,613043,"PARCZEW",1641.6]
["","Powiat inowrocławski  (9 gmin)",null,null,null,null,null,null,null,null,null,"",{"$error":"#VALUE!"}," Miasta na prawach powiatu:",null,null,null,null,null,null,null,null,null,null,null,null,null,null,null,null,null,"06","13","05",2,600000,13000,50,2,613052,"PODEDWÓRZE",1372.31]
["","",null,null,null,null,null,null,null,null,null,"",{"$error":"#VALUE!"}," Cities with powiat status:",null,null,null,null,null,null,null,null,null,null,null,null,null,null,null,null,null,"06","13","06",2,600000,13000,60,2,613062,"SIEMIEŃ",856.14]
[407011,"  Inowrocław..........................................................................................................................................................................................................................................................",3042,"",30,null,null,null,null,null,null,"3261",3261000,"   Koszalin",9834,98,107321,1091,27,37,null,null,null,null,null,null,null,null,null,null,null,"06","13","07",2,600000,13000,70,2,613072,"SOSNOWICA",1307.82]
["","",null,null,null,null,null,null,null,null,null,"3262",3262000,"   Szczecin",30060,301,402465,1339,3,7,null,null,null,null,null,null,null,null,null,null,null,"06","14","01",1,600000,14000,10,1,614011,"PUŁAWY",2589.3000000000002]
[407022,"  Dąbrowa Biskupia..........................................................................................................................................................................................................................................................",14728,"",147,null,null,null,null,null,null,"3263",3263000,"   Świnoujście",20207,202,40910,202,9,65,null,null,null,null,null,null,null,null,null,null,null,"06","14","02",2,600000,14000,20,2,614022,"BARANÓW",1145.95]
[407042,"  Inowrocław..........................................................................................................................................................................................................................................................",17165,"",172,null,null,null,null,null,null,null,null,null,null,null,null,null,null,null,null,null,null,null,null,null,null,null,null,null,null,"06","14","03",2,600000,14000,30,2,614032,"JANOWIEC",1163.6199999999999]
[407082,"  Rojewo..........................................................................................................................................................................................................................................................",11976,"",120,null,null,null,null,null,null,null,null,null,null,null,null,null,null,null,null,null,null,null,null,null,null,null,null,null,null,"06","14","04",3,600000,14000,40,3,614043,"KAZIMIERZ DOLNY",1428.67]
[407092,"  Złotniki Kujawskie..........................................................................................................................................................................................................................................................",13553,"",136,null,null,null,null,null,null,null,null,null,null,null,null,null,null,null,null,null,null,null,null,null,null,null,null,null,null,"06","14","05",2,600000,14000,50,2,614052,"KOŃSKOWOLA",1571.69]
["","",null,null,null,null,null,null,null,null,null,null,null,null,null,null,null,null,null,null,null,null,null,null,null,null,null,null,null,null,null,"06","14","06",2,600000,14000,60,2,614062,"KURÓW",1350.2]
[407033,"  Gniewkowo..........................................................................................................................................................................................................................................................",17972,"",180,null,null,null,null,null,null,null,null,null,null,null,null,null,null,null,null,null,null,null,null,null,null,null,null,null,null,"06","14","07",2,600000,14000,70,2,614072,"MARKUSZÓW",1213.03]
[407034,"",918,"",9,null,null,null,null,null,null,null,null,null,null,null,null,null,null,null,null,null,null,null,null,null,null,null,null,null,null,"06","14","08",3,600000,14000,80,3,614083,"NAŁĘCZÓW",1738.06]
[407035,"",17054,"",171,null,null,null,null,null,null,null,null,null,null,null,null,null,null,null,null,null,null,null,null,null,null,null,null,null,null,"06","14","09",2,600000,14000,90,2,614092,"PUŁAWY",1525.31]
[407053,"  Janikowo..........................................................................................................................................................................................................................................................",9195,"",92,null,null,null,null,null,null,null,null,null,null,null,null,null,null,null,null,null,null,null,null,null,null,null,null,null,null,"06","14","10",2,600000,14000,100,2,614102,"WĄWOLNICA",1149.98]
[407054,"",951,"",10,null,null,null,null,null,null,null,null,null,null,null,null,null,null,null,null,null,null,null,null,null,null,null,null,null,null,"06","14","11",2,600000,14000,110,2,614112,"ŻYRZYN",1051.78]
[407055,"",8244,"",82,null,null,null,null,null,null,null,null,null,null,null,null,null,null,null,null,null,null,null,null,null,null,null,null,null,null,"06","15","01",1,600000,15000,10,1,615011,"RADZYŃ PODLASKI",1675.66]
[407063,"  Kruszwica..........................................................................................................................................................................................................................................................",26241,"",262,null,null,null,null,null,null,null,null,null,null,null,null,null,null,null,null,null,null,null,null,null,null,null,null,null,null,"06","15","02",2,600000,15000,20,2,615022,"BORKI",746.09]
[407064,"",664,"",7,null,null,null,null,null,null,null,null,null,null,null,null,null,null,null,null,null,null,null,null,null,null,null,null,null,null,"06","15","03",2,600000,15000,30,2,615032,"CZEMIERNIKI",1061.79]
[407065,"",25577,"",255,null,null,null,null,null,null,null,null,null,null,null,null,null,null,null,null,null,null,null,null,null,null,null,null,null,null,"06","15","04",2,600000,15000,40,2,615042,"KĄKOLEWNICA",970.57]
[407073,"  Pakość..........................................................................................................................................................................................................................................................",8646,"",86,null,null,null,null,null,null,null,null,null,null,null,null,null,null,null,null,null,null,null,null,null,null,null,null,null,null,"06","15","05",2,600000,15000,50,2,615052,"KOMARÓWKA PODLASKA",901.59]
[407074,"",346,"",3,null,null,null,null,null,null,null,null,null,null,null,null,null,null,null,null,null,null,null,null,null,null,null,null,null,null,"06","15","06",2,600000,15000,60,2,615062,"RADZYŃ PODLASKI",1153.03]
[407075,"",8300,"",83,null,null,null,null,null,null,null,null,null,null,null,null,null,null,null,null,null,null,null,null,null,null,null,null,null,null,"06","15","07",2,600000,15000,70,2,615072,"ULAN-MAJORAT",822.5]
["","Powiat lipnowski  (9 gmin)",null,null,null,null,null,null,null,null,null,null,null,null,null,null,null,null,null,null,null,null,null,null,null,null,null,null,null,null,null,"06","15","08",2,600000,15000,80,2,615082,"WOHYŃ",1048.21]
["","",null,null,null,null,null,null,null,null,null,null,null,null,null,null,null,null,null,null,null,null,null,null,null,null,null,null,null,null,null,"06","16","01",1,600000,16000,10,1,616011,"DĘBLIN",1877.99]
[408011,"  Lipno..........................................................................................................................................................................................................................................................",1099,"",11,null,null,null,null,null,null,null,null,null,null,null,null,null,null,null,null,null,null,null,null,null,null,null,null,null,null,"06","16","02",2,600000,16000,20,2,616022,"KŁOCZEW",973.64]
["","",null,null,null,null,null,null,null,null,null,null,null,null,null,null,null,null,null,null,null,null,null,null,null,null,null,null,null,null,null,"06","16","03",2,600000,16000,30,2,616032,"NOWODWÓR",670.41]
[408022,"  Bobrowniki..........................................................................................................................................................................................................................................................",9539,"",96,null,null,null,null,null,null,null,null,null,null,null,null,null,null,null,null,null,null,null,null,null,null,null,null,null,null,"06","16","04",3,600000,16000,40,3,616043,"RYKI",1582.69]
[408032,"  Chrostkowo..........................................................................................................................................................................................................................................................",7406,"",74,null,null,null,null,null,null,null,null,null,null,null,null,null,null,null,null,null,null,null,null,null,null,null,null,null,null,"06","16","05",2,600000,16000,50,2,616052,"STĘŻYCA",1583.83]
[408052,"  Kikół..........................................................................................................................................................................................................................................................",9830,"",98,null,null,null,null,null,null,null,null,null,null,null,null,null,null,null,null,null,null,null,null,null,null,null,null,null,null,"06","16","06",2,600000,16000,60,2,616062,"UŁĘŻ",951.55]
[408062,"  Lipno..........................................................................................................................................................................................................................................................",21004,"",210,null,null,null,null,null,null,null,null,null,null,null,null,null,null,null,null,null,null,null,null,null,null,null,null,null,null,"06","17","01",1,600000,17000,10,1,617011,"ŚWIDNIK",1713.56]
[408082,"  Tłuchowo..........................................................................................................................................................................................................................................................",9935,"",99,null,null,null,null,null,null,null,null,null,null,null,null,null,null,null,null,null,null,null,null,null,null,null,null,null,null,"06","17","02",2,600000,17000,20,2,617022,"MEŁGIEW",1506.74]
[408092,"  Wielgie..........................................................................................................................................................................................................................................................",13368,"",134,null,null,null,null,null,null,null,null,null,null,null,null,null,null,null,null,null,null,null,null,null,null,null,null,null,null,"06","17","03",3,600000,17000,30,3,617033,"PIASKI",1450.03]
["","",null,null,null,null,null,null,null,null,null,null,null,null,null,null,null,null,null,null,null,null,null,null,null,null,null,null,null,null,null,"06","17","04",2,600000,17000,40,2,617042,"RYBCZEWICE",1108.6099999999999]
[408043,"  Dobrzyń nad Wisłą..........................................................................................................................................................................................................................................................",11518,"",115,null,null,null,null,null,null,null,null,null,null,null,null,null,null,null,null,null,null,null,null,null,null,null,null,null,null,"06","17","05",2,600000,17000,50,2,617052,"TRAWNIKI",1159.08]
[408044,"",541,"",5,null,null,null,null,null,null,null,null,null,null,null,null,null,null,null,null,null,null,null,null,null,null,null,null,null,null,"06","18","01",1,600000,18000,10,1,618011,"TOMASZÓW LUBELSKI",1717.71]
[408045,"",10977,"",110,null,null,null,null,null,null,null,null,null,null,null,null,null,null,null,null,null,null,null,null,null,null,null,null,null,null,"06","18","02",2,600000,18000,20,2,618022,"BEŁŻEC",1066.78]
[408073,"  Skępe..........................................................................................................................................................................................................................................................",17875,"",179,null,null,null,null,null,null,null,null,null,null,null,null,null,null,null,null,null,null,null,null,null,null,null,null,null,null,"06","18","03",2,600000,18000,30,2,618032,"JARCZÓW",1398.77]
[408074,"",748,"",8,null,null,null,null,null,null,null,null,null,null,null,null,null,null,null,null,null,null,null,null,null,null,null,null,null,null,"06","18","04",2,600000,18000,40,2,618042,"KRYNICE",973.59]
[408075,"",17127,"",171,null,null,null,null,null,null,null,null,null,null,null,null,null,null,null,null,null,null,null,null,null,null,null,null,null,null,"06","18","05",3,600000,18000,50,3,618053,"LUBYCZA KRÓLEWSKA",1337.44]
["","Powiat mogileński  (4 gminy)",null,null,null,null,null,null,null,null,null,null,null,null,null,null,null,null,null,null,null,null,null,null,null,null,null,null,null,null,null,"06","18","06",3,600000,18000,60,3,618063,"ŁASZCZÓW",1395.51]
["","",null,null,null,null,null,null,null,null,null,null,null,null,null,null,null,null,null,null,null,null,null,null,null,null,null,null,null,null,null,"06","18","07",2,600000,18000,70,2,618072,"RACHANIE",906.81]
[409012,"  Dąbrowa..........................................................................................................................................................................................................................................................",11029,"",110,null,null,null,null,null,null,null,null,null,null,null,null,null,null,null,null,null,null,null,null,null,null,null,null,null,null,"06","18","08",2,600000,18000,80,2,618082,"SUSIEC",737.24]
[409022,"  Jeziora Wielkie..........................................................................................................................................................................................................................................................",12373,"",124,null,null,null,null,null,null,null,null,null,null,null,null,null,null,null,null,null,null,null,null,null,null,null,null,null,null,"06","18","09",2,600000,18000,90,2,618092,"TARNAWATKA",797.94]
["","",null,null,null,null,null,null,null,null,null,null,null,null,null,null,null,null,null,null,null,null,null,null,null,null,null,null,null,null,null,"06","18","10",2,600000,18000,100,2,618102,"TELATYN",1065.57]
[409033,"  Mogilno..........................................................................................................................................................................................................................................................",25620,"",256,null,null,null,null,null,null,null,null,null,null,null,null,null,null,null,null,null,null,null,null,null,null,null,null,null,null,"06","18","11",2,600000,18000,110,2,618112,"TOMASZÓW LUBELSKI",1139]
[409034,"",832,"",8,null,null,null,null,null,null,null,null,null,null,null,null,null,null,null,null,null,null,null,null,null,null,null,null,null,null,"06","18","12",3,600000,18000,120,3,618123,"TYSZOWCE",1302.3599999999999]
[409035,"",24788,"",248,null,null,null,null,null,null,null,null,null,null,null,null,null,null,null,null,null,null,null,null,null,null,null,null,null,null,"06","18","13",2,600000,18000,130,2,618132,"ULHÓWEK",1210.28]
[409043,"  Strzelno..........................................................................................................................................................................................................................................................",18490,"",185,null,null,null,null,null,null,null,null,null,null,null,null,null,null,null,null,null,null,null,null,null,null,null,null,null,null,"06","19","01",1,600000,19000,10,1,619011,"WŁODAWA",1426.57]
[409044,"",446,"",5,null,null,null,null,null,null,null,null,null,null,null,null,null,null,null,null,null,null,null,null,null,null,null,null,null,null,"06","19","02",2,600000,19000,20,2,619022,"HANNA",741.62]
[409045,"",18044,"",180,null,null,null,null,null,null,null,null,null,null,null,null,null,null,null,null,null,null,null,null,null,null,null,null,null,null,"06","19","03",2,600000,19000,30,2,619032,"HAŃSK",953.71]
["","Powiat nakielski  (5 gmin)",null,null,null,null,null,null,null,null,null,null,null,null,null,null,null,null,null,null,null,null,null,null,null,null,null,null,null,null,null,"06","19","04",2,600000,19000,40,2,619042,"STARY BRUS",810.86]
["","",null,null,null,null,null,null,null,null,null,null,null,null,null,null,null,null,null,null,null,null,null,null,null,null,null,null,null,null,null,"06","19","05",2,600000,19000,50,2,619052,"URSZULIN",1352.55]
[410042,"  Sadki..........................................................................................................................................................................................................................................................",15375,"",154,null,null,null,null,null,null,null,null,null,null,null,null,null,null,null,null,null,null,null,null,null,null,null,null,null,null,"06","19","06",2,600000,19000,60,2,619062,"WŁODAWA",1417.17]
["","",null,null,null,null,null,null,null,null,null,null,null,null,null,null,null,null,null,null,null,null,null,null,null,null,null,null,null,null,null,"06","19","07",2,600000,19000,70,2,619072,"WOLA UHRUSKA",1007.78]
[410013,"  Kcynia..........................................................................................................................................................................................................................................................",29663,"",297,null,null,null,null,null,null,null,null,null,null,null,null,null,null,null,null,null,null,null,null,null,null,null,null,null,null,"06","19","08",2,600000,19000,80,2,619082,"WYRYKI",1026.28]
[410014,"",684,"",7,null,null,null,null,null,null,null,null,null,null,null,null,null,null,null,null,null,null,null,null,null,null,null,null,null,null,"06","20","01",2,600000,20000,10,2,620012,"ADAMÓW",1044.3699999999999]
[410015,"",28979,"",290,null,null,null,null,null,null,null,null,null,null,null,null,null,null,null,null,null,null,null,null,null,null,null,null,null,null,"06","20","02",2,600000,20000,20,2,620022,"GRABOWIEC",1303.82]
[410023,"  Mrocza..........................................................................................................................................................................................................................................................",15051,"",150,null,null,null,null,null,null,null,null,null,null,null,null,null,null,null,null,null,null,null,null,null,null,null,null,null,null,"06","20","03",2,600000,20000,30,2,620032,"KOMARÓW-OSADA",978.9]
[410024,"",501,"",5,null,null,null,null,null,null,null,null,null,null,null,null,null,null,null,null,null,null,null,null,null,null,null,null,null,null,"06","20","04",3,600000,20000,40,3,620043,"KRASNOBRÓD",1196.82]
[410025,"",14550,"",145,null,null,null,null,null,null,null,null,null,null,null,null,null,null,null,null,null,null,null,null,null,null,null,null,null,null,"06","20","05",2,600000,20000,50,2,620052,"ŁABUNIE",902.97]
[410033,"  Nakło nad Notecią..........................................................................................................................................................................................................................................................",18693,"",187,null,null,null,null,null,null,null,null,null,null,null,null,null,null,null,null,null,null,null,null,null,null,null,null,null,null,"06","20","06",2,600000,20000,60,2,620062,"MIĄCZYN",1041.06]
[410034,"",1082,"",11,null,null,null,null,null,null,null,null,null,null,null,null,null,null,null,null,null,null,null,null,null,null,null,null,null,null,"06","20","07",2,{"$f":"AF520*100000","v":600000},{"$f":"AG520*1000","v":20000},{"$f":"AH520*10","v":70},{"$f":"AI520*1","v":2},{"$f":"SUM(AJ520:AM520)","v":620072},"NIELISZ",828.25]
[410035,"",17611,"",176,null,null,null,null,null,null,null,null,null,null,null,null,null,null,null,null,null,null,null,null,null,null,null,null,null,null,"06","20","08",2,600000,20000,80,2,620082,"RADECZNICA",799.65]
[410053,"  Szubin..........................................................................................................................................................................................................................................................",33226,"",332,null,null,null,null,null,null,null,null,null,null,null,null,null,null,null,null,null,null,null,null,null,null,null,null,null,null,"06","20","09",2,600000,20000,90,2,620092,"SITNO",1179.71]
[410054,"",765,"",8,null,null,null,null,null,null,null,null,null,null,null,null,null,null,null,null,null,null,null,null,null,null,null,null,null,null,"06","20","10",2,600000,20000,100,2,620102,"SKIERBIESZÓW",1050.92]
[410055,"",32461,"",324,null,null,null,null,null,null,null,null,null,null,null,null,null,null,null,null,null,null,null,null,null,null,null,null,null,null,"06","20","11",2,600000,20000,110,2,620112,"STARY ZAMOŚĆ",953.4]
["","Powiat radziejowski  (7 gmin)",null,null,null,null,null,null,null,null,null,null,null,null,null,null,null,null,null,null,null,null,null,null,null,null,null,null,null,null,null,"06","20","12",2,600000,20000,120,2,620122,"SUŁÓW",799.44]
["","",null,null,null,null,null,null,null,null,null,null,null,null,null,null,null,null,null,null,null,null,null,null,null,null,null,null,null,null,null,"06","20","13",3,600000,20000,130,3,620133,"SZCZEBRZESZYN",1298.79]
[411011,"  Radziejów..........................................................................................................................................................................................................................................................",569,"",6,null,null,null,null,null,null,null,null,null,null,null,null,null,null,null,null,null,null,null,null,null,null,null,null,null,null,"06","20","14",2,600000,20000,140,2,620142,"ZAMOŚĆ",1458.03]
["","",null,null,null,null,null,null,null,null,null,null,null,null,null,null,null,null,null,null,null,null,null,null,null,null,null,null,null,null,null,"06","20","15",3,600000,20000,150,3,620153,"ZWIERZYNIEC",1771.03]
[411022,"  Bytoń..........................................................................................................................................................................................................................................................",7337,"",73,null,null,null,null,null,null,null,null,null,null,null,null,null,null,null,null,null,null,null,null,null,null,null,null,null,null,"06","61","01",1,600000,61000,10,1,661011,"Biała Podlaska",1738.17]
[411032,"  Dobre..........................................................................................................................................................................................................................................................",7082,"",71,null,null,null,null,null,null,null,null,null,null,null,null,null,null,null,null,null,null,null,null,null,null,null,null,null,null,"06","62","01",1,600000,62000,10,1,662011,"Chełm",1685.67]
[411042,"  Osięciny..........................................................................................................................................................................................................................................................",12312,"",122,null,null,null,null,null,null,null,null,null,null,null,null,null,null,null,null,null,null,null,null,null,null,null,null,null,null,"06","63","01",1,600000,63000,10,1,663011,"Lublin",2222.4699999999998]
[411062,"  Radziejów..........................................................................................................................................................................................................................................................",9265,"",93,null,null,null,null,null,null,null,null,null,null,null,null,null,null,null,null,null,null,null,null,null,null,null,null,null,null,"06","64","01",1,600000,64000,10,1,664011,"Zamość",1643.89]
[411072,"  Topólka..........................................................................................................................................................................................................................................................",10288,"",103,null,null,null,null,null,null,null,null,null,null,null,null,null,null,null,null,null,null,null,null,null,null,null,null,null,null,"08","01","01",1,800000,1000,10,1,801011,"KOSTRZYN nad Odrą",2888.42]
["","",null,null,null,null,null,null,null,null,null,null,null,null,null,null,null,null,null,null,null,null,null,null,null,null,null,null,null,null,null,"08","01","02",2,800000,1000,20,2,801022,"BOGDANIEC",1669.08]
[411053,"  Piotrków Kujawski..........................................................................................................................................................................................................................................................",13867,"",139,null,null,null,null,null,null,null,null,null,null,null,null,null,null,null,null,null,null,null,null,null,null,null,null,null,null,"08","01","03",2,800000,1000,30,2,801032,"DESZCZNO",2135.0300000000002]
[411054,"",976,"",9,null,null,null,null,null,null,null,null,null,null,null,null,null,null,null,null,null,null,null,null,null,null,null,null,null,null,"08","01","04",2,800000,1000,40,2,801042,"KŁODAWA",2711.35]
[411055,"",12891,"",130,null,null,null,null,null,null,null,null,null,null,null,null,null,null,null,null,null,null,null,null,null,null,null,null,null,null,"08","01","05",2,800000,1000,50,2,801052,"LUBISZYN",2006.95]
["","Powiat rypiński  (6 gmin)",null,null,null,null,null,null,null,null,null,null,null,null,null,null,null,null,null,null,null,null,null,null,null,null,null,null,null,null,null,"08","01","06",2,800000,1000,60,2,801062,"SANTOK",1967.97]
["","",null,null,null,null,null,null,null,null,null,null,null,null,null,null,null,null,null,null,null,null,null,null,null,null,null,null,null,null,null,"08","01","07",3,800000,1000,70,3,801073,"WITNICA",1729.15]
[412011,"  Rypin..........................................................................................................................................................................................................................................................",1096,"",10,null,null,null,null,null,null,null,null,null,null,null,null,null,null,null,null,null,null,null,null,null,null,null,null,null,null,"08","02","01",1,800000,2000,10,1,802011,"GUBIN",1615.83]
["","",null,null,null,null,null,null,null,null,null,null,null,null,null,null,null,null,null,null,null,null,null,null,null,null,null,null,null,null,null,"08","02","02",2,800000,2000,20,2,802022,"BOBROWICE",3313.07]
[412022,"  Brzuze..........................................................................................................................................................................................................................................................",8640,"",87,null,null,null,null,null,null,null,null,null,null,null,null,null,null,null,null,null,null,null,null,null,null,null,null,null,null,"08","02","03",2,800000,2000,30,2,802032,"BYTNICA",1349.9]
[412032,"  Rogowo..........................................................................................................................................................................................................................................................",14101,"",141,null,null,null,null,null,null,null,null,null,null,null,null,null,null,null,null,null,null,null,null,null,null,null,null,null,null,"08","02","04",2,800000,2000,40,2,802042,"DĄBIE",1403.56]
[412042,"  Rypin..........................................................................................................................................................................................................................................................",13208,"",132,null,null,null,null,null,null,null,null,null,null,null,null,null,null,null,null,null,null,null,null,null,null,null,null,null,null,"08","02","05",2,800000,2000,50,2,802052,"GUBIN",1558.82]
[412052,"  Skrwilno..........................................................................................................................................................................................................................................................",12281,"",123,null,null,null,null,null,null,null,null,null,null,null,null,null,null,null,null,null,null,null,null,null,null,null,null,null,null,"08","02","06",3,800000,2000,60,3,802063,"KROSNO ODRZAŃSKIE",1929.77]
[412062,"  Wąpielsk..........................................................................................................................................................................................................................................................",9321,"",93,null,null,null,null,null,null,null,null,null,null,null,null,null,null,null,null,null,null,null,null,null,null,null,null,null,null,"08","02","07",2,800000,2000,70,2,802072,"MASZEWO",1556.47]
["","Powiat sępoleński  (4 gminy)",null,null,null,null,null,null,null,null,null,null,null,null,null,null,null,null,null,null,null,null,null,null,null,null,null,null,null,null,null,"08","03","01",2,800000,3000,10,2,803012,"BLEDZEW",1704.49]
["","",null,null,null,null,null,null,null,null,null,null,null,null,null,null,null,null,null,null,null,null,null,null,null,null,null,null,null,null,null,"08","03","02",3,800000,3000,20,3,803023,"MIĘDZYRZECZ",2029.33]
[413032,"  Sośno..........................................................................................................................................................................................................................................................",16264,"",163,null,null,null,null,null,null,null,null,null,null,null,null,null,null,null,null,null,null,null,null,null,null,null,null,null,null,"08","03","03",2,800000,3000,30,2,803032,"PRZYTOCZNA",2331.77]
["","",null,null,null,null,null,null,null,null,null,null,null,null,null,null,null,null,null,null,null,null,null,null,null,null,null,null,null,null,null,"08","03","04",2,800000,3000,40,2,803042,"PSZCZEW",2318.7600000000002]
[413013,"  Kamień Krajeński..........................................................................................................................................................................................................................................................",16331,"",163,null,null,null,null,null,null,null,null,null,null,null,null,null,null,null,null,null,null,null,null,null,null,null,null,null,null,"08","03","05",3,800000,3000,50,3,803053,"SKWIERZYNA",1855.11]
[413014,"",365,"",4,null,null,null,null,null,null,null,null,null,null,null,null,null,null,null,null,null,null,null,null,null,null,null,null,null,null,"08","03","06",3,800000,3000,60,3,803063,"TRZCIEL",1440.13]
[413015,"",15966,"",159,null,null,null,null,null,null,null,null,null,null,null,null,null,null,null,null,null,null,null,null,null,null,null,null,null,null,"08","04","01",1,800000,4000,10,1,804011,"NOWA SÓL",1738.08]
[413023,"  Sępólno Krajeńskie..........................................................................................................................................................................................................................................................",22912,"",229,null,null,null,null,null,null,null,null,null,null,null,null,null,null,null,null,null,null,null,null,null,null,null,null,null,null,"08","04","02",3,800000,4000,20,3,804023,"BYTOM ODRZAŃSKI",1514.32]
[413024,"",655,"",7,null,null,null,null,null,null,null,null,null,null,null,null,null,null,null,null,null,null,null,null,null,null,null,null,null,null,"08","04","03",2,800000,4000,30,2,804032,"KOLSKO",1397.35]
[413025,"",22257,"",222,null,null,null,null,null,null,null,null,null,null,null,null,null,null,null,null,null,null,null,null,null,null,null,null,null,null,"08","04","04",3,800000,4000,40,3,804043,"KOŻUCHÓW",1453.81]
[413043,"  Więcbork..........................................................................................................................................................................................................................................................",23602,"",236,null,null,null,null,null,null,null,null,null,null,null,null,null,null,null,null,null,null,null,null,null,null,null,null,null,null,"08","04","05",2,800000,4000,50,2,804052,"NOWA SÓL",1793.62]
[413044,"",431,"",4,null,null,null,null,null,null,null,null,null,null,null,null,null,null,null,null,null,null,null,null,null,null,null,null,null,null,"08","04","06",3,800000,4000,60,3,804063,"NOWE MIASTECZKO",1394.19]
[413045,"",23171,"",232,null,null,null,null,null,null,null,null,null,null,null,null,null,null,null,null,null,null,null,null,null,null,null,null,null,null,"08","04","07",3,800000,4000,70,3,804073,"OTYŃ",1329.88]
["","Powiat świecki  (11 gmin)",null,null,null,null,null,null,null,null,null,null,null,null,null,null,null,null,null,null,null,null,null,null,null,null,null,null,null,null,null,"08","04","08",2,800000,4000,80,2,804082,"SIEDLISKO",1183.78]
["","",null,null,null,null,null,null,null,null,null,null,null,null,null,null,null,null,null,null,null,null,null,null,null,null,null,null,null,null,null,"08","05","01",3,800000,5000,10,3,805013,"CYBINKA",1626.51]
[414012,"  Bukowiec..........................................................................................................................................................................................................................................................",11100,"",111,null,null,null,null,null,null,null,null,null,null,null,null,null,null,null,null,null,null,null,null,null,null,null,null,null,null,"08","05","02",2,800000,5000,20,2,805022,"GÓRZYCA",1747.87]
[414022,"  Dragacz..........................................................................................................................................................................................................................................................",11181,"",112,null,null,null,null,null,null,null,null,null,null,null,null,null,null,null,null,null,null,null,null,null,null,null,null,null,null,"08","05","03",3,800000,5000,30,3,805033,"OŚNO LUBUSKIE",1824.97]
[414032,"  Drzycim..........................................................................................................................................................................................................................................................",10841,"",108,null,null,null,null,null,null,null,null,null,null,null,null,null,null,null,null,null,null,null,null,null,null,null,null,null,null,"08","05","04",3,800000,5000,40,3,805043,"RZEPIN",2060.21]
[414042,"  Jeżewo..........................................................................................................................................................................................................................................................",15646,"",156,null,null,null,null,null,null,null,null,null,null,null,null,null,null,null,null,null,null,null,null,null,null,null,null,null,null,"08","05","05",3,800000,5000,50,3,805053,"SŁUBICE",2552.25]
[414052,"  Lniano..........................................................................................................................................................................................................................................................",8839,"",88,null,null,null,null,null,null,null,null,null,null,null,null,null,null,null,null,null,null,null,null,null,null,null,null,null,null,"08","06","01",3,800000,6000,10,3,806013,"DOBIEGNIEW",1509.57]
[414072,"  Osie..........................................................................................................................................................................................................................................................",20904,"",209,null,null,null,null,null,null,null,null,null,null,null,null,null,null,null,null,null,null,null,null,null,null,null,null,null,null,"08","06","02",3,800000,6000,20,3,806023,"DREZDENKO",2470.91]
[414082,"  Pruszcz..........................................................................................................................................................................................................................................................",14249,"",143,null,null,null,null,null,null,null,null,null,null,null,null,null,null,null,null,null,null,null,null,null,null,null,null,null,null,"08","06","03",2,800000,6000,30,2,806032,"STARE KUROWO",1294.81]
[414102,"  Świekatowo..........................................................................................................................................................................................................................................................",6383,"",64,null,null,null,null,null,null,null,null,null,null,null,null,null,null,null,null,null,null,null,null,null,null,null,null,null,null,"08","06","04",3,800000,6000,40,3,806043,"STRZELCE KRAJEŃSKIE",1573.56]
[414112,"  Warlubie..........................................................................................................................................................................................................................................................",20111,"",201,null,null,null,null,null,null,null,null,null,null,null,null,null,null,null,null,null,null,null,null,null,null,null,null,null,null,"08","06","05",2,800000,6000,50,2,806052,"ZWIERZYN",1420.22]
["","",null,null,null,null,null,null,null,null,null,null,null,null,null,null,null,null,null,null,null,null,null,null,null,null,null,null,null,null,null,"08","07","01",2,800000,7000,10,2,807012,"KRZESZYCE",1304.8900000000001]
[414063,"  Nowe..........................................................................................................................................................................................................................................................",10671,"",107,null,null,null,null,null,null,null,null,null,null,null,null,null,null,null,null,null,null,null,null,null,null,null,null,null,null,"08","07","02",3,800000,7000,20,3,807023,"LUBNIEWICE",1952.41]
[414064,"",357,"",3,null,null,null,null,null,null,null,null,null,null,null,null,null,null,null,null,null,null,null,null,null,null,null,null,null,null,"08","07","03",2,800000,7000,30,2,807032,"SŁOŃSK",1368.88]
[414065,"",10314,"",104,null,null,null,null,null,null,null,null,null,null,null,null,null,null,null,null,null,null,null,null,null,null,null,null,null,null,"08","07","04",3,800000,7000,40,3,807043,"SULĘCIN",2137.38]
[414093,"  Świecie..........................................................................................................................................................................................................................................................",17493,"",175,null,null,null,null,null,null,null,null,null,null,null,null,null,null,null,null,null,null,null,null,null,null,null,null,null,null,"08","07","05",3,800000,7000,50,3,807053,"TORZYM",1869.08]
[414094,"",1187,"",12,null,null,null,null,null,null,null,null,null,null,null,null,null,null,null,null,null,null,null,null,null,null,null,null,null,null,"08","08","01",2,800000,8000,10,2,808012,"LUBRZA",1916.43]
[414095,"",16306,"",163,null,null,null,null,null,null,null,null,null,null,null,null,null,null,null,null,null,null,null,null,null,null,null,null,null,null,"08","08","02",2,800000,8000,20,2,808022,"ŁAGÓW",1912.12]
["","Powiat toruński  (9 gmin)",null,null,null,null,null,null,null,null,null,null,null,null,null,null,null,null,null,null,null,null,null,null,null,null,null,null,null,null,null,"08","08","03",2,800000,8000,30,2,808032,"SKĄPE",1858.94]
["","",null,null,null,null,null,null,null,null,null,null,null,null,null,null,null,null,null,null,null,null,null,null,null,null,null,null,null,null,null,"08","08","04",2,800000,8000,40,2,808042,"SZCZANIEC",1262.24]
[415011,"  Chełmża..........................................................................................................................................................................................................................................................",784,"",7,null,null,null,null,null,null,null,null,null,null,null,null,null,null,null,null,null,null,null,null,null,null,null,null,null,null,"08","08","05",3,800000,8000,50,3,808053,"ŚWIEBODZIN",1973.36]
["","",null,null,null,null,null,null,null,null,null,null,null,null,null,null,null,null,null,null,null,null,null,null,null,null,null,null,null,null,null,"08","08","06",3,800000,8000,60,3,808063,"ZBĄSZYNEK",2801.45]
[415022,"  Chełmża..........................................................................................................................................................................................................................................................",17895,"",180,null,null,null,null,null,null,null,null,null,null,null,null,null,null,null,null,null,null,null,null,null,null,null,null,null,null,"08","09","01",3,800000,9000,10,3,809013,"BABIMOST",2361.6799999999998]
[415032,"  Czernikowo..........................................................................................................................................................................................................................................................",17014,"",170,null,null,null,null,null,null,null,null,null,null,null,null,null,null,null,null,null,null,null,null,null,null,null,null,null,null,"08","09","02",2,800000,9000,20,2,809022,"BOJADŁA",1571.38]
[415042,"  Lubicz..........................................................................................................................................................................................................................................................",10575,"",106,null,null,null,null,null,null,null,null,null,null,null,null,null,null,null,null,null,null,null,null,null,null,null,null,null,null,"08","09","03",3,{"$f":"AF584*100000","v":800000},{"$f":"AG584*1000","v":9000},{"$f":"AH584*10","v":30},{"$f":"AI584*1","v":3},{"$f":"SUM(AJ584:AM584)","v":809033},"CZERWIEŃSK",1871.33]
[415052,"  Łubianka..........................................................................................................................................................................................................................................................",8450,"",84,null,null,null,null,null,null,null,null,null,null,null,null,null,null,null,null,null,null,null,null,null,null,null,null,null,null,"08","09","04",3,800000,9000,40,3,809043,"KARGOWA",2167.3200000000002]
[415062,"  Łysomice..........................................................................................................................................................................................................................................................",12694,"",127,null,null,null,null,null,null,null,null,null,null,null,null,null,null,null,null,null,null,null,null,null,null,null,null,null,null,"08","09","05",3,800000,9000,50,3,809053,"NOWOGRÓD BOBRZAŃSKI",1957.58]
[415072,"  Obrowo..........................................................................................................................................................................................................................................................",16217,"",162,null,null,null,null,null,null,null,null,null,null,null,null,null,null,null,null,null,null,null,null,null,null,null,null,null,null,"08","09","06",3,800000,9000,60,3,809063,"SULECHÓW",1818.18]
[415082,"  Wielka Nieszawka..........................................................................................................................................................................................................................................................",21622,"",216,null,null,null,null,null,null,null,null,null,null,null,null,null,null,null,null,null,null,null,null,null,null,null,null,null,null,"08","09","07",2,800000,9000,70,2,809072,"ŚWIDNICA",2533.6999999999998]
[415092,"  Zławieś Wielka..........................................................................................................................................................................................................................................................",17791,"",178,null,null,null,null,null,null,null,null,null,null,null,null,null,null,null,null,null,null,null,null,null,null,null,null,null,null,"08","09","08",2,800000,9000,80,2,809082,"TRZEBIECHÓW",1547.59]
["","Powiat tucholski  (6 gmin)",null,null,null,null,null,null,null,null,null,null,null,null,null,null,null,null,null,null,null,null,null,null,null,null,null,null,null,null,null,"08","09","09",2,800000,9000,90,2,809092,"ZABÓR",1894.27]
["","",null,null,null,null,null,null,null,null,null,null,null,null,null,null,null,null,null,null,null,null,null,null,null,null,null,null,null,null,null,"08","10","01",1,800000,10000,10,1,810011,"GOZDNICA",1505]
[416012,"  Cekcyn..........................................................................................................................................................................................................................................................",25326,"",252,null,null,null,null,null,null,null,null,null,null,null,null,null,null,null,null,null,null,null,null,null,null,null,null,null,null,"08","10","02",1,800000,10000,20,1,810021,"ŻAGAŃ",1693.19]
[416022,"  Gostycyn..........................................................................................................................................................................................................................................................",13580,"",136,null,null,null,null,null,null,null,null,null,null,null,null,null,null,null,null,null,null,null,null,null,null,null,null,null,null,"08","10","03",2,800000,10000,30,2,810032,"BRZEŹNICA",1028.56]
[416032,"  Kęsowo..........................................................................................................................................................................................................................................................",10922,"",109,null,null,null,null,null,null,null,null,null,null,null,null,null,null,null,null,null,null,null,null,null,null,null,null,null,null,"08","10","04",3,800000,10000,40,3,810043,"IŁOWA",1612.4]
[416042,"  Lubiewo..........................................................................................................................................................................................................................................................",16280,"",163,null,null,null,null,null,null,null,null,null,null,null,null,null,null,null,null,null,null,null,null,null,null,null,null,null,null,"08","10","05",3,800000,10000,50,3,810053,"MAŁOMICE",1226.94]
[416052,"  Śliwice..........................................................................................................................................................................................................................................................",17472,"",175,null,null,null,null,null,null,null,null,null,null,null,null,null,null,null,null,null,null,null,null,null,null,null,null,null,null,"08","10","06",2,800000,10000,60,2,810062,"NIEGOSŁAWICE",1642.97]
["","",null,null,null,null,null,null,null,null,null,null,null,null,null,null,null,null,null,null,null,null,null,null,null,null,null,null,null,null,null,"08","10","07",3,800000,10000,70,3,810073,"SZPROTAWA",1502.47]
[416063,"  Tuchola..........................................................................................................................................................................................................................................................",23966,"",240,null,null,null,null,null,null,null,null,null,null,null,null,null,null,null,null,null,null,null,null,null,null,null,null,null,null,"08","10","08",2,800000,10000,80,2,810082,"WYMIARKI",1599.49]
[416064,"",1769,"",18,null,null,null,null,null,null,null,null,null,null,null,null,null,null,null,null,null,null,null,null,null,null,null,null,null,null,"08","10","09",2,800000,10000,90,2,810092,"ŻAGAŃ",2075.0100000000002]
[416065,"",22197,"",222,null,null,null,null,null,null,null,null,null,null,null,null,null,null,null,null,null,null,null,null,null,null,null,null,null,null,"08","11","01",1,800000,11000,10,1,811011,"ŁĘKNICA",1256.8699999999999]
["","Powiat wąbrzeski  (5 gmin)",null,null,null,null,null,null,null,null,null,null,null,null,null,null,null,null,null,null,null,null,null,null,null,null,null,null,null,null,null,"08","11","02",1,800000,11000,20,1,811021,"ŻARY",2230.36]
["","",null,null,null,null,null,null,null,null,null,null,null,null,null,null,null,null,null,null,null,null,null,null,null,null,null,null,null,null,null,"08","11","03",2,800000,11000,30,2,811032,"BRODY",1722.16]
[417011,"  Wąbrzeźno..........................................................................................................................................................................................................................................................",853,"",9,null,null,null,null,null,null,null,null,null,null,null,null,null,null,null,null,null,null,null,null,null,null,null,null,null,null,"08","11","04",3,800000,11000,40,3,811043,"JASIEŃ",1464.12]
["","",null,null,null,null,null,null,null,null,null,null,null,null,null,null,null,null,null,null,null,null,null,null,null,null,null,null,null,null,null,"08","11","05",2,800000,11000,50,2,811052,"LIPINKI ŁUŻYCKIE",1173.9000000000001]
[417022,"  Dębowa Łąka..........................................................................................................................................................................................................................................................",8612,"",86,null,null,null,null,null,null,null,null,null,null,null,null,null,null,null,null,null,null,null,null,null,null,null,null,null,null,"08","11","06",3,800000,11000,60,3,811063,"LUBSKO",1292.3399999999999]
[417032,"  Książki..........................................................................................................................................................................................................................................................",8619,"",86,null,null,null,null,null,null,null,null,null,null,null,null,null,null,null,null,null,null,null,null,null,null,null,null,null,null,"08","11","07",2,800000,11000,70,2,811072,"PRZEWÓZ",1859.58]
[417042,"  Płużnica..........................................................................................................................................................................................................................................................",12038,"",120,null,null,null,null,null,null,null,null,null,null,null,null,null,null,null,null,null,null,null,null,null,null,null,null,null,null,"08","11","08",2,800000,11000,80,2,811082,"TRZEBIEL",1194.72]
[417052,"  Ryńsk..........................................................................................................................................................................................................................................................",20073,"",201,null,null,null,null,null,null,null,null,null,null,null,null,null,null,null,null,null,null,null,null,null,null,null,null,null,null,"08","11","09",2,800000,11000,90,2,811092,"TUPLICE",1173.82]
["","Powiat włocławski  (13 gmin)",null,null,null,null,null,null,null,null,null,null,null,null,null,null,null,null,null,null,null,null,null,null,null,null,null,null,null,null,null,"08","11","10",2,800000,11000,100,2,811102,"ŻARY",1968.23]
["","",null,null,null,null,null,null,null,null,null,null,null,null,null,null,null,null,null,null,null,null,null,null,null,null,null,null,null,null,null,"08","12","01",3,800000,12000,10,3,812013,"SŁAWA",1917.59]
[418011,"  Kowal..........................................................................................................................................................................................................................................................",468,"↓",5,null,null,null,null,null,null,null,null,null,null,null,null,null,null,null,null,null,null,null,null,null,null,null,null,null,null,"08","12","02",3,800000,12000,20,3,812023,"SZLICHTYNGOWA",1567.26]
["","",null,null,null,null,null,null,null,null,null,null,null,null,null,null,null,null,null,null,null,null,null,null,null,null,null,null,null,null,null,"08","12","03",3,800000,12000,30,3,812033,"WSCHOWA",1356.59]
[418022,"  Baruchowo..........................................................................................................................................................................................................................................................",10674,"",107,null,null,null,null,null,null,null,null,null,null,null,null,null,null,null,null,null,null,null,null,null,null,null,null,null,null,"08","61","01",1,800000,61000,10,1,861011,"Gorzów Wielkopolski",2080.91]
[418032,"  Boniewo..........................................................................................................................................................................................................................................................",7762,"",78,null,null,null,null,null,null,null,null,null,null,null,null,null,null,null,null,null,null,null,null,null,null,null,null,null,null,"08","62","01",1,800000,62000,10,1,862011,"Zielona Góra",2547.16]
[418052,"  Choceń..........................................................................................................................................................................................................................................................",9985,"",100,null,null,null,null,null,null,null,null,null,null,null,null,null,null,null,null,null,null,null,null,null,null,null,null,null,null,"10","01","01",1,1000000,1000,10,1,1001011,"BEŁCHATÓW",2009.53]
[418072,"  Fabianki..........................................................................................................................................................................................................................................................",7584,"",76,null,null,null,null,null,null,null,null,null,null,null,null,null,null,null,null,null,null,null,null,null,null,null,null,null,null,"10","01","02",2,1000000,1000,20,2,1001022,"BEŁCHATÓW",2167.71]
[418092,"  Kowal..........................................................................................................................................................................................................................................................",11479,"",115,null,null,null,null,null,null,null,null,null,null,null,null,null,null,null,null,null,null,null,null,null,null,null,null,null,null,"10","01","03",2,1000000,1000,30,2,1001032,"DRUŻBICE",1300.7]
[418102,"  Lubanie..........................................................................................................................................................................................................................................................",6941,"",69,null,null,null,null,null,null,null,null,null,null,null,null,null,null,null,null,null,null,null,null,null,null,null,null,null,null,"10","01","04",2,1000000,1000,40,2,1001042,"KLESZCZÓW",29704.36]
[418132,"  Włocławek..........................................................................................................................................................................................................................................................",22062,"",220,null,null,null,null,null,null,null,null,null,null,null,null,null,null,null,null,null,null,null,null,null,null,null,null,null,null,"10","01","05",2,1000000,1000,50,2,1001052,"KLUKI",1824.22]
["","",null,null,null,null,null,null,null,null,null,null,null,null,null,null,null,null,null,null,null,null,null,null,null,null,null,null,null,null,null,"10","01","06",2,1000000,1000,60,2,1001062,"RUSIEC",1753.62]
[418043,"  Brześć Kujawski..........................................................................................................................................................................................................................................................",15095,"",151,null,null,null,null,null,null,null,null,null,null,null,null,null,null,null,null,null,null,null,null,null,null,null,null,null,null,"10","01","07",2,1000000,1000,70,2,1001072,"SZCZERCÓW",6936.48]
[418044,"",704,"",7,null,null,null,null,null,null,null,null,null,null,null,null,null,null,null,null,null,null,null,null,null,null,null,null,null,null,"10","01","08",3,1000000,1000,80,3,1001083,"ZELÓW",1278.9000000000001]
[418045,"",14391,"",144,null,null,null,null,null,null,null,null,null,null,null,null,null,null,null,null,null,null,null,null,null,null,null,null,null,null,"10","02","01",1,1000000,2000,10,1,1002011,"KUTNO",2506.12]
[418063,"  Chodecz..........................................................................................................................................................................................................................................................",12209,"",122,null,null,null,null,null,null,null,null,null,null,null,null,null,null,null,null,null,null,null,null,null,null,null,null,null,null,"10","02","02",2,1000000,2000,20,2,1002022,"BEDLNO",1786.07]
[418064,"",139,"",1,null,null,null,null,null,null,null,null,null,null,null,null,null,null,null,null,null,null,null,null,null,null,null,null,null,null,"10","02","03",2,1000000,2000,30,2,1002032,"DĄBROWICE",1856.41]
[418065,"",12070,"",121,null,null,null,null,null,null,null,null,null,null,null,null,null,null,null,null,null,null,null,null,null,null,null,null,null,null,"10","02","04",3,1000000,2000,40,3,1002043,"KROŚNIEWICE",1485.58]
[418083,"  Izbica Kujawska..........................................................................................................................................................................................................................................................",13210,"",132,null,null,null,null,null,null,null,null,null,null,null,null,null,null,null,null,null,null,null,null,null,null,null,null,null,null,"10","02","05",2,1000000,2000,50,2,1002052,"KRZYŻANÓW",2293.12]
[418084,"",224,"",2,null,null,null,null,null,null,null,null,null,null,null,null,null,null,null,null,null,null,null,null,null,null,null,null,null,null,"10","02","06",2,1000000,2000,60,2,1002062,"KUTNO",1826.18]
[418085,"",12986,"",130,null,null,null,null,null,null,null,null,null,null,null,null,null,null,null,null,null,null,null,null,null,null,null,null,null,null,"10","02","07",2,1000000,2000,70,2,1002072,"ŁANIĘTA",1122.67]
[418113,"  Lubień Kujawski..........................................................................................................................................................................................................................................................",15091,"",151,null,null,null,null,null,null,null,null,null,null,null,null,null,null,null,null,null,null,null,null,null,null,null,null,null,null,"10","02","08",2,1000000,2000,80,2,1002082,"NOWE OSTROWY",1566.4]
[418114,"",231,"",2,null,null,null,null,null,null,null,null,null,null,null,null,null,null,null,null,null,null,null,null,null,null,null,null,null,null,"10","02","09",2,1000000,2000,90,2,1002092,"OPORÓW",1312.19]
[418115,"",14860,"",149,null,null,null,null,null,null,null,null,null,null,null,null,null,null,null,null,null,null,null,null,null,null,null,null,null,null,"10","02","10",2,1000000,2000,100,2,1002102,"STRZELCE",1519.56]
[418123,"  Lubraniec..........................................................................................................................................................................................................................................................",14803,"",148,null,null,null,null,null,null,null,null,null,null,null,null,null,null,null,null,null,null,null,null,null,null,null,null,null,null,"10","02","11",3,1000000,2000,110,3,1002113,"ŻYCHLIN",1662.47]
[418124,"",197,"",2,null,null,null,null,null,null,null,null,null,null,null,null,null,null,null,null,null,null,null,null,null,null,null,null,null,null,"10","03","01",2,1000000,3000,10,2,1003012,"BUCZEK",2064.8000000000002]
[418125,"",14606,"",146,null,null,null,null,null,null,null,null,null,null,null,null,null,null,null,null,null,null,null,null,null,null,null,null,null,null,"10","03","02",3,1000000,3000,20,3,1003023,"ŁASK",1710.32]
["","Powiat żniński  (6 gmin)",null,null,null,null,null,null,null,null,null,null,null,null,null,null,null,null,null,null,null,null,null,null,null,null,null,null,null,null,null,"10","03","03",2,1000000,3000,30,2,1003032,"SĘDZIEJOWICE",1289.08]
["","",null,null,null,null,null,null,null,null,null,null,null,null,null,null,null,null,null,null,null,null,null,null,null,null,null,null,null,null,null,"10","03","04",2,1000000,3000,40,2,1003042,"WIDAWA",1349.65]
[419022,"  Gąsawa..........................................................................................................................................................................................................................................................",13584,"",136,null,null,null,null,null,null,null,null,null,null,null,null,null,null,null,null,null,null,null,null,null,null,null,null,null,null,"10","03","05",2,1000000,3000,50,2,1003052,"WODZIERADY",2163.9299999999998]
[419052,"  Rogowo..........................................................................................................................................................................................................................................................",17885,"",179,null,null,null,null,null,null,null,null,null,null,null,null,null,null,null,null,null,null,null,null,null,null,null,null,null,null,"10","04","01",1,1000000,4000,10,1,1004011,"ŁĘCZYCA",1808.86]
["","",null,null,null,null,null,null,null,null,null,null,null,null,null,null,null,null,null,null,null,null,null,null,null,null,null,null,null,null,null,"10","04","02",2,1000000,4000,20,2,1004022,"DASZYNA",1774.73]
[419013,"  Barcin..........................................................................................................................................................................................................................................................",12088,"",121,null,null,null,null,null,null,null,null,null,null,null,null,null,null,null,null,null,null,null,null,null,null,null,null,null,null,"10","04","03",2,1000000,4000,30,2,1004032,"GÓRA ŚW. MAŁGORZATY",1230.7]
[419014,"",370,"",4,null,null,null,null,null,null,null,null,null,null,null,null,null,null,null,null,null,null,null,null,null,null,null,null,null,null,"10","04","04",2,1000000,4000,40,2,1004042,"GRABÓW",1141.8599999999999]
[419015,"",11718,"",117,null,null,null,null,null,null,null,null,null,null,null,null,null,null,null,null,null,null,null,null,null,null,null,null,null,null,"10","04","05",2,1000000,4000,50,2,1004052,"ŁĘCZYCA",2117.27]
[419033,"  Janowiec Wielkopolski..........................................................................................................................................................................................................................................................",13073,"",131,null,null,null,null,null,null,null,null,null,null,null,null,null,null,null,null,null,null,null,null,null,null,null,null,null,null,"10","04","06",2,1000000,4000,60,2,1004062,"PIĄTEK",2028.25]
[419034,"",304,"",3,null,null,null,null,null,null,null,null,null,null,null,null,null,null,null,null,null,null,null,null,null,null,null,null,null,null,"10","04","07",2,1000000,4000,70,2,1004072,"ŚWINICE WARCKIE",982.75]
[419035,"",12769,"",128,null,null,null,null,null,null,null,null,null,null,null,null,null,null,null,null,null,null,null,null,null,null,null,null,null,null,"10","04","08",2,1000000,4000,80,2,1004082,"WITONIA",1275.1500000000001]
[419043,"  Łabiszyn..........................................................................................................................................................................................................................................................",16700,"",167,null,null,null,null,null,null,null,null,null,null,null,null,null,null,null,null,null,null,null,null,null,null,null,null,null,null,"10","05","01",1,1000000,5000,10,1,1005011,"ŁOWICZ",2161.63]
[419044,"",289,"",3,null,null,null,null,null,null,null,null,null,null,null,null,null,null,null,null,null,null,null,null,null,null,null,null,null,null,"10","05","02",2,{"$f":"AF648*100000","v":1000000},{"$f":"AG648*1000","v":5000},{"$f":"AH648*10","v":20},{"$f":"AI648*1","v":2},{"$f":"SUM(AJ648:AM648)","v":1005022},"BIELAWY",1247.99]
[419045,"",16411,"",164,null,null,null,null,null,null,null,null,null,null,null,null,null,null,null,null,null,null,null,null,null,null,null,null,null,null,"10","05","03",2,1000000,5000,30,2,1005032,"CHĄŚNO",1160.47]
[419063,"  Żnin..........................................................................................................................................................................................................................................................",25147,"",251,null,null,null,null,null,null,null,null,null,null,null,null,null,null,null,null,null,null,null,null,null,null,null,null,null,null,"10","05","04",2,1000000,5000,40,2,1005042,"DOMANIEWICE",1275.8599999999999]
[419064,"",835,"",8,null,null,null,null,null,null,null,null,null,null,null,null,null,null,null,null,null,null,null,null,null,null,null,null,null,null,"10","05","05",2,1000000,5000,50,2,1005052,"KIERNOZIA",1218.6400000000001]
[419065,"",24312,"",243,null,null,null,null,null,null,null,null,null,null,null,null,null,null,null,null,null,null,null,null,null,null,null,null,null,null,"10","05","06",2,1000000,5000,60,2,1005062,"KOCIERZEW POŁUDNIOWY",1037.21]
["","",null,null,null,null,null,null,null,null,null,null,null,null,null,null,null,null,null,null,null,null,null,null,null,null,null,null,null,null,null,"10","05","07",2,1000000,5000,70,2,1005072,"ŁOWICZ",1444.04]
[461011,"  Bydgoszcz..........................................................................................................................................................................................................................................................",17598,"",176,null,null,null,null,null,null,null,null,null,null,null,null,null,null,null,null,null,null,null,null,null,null,null,null,null,null,"10","05","08",2,1000000,5000,80,2,1005082,"ŁYSZKOWICE",1587.68]
[462011,"  Grudziądz..........................................................................................................................................................................................................................................................",5776,"",58,null,null,null,null,null,null,null,null,null,null,null,null,null,null,null,null,null,null,null,null,null,null,null,null,null,null,"10","05","09",2,1000000,5000,90,2,1005092,"NIEBORÓW",1476.9]
[463011,"  Toruń..........................................................................................................................................................................................................................................................",11572,"",116,null,null,null,null,null,null,null,null,null,null,null,null,null,null,null,null,null,null,null,null,null,null,null,null,null,null,"10","05","10",2,1000000,5000,100,2,1005102,"ZDUNY",1201.58]
[464011,"  Włocławek..........................................................................................................................................................................................................................................................",8432,"",84,null,null,null,null,null,null,null,null,null,null,null,null,null,null,null,null,null,null,null,null,null,null,null,null,null,null,"10","06","02",2,1000000,6000,20,2,1006022,"ANDRESPOL",2116.25]
["","WOJ. LUBELSKIE",null,null,null,null,null,null,null,null,null,null,null,null,null,null,null,null,null,null,null,null,null,null,null,null,null,null,null,null,null,"10","06","03",2,1000000,6000,30,2,1006032,"BRÓJCE",2207.65]
["","Powiat bialski  (19 gmin)",null,null,null,null,null,null,null,null,null,null,null,null,null,null,null,null,null,null,null,null,null,null,null,null,null,null,null,null,null,"10","06","07",3,1000000,6000,70,3,1006073,"KOLUSZKI",2304.46]
["","",null,null,null,null,null,null,null,null,null,null,null,null,null,null,null,null,null,null,null,null,null,null,null,null,null,null,null,null,null,"10","06","08",2,1000000,6000,80,2,1006082,"NOWOSOLNA",4436.6499999999996]
[601011,"  Międzyrzec Podlaski..........................................................................................................................................................................................................................................................",2003,"",20,null,null,null,null,null,null,null,null,null,null,null,null,null,null,null,null,null,null,null,null,null,null,null,null,null,null,"10","06","10",3,1000000,6000,100,3,1006103,"RZGÓW",3986.46]
[601021,"  Terespol (c)..........................................................................................................................................................................................................................................................",1011,"",10,null,null,null,null,null,null,null,null,null,null,null,null,null,null,null,null,null,null,null,null,null,null,null,null,null,null,"10","06","11",3,1000000,6000,110,3,1006113,"TUSZYN",2554.9499999999998]
["","",null,null,null,null,null,null,null,null,null,null,null,null,null,null,null,null,null,null,null,null,null,null,null,null,null,null,null,null,null,"10","07","01",2,1000000,7000,10,2,1007012,"BIAŁACZÓW",905.78]
[601032,"  Biała Podlaska..........................................................................................................................................................................................................................................................",32540,"↑",325,null,null,null,null,null,null,null,null,null,null,null,null,null,null,null,null,null,null,null,null,null,null,null,null,null,null,"10","07","02",3,1000000,7000,20,3,1007023,"DRZEWICA",1038.83]
[601042,"  Drelów..........................................................................................................................................................................................................................................................",22806,"",228,null,null,null,null,null,null,null,null,null,null,null,null,null,null,null,null,null,null,null,null,null,null,null,null,null,null,"10","07","03",2,1000000,7000,30,2,1007032,"MNISZKÓW",1307.8599999999999]
[601052,"  Janów Podlaski..........................................................................................................................................................................................................................................................",13577,"",136,null,null,null,null,null,null,null,null,null,null,null,null,null,null,null,null,null,null,null,null,null,null,null,null,null,null,"10","07","04",3,1000000,7000,40,3,1007043,"OPOCZNO",1758.28]
[601062,"  Kodeń..........................................................................................................................................................................................................................................................",15104,"",151,null,null,null,null,null,null,null,null,null,null,null,null,null,null,null,null,null,null,null,null,null,null,null,null,null,null,"10","07","05",2,1000000,7000,50,2,1007052,"PARADYŻ",1276.18]
[601072,"  Konstantynów..........................................................................................................................................................................................................................................................",8692,"",87,null,null,null,null,null,null,null,null,null,null,null,null,null,null,null,null,null,null,null,null,null,null,null,null,null,null,"10","07","06",2,1000000,7000,60,2,1007062,"POŚWIĘTNE",1103.1400000000001]
[601082,"  Leśna Podlaska..........................................................................................................................................................................................................................................................",9823,"",98,null,null,null,null,null,null,null,null,null,null,null,null,null,null,null,null,null,null,null,null,null,null,null,null,null,null,"10","07","07",2,1000000,7000,70,2,1007072,"SŁAWNO",1835.35]
[601092,"  Łomazy..........................................................................................................................................................................................................................................................",19860,"",199,null,null,null,null,null,null,null,null,null,null,null,null,null,null,null,null,null,null,null,null,null,null,null,null,null,null,"10","07","08",2,1000000,7000,80,2,1007082,"ŻARNÓW",912.36]
[601102,"  Międzyrzec Podlaski..........................................................................................................................................................................................................................................................",26092,"",261,null,null,null,null,null,null,null,null,null,null,null,null,null,null,null,null,null,null,null,null,null,null,null,null,null,null,"10","08","01",1,1000000,8000,10,1,1008011,"KONSTANTYNÓW ŁÓDZKI",2250.87]
[601112,"  Piszczac..........................................................................................................................................................................................................................................................",17019,"",170,null,null,null,null,null,null,null,null,null,null,null,null,null,null,null,null,null,null,null,null,null,null,null,null,null,null,"10","08","02",1,1000000,8000,20,1,1008021,"PABIANICE",1868.64]
[601122,"  Rokitno..........................................................................................................................................................................................................................................................",14089,"",141,null,null,null,null,null,null,null,null,null,null,null,null,null,null,null,null,null,null,null,null,null,null,null,null,null,null,"10","08","03",2,1000000,8000,30,2,1008032,"DŁUTÓW",1588.54]
[601132,"  Rossosz..........................................................................................................................................................................................................................................................",7648,"",76,null,null,null,null,null,null,null,null,null,null,null,null,null,null,null,null,null,null,null,null,null,null,null,null,null,null,"10","08","04",2,1000000,8000,40,2,1008042,"DOBROŃ",2024.12]
[601142,"  Sławatycze (c)..........................................................................................................................................................................................................................................................",7189,"",72,null,null,null,null,null,null,null,null,null,null,null,null,null,null,null,null,null,null,null,null,null,null,null,null,null,null,"10","08","05",2,1000000,8000,50,2,1008052,"KSAWERÓW",3054.66]
[601152,"  Sosnówka..........................................................................................................................................................................................................................................................",14836,"",148,null,null,null,null,null,null,null,null,null,null,null,null,null,null,null,null,null,null,null,null,null,null,null,null,null,null,"10","08","06",2,1000000,8000,60,2,1008062,"LUTOMIERSK",2004.92]
[601162,"  Terespol (c)..........................................................................................................................................................................................................................................................",14149,"",142,null,null,null,null,null,null,null,null,null,null,null,null,null,null,null,null,null,null,null,null,null,null,null,null,null,null,"10","08","07",2,1000000,8000,70,2,1008072,"PABIANICE",3444.43]
[601172,"  Tuczna..........................................................................................................................................................................................................................................................",16957,"",170,null,null,null,null,null,null,null,null,null,null,null,null,null,null,null,null,null,null,null,null,null,null,null,null,null,null,"10","09","01",3,1000000,9000,10,3,1009013,"DZIAŁOSZYN",3011.75]
[601182,"  Wisznice..........................................................................................................................................................................................................................................................",17320,"",173,null,null,null,null,null,null,null,null,null,null,null,null,null,null,null,null,null,null,null,null,null,null,null,null,null,null,"10","09","02",2,1000000,9000,20,2,1009022,"KIEŁCZYGŁÓW",1545.53]
[601192,"  Zalesie..........................................................................................................................................................................................................................................................",14711,"",147,null,null,null,null,null,null,null,null,null,null,null,null,null,null,null,null,null,null,null,null,null,null,null,null,null,null,"10","09","03",2,1000000,9000,30,2,1009032,"NOWA BRZEŹNICA",1212.6199999999999]
["","Powiat biłgorajski  (14 gmin)",null,null,null,null,null,null,null,null,null,null,null,null,null,null,null,null,null,null,null,null,null,null,null,null,null,null,null,null,null,"10","09","04",3,1000000,9000,40,3,1009043,"PAJĘCZNO",1743.95]
["","",null,null,null,null,null,null,null,null,null,null,null,null,null,null,null,null,null,null,null,null,null,null,null,null,null,null,null,null,null,"10","09","05",2,1000000,9000,50,2,1009052,"RZĄŚNIA",7383.7]
[602011,"  Biłgoraj..........................................................................................................................................................................................................................................................",2110,"",21,null,null,null,null,null,null,null,null,null,null,null,null,null,null,null,null,null,null,null,null,null,null,null,null,null,null,"10","09","06",2,1000000,9000,60,2,1009062,"SIEMKOWICE",1118.04]
["","",null,null,null,null,null,null,null,null,null,null,null,null,null,null,null,null,null,null,null,null,null,null,null,null,null,null,null,null,null,"10","09","07",2,1000000,9000,70,2,1009072,"STRZELCE WIELKIE",1026.25]
[602022,"  Aleksandrów..........................................................................................................................................................................................................................................................",5426,"",54,null,null,null,null,null,null,null,null,null,null,null,null,null,null,null,null,null,null,null,null,null,null,null,null,null,null,"10","09","08",2,1000000,9000,80,2,1009082,"SULMIERZYCE",6607.04]
[602032,"  Biłgoraj..........................................................................................................................................................................................................................................................",26266,"",263,null,null,null,null,null,null,null,null,null,null,null,null,null,null,null,null,null,null,null,null,null,null,null,null,null,null,"10","10","01",2,1000000,10000,10,2,1010012,"ALEKSANDRÓW",953.86]
[602042,"  Biszcza..........................................................................................................................................................................................................................................................",10631,"",106,null,null,null,null,null,null,null,null,null,null,null,null,null,null,null,null,null,null,null,null,null,null,null,null,null,null,"10","10","02",2,1000000,10000,20,2,1010022,"CZARNOCIN",1297.94]
[602062,"  Goraj..........................................................................................................................................................................................................................................................",6787,"",68,null,null,null,null,null,null,null,null,null,null,null,null,null,null,null,null,null,null,null,null,null,null,null,null,null,null,"10","10","03",2,1000000,10000,30,2,1010032,"GORZKOWICE",1412.12]
[602082,"  Księżpol..........................................................................................................................................................................................................................................................",14128,"",141,null,null,null,null,null,null,null,null,null,null,null,null,null,null,null,null,null,null,null,null,null,null,null,null,null,null,"10","10","04",2,1000000,10000,40,2,1010042,"GRABICA",2949]
[602092,"  Łukowa..........................................................................................................................................................................................................................................................",14872,"",149,null,null,null,null,null,null,null,null,null,null,null,null,null,null,null,null,null,null,null,null,null,null,null,null,null,null,"10","10","05",2,1000000,10000,50,2,1010052,"ŁĘKI SZLACHECKIE",898.36]
[602102,"  Obsza..........................................................................................................................................................................................................................................................",11323,"",113,null,null,null,null,null,null,null,null,null,null,null,null,null,null,null,null,null,null,null,null,null,null,null,null,null,null,"10","10","06",2,1000000,10000,60,2,1010062,"MOSZCZENICA",1892.65]
[602112,"  Potok Górny..........................................................................................................................................................................................................................................................",11116,"",111,null,null,null,null,null,null,null,null,null,null,null,null,null,null,null,null,null,null,null,null,null,null,null,null,null,null,"10","10","07",2,1000000,10000,70,2,1010072,"RĘCZNO",903.98]
[602132,"  Tereszpol..........................................................................................................................................................................................................................................................",14401,"",144,null,null,null,null,null,null,null,null,null,null,null,null,null,null,null,null,null,null,null,null,null,null,null,null,null,null,"10","10","08",2,1000000,10000,80,2,1010082,"ROZPRZA",1146.57]
[602142,"  Turobin..........................................................................................................................................................................................................................................................",16219,"",162,null,null,null,null,null,null,null,null,null,null,null,null,null,null,null,null,null,null,null,null,null,null,null,null,null,null,"10","10","09",3,1000000,10000,90,3,1010093,"SULEJÓW",1467.99]
["","",null,null,null,null,null,null,null,null,null,null,null,null,null,null,null,null,null,null,null,null,null,null,null,null,null,null,null,null,null,"10","10","10",2,1000000,10000,100,2,1010102,"WOLA KRZYSZTOPORSKA",2131.1]
[602053,"  Frampol..........................................................................................................................................................................................................................................................",10760,"",108,null,null,null,null,null,null,null,null,null,null,null,null,null,null,null,null,null,null,null,null,null,null,null,null,null,null,"10","10","11",3,1000000,10000,110,3,1010113,"WOLBÓRZ",2754.86]
[602054,"",467,"",5,null,null,null,null,null,null,null,null,null,null,null,null,null,null,null,null,null,null,null,null,null,null,null,null,null,null,"10","11","01",2,1000000,11000,10,2,1011012,"DALIKÓW",1230.56]
[602055,"",10293,"",103,null,null,null,null,null,null,null,null,null,null,null,null,null,null,null,null,null,null,null,null,null,null,null,null,null,null,"10","11","02",2,1000000,11000,20,2,1011022,"PĘCZNIEW",1246.6600000000001]
[602073,"  Józefów..........................................................................................................................................................................................................................................................",12646,"",127,null,null,null,null,null,null,null,null,null,null,null,null,null,null,null,null,null,null,null,null,null,null,null,null,null,null,"10","11","03",3,1000000,11000,30,3,1011033,"PODDĘBICE",1567.25]
[602074,"",500,"",5,null,null,null,null,null,null,null,null,null,null,null,null,null,null,null,null,null,null,null,null,null,null,null,null,null,null,"10","11","04",3,1000000,11000,40,3,1011043,"UNIEJÓW",1904.81]
[602075,"",12146,"",122,null,null,null,null,null,null,null,null,null,null,null,null,null,null,null,null,null,null,null,null,null,null,null,null,null,null,"10","11","05",2,1000000,11000,50,2,1011052,"WARTKOWICE",2439.23]
[602123,"  Tarnogród..........................................................................................................................................................................................................................................................",11425,"",114,null,null,null,null,null,null,null,null,null,null,null,null,null,null,null,null,null,null,null,null,null,null,null,null,null,null,"10","11","06",2,1000000,11000,60,2,1011062,"ZADZIM",1080.52]
[602124,"",1069,"",11,null,null,null,null,null,null,null,null,null,null,null,null,null,null,null,null,null,null,null,null,null,null,null,null,null,null,"10","12","01",1,1000000,12000,10,1,1012011,"RADOMSKO",2306.7800000000002]
[602125,"",10356,"",103,null,null,null,null,null,null,null,null,null,null,null,null,null,null,null,null,null,null,null,null,null,null,null,null,null,null,"10","12","02",2,1000000,12000,20,2,1012022,"DOBRYSZYCE",1649.07]
["","Powiat chełmski  (15 gmin)",null,null,null,null,null,null,null,null,null,null,null,null,null,null,null,null,null,null,null,null,null,null,null,null,null,null,null,null,null,"10","12","03",2,1000000,12000,30,2,1012032,"GIDLE",1038.1600000000001]
["","",null,null,null,null,null,null,null,null,null,null,null,null,null,null,null,null,null,null,null,null,null,null,null,null,null,null,null,null,null,"10","12","04",2,1000000,12000,40,2,1012042,"GOMUNICE",1427.79]
[603011,"  Rejowiec Fabryczny..........................................................................................................................................................................................................................................................",1428,"",15,null,null,null,null,null,null,null,null,null,null,null,null,null,null,null,null,null,null,null,null,null,null,null,null,null,null,"10","12","05",3,1000000,12000,50,3,1012053,"KAMIEŃSK",2843.13]
["","",null,null,null,null,null,null,null,null,null,null,null,null,null,null,null,null,null,null,null,null,null,null,null,null,null,null,null,null,null,"10","12","06",2,1000000,12000,60,2,1012062,"KOBIELE WIELKIE",1274.74]
[603022,"  Białopole..........................................................................................................................................................................................................................................................",10361,"",103,null,null,null,null,null,null,null,null,null,null,null,null,null,null,null,null,null,null,null,null,null,null,null,null,null,null,"10","12","07",2,1000000,12000,70,2,1012072,"KODRĄB",1232.55]
[603032,"  Chełm..........................................................................................................................................................................................................................................................",22180,"",223,null,null,null,null,null,null,null,null,null,null,null,null,null,null,null,null,null,null,null,null,null,null,null,null,null,null,"10","12","08",2,1000000,12000,80,2,1012082,"LGOTA WIELKA",1301.8]
[603042,"  Dorohusk (c)..........................................................................................................................................................................................................................................................",19242,"",192,null,null,null,null,null,null,null,null,null,null,null,null,null,null,null,null,null,null,null,null,null,null,null,null,null,null,"10","12","09",2,1000000,12000,90,2,1012092,"ŁADZICE",1858.56]
[603052,"  Dubienka..........................................................................................................................................................................................................................................................",9612,"",96,null,null,null,null,null,null,null,null,null,null,null,null,null,null,null,null,null,null,null,null,null,null,null,null,null,null,"10","12","10",2,{"$f":"AF712*100000","v":1000000},{"$f":"AG712*1000","v":12000},{"$f":"AH712*10","v":100},{"$f":"AI712*1","v":2},{"$f":"SUM(AJ712:AM712)","v":1012102},"MASŁOWICE",2062.1]
[603062,"  Kamień..........................................................................................................................................................................................................................................................",9683,"",97,null,null,null,null,null,null,null,null,null,null,null,null,null,null,null,null,null,null,null,null,null,null,null,null,null,null,"10","12","11",3,1000000,12000,110,3,1012113,"PRZEDBÓRZ",1323.03]
[603072,"  Leśniowice..........................................................................................................................................................................................................................................................",11766,"",118,null,null,null,null,null,null,null,null,null,null,null,null,null,null,null,null,null,null,null,null,null,null,null,null,null,null,"10","12","12",2,1000000,12000,120,2,1012122,"RADOMSKO",1800.89]
[603082,"  Rejowiec Fabryczny..........................................................................................................................................................................................................................................................",8774,"",88,null,null,null,null,null,null,null,null,null,null,null,null,null,null,null,null,null,null,null,null,null,null,null,null,null,null,"10","12","13",2,1000000,12000,130,2,1012132,"WIELGOMŁYNY",1177.07]
[603092,"  Ruda-Huta..........................................................................................................................................................................................................................................................",11221,"",112,null,null,null,null,null,null,null,null,null,null,null,null,null,null,null,null,null,null,null,null,null,null,null,null,null,null,"10","12","14",2,1000000,12000,140,2,1012142,"ŻYTNO",904.58]
[603102,"  Sawin..........................................................................................................................................................................................................................................................",19022,"",190,null,null,null,null,null,null,null,null,null,null,null,null,null,null,null,null,null,null,null,null,null,null,null,null,null,null,"10","13","01",1,1000000,13000,10,1,1013011,"RAWA MAZOWIECKA",2566.41]
[603122,"  Wierzbica..........................................................................................................................................................................................................................................................",14579,"",146,null,null,null,null,null,null,null,null,null,null,null,null,null,null,null,null,null,null,null,null,null,null,null,null,null,null,"10","13","02",3,1000000,13000,20,3,1013023,"BIAŁA RAWSKA",1538.96]
[603132,"  Wojsławice..........................................................................................................................................................................................................................................................",11046,"",110,null,null,null,null,null,null,null,null,null,null,null,null,null,null,null,null,null,null,null,null,null,null,null,null,null,null,"10","13","03",2,1000000,13000,30,2,1013032,"CIELĄDZ",1073.5899999999999]
[603142,"  Żmudź..........................................................................................................................................................................................................................................................",13607,"",136,null,null,null,null,null,null,null,null,null,null,null,null,null,null,null,null,null,null,null,null,null,null,null,null,null,null,"10","13","04",2,1000000,13000,40,2,1013042,"RAWA MAZOWIECKA",2209.0300000000002]
["","",null,null,null,null,null,null,null,null,null,null,null,null,null,null,null,null,null,null,null,null,null,null,null,null,null,null,null,null,null,"10","13","05",2,1000000,13000,50,2,1013052,"REGNÓW",1549.09]
[603153,"  Rejowiec..........................................................................................................................................................................................................................................................",10625,"",106,null,null,null,null,null,null,null,null,null,null,null,null,null,null,null,null,null,null,null,null,null,null,null,null,null,null,"10","13","06",2,1000000,13000,60,2,1013062,"SADKOWICE",1058.5899999999999]
[603154,"",650,"",6,null,null,null,null,null,null,null,null,null,null,null,null,null,null,null,null,null,null,null,null,null,null,null,null,null,null,"10","14","01",1,1000000,14000,10,1,1014011,"SIERADZ",2039.15]
[603155,"",9975,"",100,null,null,null,null,null,null,null,null,null,null,null,null,null,null,null,null,null,null,null,null,null,null,null,null,null,null,"10","14","02",3,1000000,14000,20,3,1014023,"BŁASZKI",1305.73]
[603113,"  Siedliszcze..........................................................................................................................................................................................................................................................",15414,"",154,null,null,null,null,null,null,null,null,null,null,null,null,null,null,null,null,null,null,null,null,null,null,null,null,null,null,"10","14","03",2,1000000,14000,30,2,1014032,"BRĄSZEWICE",1325.8]
[603114,"",1316,"",13,null,null,null,null,null,null,null,null,null,null,null,null,null,null,null,null,null,null,null,null,null,null,null,null,null,null,"10","14","04",2,1000000,14000,40,2,1014042,"BRZEŹNIO",1377.85]
[603115,"",14098,"",141,null,null,null,null,null,null,null,null,null,null,null,null,null,null,null,null,null,null,null,null,null,null,null,null,null,null,"10","14","05",2,1000000,14000,50,2,1014052,"BURZENIN",1168.72]
["","Powiat hrubieszowski  (8 gmin)",null,null,null,null,null,null,null,null,null,null,null,null,null,null,null,null,null,null,null,null,null,null,null,null,null,null,null,null,null,"10","14","06",2,1000000,14000,60,2,1014062,"GOSZCZANÓW",825.3]
["","",null,null,null,null,null,null,null,null,null,null,null,null,null,null,null,null,null,null,null,null,null,null,null,null,null,null,null,null,null,"10","14","07",2,1000000,14000,70,2,1014072,"KLONOWA",1264.5999999999999]
[604011,"  Hrubieszów (c)..........................................................................................................................................................................................................................................................",3303,"",33,null,null,null,null,null,null,null,null,null,null,null,null,null,null,null,null,null,null,null,null,null,null,null,null,null,null,"10","14","08",2,1000000,14000,80,2,1014082,"SIERADZ",1708.85]
["","",null,null,null,null,null,null,null,null,null,null,null,null,null,null,null,null,null,null,null,null,null,null,null,null,null,null,null,null,null,"10","14","09",3,1000000,14000,90,3,1014093,"WARTA",1077.44]
[604022,"  Dołhobyczów (c)..........................................................................................................................................................................................................................................................",21261,"",213,null,null,null,null,null,null,null,null,null,null,null,null,null,null,null,null,null,null,null,null,null,null,null,null,null,null,"10","14","10",2,1000000,14000,100,2,1014102,"WRÓBLEW",1588.61]
[604032,"  Horodło (c)..........................................................................................................................................................................................................................................................",13022,"",130,null,null,null,null,null,null,null,null,null,null,null,null,null,null,null,null,null,null,null,null,null,null,null,null,null,null,"10","14","11",3,1000000,14000,110,3,1014113,"ZŁOCZEW",1227.0999999999999]
[604042,"  Hrubieszów..........................................................................................................................................................................................................................................................",25921,"",259,null,null,null,null,null,null,null,null,null,null,null,null,null,null,null,null,null,null,null,null,null,null,null,null,null,null,"10","15","01",2,1000000,15000,10,2,1015012,"BOLIMÓW",1420.79]
[604052,"  Mircze..........................................................................................................................................................................................................................................................",23488,"",235,null,null,null,null,null,null,null,null,null,null,null,null,null,null,null,null,null,null,null,null,null,null,null,null,null,null,"10","15","02",2,1000000,15000,20,2,1015022,"GŁUCHÓW",1491.15]
[604062,"  Trzeszczany..........................................................................................................................................................................................................................................................",9029,"",90,null,null,null,null,null,null,null,null,null,null,null,null,null,null,null,null,null,null,null,null,null,null,null,null,null,null,"10","15","03",2,1000000,15000,30,2,1015032,"GODZIANÓW",1104.22]
[604072,"  Uchanie..........................................................................................................................................................................................................................................................",12063,"",121,null,null,null,null,null,null,null,null,null,null,null,null,null,null,null,null,null,null,null,null,null,null,null,null,null,null,"10","15","04",2,1000000,15000,40,2,1015042,"KOWIESY",1461.32]
[604082,"  Werbkowice..........................................................................................................................................................................................................................................................",18715,"",187,null,null,null,null,null,null,null,null,null,null,null,null,null,null,null,null,null,null,null,null,null,null,null,null,null,null,"10","15","05",2,1000000,15000,50,2,1015052,"LIPCE REYMONTOWSKIE",1113.23]
["","Powiat janowski  (7 gmin)",null,null,null,null,null,null,null,null,null,null,null,null,null,null,null,null,null,null,null,null,null,null,null,null,null,null,null,null,null,"10","15","06",2,1000000,15000,60,2,1015062,"MAKÓW",1220.28]
["","",null,null,null,null,null,null,null,null,null,null,null,null,null,null,null,null,null,null,null,null,null,null,null,null,null,null,null,null,null,"10","15","07",2,1000000,15000,70,2,1015072,"NOWY KAWĘCZYN",1983.79]
[605012,"  Batorz..........................................................................................................................................................................................................................................................",7084,"",71,null,null,null,null,null,null,null,null,null,null,null,null,null,null,null,null,null,null,null,null,null,null,null,null,null,null,"10","15","08",2,1000000,15000,80,2,1015082,"SKIERNIEWICE",1827.04]
[605022,"  Chrzanów..........................................................................................................................................................................................................................................................",7169,"",72,null,null,null,null,null,null,null,null,null,null,null,null,null,null,null,null,null,null,null,null,null,null,null,null,null,null,"10","15","09",2,1000000,15000,90,2,1015092,"SŁUPIA",1466.98]
[605032,"  Dzwola..........................................................................................................................................................................................................................................................",20037,"",200,null,null,null,null,null,null,null,null,null,null,null,null,null,null,null,null,null,null,null,null,null,null,null,null,null,null,"10","16","01",1,1000000,16000,10,1,1016011,"TOMASZÓW MAZOWIECKI",1869.98]
[605042,"  Godziszów..........................................................................................................................................................................................................................................................",10167,"",102,null,null,null,null,null,null,null,null,null,null,null,null,null,null,null,null,null,null,null,null,null,null,null,null,null,null,"10","16","02",2,1000000,16000,20,2,1016022,"BĘDKÓW",955.25]
[605072,"  Potok Wielki..........................................................................................................................................................................................................................................................",9944,"",99,null,null,null,null,null,null,null,null,null,null,null,null,null,null,null,null,null,null,null,null,null,null,null,null,null,null,"10","16","03",2,1000000,16000,30,2,1016032,"BUDZISZEWICE",1095.21]
["","",null,null,null,null,null,null,null,null,null,null,null,null,null,null,null,null,null,null,null,null,null,null,null,null,null,null,null,null,null,"10","16","04",2,1000000,16000,40,2,1016042,"CZERNIEWICE",1823.89]
[605053,"  Janów Lubelski..........................................................................................................................................................................................................................................................",17870,"",179,null,null,null,null,null,null,null,null,null,null,null,null,null,null,null,null,null,null,null,null,null,null,null,null,null,null,"10","16","05",2,1000000,16000,50,2,1016052,"INOWŁÓDZ",2199.7199999999998]
[605054,"",1480,"",15,null,null,null,null,null,null,null,null,null,null,null,null,null,null,null,null,null,null,null,null,null,null,null,null,null,null,"10","16","06",2,1000000,16000,60,2,1016062,"LUBOCHNIA",1792.23]
[605055,"",16390,"",164,null,null,null,null,null,null,null,null,null,null,null,null,null,null,null,null,null,null,null,null,null,null,null,null,null,null,"10","16","07",2,1000000,16000,70,2,1016072,"ROKICINY",1543.66]
[605063,"  Modliborzyce..........................................................................................................................................................................................................................................................",15257,"",153,null,null,null,null,null,null,null,null,null,null,null,null,null,null,null,null,null,null,null,null,null,null,null,null,null,null,"10","16","08",2,1000000,16000,80,2,1016082,"RZECZYCA",909.01]
[605064,"",789,"",8,null,null,null,null,null,null,null,null,null,null,null,null,null,null,null,null,null,null,null,null,null,null,null,null,null,null,"10","16","09",2,1000000,16000,90,2,1016092,"TOMASZÓW MAZOWIECKI",2128.27]
[605065,"",14468,"",145,null,null,null,null,null,null,null,null,null,null,null,null,null,null,null,null,null,null,null,null,null,null,null,null,null,null,"10","16","10",2,1000000,16000,100,2,1016102,"UJAZD",3052.2]
["","Powiat krasnostawski  (10 gmin)",null,null,null,null,null,null,null,null,null,null,null,null,null,null,null,null,null,null,null,null,null,null,null,null,null,null,null,null,null,"10","16","11",2,1000000,16000,110,2,1016112,"ŻELECHLINEK",1044.94]
["","",null,null,null,null,null,null,null,null,null,null,null,null,null,null,null,null,null,null,null,null,null,null,null,null,null,null,null,null,null,"10","17","01",2,1000000,17000,10,2,1017012,"BIAŁA",1026.01]
[606011,"  Krasnystaw..........................................................................................................................................................................................................................................................",4213,"",42,null,null,null,null,null,null,null,null,null,null,null,null,null,null,null,null,null,null,null,null,null,null,null,null,null,null,"10","17","02",2,1000000,17000,20,2,1017022,"CZARNOŻYŁY",1304.82]
["","",null,null,null,null,null,null,null,null,null,null,null,null,null,null,null,null,null,null,null,null,null,null,null,null,null,null,null,null,null,"10","17","03",2,1000000,17000,30,2,1017032,"KONOPNICA",1165.56]
[606022,"  Fajsławice..........................................................................................................................................................................................................................................................",7065,"",71,null,null,null,null,null,null,null,null,null,null,null,null,null,null,null,null,null,null,null,null,null,null,null,null,null,null,"10","17","04",2,1000000,17000,40,2,1017042,"MOKRSKO",1037.03]
[606032,"  Gorzków..........................................................................................................................................................................................................................................................",9668,"",97,null,null,null,null,null,null,null,null,null,null,null,null,null,null,null,null,null,null,null,null,null,null,null,null,null,null,"10","17","05",2,1000000,17000,50,2,1017052,"OSJAKÓW",1425.91]
[606042,"  Izbica..........................................................................................................................................................................................................................................................",13827,"",138,null,null,null,null,null,null,null,null,null,null,null,null,null,null,null,null,null,null,null,null,null,null,null,null,null,null,"10","17","06",2,1000000,17000,60,2,1017062,"OSTRÓWEK",1009.29]
[606052,"  Krasnystaw..........................................................................................................................................................................................................................................................",15082,"",151,null,null,null,null,null,null,null,null,null,null,null,null,null,null,null,null,null,null,null,null,null,null,null,null,null,null,"10","17","07",2,1000000,17000,70,2,1017072,"PĄTNÓW",879.32]
[606062,"  Kraśniczyn..........................................................................................................................................................................................................................................................",11009,"",110,null,null,null,null,null,null,null,null,null,null,null,null,null,null,null,null,null,null,null,null,null,null,null,null,null,null,"10","17","08",2,1000000,17000,80,2,1017082,"SKOMLIN",1015.76]
[606072,"  Łopiennik Górny..........................................................................................................................................................................................................................................................",10619,"",106,null,null,null,null,null,null,null,null,null,null,null,null,null,null,null,null,null,null,null,null,null,null,null,null,null,null,"10","17","09",3,1000000,17000,90,3,1017093,"WIELUŃ",2325.12]
[606092,"  Rudnik..........................................................................................................................................................................................................................................................",8853,"",89,null,null,null,null,null,null,null,null,null,null,null,null,null,null,null,null,null,null,null,null,null,null,null,null,null,null,"10","17","10",2,1000000,17000,100,2,1017102,"WIERZCHLAS",1232.74]
[606102,"  Siennica Różana..........................................................................................................................................................................................................................................................",9840,"",98,null,null,null,null,null,null,null,null,null,null,null,null,null,null,null,null,null,null,null,null,null,null,null,null,null,null,"10","18","01",2,1000000,18000,10,2,1018012,"BOLESŁAWIEC",1098.54]
[606112,"  Żółkiewka..........................................................................................................................................................................................................................................................",12968,"",130,null,null,null,null,null,null,null,null,null,null,null,null,null,null,null,null,null,null,null,null,null,null,null,null,null,null,"10","18","02",2,1000000,18000,20,2,1018022,"CZASTARY",1010.03]
["","Powiat kraśnicki  (10 gmin)",null,null,null,null,null,null,null,null,null,null,null,null,null,null,null,null,null,null,null,null,null,null,null,null,null,null,null,null,null,"10","18","03",2,1000000,18000,30,2,1018032,"GALEWICE",1288.6199999999999]
["","",null,null,null,null,null,null,null,null,null,null,null,null,null,null,null,null,null,null,null,null,null,null,null,null,null,null,null,null,null,"10","18","04",2,1000000,18000,40,2,1018042,"LUTUTÓW",1212.71]
[607011,"  Kraśnik..........................................................................................................................................................................................................................................................",2610,"",26,null,null,null,null,null,null,null,null,null,null,null,null,null,null,null,null,null,null,null,null,null,null,null,null,null,null,"10","18","05",2,1000000,18000,50,2,1018052,"ŁUBNICE",1541.12]
["","",null,null,null,null,null,null,null,null,null,null,null,null,null,null,null,null,null,null,null,null,null,null,null,null,null,null,null,null,null,"10","18","06",2,1000000,18000,60,2,1018062,"SOKOLNIKI",1315.77]
[607032,"  Dzierzkowice..........................................................................................................................................................................................................................................................",8729,"",87,null,null,null,null,null,null,null,null,null,null,null,null,null,null,null,null,null,null,null,null,null,null,null,null,null,null,"10","18","07",3,1000000,18000,70,3,1018073,"WIERUSZÓW",2554.98]
[607042,"  Gościeradów..........................................................................................................................................................................................................................................................",15929,"",159,null,null,null,null,null,null,null,null,null,null,null,null,null,null,null,null,null,null,null,null,null,null,null,null,null,null,"10","19","01",1,1000000,19000,10,1,1019011,"ZDUŃSKA WOLA",1596.2]
[607052,"  Kraśnik..........................................................................................................................................................................................................................................................",10466,"",105,null,null,null,null,null,null,null,null,null,null,null,null,null,null,null,null,null,null,null,null,null,null,null,null,null,null,"10","19","02",3,1000000,19000,20,3,1019023,"SZADEK",1386.54]
[607062,"  Szastarka..........................................................................................................................................................................................................................................................",7331,"",73,null,null,null,null,null,null,null,null,null,null,null,null,null,null,null,null,null,null,null,null,null,null,null,null,null,null,"10","19","03",2,1000000,19000,30,2,1019032,"ZAPOLICE",1655.01]
[607072,"  Trzydnik Duży..........................................................................................................................................................................................................................................................",10411,"",104,null,null,null,null,null,null,null,null,null,null,null,null,null,null,null,null,null,null,null,null,null,null,null,null,null,null,"10","19","04",2,1000000,19000,40,2,1019042,"ZDUŃSKA WOLA",1581.95]
[607092,"  Wilkołaz..........................................................................................................................................................................................................................................................",8170,"",82,null,null,null,null,null,null,null,null,null,null,null,null,null,null,null,null,null,null,null,null,null,null,null,null,null,null,"10","20","01",1,1000000,20000,10,1,1020011,"GŁOWNO",1583.52]
[607102,"  Zakrzówek..........................................................................................................................................................................................................................................................",9917,"",99,null,null,null,null,null,null,null,null,null,null,null,null,null,null,null,null,null,null,null,null,null,null,null,null,null,null,"10","20","02",1,{"$f":"AF776*100000","v":1000000},{"$f":"AG776*1000","v":20000},{"$f":"AH776*10","v":20},{"$f":"AI776*1","v":1},{"$f":"SUM(AJ776:AM776)","v":1020021},"OZORKÓW",1643.48]
["","",null,null,null,null,null,null,null,null,null,null,null,null,null,null,null,null,null,null,null,null,null,null,null,null,null,null,null,null,null,"10","20","03",1,1000000,20000,30,1,1020031,"ZGIERZ",1859.04]
[607023,"  Annopol..........................................................................................................................................................................................................................................................",15113,"",151,null,null,null,null,null,null,null,null,null,null,null,null,null,null,null,null,null,null,null,null,null,null,null,null,null,null,"10","20","04",3,1000000,20000,40,3,1020043,"ALEKSANDRÓW ŁÓDZKI",2154.3000000000002]
[607024,"",773,"",8,null,null,null,null,null,null,null,null,null,null,null,null,null,null,null,null,null,null,null,null,null,null,null,null,null,null,"10","20","05",2,1000000,20000,50,2,1020052,"GŁOWNO",1210.75]
[607025,"",14340,"",143,null,null,null,null,null,null,null,null,null,null,null,null,null,null,null,null,null,null,null,null,null,null,null,null,null,null,"10","20","06",2,1000000,20000,60,2,1020062,"OZORKÓW",2158.83]
[607083,"  Urzędów..........................................................................................................................................................................................................................................................",11854,"",119,null,null,null,null,null,null,null,null,null,null,null,null,null,null,null,null,null,null,null,null,null,null,null,null,null,null,"10","20","07",2,1000000,20000,70,2,1020072,"PARZĘCZEW",1987.26]
[607084,"",1291,"",13,null,null,null,null,null,null,null,null,null,null,null,null,null,null,null,null,null,null,null,null,null,null,null,null,null,null,"10","20","08",3,1000000,20000,80,3,1020083,"STRYKÓW",5503.38]
[607085,"",10563,"",106,null,null,null,null,null,null,null,null,null,null,null,null,null,null,null,null,null,null,null,null,null,null,null,null,null,null,"10","20","09",2,1000000,20000,90,2,1020092,"ZGIERZ",2443.63]
["","Powiat lubartowski  (13 gmin)",null,null,null,null,null,null,null,null,null,null,null,null,null,null,null,null,null,null,null,null,null,null,null,null,null,null,null,null,null,"10","21","01",1,1000000,21000,10,1,1021011,"BRZEZINY",1595.73]
["","",null,null,null,null,null,null,null,null,null,null,null,null,null,null,null,null,null,null,null,null,null,null,null,null,null,null,null,null,null,"10","21","02",2,1000000,21000,20,2,1021022,"BRZEZINY",1686.66]
[608011,"  Lubartów..........................................................................................................................................................................................................................................................",1391,"",14,null,null,null,null,null,null,null,null,null,null,null,null,null,null,null,null,null,null,null,null,null,null,null,null,null,null,"10","21","03",2,1000000,21000,30,2,1021032,"DMOSIN",1853.07]
["","",null,null,null,null,null,null,null,null,null,null,null,null,null,null,null,null,null,null,null,null,null,null,null,null,null,null,null,null,null,"10","21","04",2,1000000,21000,40,2,1021042,"JEŻÓW",1538.32]
[608022,"  Abramów..........................................................................................................................................................................................................................................................",8460,"",85,null,null,null,null,null,null,null,null,null,null,null,null,null,null,null,null,null,null,null,null,null,null,null,null,null,null,"10","21","05",2,1000000,21000,50,2,1021052,"ROGÓW",1251.25]
[608032,"  Firlej..........................................................................................................................................................................................................................................................",12646,"",126,null,null,null,null,null,null,null,null,null,null,null,null,null,null,null,null,null,null,null,null,null,null,null,null,null,null,"10","61","01",1,1000000,61000,10,1,1061011,"Łódź",2323.2600000000002]
[608042,"  Jeziorzany..........................................................................................................................................................................................................................................................",6645,"",66,null,null,null,null,null,null,null,null,null,null,null,null,null,null,null,null,null,null,null,null,null,null,null,null,null,null,"10","62","01",1,1000000,62000,10,1,1062011,"Piotrków Trybunalski",2056.54]
[608052,"  Kamionka..........................................................................................................................................................................................................................................................",11169,"",112,null,null,null,null,null,null,null,null,null,null,null,null,null,null,null,null,null,null,null,null,null,null,null,null,null,null,"10","63","01",1,1000000,63000,10,1,1063011,"Skierniewice",2135.98]
[608072,"  Lubartów..........................................................................................................................................................................................................................................................",15870,"",158,null,null,null,null,null,null,null,null,null,null,null,null,null,null,null,null,null,null,null,null,null,null,null,null,null,null,"12","01","01",1,1200000,1000,10,1,1201011,"BOCHNIA",2284.48]
[608082,"  Michów..........................................................................................................................................................................................................................................................",13599,"",136,null,null,null,null,null,null,null,null,null,null,null,null,null,null,null,null,null,null,null,null,null,null,null,null,null,null,"12","01","02",2,1200000,1000,20,2,1201022,"BOCHNIA",1423.17]
[608092,"  Niedźwiada..........................................................................................................................................................................................................................................................",9576,"",96,null,null,null,null,null,null,null,null,null,null,null,null,null,null,null,null,null,null,null,null,null,null,null,null,null,null,"12","01","03",2,1200000,1000,30,2,1201032,"DRWINIA",1208.45]
[608112,"  Ostrówek..........................................................................................................................................................................................................................................................",8985,"",90,null,null,null,null,null,null,null,null,null,null,null,null,null,null,null,null,null,null,null,null,null,null,null,null,null,null,"12","01","04",2,1200000,1000,40,2,1201042,"LIPNICA MUROWANA",871.86]
[608122,"  Serniki..........................................................................................................................................................................................................................................................",7560,"",76,null,null,null,null,null,null,null,null,null,null,null,null,null,null,null,null,null,null,null,null,null,null,null,null,null,null,"12","01","05",2,1200000,1000,50,2,1201052,"ŁAPANÓW",1213.43]
[608132,"  Uścimów..........................................................................................................................................................................................................................................................",10708,"",107,null,null,null,null,null,null,null,null,null,null,null,null,null,null,null,null,null,null,null,null,null,null,null,null,null,null,"12","01","06",3,1200000,1000,60,3,1201063,"NOWY WIŚNICZ",1273.45]
["","",null,null,null,null,null,null,null,null,null,null,null,null,null,null,null,null,null,null,null,null,null,null,null,null,null,null,null,null,null,"12","01","07",2,1200000,1000,70,2,1201072,"RZEZAWA",1118.82]
[608063,"  Kock..........................................................................................................................................................................................................................................................",10107,"",101,null,null,null,null,null,null,null,null,null,null,null,null,null,null,null,null,null,null,null,null,null,null,null,null,null,null,"12","01","08",2,1200000,1000,80,2,1201082,"TRZCIANA",1173.53]
[608064,"",1678,"",17,null,null,null,null,null,null,null,null,null,null,null,null,null,null,null,null,null,null,null,null,null,null,null,null,null,null,"12","01","09",2,1200000,1000,90,2,1201092,"ŻEGOCINA",1073.8699999999999]
[608065,"",8429,"",84,null,null,null,null,null,null,null,null,null,null,null,null,null,null,null,null,null,null,null,null,null,null,null,null,null,null,"12","02","01",2,1200000,2000,10,2,1202012,"BORZĘCIN",1263.08]
[608103,"  Ostrów Lubelski..........................................................................................................................................................................................................................................................",12158,"",122,null,null,null,null,null,null,null,null,null,null,null,null,null,null,null,null,null,null,null,null,null,null,null,null,null,null,"12","02","02",3,1200000,2000,20,3,1202023,"BRZESKO",1739.26]
[608104,"",2977,"",30,null,null,null,null,null,null,null,null,null,null,null,null,null,null,null,null,null,null,null,null,null,null,null,null,null,null,"12","02","03",3,1200000,2000,30,3,1202033,"CZCHÓW",1092.4100000000001]
[608105,"",9181,"",92,null,null,null,null,null,null,null,null,null,null,null,null,null,null,null,null,null,null,null,null,null,null,null,null,null,null,"12","02","04",2,1200000,2000,40,2,1202042,"DĘBNO",1121.32]
["","Powiat lubelski  (16 gmin)",null,null,null,null,null,null,null,null,null,null,null,null,null,null,null,null,null,null,null,null,null,null,null,null,null,null,null,null,null,"12","02","05",2,1200000,2000,50,2,1202052,"GNOJNIK",1011.1]
["","",null,null,null,null,null,null,null,null,null,null,null,null,null,null,null,null,null,null,null,null,null,null,null,null,null,null,null,null,null,"12","02","06",2,1200000,2000,60,2,1202062,"IWKOWA",1133.26]
[609022,"  Borzechów..........................................................................................................................................................................................................................................................",6746,"",68,null,null,null,null,null,null,null,null,null,null,null,null,null,null,null,null,null,null,null,null,null,null,null,null,null,null,"12","02","07",2,1200000,2000,70,2,1202072,"SZCZUROWA",1228.31]
[609042,"  Garbów..........................................................................................................................................................................................................................................................",10262,"",103,null,null,null,null,null,null,null,null,null,null,null,null,null,null,null,null,null,null,null,null,null,null,null,null,null,null,"12","03","01",3,1200000,3000,10,3,1203013,"ALWERNIA",1809.56]
[609052,"  Głusk..........................................................................................................................................................................................................................................................",6425,"",64,null,null,null,null,null,null,null,null,null,null,null,null,null,null,null,null,null,null,null,null,null,null,null,null,null,null,"12","03","02",2,1200000,3000,20,2,1203022,"BABICE",1626.41]
[609062,"  Jabłonna..........................................................................................................................................................................................................................................................",13121,"",131,null,null,null,null,null,null,null,null,null,null,null,null,null,null,null,null,null,null,null,null,null,null,null,null,null,null,"12","03","03",3,1200000,3000,30,3,1203033,"CHRZANÓW",2018.76]
[609072,"  Jastków..........................................................................................................................................................................................................................................................",11313,"",113,null,null,null,null,null,null,null,null,null,null,null,null,null,null,null,null,null,null,null,null,null,null,null,null,null,null,"12","03","04",3,1200000,3000,40,3,1203043,"LIBIĄŻ",1923.31]
[609082,"  Konopnica..........................................................................................................................................................................................................................................................",9306,"",93,null,null,null,null,null,null,null,null,null,null,null,null,null,null,null,null,null,null,null,null,null,null,null,null,null,null,"12","03","05",3,1200000,3000,50,3,1203053,"TRZEBINIA",2383.0300000000002]
[609092,"  Krzczonów..........................................................................................................................................................................................................................................................",12795,"",128,null,null,null,null,null,null,null,null,null,null,null,null,null,null,null,null,null,null,null,null,null,null,null,null,null,null,"12","04","01",2,1200000,4000,10,2,1204012,"BOLESŁAW",935.69]
[609102,"  Niedrzwica Duża..........................................................................................................................................................................................................................................................",10673,"",107,null,null,null,null,null,null,null,null,null,null,null,null,null,null,null,null,null,null,null,null,null,null,null,null,null,null,"12","04","02",3,1200000,4000,20,3,1204023,"DĄBROWA TARNOWSKA",1150.17]
[609112,"  Niemce..........................................................................................................................................................................................................................................................",14111,"",141,null,null,null,null,null,null,null,null,null,null,null,null,null,null,null,null,null,null,null,null,null,null,null,null,null,null,"12","04","03",2,1200000,4000,30,2,1204032,"GRĘBOSZÓW",1028.42]
[609122,"  Strzyżewice..........................................................................................................................................................................................................................................................",10880,"",109,null,null,null,null,null,null,null,null,null,null,null,null,null,null,null,null,null,null,null,null,null,null,null,null,null,null,"12","04","04",2,1200000,4000,40,2,1204042,"MĘDRZECHÓW",823.73]
[609132,"  Wojciechów..........................................................................................................................................................................................................................................................",8079,"",81,null,null,null,null,null,null,null,null,null,null,null,null,null,null,null,null,null,null,null,null,null,null,null,null,null,null,"12","04","05",2,1200000,4000,50,2,1204052,"OLESNO",853.46]
[609142,"  Wólka..........................................................................................................................................................................................................................................................",7276,"",73,null,null,null,null,null,null,null,null,null,null,null,null,null,null,null,null,null,null,null,null,null,null,null,null,null,null,"12","04","06",2,1200000,4000,60,2,1204062,"RADGOSZCZ",671.31]
[609152,"  Wysokie..........................................................................................................................................................................................................................................................",11390,"",114,null,null,null,null,null,null,null,null,null,null,null,null,null,null,null,null,null,null,null,null,null,null,null,null,null,null,"12","04","07",3,1200000,4000,70,3,1204073,"SZCZUCIN",1038.6300000000001]
[609162,"  Zakrzew..........................................................................................................................................................................................................................................................",7542,"",75,null,null,null,null,null,null,null,null,null,null,null,null,null,null,null,null,null,null,null,null,null,null,null,null,null,null,"12","05","01",1,1200000,5000,10,1,1205011,"GORLICE",1824.88]
["","",null,null,null,null,null,null,null,null,null,null,null,null,null,null,null,null,null,null,null,null,null,null,null,null,null,null,null,null,null,"12","05","02",3,1200000,5000,20,3,1205023,"BIECZ",1095.8599999999999]
[609013,"  Bełżyce..........................................................................................................................................................................................................................................................",13397,"",134,null,null,null,null,null,null,null,null,null,null,null,null,null,null,null,null,null,null,null,null,null,null,null,null,null,null,"12","05","03",3,1200000,5000,30,3,1205033,"BOBOWA",759.69]
[609014,"",2346,"",23,null,null,null,null,null,null,null,null,null,null,null,null,null,null,null,null,null,null,null,null,null,null,null,null,null,null,"12","05","04",2,1200000,5000,40,2,1205042,"GORLICE",983.32]
[609015,"",11051,"",111,null,null,null,null,null,null,null,null,null,null,null,null,null,null,null,null,null,null,null,null,null,null,null,null,null,null,"12","05","05",2,1200000,5000,50,2,1205052,"LIPINKI",838.95]
[609033,"  Bychawa..........................................................................................................................................................................................................................................................",14637,"",146,null,null,null,null,null,null,null,null,null,null,null,null,null,null,null,null,null,null,null,null,null,null,null,null,null,null,"12","05","06",2,1200000,5000,60,2,1205062,"ŁUŻNA",733.9]
[609034,"",669,"",7,null,null,null,null,null,null,null,null,null,null,null,null,null,null,null,null,null,null,null,null,null,null,null,null,null,null,"12","05","07",2,1200000,5000,70,2,1205072,"MOSZCZENICA",687.82]
[609035,"",13968,"",139,null,null,null,null,null,null,null,null,null,null,null,null,null,null,null,null,null,null,null,null,null,null,null,null,null,null,"12","05","08",2,1200000,5000,80,2,1205082,"ROPA",694.83]
["","Powiat łęczyński  (6 gmin)",null,null,null,null,null,null,null,null,null,null,null,null,null,null,null,null,null,null,null,null,null,null,null,null,null,null,null,null,null,"12","05","09",2,1200000,5000,90,2,1205092,"SĘKOWA",1057.3499999999999]
["","",null,null,null,null,null,null,null,null,null,null,null,null,null,null,null,null,null,null,null,null,null,null,null,null,null,null,null,null,null,"12","05","10",2,1200000,5000,100,2,1205102,"UŚCIE GORLICKIE",1012.34]
[610012,"  Cyców..........................................................................................................................................................................................................................................................",14811,"",148,null,null,null,null,null,null,null,null,null,null,null,null,null,null,null,null,null,null,null,null,null,null,null,null,null,null,"12","06","01",2,1200000,6000,10,2,1206012,"CZERNICHÓW",1639.23]
[610022,"  Ludwin..........................................................................................................................................................................................................................................................",12217,"",122,null,null,null,null,null,null,null,null,null,null,null,null,null,null,null,null,null,null,null,null,null,null,null,null,null,null,"12","06","02",2,1200000,6000,20,2,1206022,"IGOŁOMIA-WAWRZEŃCZYCE",1455.21]
[610042,"  Milejów..........................................................................................................................................................................................................................................................",11654,"",117,null,null,null,null,null,null,null,null,null,null,null,null,null,null,null,null,null,null,null,null,null,null,null,null,null,null,"12","06","03",2,1200000,6000,30,2,1206032,"IWANOWICE",1378.72]
[610052,"  Puchaczów..........................................................................................................................................................................................................................................................",9153,"",92,null,null,null,null,null,null,null,null,null,null,null,null,null,null,null,null,null,null,null,null,null,null,null,null,null,null,"12","06","04",2,1200000,6000,40,2,1206042,"JERZMANOWICE-PRZEGINIA",1402.34]
[610062,"  Spiczyn..........................................................................................................................................................................................................................................................",8315,"",83,null,null,null,null,null,null,null,null,null,null,null,null,null,null,null,null,null,null,null,null,null,null,null,null,null,null,"12","06","05",2,1200000,6000,50,2,1206052,"KOCMYRZÓW-LUBORZYCA",1898.35]
["","",null,null,null,null,null,null,null,null,null,null,null,null,null,null,null,null,null,null,null,null,null,null,null,null,null,null,null,null,null,"12","06","06",3,1200000,6000,60,3,1206063,"KRZESZOWICE",1819.42]
[610033,"  Łęczna..........................................................................................................................................................................................................................................................",7514,"",75,null,null,null,null,null,null,null,null,null,null,null,null,null,null,null,null,null,null,null,null,null,null,null,null,null,null,"12","06","07",2,1200000,6000,70,2,1206072,"LISZKI",1952.52]
[610034,"",1900,"",19,null,null,null,null,null,null,null,null,null,null,null,null,null,null,null,null,null,null,null,null,null,null,null,null,null,null,"12","06","08",2,1200000,6000,80,2,1206082,"MICHAŁOWICE",2515.56]
[610035,"",5614,"",56,null,null,null,null,null,null,null,null,null,null,null,null,null,null,null,null,null,null,null,null,null,null,null,null,null,null,"12","06","09",2,1200000,6000,90,2,1206092,"MOGILANY",2466.2199999999998]
["","Powiat łukowski  (11 gmin)",null,null,null,null,null,null,null,null,null,null,null,null,null,null,null,null,null,null,null,null,null,null,null,null,null,null,null,null,null,"12","06","10",3,1200000,6000,100,3,1206103,"SKAŁA",1394.9]
["","",null,null,null,null,null,null,null,null,null,null,null,null,null,null,null,null,null,null,null,null,null,null,null,null,null,null,null,null,null,"12","06","11",3,{"$f":"AF840*100000","v":1200000},{"$f":"AG840*1000","v":6000},{"$f":"AH840*10","v":110},{"$f":"AI840*1","v":3},{"$f":"SUM(AJ840:AM840)","v":1206113},"SKAWINA",2466.52]
[611011,"  Łuków..........................................................................................................................................................................................................................................................",3575,"",36,null,null,null,null,null,null,null,null,null,null,null,null,null,null,null,null,null,null,null,null,null,null,null,null,null,null,"12","06","12",3,1200000,6000,120,3,1206123,"SŁOMNIKI",1431.06]
[611021,"  Stoczek Łukowski..........................................................................................................................................................................................................................................................",915,"↓",9,null,null,null,null,null,null,null,null,null,null,null,null,null,null,null,null,null,null,null,null,null,null,null,null,null,null,"12","06","13",2,1200000,6000,130,2,1206132,"SUŁOSZOWA",973.35]
["","",null,null,null,null,null,null,null,null,null,null,null,null,null,null,null,null,null,null,null,null,null,null,null,null,null,null,null,null,null,"12","06","14",3,1200000,6000,140,3,1206143,"ŚWIĄTNIKI GÓRNE",2410.7399999999998]
[611032,"  Adamów..........................................................................................................................................................................................................................................................",9867,"",99,null,null,null,null,null,null,null,null,null,null,null,null,null,null,null,null,null,null,null,null,null,null,null,null,null,null,"12","06","15",2,1200000,6000,150,2,1206152,"WIELKA WIEŚ",3729.1]
[611042,"  Krzywda..........................................................................................................................................................................................................................................................",16096,"",161,null,null,null,null,null,null,null,null,null,null,null,null,null,null,null,null,null,null,null,null,null,null,null,null,null,null,"12","06","16",2,1200000,6000,160,2,1206162,"ZABIERZÓW",2931.74]
[611052,"  Łuków..........................................................................................................................................................................................................................................................",30755,"",307,null,null,null,null,null,null,null,null,null,null,null,null,null,null,null,null,null,null,null,null,null,null,null,null,null,null,"12","06","17",2,1200000,6000,170,2,1206172,"ZIELONKI",2872.13]
[611062,"  Serokomla..........................................................................................................................................................................................................................................................",7733,"",77,null,null,null,null,null,null,null,null,null,null,null,null,null,null,null,null,null,null,null,null,null,null,null,null,null,null,"12","07","01",1,1200000,7000,10,1,1207011,"LIMANOWA",2127.7399999999998]
[611072,"  Stanin..........................................................................................................................................................................................................................................................",16082,"",161,null,null,null,null,null,null,null,null,null,null,null,null,null,null,null,null,null,null,null,null,null,null,null,null,null,null,"12","07","02",1,1200000,7000,20,1,1207021,"MSZANA DOLNA",1611.98]
[611082,"  Stoczek Łukowski..........................................................................................................................................................................................................................................................",17346,"",173,null,null,null,null,null,null,null,null,null,null,null,null,null,null,null,null,null,null,null,null,null,null,null,null,null,null,"12","07","03",2,1200000,7000,30,2,1207032,"DOBRA",926.08]
[611092,"  Trzebieszów..........................................................................................................................................................................................................................................................",14054,"",141,null,null,null,null,null,null,null,null,null,null,null,null,null,null,null,null,null,null,null,null,null,null,null,null,null,null,"12","07","04",2,1200000,7000,40,2,1207042,"JODŁOWNIK",1126.3900000000001]
[611102,"  Wojcieszków..........................................................................................................................................................................................................................................................",10891,"",109,null,null,null,null,null,null,null,null,null,null,null,null,null,null,null,null,null,null,null,null,null,null,null,null,null,null,"12","07","05",2,1200000,7000,50,2,1207052,"KAMIENICA",856.76]
[611112,"  Wola Mysłowska..........................................................................................................................................................................................................................................................",12107,"",121,null,null,null,null,null,null,null,null,null,null,null,null,null,null,null,null,null,null,null,null,null,null,null,null,null,null,"12","07","06",2,1200000,7000,60,2,1207062,"LASKOWA",1187.46]
["","Powiat opolski  (7 gmin)",null,null,null,null,null,null,null,null,null,null,null,null,null,null,null,null,null,null,null,null,null,null,null,null,null,null,null,null,null,"12","07","07",2,1200000,7000,70,2,1207072,"LIMANOWA",1092.28]
["","",null,null,null,null,null,null,null,null,null,null,null,null,null,null,null,null,null,null,null,null,null,null,null,null,null,null,null,null,null,"12","07","08",2,1200000,7000,80,2,1207082,"ŁUKOWICA",799.81]
[612012,"  Chodel..........................................................................................................................................................................................................................................................",10837,"",108,null,null,null,null,null,null,null,null,null,null,null,null,null,null,null,null,null,null,null,null,null,null,null,null,null,null,"12","07","09",2,1200000,7000,90,2,1207092,"MSZANA DOLNA",958.81]
[612032,"  Karczmiska..........................................................................................................................................................................................................................................................",9461,"",95,null,null,null,null,null,null,null,null,null,null,null,null,null,null,null,null,null,null,null,null,null,null,null,null,null,null,"12","07","10",2,1200000,7000,100,2,1207102,"NIEDŹWIEDŹ",822.56]
[612042,"  Łaziska..........................................................................................................................................................................................................................................................",10929,"",109,null,null,null,null,null,null,null,null,null,null,null,null,null,null,null,null,null,null,null,null,null,null,null,null,null,null,"12","07","11",2,1200000,7000,110,2,1207112,"SŁOPNICE",794.23]
[612072,"  Wilków..........................................................................................................................................................................................................................................................",7794,"",78,null,null,null,null,null,null,null,null,null,null,null,null,null,null,null,null,null,null,null,null,null,null,null,null,null,null,"12","07","12",2,1200000,7000,120,2,1207122,"TYMBARK",1530.5]
["","",null,null,null,null,null,null,null,null,null,null,null,null,null,null,null,null,null,null,null,null,null,null,null,null,null,null,null,null,null,"12","08","01",2,1200000,8000,10,2,1208012,"CHARSZNICA",1141.3699999999999]
[612023,"  Józefów nad Wisłą..........................................................................................................................................................................................................................................................",14155,"",141,null,null,null,null,null,null,null,null,null,null,null,null,null,null,null,null,null,null,null,null,null,null,null,null,null,null,"12","08","02",2,1200000,8000,20,2,1208022,"GOŁCZA",1161.54]
[612024,"",365,"",3,null,null,null,null,null,null,null,null,null,null,null,null,null,null,null,null,null,null,null,null,null,null,null,null,null,null,"12","08","03",2,1200000,8000,30,2,1208032,"KOZŁÓW",972.25]
[612025,"",13790,"",138,null,null,null,null,null,null,null,null,null,null,null,null,null,null,null,null,null,null,null,null,null,null,null,null,null,null,"12","08","04",2,1200000,8000,40,2,1208042,"KSIĄŻ WIELKI",1249.4100000000001]
[612053,"  Opole Lubelskie..........................................................................................................................................................................................................................................................",19372,"",194,null,null,null,null,null,null,null,null,null,null,null,null,null,null,null,null,null,null,null,null,null,null,null,null,null,null,"12","08","05",3,1200000,8000,50,3,1208053,"MIECHÓW",1503.17]
[612054,"",1512,"",15,null,null,null,null,null,null,null,null,null,null,null,null,null,null,null,null,null,null,null,null,null,null,null,null,null,null,"12","08","06",2,1200000,8000,60,2,1208062,"RACŁAWICE",1177.82]
[612055,"",17860,"",179,null,null,null,null,null,null,null,null,null,null,null,null,null,null,null,null,null,null,null,null,null,null,null,null,null,null,"12","08","07",2,1200000,8000,70,2,1208072,"SŁABOSZÓW",1129.69]
[612063,"  Poniatowa..........................................................................................................................................................................................................................................................",8454,"",85,null,null,null,null,null,null,null,null,null,null,null,null,null,null,null,null,null,null,null,null,null,null,null,null,null,null,"12","09","01",3,1200000,9000,10,3,1209013,"DOBCZYCE",1857.11]
[612064,"",1526,"",15,null,null,null,null,null,null,null,null,null,null,null,null,null,null,null,null,null,null,null,null,null,null,null,null,null,null,"12","09","02",2,1200000,9000,20,2,1209022,"LUBIEŃ",905.88]
[612065,"",6928,"",70,null,null,null,null,null,null,null,null,null,null,null,null,null,null,null,null,null,null,null,null,null,null,null,null,null,null,"12","09","03",3,1200000,9000,30,3,1209033,"MYŚLENICE",1970.43]
["","Powiat parczewski  (7 gmin)",null,null,null,null,null,null,null,null,null,null,null,null,null,null,null,null,null,null,null,null,null,null,null,null,null,null,null,null,null,"12","09","04",2,1200000,9000,40,2,1209042,"PCIM",1276.81]
["","",null,null,null,null,null,null,null,null,null,null,null,null,null,null,null,null,null,null,null,null,null,null,null,null,null,null,null,null,null,"12","09","05",2,1200000,9000,50,2,1209052,"RACIECHOWICE",1113.19]
[613012,"  Dębowa Kłoda..........................................................................................................................................................................................................................................................",18837,"",188,null,null,null,null,null,null,null,null,null,null,null,null,null,null,null,null,null,null,null,null,null,null,null,null,null,null,"12","09","06",2,1200000,9000,60,2,1209062,"SIEPRAW",1708.4]
[613022,"  Jabłoń..........................................................................................................................................................................................................................................................",11035,"",110,null,null,null,null,null,null,null,null,null,null,null,null,null,null,null,null,null,null,null,null,null,null,null,null,null,null,"12","09","07",3,1200000,9000,70,3,1209073,"SUŁKOWICE",1243.73]
[613032,"  Milanów..........................................................................................................................................................................................................................................................",11672,"",117,null,null,null,null,null,null,null,null,null,null,null,null,null,null,null,null,null,null,null,null,null,null,null,null,null,null,"12","09","08",2,1200000,9000,80,2,1209082,"TOKARNIA",839.28]
[613052,"  Podedwórze..........................................................................................................................................................................................................................................................",10713,"",107,null,null,null,null,null,null,null,null,null,null,null,null,null,null,null,null,null,null,null,null,null,null,null,null,null,null,"12","09","09",2,1200000,9000,90,2,1209092,"WIŚNIOWA",1133.47]
[613062,"  Siemień..........................................................................................................................................................................................................................................................",11121,"",111,null,null,null,null,null,null,null,null,null,null,null,null,null,null,null,null,null,null,null,null,null,null,null,null,null,null,"12","10","01",1,1200000,10000,10,1,1210011,"GRYBÓW",1146.06]
[613072,"  Sosnowica..........................................................................................................................................................................................................................................................",17162,"",172,null,null,null,null,null,null,null,null,null,null,null,null,null,null,null,null,null,null,null,null,null,null,null,null,null,null,"12","10","02",2,1200000,10000,20,2,1210022,"CHEŁMIEC",1627.31]
["","",null,null,null,null,null,null,null,null,null,null,null,null,null,null,null,null,null,null,null,null,null,null,null,null,null,null,null,null,null,"12","10","03",2,1200000,10000,30,2,1210032,"GRÓDEK NAD DUNAJCEM",1429.62]
[613043,"  Parczew..........................................................................................................................................................................................................................................................",14680,"",147,null,null,null,null,null,null,null,null,null,null,null,null,null,null,null,null,null,null,null,null,null,null,null,null,null,null,"12","10","04",2,1200000,10000,40,2,1210042,"GRYBÓW",904.79]
[613044,"",805,"",8,null,null,null,null,null,null,null,null,null,null,null,null,null,null,null,null,null,null,null,null,null,null,null,null,null,null,"12","10","05",2,1200000,10000,50,2,1210052,"KAMIONKA WIELKA",1103.3399999999999]
[613045,"",13875,"",139,null,null,null,null,null,null,null,null,null,null,null,null,null,null,null,null,null,null,null,null,null,null,null,null,null,null,"12","10","06",2,1200000,10000,60,2,1210062,"KORZENNA",826.23]
["","Powiat puławski  (11 gmin)",null,null,null,null,null,null,null,null,null,null,null,null,null,null,null,null,null,null,null,null,null,null,null,null,null,null,null,null,null,"12","10","07",3,1200000,10000,70,3,1210073,"KRYNICA-ZDRÓJ",1866.16]
["","",null,null,null,null,null,null,null,null,null,null,null,null,null,null,null,null,null,null,null,null,null,null,null,null,null,null,null,null,null,"12","10","08",2,1200000,10000,80,2,1210082,"ŁABOWA",1069.1400000000001]
[614011,"  Puławy..........................................................................................................................................................................................................................................................",5049,"",51,null,null,null,null,null,null,null,null,null,null,null,null,null,null,null,null,null,null,null,null,null,null,null,null,null,null,"12","10","09",2,1200000,10000,90,2,1210092,"ŁĄCKO",677.27]
["","",null,null,null,null,null,null,null,null,null,null,null,null,null,null,null,null,null,null,null,null,null,null,null,null,null,null,null,null,null,"12","10","10",2,1200000,10000,100,2,1210102,"ŁOSOSINA DOLNA",1423.77]
[614022,"  Baranów..........................................................................................................................................................................................................................................................",8492,"",85,null,null,null,null,null,null,null,null,null,null,null,null,null,null,null,null,null,null,null,null,null,null,null,null,null,null,"12","10","11",3,1200000,10000,110,3,1210113,"MUSZYNA",1616.9]
[614032,"  Janowiec..........................................................................................................................................................................................................................................................",7882,"",79,null,null,null,null,null,null,null,null,null,null,null,null,null,null,null,null,null,null,null,null,null,null,null,null,null,null,"12","10","12",2,1200000,10000,120,2,1210122,"NAWOJOWA",1402.33]
[614052,"  Końskowola..........................................................................................................................................................................................................................................................",8988,"",90,null,null,null,null,null,null,null,null,null,null,null,null,null,null,null,null,null,null,null,null,null,null,null,null,null,null,"12","10","13",3,1200000,10000,130,3,1210133,"PIWNICZNA-ZDRÓJ",1055.95]
[614062,"  Kurów..........................................................................................................................................................................................................................................................",10099,"",101,null,null,null,null,null,null,null,null,null,null,null,null,null,null,null,null,null,null,null,null,null,null,null,null,null,null,"12","10","14",2,1200000,10000,140,2,1210142,"PODEGRODZIE",1072.83]
[614072,"  Markuszów..........................................................................................................................................................................................................................................................",4040,"",40,null,null,null,null,null,null,null,null,null,null,null,null,null,null,null,null,null,null,null,null,null,null,null,null,null,null,"12","10","15",2,1200000,10000,150,2,1210152,"RYTRO",1019.73]
[614092,"  Puławy..........................................................................................................................................................................................................................................................",16119,"",161,null,null,null,null,null,null,null,null,null,null,null,null,null,null,null,null,null,null,null,null,null,null,null,null,null,null,"12","10","16",3,1200000,10000,160,3,1210163,"STARY SĄCZ",1181.1400000000001]
[614102,"  Wąwolnica..........................................................................................................................................................................................................................................................",6285,"",63,null,null,null,null,null,null,null,null,null,null,null,null,null,null,null,null,null,null,null,null,null,null,null,null,null,null,"12","11","01",1,1200000,11000,10,1,1211011,"NOWY TARG",1818.52]
[614112,"  Żyrzyn..........................................................................................................................................................................................................................................................",12920,"",129,null,null,null,null,null,null,null,null,null,null,null,null,null,null,null,null,null,null,null,null,null,null,null,null,null,null,"12","11","02",3,1200000,11000,20,3,1211023,"SZCZAWNICA",1643.27]
["","",null,null,null,null,null,null,null,null,null,null,null,null,null,null,null,null,null,null,null,null,null,null,null,null,null,null,null,null,null,"12","11","03",2,1200000,11000,30,2,1211032,"CZARNY DUNAJEC",722.84]
[614043,"  Kazimierz Dolny..........................................................................................................................................................................................................................................................",7241,"",72,null,null,null,null,null,null,null,null,null,null,null,null,null,null,null,null,null,null,null,null,null,null,null,null,null,null,"12","11","04",2,1200000,11000,40,2,1211042,"CZORSZTYN",1186.98]
[614044,"",3044,"",31,null,null,null,null,null,null,null,null,null,null,null,null,null,null,null,null,null,null,null,null,null,null,null,null,null,null,"12","11","05",2,1200000,11000,50,2,1211052,"JABŁONKA",1020.08]
[614045,"",4197,"",41,null,null,null,null,null,null,null,null,null,null,null,null,null,null,null,null,null,null,null,null,null,null,null,null,null,null,"12","11","06",2,1200000,11000,60,2,1211062,"KROŚCIENKO NAD DUNAJCEM",1032.21]
[614083,"  Nałęczów..........................................................................................................................................................................................................................................................",6294,"",63,null,null,null,null,null,null,null,null,null,null,null,null,null,null,null,null,null,null,null,null,null,null,null,null,null,null,"12","11","07",2,1200000,11000,70,2,1211072,"LIPNICA WIELKA",588.74]
[614084,"",1382,"",14,null,null,null,null,null,null,null,null,null,null,null,null,null,null,null,null,null,null,null,null,null,null,null,null,null,null,"12","11","08",2,1200000,11000,80,2,1211082,"ŁAPSZE NIŻNE",1048.22]
[614085,"",4912,"",49,null,null,null,null,null,null,null,null,null,null,null,null,null,null,null,null,null,null,null,null,null,null,null,null,null,null,"12","11","09",2,1200000,11000,90,2,1211092,"NOWY TARG",819.33]
["","Powiat radzyński  (8 gmin)",null,null,null,null,null,null,null,null,null,null,null,null,null,null,null,null,null,null,null,null,null,null,null,null,null,null,null,null,null,"12","11","10",2,1200000,11000,100,2,1211102,"OCHOTNICA DOLNA",1097.1300000000001]
["","",null,null,null,null,null,null,null,null,null,null,null,null,null,null,null,null,null,null,null,null,null,null,null,null,null,null,null,null,null,"12","11","11",2,1200000,11000,110,2,1211112,"RABA WYŻNA",843.19]
[615011,"  Radzyń Podlaski..........................................................................................................................................................................................................................................................",1931,"",19,null,null,null,null,null,null,null,null,null,null,null,null,null,null,null,null,null,null,null,null,null,null,null,null,null,null,"12","11","12",3,1200000,11000,120,3,1211123,"RABKA-ZDRÓJ",1431.9]
["","",null,null,null,null,null,null,null,null,null,null,null,null,null,null,null,null,null,null,null,null,null,null,null,null,null,null,null,null,null,"12","11","13",2,1200000,11000,130,2,1211132,"SPYTKOWICE",1119.51]
[615022,"  Borki..........................................................................................................................................................................................................................................................",11182,"",112,null,null,null,null,null,null,null,null,null,null,null,null,null,null,null,null,null,null,null,null,null,null,null,null,null,null,"12","11","14",2,{"$f":"AF904*100000","v":1200000},{"$f":"AG904*1000","v":11000},{"$f":"AH904*10","v":140},{"$f":"AI904*1","v":2},{"$f":"SUM(AJ904:AM904)","v":1211142},"SZAFLARY",960.07]
[615032,"  Czemierniki..........................................................................................................................................................................................................................................................",10749,"",107,null,null,null,null,null,null,null,null,null,null,null,null,null,null,null,null,null,null,null,null,null,null,null,null,null,null,"12","12","01",1,1200000,12000,10,1,1212011,"BUKOWNO",2931.62]
[615042,"  Kąkolewnica..........................................................................................................................................................................................................................................................",14753,"",148,null,null,null,null,null,null,null,null,null,null,null,null,null,null,null,null,null,null,null,null,null,null,null,null,null,null,"12","12","03",2,1200000,12000,30,2,1212032,"BOLESŁAW",2740.06]
[615052,"  Komarówka Podlaska..........................................................................................................................................................................................................................................................",13797,"",138,null,null,null,null,null,null,null,null,null,null,null,null,null,null,null,null,null,null,null,null,null,null,null,null,null,null,"12","12","04",2,1200000,12000,40,2,1212042,"KLUCZE",2301.48]
[615062,"  Radzyń Podlaski..........................................................................................................................................................................................................................................................",15499,"",155,null,null,null,null,null,null,null,null,null,null,null,null,null,null,null,null,null,null,null,null,null,null,null,null,null,null,"12","12","05",3,1200000,12000,50,3,1212053,"OLKUSZ",1828.51]
[615072,"  Ulan-Majorat..........................................................................................................................................................................................................................................................",10778,"",108,null,null,null,null,null,null,null,null,null,null,null,null,null,null,null,null,null,null,null,null,null,null,null,null,null,null,"12","12","06",2,1200000,12000,60,2,1212062,"TRZYCIĄŻ",1431.9]
[615082,"  Wohyń..........................................................................................................................................................................................................................................................",17817,"",178,null,null,null,null,null,null,null,null,null,null,null,null,null,null,null,null,null,null,null,null,null,null,null,null,null,null,"12","12","07",3,1200000,12000,70,3,1212073,"WOLBROM",1896.9]
["","Powiat rycki  (6 gmin)",null,null,null,null,null,null,null,null,null,null,null,null,null,null,null,null,null,null,null,null,null,null,null,null,null,null,null,null,null,"12","13","01",1,1200000,13000,10,1,1213011,"OŚWIĘCIM",2413.0700000000002]
["","",null,null,null,null,null,null,null,null,null,null,null,null,null,null,null,null,null,null,null,null,null,null,null,null,null,null,null,null,null,"12","13","02",3,1200000,13000,20,3,1213023,"BRZESZCZE",2085.67]
[616011,"  Dęblin..........................................................................................................................................................................................................................................................",3833,"",38,null,null,null,null,null,null,null,null,null,null,null,null,null,null,null,null,null,null,null,null,null,null,null,null,null,null,"12","13","03",3,1200000,13000,30,3,1213033,"CHEŁMEK",1654.68]
["","",null,null,null,null,null,null,null,null,null,null,null,null,null,null,null,null,null,null,null,null,null,null,null,null,null,null,null,null,null,"12","13","04",3,1200000,13000,40,3,1213043,"KĘTY",1899.38]
[616022,"  Kłoczew..........................................................................................................................................................................................................................................................",14306,"",143,null,null,null,null,null,null,null,null,null,null,null,null,null,null,null,null,null,null,null,null,null,null,null,null,null,null,"12","13","05",2,1200000,13000,50,2,1213052,"OSIEK",1453.22]
[616032,"  Nowodwór..........................................................................................................................................................................................................................................................",7187,"",72,null,null,null,null,null,null,null,null,null,null,null,null,null,null,null,null,null,null,null,null,null,null,null,null,null,null,"12","13","06",2,1200000,13000,60,2,1213062,"OŚWIĘCIM",1929.45]
[616052,"  Stężyca..........................................................................................................................................................................................................................................................",11604,"",116,null,null,null,null,null,null,null,null,null,null,null,null,null,null,null,null,null,null,null,null,null,null,null,null,null,null,"12","13","07",2,1200000,13000,70,2,1213072,"POLANKA WIELKA",1378.12]
[616062,"  Ułęż..........................................................................................................................................................................................................................................................",8347,"",84,null,null,null,null,null,null,null,null,null,null,null,null,null,null,null,null,null,null,null,null,null,null,null,null,null,null,"12","13","08",2,1200000,13000,80,2,1213082,"PRZECISZÓW",1574.63]
["","",null,null,null,null,null,null,null,null,null,null,null,null,null,null,null,null,null,null,null,null,null,null,null,null,null,null,null,null,null,"12","13","09",3,1200000,13000,90,3,1213093,"ZATOR",2114]
[616043,"  Ryki..........................................................................................................................................................................................................................................................",16176,"",162,null,null,null,null,null,null,null,null,null,null,null,null,null,null,null,null,null,null,null,null,null,null,null,null,null,null,"12","14","01",2,1200000,14000,10,2,1214012,"KONIUSZA",1215.8]
[616044,"",2722,"",28,null,null,null,null,null,null,null,null,null,null,null,null,null,null,null,null,null,null,null,null,null,null,null,null,null,null,"12","14","02",3,1200000,14000,20,3,1214023,"KOSZYCE",1135.76]
[616045,"",13454,"",134,null,null,null,null,null,null,null,null,null,null,null,null,null,null,null,null,null,null,null,null,null,null,null,null,null,null,"12","14","03",3,1200000,14000,30,3,1214033,"NOWE BRZESKO",1268.07]
["","Powiat świdnicki  (5 gmin)",null,null,null,null,null,null,null,null,null,null,null,null,null,null,null,null,null,null,null,null,null,null,null,null,null,null,null,null,null,"12","14","04",2,1200000,14000,40,2,1214042,"PAŁECZNICA",1125.3499999999999]
["","",null,null,null,null,null,null,null,null,null,null,null,null,null,null,null,null,null,null,null,null,null,null,null,null,null,null,null,null,null,"12","14","05",3,1200000,14000,50,3,1214053,"PROSZOWICE",1335.84]
[617011,"  Świdnik (a)..........................................................................................................................................................................................................................................................",2035,"",20,null,null,null,null,null,null,null,null,null,null,null,null,null,null,null,null,null,null,null,null,null,null,null,null,null,null,"12","14","06",2,1200000,14000,60,2,1214062,"RADZIEMICE",1131.79]
["","",null,null,null,null,null,null,null,null,null,null,null,null,null,null,null,null,null,null,null,null,null,null,null,null,null,null,null,null,null,"12","15","01",1,1200000,15000,10,1,1215011,"JORDANÓW",1774.49]
[617022,"  Mełgiew..........................................................................................................................................................................................................................................................",9485,"",95,null,null,null,null,null,null,null,null,null,null,null,null,null,null,null,null,null,null,null,null,null,null,null,null,null,null,"12","15","02",1,1200000,15000,20,1,1215021,"SUCHA BESKIDZKA",2027.97]
[617042,"  Rybczewice..........................................................................................................................................................................................................................................................",9913,"",99,null,null,null,null,null,null,null,null,null,null,null,null,null,null,null,null,null,null,null,null,null,null,null,null,null,null,"12","15","03",2,1200000,15000,30,2,1215032,"BUDZÓW",891.97]
[617052,"  Trawniki..........................................................................................................................................................................................................................................................",8416,"",84,null,null,null,null,null,null,null,null,null,null,null,null,null,null,null,null,null,null,null,null,null,null,null,null,null,null,"12","15","04",2,1200000,15000,40,2,1215042,"BYSTRA-SIDZINA",958.42]
["","",null,null,null,null,null,null,null,null,null,null,null,null,null,null,null,null,null,null,null,null,null,null,null,null,null,null,null,null,null,"12","15","05",2,1200000,15000,50,2,1215052,"JORDANÓW",997.82]
[617033,"  Piaski..........................................................................................................................................................................................................................................................",16986,"",170,null,null,null,null,null,null,null,null,null,null,null,null,null,null,null,null,null,null,null,null,null,null,null,null,null,null,"12","15","06",3,1200000,15000,60,3,1215063,"MAKÓW PODHALAŃSKI",1520.59]
[617034,"",844,"",8,null,null,null,null,null,null,null,null,null,null,null,null,null,null,null,null,null,null,null,null,null,null,null,null,null,null,"12","15","07",2,1200000,15000,70,2,1215072,"STRYSZAWA",1345.45]
[617035,"",16142,"",162,null,null,null,null,null,null,null,null,null,null,null,null,null,null,null,null,null,null,null,null,null,null,null,null,null,null,"12","15","08",2,1200000,15000,80,2,1215082,"ZAWOJA",1125.5899999999999]
["","Powiat tomaszowski  (13 gmin)",null,null,null,null,null,null,null,null,null,null,null,null,null,null,null,null,null,null,null,null,null,null,null,null,null,null,null,null,null,"12","15","09",2,1200000,15000,90,2,1215092,"ZEMBRZYCE",1267.67]
["","",null,null,null,null,null,null,null,null,null,null,null,null,null,null,null,null,null,null,null,null,null,null,null,null,null,null,null,null,null,"12","16","01",3,1200000,16000,10,3,1216013,"CIĘŻKOWICE",1060.52]
[618011,"  Tomaszów Lubelski..........................................................................................................................................................................................................................................................",1329,"",13,null,null,null,null,null,null,null,null,null,null,null,null,null,null,null,null,null,null,null,null,null,null,null,null,null,null,"12","16","02",2,1200000,16000,20,2,1216022,"GROMNIK",774.16]
["","",null,null,null,null,null,null,null,null,null,null,null,null,null,null,null,null,null,null,null,null,null,null,null,null,null,null,null,null,null,"12","16","03",2,1200000,16000,30,2,1216032,"LISIA GÓRA",1263.68]
[618022,"  Bełżec..........................................................................................................................................................................................................................................................",3353,"",33,null,null,null,null,null,null,null,null,null,null,null,null,null,null,null,null,null,null,null,null,null,null,null,null,null,null,"12","16","04",2,1200000,16000,40,2,1216042,"PLEŚNA",1017.64]
[618032,"  Jarczów..........................................................................................................................................................................................................................................................",10664,"",107,null,null,null,null,null,null,null,null,null,null,null,null,null,null,null,null,null,null,null,null,null,null,null,null,null,null,"12","16","05",3,1200000,16000,50,3,1216053,"RADŁÓW",1284.29]
[618042,"  Krynice..........................................................................................................................................................................................................................................................",7356,"",74,null,null,null,null,null,null,null,null,null,null,null,null,null,null,null,null,null,null,null,null,null,null,null,null,null,null,"12","16","06",3,1200000,16000,60,3,1216063,"RYGLICE",875.42]
[618072,"  Rachanie..........................................................................................................................................................................................................................................................",9430,"",94,null,null,null,null,null,null,null,null,null,null,null,null,null,null,null,null,null,null,null,null,null,null,null,null,null,null,"12","16","07",2,1200000,16000,70,2,1216072,"RZEPIENNIK STRZYŻEWSKI",977.1]
[618082,"  Susiec..........................................................................................................................................................................................................................................................",19075,"",191,null,null,null,null,null,null,null,null,null,null,null,null,null,null,null,null,null,null,null,null,null,null,null,null,null,null,"12","16","08",2,1200000,16000,80,2,1216082,"SKRZYSZÓW",1383.08]
[618092,"  Tarnawatka..........................................................................................................................................................................................................................................................",8283,"",83,null,null,null,null,null,null,null,null,null,null,null,null,null,null,null,null,null,null,null,null,null,null,null,null,null,null,"12","16","09",2,1200000,16000,90,2,1216092,"TARNÓW",1890.33]
[618102,"  Telatyn..........................................................................................................................................................................................................................................................",11180,"",112,null,null,null,null,null,null,null,null,null,null,null,null,null,null,null,null,null,null,null,null,null,null,null,null,null,null,"12","16","10",3,1200000,16000,100,3,1216103,"TUCHÓW",1076.4000000000001]
[618112,"  Tomaszów Lubelski..........................................................................................................................................................................................................................................................",17089,"",171,null,null,null,null,null,null,null,null,null,null,null,null,null,null,null,null,null,null,null,null,null,null,null,null,null,null,"12","16","11",2,1200000,16000,110,2,1216112,"WIERZCHOSŁAWICE",1628.79]
[618132,"  Ulhówek..........................................................................................................................................................................................................................................................",14663,"",147,null,null,null,null,null,null,null,null,null,null,null,null,null,null,null,null,null,null,null,null,null,null,null,null,null,null,"12","16","12",2,1200000,16000,120,2,1216122,"WIETRZYCHOWICE",778.1]
["","",null,null,null,null,null,null,null,null,null,null,null,null,null,null,null,null,null,null,null,null,null,null,null,null,null,null,null,null,null,"12","16","13",3,1200000,16000,130,3,1216133,"WOJNICZ",1300.72]
[618053,"  Lubycza Królewska..........................................................................................................................................................................................................................................................",20807,"",208,null,null,null,null,null,null,null,null,null,null,null,null,null,null,null,null,null,null,null,null,null,null,null,null,null,null,"12","16","14",3,1200000,16000,140,3,1216143,"ZAKLICZYN",950.54]
[618054,"",392,"",4,null,null,null,null,null,null,null,null,null,null,null,null,null,null,null,null,null,null,null,null,null,null,null,null,null,null,"12","16","15",3,1200000,16000,150,3,1216153,"ŻABNO",1465.69]
[618055,"",20415,"",204,null,null,null,null,null,null,null,null,null,null,null,null,null,null,null,null,null,null,null,null,null,null,null,null,null,null,"12","16","16",2,1200000,16000,160,2,1216162,"SZERZYNY",779.51]
[618063,"  Łaszczów..........................................................................................................................................................................................................................................................",12829,"",128,null,null,null,null,null,null,null,null,null,null,null,null,null,null,null,null,null,null,null,null,null,null,null,null,null,null,"12","17","01",1,1200000,17000,10,1,1217011,"ZAKOPANE",2712.72]
[618064,"",501,"",5,null,null,null,null,null,null,null,null,null,null,null,null,null,null,null,null,null,null,null,null,null,null,null,null,null,null,"12","17","02",2,1200000,17000,20,2,1217022,"BIAŁY DUNAJEC",904.28]
[618065,"",12328,"",123,null,null,null,null,null,null,null,null,null,null,null,null,null,null,null,null,null,null,null,null,null,null,null,null,null,null,"12","17","03",2,1200000,17000,30,2,1217032,"BUKOWINA TATRZAŃSKA",1895.82]
[618123,"  Tyszowce..........................................................................................................................................................................................................................................................",12831,"",128,null,null,null,null,null,null,null,null,null,null,null,null,null,null,null,null,null,null,null,null,null,null,null,null,null,null,"12","17","04",2,1200000,17000,40,2,1217042,"KOŚCIELISKO",1568.93]
[618124,"",1852,"",19,null,null,null,null,null,null,null,null,null,null,null,null,null,null,null,null,null,null,null,null,null,null,null,null,null,null,"12","17","05",2,1200000,17000,50,2,1217052,"PORONIN",1236.53]
[618125,"",10979,"",109,null,null,null,null,null,null,null,null,null,null,null,null,null,null,null,null,null,null,null,null,null,null,null,null,null,null,"12","18","01",3,1200000,18000,10,3,1218013,"ANDRYCHÓW",1592.51]
["","Powiat włodawski  (8 gmin)",null,null,null,null,null,null,null,null,null,null,null,null,null,null,null,null,null,null,null,null,null,null,null,null,null,null,null,null,null,"12","18","02",2,1200000,18000,20,2,1218022,"BRZEŹNICA",1327.35]
["","",null,null,null,null,null,null,null,null,null,null,null,null,null,null,null,null,null,null,null,null,null,null,null,null,null,null,null,null,null,"12","18","03",3,1200000,18000,30,3,1218033,"KALWARIA ZEBRZYDOWSKA",1600.09]
[619011,"  Włodawa..........................................................................................................................................................................................................................................................",1797,"",18,null,null,null,null,null,null,null,null,null,null,null,null,null,null,null,null,null,null,null,null,null,null,null,null,null,null,"12","18","04",2,1200000,18000,40,2,1218042,"LANCKORONA",1180.53]
["","",null,null,null,null,null,null,null,null,null,null,null,null,null,null,null,null,null,null,null,null,null,null,null,null,null,null,null,null,null,"12","18","05",2,1200000,18000,50,2,1218052,"MUCHARZ",1819.89]
[619022,"  Hanna..........................................................................................................................................................................................................................................................",13929,"",139,null,null,null,null,null,null,null,null,null,null,null,null,null,null,null,null,null,null,null,null,null,null,null,null,null,null,"12","18","06",2,1200000,18000,60,2,1218062,"SPYTKOWICE",1377.94]
[619032,"  Hańsk..........................................................................................................................................................................................................................................................",17627,"",176,null,null,null,null,null,null,null,null,null,null,null,null,null,null,null,null,null,null,null,null,null,null,null,null,null,null,"12","18","07",2,1200000,18000,70,2,1218072,"STRYSZÓW",1141.43]
[619042,"  Stary Brus..........................................................................................................................................................................................................................................................",13167,"",132,null,null,null,null,null,null,null,null,null,null,null,null,null,null,null,null,null,null,null,null,null,null,null,null,null,null,"12","18","08",2,1200000,18000,80,2,1218082,"TOMICE",1325.24]
[619052,"  Urszulin..........................................................................................................................................................................................................................................................",17214,"",172,null,null,null,null,null,null,null,null,null,null,null,null,null,null,null,null,null,null,null,null,null,null,null,null,null,null,"12","18","09",3,1200000,18000,90,3,1218093,"WADOWICE",1780.73]
[619062,"  Włodawa..........................................................................................................................................................................................................................................................",24503,"",245,null,null,null,null,null,null,null,null,null,null,null,null,null,null,null,null,null,null,null,null,null,null,null,null,null,null,"12","18","10",2,1200000,18000,100,2,1218102,"WIEPRZ",1180.06]
[619072,"  Wola Uhruska..........................................................................................................................................................................................................................................................",15407,"",154,null,null,null,null,null,null,null,null,null,null,null,null,null,null,null,null,null,null,null,null,null,null,null,null,null,null,"12","19","01",2,1200000,19000,10,2,1219012,"BISKUPICE",1479.86]
[619082,"  Wyryki..........................................................................................................................................................................................................................................................",21998,"",220,null,null,null,null,null,null,null,null,null,null,null,null,null,null,null,null,null,null,null,null,null,null,null,null,null,null,"12","19","02",2,1200000,19000,20,2,1219022,"GDÓW",1664.49]
["","Powiat zamojski  (15 gmin)",null,null,null,null,null,null,null,null,null,null,null,null,null,null,null,null,null,null,null,null,null,null,null,null,null,null,null,null,null,"12","19","03",2,{"$f":"AF968*100000","v":1200000},{"$f":"AG968*1000","v":19000},{"$f":"AH968*10","v":30},{"$f":"AI968*1","v":2},{"$f":"SUM(AJ968:AM968)","v":1219032},"KŁAJ",1990.89]
["","",null,null,null,null,null,null,null,null,null,null,null,null,null,null,null,null,null,null,null,null,null,null,null,null,null,null,null,null,null,"12","19","04",3,1200000,19000,40,3,1219043,"NIEPOŁOMICE",3132.63]
[620012,"  Adamów..........................................................................................................................................................................................................................................................",11066,"",111,null,null,null,null,null,null,null,null,null,null,null,null,null,null,null,null,null,null,null,null,null,null,null,null,null,null,"12","19","05",3,1200000,19000,50,3,1219053,"WIELICZKA",2168.67]
[620022,"  Grabowiec..........................................................................................................................................................................................................................................................",12847,"",128,null,null,null,null,null,null,null,null,null,null,null,null,null,null,null,null,null,null,null,null,null,null,null,null,null,null,"12","61","01",1,1200000,61000,10,1,1261011,"Kraków",2968.02]
[620032,"  Komarów-Osada..........................................................................................................................................................................................................................................................",12380,"",124,null,null,null,null,null,null,null,null,null,null,null,null,null,null,null,null,null,null,null,null,null,null,null,null,null,null,"12","62","01",1,1200000,62000,10,1,1262011,"Nowy Sącz",2424.1799999999998]
[620052,"  Łabunie..........................................................................................................................................................................................................................................................",8731,"",87,null,null,null,null,null,null,null,null,null,null,null,null,null,null,null,null,null,null,null,null,null,null,null,null,null,null,"12","63","01",1,1200000,63000,10,1,1263011,"Tarnów",2160.8200000000002]
[620062,"  Miączyn..........................................................................................................................................................................................................................................................",15607,"",156,null,null,null,null,null,null,null,null,null,null,null,null,null,null,null,null,null,null,null,null,null,null,null,null,null,null,"14","01","01",3,1400000,1000,10,3,1401013,"BIAŁOBRZEGI",1831.45]
[620072,"  Nielisz..........................................................................................................................................................................................................................................................",11226,"",112,null,null,null,null,null,null,null,null,null,null,null,null,null,null,null,null,null,null,null,null,null,null,null,null,null,null,"14","01","02",2,1400000,1000,20,2,1401022,"PROMNA",1288.75]
[620082,"  Radecznica..........................................................................................................................................................................................................................................................",10995,"",110,null,null,null,null,null,null,null,null,null,null,null,null,null,null,null,null,null,null,null,null,null,null,null,null,null,null,"14","01","03",2,1400000,1000,30,2,1401032,"RADZANÓW",859.76]
[620092,"  Sitno..........................................................................................................................................................................................................................................................",11174,"",112,null,null,null,null,null,null,null,null,null,null,null,null,null,null,null,null,null,null,null,null,null,null,null,null,null,null,"14","01","04",2,1400000,1000,40,2,1401042,"STARA BŁOTNICA",1014.89]
[620102,"  Skierbieszów..........................................................................................................................................................................................................................................................",13921,"",139,null,null,null,null,null,null,null,null,null,null,null,null,null,null,null,null,null,null,null,null,null,null,null,null,null,null,"14","01","05",2,1400000,1000,50,2,1401052,"STROMIEC",938.9]
[620112,"  Stary Zamość..........................................................................................................................................................................................................................................................",9751,"",98,null,null,null,null,null,null,null,null,null,null,null,null,null,null,null,null,null,null,null,null,null,null,null,null,null,null,"14","01","06",3,1400000,1000,60,3,1401063,"WYŚMIERZYCE",1172.98]
[620122,"  Sułów..........................................................................................................................................................................................................................................................",9324,"",93,null,null,null,null,null,null,null,null,null,null,null,null,null,null,null,null,null,null,null,null,null,null,null,null,null,null,"14","02","01",1,1400000,2000,10,1,1402011,"CIECHANÓW",2004.13]
[620142,"  Zamość..........................................................................................................................................................................................................................................................",19613,"",196,null,null,null,null,null,null,null,null,null,null,null,null,null,null,null,null,null,null,null,null,null,null,null,null,null,null,"14","02","02",2,1400000,2000,20,2,1402022,"CIECHANÓW",2726.63]
["","",null,null,null,null,null,null,null,null,null,null,null,null,null,null,null,null,null,null,null,null,null,null,null,null,null,null,null,null,null,"14","02","03",3,1400000,2000,30,3,1402033,"GLINOJECK",2296.34]
[620043,"  Krasnobród..........................................................................................................................................................................................................................................................",12689,"",127,null,null,null,null,null,null,null,null,null,null,null,null,null,null,null,null,null,null,null,null,null,null,null,null,null,null,"14","02","04",2,1400000,2000,40,2,1402042,"GOŁYMIN-OŚRODEK",1297.27]
[620044,"",699,"",7,null,null,null,null,null,null,null,null,null,null,null,null,null,null,null,null,null,null,null,null,null,null,null,null,null,null,"14","02","05",2,1400000,2000,50,2,1402052,"GRUDUSK",1210.3699999999999]
[620045,"",11990,"",120,null,null,null,null,null,null,null,null,null,null,null,null,null,null,null,null,null,null,null,null,null,null,null,null,null,null,"14","02","06",2,1400000,2000,60,2,1402062,"OJRZEŃ",942.37]
[620133,"  Szczebrzeszyn..........................................................................................................................................................................................................................................................",12350,"",123,null,null,null,null,null,null,null,null,null,null,null,null,null,null,null,null,null,null,null,null,null,null,null,null,null,null,"14","02","07",2,1400000,2000,70,2,1402072,"OPINOGÓRA GÓRNA",1717.41]
[620134,"",2912,"",29,null,null,null,null,null,null,null,null,null,null,null,null,null,null,null,null,null,null,null,null,null,null,null,null,null,null,"14","02","08",2,1400000,2000,80,2,1402082,"REGIMIN",1655.52]
[620135,"",9438,"",94,null,null,null,null,null,null,null,null,null,null,null,null,null,null,null,null,null,null,null,null,null,null,null,null,null,null,"14","02","09",2,1400000,2000,90,2,1402092,"SOŃSK",1319.33]
[620153,"  Zwierzyniec..........................................................................................................................................................................................................................................................",15355,"",154,null,null,null,null,null,null,null,null,null,null,null,null,null,null,null,null,null,null,null,null,null,null,null,null,null,null,"14","03","01",1,1400000,3000,10,1,1403011,"GARWOLIN",2243.35]
[620154,"",619,"",6,null,null,null,null,null,null,null,null,null,null,null,null,null,null,null,null,null,null,null,null,null,null,null,null,null,null,"14","03","02",1,1400000,3000,20,1,1403021,"ŁASKARZEW",1407.37]
[620155,"",14736,"",148,null,null,null,null,null,null,null,null,null,null,null,null,null,null,null,null,null,null,null,null,null,null,null,null,null,null,"14","03","03",2,1400000,3000,30,2,1403032,"BOROWIE",1276.98]
["","",null,null,null,null,null,null,null,null,null,null,null,null,null,null,null,null,null,null,null,null,null,null,null,null,null,null,null,null,null,"14","03","04",2,1400000,3000,40,2,1403042,"GARWOLIN",1775.41]
[661011,"  Biała Podlaska..........................................................................................................................................................................................................................................................",4940,"",49,null,null,null,null,null,null,null,null,null,null,null,null,null,null,null,null,null,null,null,null,null,null,null,null,null,null,"14","03","05",2,1400000,3000,50,2,1403052,"GÓRZNO",1164.06]
[662011,"  Chełm..........................................................................................................................................................................................................................................................",3528,"",35,null,null,null,null,null,null,null,null,null,null,null,null,null,null,null,null,null,null,null,null,null,null,null,null,null,null,"14","03","06",2,1400000,3000,60,2,1403062,"ŁASKARZEW",1029.08]
[663011,"  Lublin..........................................................................................................................................................................................................................................................",14747,"",148,null,null,null,null,null,null,null,null,null,null,null,null,null,null,null,null,null,null,null,null,null,null,null,null,null,null,"14","03","07",2,1400000,3000,70,2,1403072,"MACIEJOWICE",1164.6600000000001]
[664011,"  Zamość..........................................................................................................................................................................................................................................................",3034,"",30,null,null,null,null,null,null,null,null,null,null,null,null,null,null,null,null,null,null,null,null,null,null,null,null,null,null,"14","03","08",2,1400000,3000,80,2,1403082,"MIASTKÓW KOŚCIELNY",1260.23]
["","WOJ. LUBUSKIE",null,null,null,null,null,null,null,null,null,null,null,null,null,null,null,null,null,null,null,null,null,null,null,null,null,null,null,null,null,"14","03","09",2,1400000,3000,90,2,1403092,"PARYSÓW",971.02]
["","Powiat gorzowski  (7 gmin)",null,null,null,null,null,null,null,null,null,null,null,null,null,null,null,null,null,null,null,null,null,null,null,null,null,null,null,null,null,"14","03","10",3,1400000,3000,100,3,1403103,"PILAWA",1704.21]
["","",null,null,null,null,null,null,null,null,null,null,null,null,null,null,null,null,null,null,null,null,null,null,null,null,null,null,null,null,null,"14","03","11",2,1400000,3000,110,2,1403112,"SOBOLEW",1461.53]
[801011,"  Kostrzyn nad Odrą..........................................................................................................................................................................................................................................................",4614,"",46,null,null,null,null,null,null,null,null,null,null,null,null,null,null,null,null,null,null,null,null,null,null,null,null,null,null,"14","03","12",2,1400000,3000,120,2,1403122,"TROJANÓW",1073.69]
["","",null,null,null,null,null,null,null,null,null,null,null,null,null,null,null,null,null,null,null,null,null,null,null,null,null,null,null,null,null,"14","03","13",2,1400000,3000,130,2,1403132,"WILGA",1583.69]
[801062,"  Santok..........................................................................................................................................................................................................................................................",16939,"",169,null,null,null,null,null,null,null,null,null,null,null,null,null,null,null,null,null,null,null,null,null,null,null,null,null,null,"14","04","04",3,1400000,4000,40,3,1404043,"SANNIKI",1314.84]
[801074,"",824,"",8,null,null,null,null,null,null,null,null,null,null,null,null,null,null,null,null,null,null,null,null,null,null,null,null,null,null,"14","05","02",1,1400000,5000,20,1,1405021,"PODKOWA LEŚNA",4530.38]
["","Powiat krośnieński  (7 gmin)",null,null,null,null,null,null,null,null,null,null,null,null,null,null,null,null,null,null,null,null,null,null,null,null,null,null,null,null,null,"14","05","04",3,1400000,5000,40,3,1405043,"GRODZISK MAZOWIECKI",3943.85]
[802032,"  Bytnica..........................................................................................................................................................................................................................................................",20873,"",209,null,null,null,null,null,null,null,null,null,null,null,null,null,null,null,null,null,null,null,null,null,null,null,null,null,null,"14","06","03",2,1400000,6000,30,2,1406032,"CHYNÓW",1547.54]
[802063,"  Krosno Odrzańskie..........................................................................................................................................................................................................................................................",21240,"",212,null,null,null,null,null,null,null,null,null,null,null,null,null,null,null,null,null,null,null,null,null,null,null,null,null,null,"14","06","08",3,1400000,6000,80,3,1406083,"NOWE MIASTO n. PILICĄ",2255.2800000000002]
["","",null,null,null,null,null,null,null,null,null,null,null,null,null,null,null,null,null,null,null,null,null,null,null,null,null,null,null,null,null,"14","07","02",2,1400000,7000,20,2,1407022,"GŁOWACZÓW",1144.74]
[803012,"  Bledzew..........................................................................................................................................................................................................................................................",24748,"",247,null,null,null,null,null,null,null,null,null,null,null,null,null,null,null,null,null,null,null,null,null,null,null,null,null,null,"14","07","03",2,1400000,7000,30,2,1407032,"GNIEWOSZÓW",973.55]
[803024,"",1026,"",10,null,null,null,null,null,null,null,null,null,null,null,null,null,null,null,null,null,null,null,null,null,null,null,null,null,null,"14","08","01",1,1400000,8000,10,1,1408011,"LEGIONOWO",2375.65]
[803055,"",24892,"",249,null,null,null,null,null,null,null,null,null,null,null,null,null,null,null,null,null,null,null,null,null,null,null,null,null,null,"14","08","05",2,1400000,8000,50,2,1408052,"WIELISZEW",2943.71]
[803065,"",17447,"",175,null,null,null,null,null,null,null,null,null,null,null,null,null,null,null,null,null,null,null,null,null,null,null,null,null,null,"14","09","03",3,1400000,9000,30,3,1409033,"LIPSKO",1680.38]
["","",null,null,null,null,null,null,null,null,null,null,null,null,null,null,null,null,null,null,null,null,null,null,null,null,null,null,null,null,null,"14","09","05",2,1400000,9000,50,2,1409052,"SIENNO",896.03]
[804082,"  Siedlisko..........................................................................................................................................................................................................................................................",9216,"",92,null,null,null,null,null,null,null,null,null,null,null,null,null,null,null,null,null,null,null,null,null,null,null,null,null,null,"14","10","04",2,1400000,10000,40,2,1410042,"PLATERÓW",954.09]
[804043,"  Kożuchów..........................................................................................................................................................................................................................................................",17918,"",179,null,null,null,null,null,null,null,null,null,null,null,null,null,null,null,null,null,null,null,null,null,null,null,null,null,null,"14","11","03",2,1400000,11000,30,2,1411032,"KARNIEWO",1263.1099999999999]
[804064,"",329,"",3,null,null,null,null,null,null,null,null,null,null,null,null,null,null,null,null,null,null,null,null,null,null,null,null,null,null,"14","11","07",3,1400000,11000,70,3,1411073,"RÓŻAN",1851.12]
[804065,"",7357,"",74,null,null,null,null,null,null,null,null,null,null,null,null,null,null,null,null,null,null,null,null,null,null,null,null,null,null,"14","11","08",2,1400000,11000,80,2,1411082,"RZEWNIE",1415.09]
["","",null,null,null,null,null,null,null,null,null,null,null,null,null,null,null,null,null,null,null,null,null,null,null,null,null,null,null,null,null,"14","12","05",2,1400000,12000,50,2,1412052,"DĘBE WIELKIE",1802.27]
[805014,"",529,"",6,null,null,null,null,null,null,null,null,null,null,null,null,null,null,null,null,null,null,null,null,null,null,null,null,null,null,"14","12","09",3,1400000,12000,90,3,1412093,"KAŁUSZYN",1932.66]
[805034,"",801,"",8,null,null,null,null,null,null,null,null,null,null,null,null,null,null,null,null,null,null,null,null,null,null,null,null,null,null,"14","12","12",3,1400000,12000,120,3,1412123,"MROZY",1476.38]
[805043,"  Rzepin..........................................................................................................................................................................................................................................................",19099,"",191,null,null,null,null,null,null,null,null,null,null,null,null,null,null,null,null,null,null,null,null,null,null,null,null,null,null,"14","12","14",2,1400000,12000,140,2,1412142,"STANISŁAWÓW",1624.5]
[805055,"",16636,"",167,null,null,null,null,null,null,null,null,null,null,null,null,null,null,null,null,null,null,null,null,null,null,null,null,null,null,"14","13","04",2,1400000,13000,40,2,1413042,"RADZANÓW",1559.25]
[806032,"  Stare Kurowo..........................................................................................................................................................................................................................................................",7757,"",78,null,null,null,null,null,null,null,null,null,null,null,null,null,null,null,null,null,null,null,null,null,null,null,null,null,null,"14","13","07",2,1400000,13000,70,2,1413072,"SZREŃSK",1381.95]
[806023,"  Drezdenko..........................................................................................................................................................................................................................................................",39991,"↑",400,null,null,null,null,null,null,null,null,null,null,null,null,null,null,null,null,null,null,null,null,null,null,null,null,null,null,"14","14","03",2,1400000,14000,30,2,1414032,"LEONCIN",1763.46]
[806024,"",1072,"",11,null,null,null,null,null,null,null,null,null,null,null,null,null,null,null,null,null,null,null,null,null,null,null,null,null,null,"14","14","04",3,1400000,14000,40,3,1414043,"NASIELSK",1525.43]
["","Powiat sulęciński  (5 gmin)",null,null,null,null,null,null,null,null,null,null,null,null,null,null,null,null,null,null,null,null,null,null,null,null,null,null,null,null,null,"14","15","03",2,1400000,15000,30,2,1415032,"CZERWIN",2052.56]
["","",null,null,null,null,null,null,null,null,null,null,null,null,null,null,null,null,null,null,null,null,null,null,null,null,null,null,null,null,null,"14","15","07",2,1400000,15000,70,2,1415072,"ŁYSE",2079.9499999999998]
[807025,"",11758,"",118,null,null,null,null,null,null,null,null,null,null,null,null,null,null,null,null,null,null,null,null,null,null,null,null,null,null,"14","15","10",2,{"$f":"AF1096*100000","v":1400000},{"$f":"AG1096*1000","v":15000},{"$f":"AH1096*10","v":100},{"$f":"AI1096*1","v":2},{"$f":"SUM(AJ1096:AM1096)","v":1415102},"RZEKUŃ",1929.1]
[807044,"",856,"",9,null,null,null,null,null,null,null,null,null,null,null,null,null,null,null,null,null,null,null,null,null,null,null,null,null,null,"14","16","01",1,1400000,16000,10,1,1416011,"OSTRÓW MAZOWIECKA",2009.14]
["","Powiat świebodziński  (6 gmin)",null,null,null,null,null,null,null,null,null,null,null,null,null,null,null,null,null,null,null,null,null,null,null,null,null,null,null,null,null,"14","16","06",2,1400000,16000,60,2,1416062,"NUR",1122.18]
[808022,"  Łagów..........................................................................................................................................................................................................................................................",19914,"",200,null,null,null,null,null,null,null,null,null,null,null,null,null,null,null,null,null,null,null,null,null,null,null,null,null,null,"14","16","09",2,1400000,16000,90,2,1416092,"SZULBORZE WIELKIE",1223.53]
[808055,"",20948,"",209,null,null,null,null,null,null,null,null,null,null,null,null,null,null,null,null,null,null,null,null,null,null,null,null,null,null,"14","17","04",3,1400000,17000,40,3,1417043,"KARCZEW",2710.79]
[808063,"  Zbąszynek..........................................................................................................................................................................................................................................................",9408,"",94,null,null,null,null,null,null,null,null,null,null,null,null,null,null,null,null,null,null,null,null,null,null,null,null,null,null,"14","17","05",2,1400000,17000,50,2,1417052,"KOŁBIEL",2091.33]
[812013,"  Sława..........................................................................................................................................................................................................................................................",32700,"",327,null,null,null,null,null,null,null,null,null,null,null,null,null,null,null,null,null,null,null,null,null,null,null,null,null,null,"14","18","02",3,1400000,18000,20,3,1418023,"KONSTANCIN-JEZIORNA",4796.24]
[812024,"",155,"",2,null,null,null,null,null,null,null,null,null,null,null,null,null,null,null,null,null,null,null,null,null,null,null,null,null,null,"14","18","06",3,1400000,18000,60,3,1418063,"TARCZYN",2497.2399999999998]
[812034,"",925,"",9,null,null,null,null,null,null,null,null,null,null,null,null,null,null,null,null,null,null,null,null,null,null,null,null,null,null,"14","19","03",2,1400000,19000,30,2,1419032,"BRUDZEŃ DUŻY",1357.32]
["","Powiat zielonogórski  (9 gmin)",null,null,null,null,null,null,null,null,null,null,null,null,null,null,null,null,null,null,null,null,null,null,null,null,null,null,null,null,null,"14","19","05",3,1400000,19000,50,3,1419053,"DROBIN",1106.4000000000001]
[809092,"  Zabór..........................................................................................................................................................................................................................................................",9338,"",93,null,null,null,null,null,null,null,null,null,null,null,null,null,null,null,null,null,null,null,null,null,null,null,null,null,null,"14","19","10",2,1400000,19000,100,2,1419102,"RADZANOWO",1724.8]
[809014,"",365,"",4,null,null,null,null,null,null,null,null,null,null,null,null,null,null,null,null,null,null,null,null,null,null,null,null,null,null,"14","19","13",2,1400000,19000,130,2,1419132,"STARA BIAŁA",2956.11]
[809044,"",455,"",5,null,null,null,null,null,null,null,null,null,null,null,null,null,null,null,null,null,null,null,null,null,null,null,null,null,null,"14","20","04",2,1400000,20000,40,2,1420042,"CZERWIŃSK NAD WISŁĄ",872.91]
[809045,"",12398,"",124,null,null,null,null,null,null,null,null,null,null,null,null,null,null,null,null,null,null,null,null,null,null,null,null,null,null,"14","20","05",2,1400000,20000,50,2,1420052,"DZIERZĄŻNIA",1283.51]
[809064,"",688,"",7,null,null,null,null,null,null,null,null,null,null,null,null,null,null,null,null,null,null,null,null,null,null,null,null,null,null,"14","20","10",2,1400000,20000,100,2,1420102,"RACIĄŻ",1642.27]
[810011,"  Gozdnica..........................................................................................................................................................................................................................................................",2392,"",24,null,null,null,null,null,null,null,null,null,null,null,null,null,null,null,null,null,null,null,null,null,null,null,null,null,null,"14","21","02",1,1400000,21000,20,1,1421021,"PRUSZKÓW",2677.93]
[810062,"  Niegosławice..........................................................................................................................................................................................................................................................",13641,"",136,null,null,null,null,null,null,null,null,null,null,null,null,null,null,null,null,null,null,null,null,null,null,null,null,null,null,"14","21","06",2,1400000,21000,60,2,1421062,"RASZYN",4159.1099999999997]
[810082,"  Wymiarki..........................................................................................................................................................................................................................................................",6309,"",63,null,null,null,null,null,null,null,null,null,null,null,null,null,null,null,null,null,null,null,null,null,null,null,null,null,null,"14","22","01",1,1400000,22000,10,1,1422011,"PRZASNYSZ",1909.59]
[810045,"",14385,"",143,null,null,null,null,null,null,null,null,null,null,null,null,null,null,null,null,null,null,null,null,null,null,null,null,null,null,"14","22","06",2,1400000,22000,60,2,1422062,"KRZYNOWŁOGA MAŁA",1127.42]
[810055,"",7422,"",75,null,null,null,null,null,null,null,null,null,null,null,null,null,null,null,null,null,null,null,null,null,null,null,null,null,null,"14","23","02",2,1400000,23000,20,2,1423022,"GIELNIÓW",897.57]
[811011,"  Łęknica..........................................................................................................................................................................................................................................................",1643,"↓",16,null,null,null,null,null,null,null,null,null,null,null,null,null,null,null,null,null,null,null,null,null,null,null,null,null,null,"14","23","08",2,1400000,23000,80,2,1423082,"WIENIAWA",922.42]
[811021,"  Żary..........................................................................................................................................................................................................................................................",3349,"",33,null,null,null,null,null,null,null,null,null,null,null,null,null,null,null,null,null,null,null,null,null,null,null,null,null,null,"14","24","01",2,1400000,24000,10,2,1424012,"GZY",1171.0899999999999]
[811082,"  Trzebiel..........................................................................................................................................................................................................................................................",16635,"",166,null,null,null,null,null,null,null,null,null,null,null,null,null,null,null,null,null,null,null,null,null,null,null,null,null,null,"14","24","06",2,1400000,24000,60,2,1424062,"WINNICA",1402.09]
[811043,"  Jasień..........................................................................................................................................................................................................................................................",12679,"",127,null,null,null,null,null,null,null,null,null,null,null,null,null,null,null,null,null,null,null,null,null,null,null,null,null,null,"14","25","03",3,1400000,25000,30,3,1425033,"IŁŻA",1406.95]
[811064,"",1251,"",13,null,null,null,null,null,null,null,null,null,null,null,null,null,null,null,null,null,null,null,null,null,null,null,null,null,null,"14","25","07",2,1400000,25000,70,2,1425072,"KOWALA",1390.71]
[811065,"",17016,"",170,null,null,null,null,null,null,null,null,null,null,null,null,null,null,null,null,null,null,null,null,null,null,null,null,null,null,"14","25","08",2,1400000,25000,80,2,1425082,"PIONKI",1050.55]
["","Powiat bełchatowski  (8 gmin)",null,null,null,null,null,null,null,null,null,null,null,null,null,null,null,null,null,null,null,null,null,null,null,null,null,null,null,null,null,"14","25","13",2,1400000,25000,130,2,1425132,"ZAKRZEW",1252.82]
["","",null,null,null,null,null,null,null,null,null,null,null,null,null,null,null,null,null,null,null,null,null,null,null,null,null,null,null,null,null,"14","26","03",2,1400000,26000,30,2,1426032,"KOTUŃ",1283.5899999999999]
[1001072,"  Szczerców..........................................................................................................................................................................................................................................................",12895,"",129,null,null,null,null,null,null,null,null,null,null,null,null,null,null,null,null,null,null,null,null,null,null,null,null,null,null,"14","26","09",2,1400000,26000,90,2,1426092,"SKÓRZEC",1551.65]
["","",null,null,null,null,null,null,null,null,null,null,null,null,null,null,null,null,null,null,null,null,null,null,null,null,null,null,null,null,null,"14","26","10",2,1400000,26000,100,2,1426102,"SUCHOŻEBRY",1800.75]
["","",null,null,null,null,null,null,null,null,null,null,null,null,null,null,null,null,null,null,null,null,null,null,null,null,null,null,null,null,null,"14","27","02",2,1400000,27000,20,2,1427022,"GOZDOWO",1115.76]
[1021032,"  Dmosin..........................................................................................................................................................................................................................................................",10019,"",100,null,null,null,null,null,null,null,null,null,null,null,null,null,null,null,null,null,null,null,null,null,null,null,null,null,null,"14","27","06",2,1400000,27000,60,2,1427062,"SZCZUTOWO",946.67]
["","",null,null,null,null,null,null,null,null,null,null,null,null,null,null,null,null,null,null,null,null,null,null,null,null,null,null,null,null,null,"14","28","03",2,1400000,28000,30,2,1428032,"IŁÓW",1769.04]
[1002011,"  Kutno..........................................................................................................................................................................................................................................................",3359,"",34,null,null,null,null,null,null,null,null,null,null,null,null,null,null,null,null,null,null,null,null,null,null,null,null,null,null,"14","28","04",2,1400000,28000,40,2,1428042,"MŁODZIESZYN",1459.73]
[1002062,"  Kutno..........................................................................................................................................................................................................................................................",12231,"",122,null,null,null,null,null,null,null,null,null,null,null,null,null,null,null,null,null,null,null,null,null,null,null,null,null,null,"14","29","01",1,1400000,29000,10,1,1429011,"SOKOŁÓW PODLASKI",2249.7399999999998]
[1002092,"  Oporów..........................................................................................................................................................................................................................................................",6785,"",68,null,null,null,null,null,null,null,null,null,null,null,null,null,null,null,null,null,null,null,null,null,null,null,null,null,null,"14","29","04",2,1400000,29000,40,2,1429042,"JABŁONNA LACKA",1504.88]
[1002113,"  Żychlin..........................................................................................................................................................................................................................................................",7664,"",77,null,null,null,null,null,null,null,null,null,null,null,null,null,null,null,null,null,null,null,null,null,null,null,null,null,null,"14","30","01",2,1400000,30000,10,2,1430012,"CHLEWISKA",909.47]
[1002114,"",868,"",9,null,null,null,null,null,null,null,null,null,null,null,null,null,null,null,null,null,null,null,null,null,null,null,null,null,null,"14","30","02",2,1400000,30000,20,2,1430022,"JASTRZĄB",1175.58]
[1003032,"  Sędziejowice..........................................................................................................................................................................................................................................................",12004,"",120,null,null,null,null,null,null,null,null,null,null,null,null,null,null,null,null,null,null,null,null,null,null,null,null,null,null,"14","32","02",2,1400000,32000,20,2,1432022,"IZABELIN",4339.59]
[1003023,"  Łask..........................................................................................................................................................................................................................................................",14537,"",145,null,null,null,null,null,null,null,null,null,null,null,null,null,null,null,null,null,null,null,null,null,null,null,null,null,null,"14","32","06",3,1400000,32000,60,3,1432063,"OŻARÓW MAZOWIECKI",5124.3500000000004]
["","",null,null,null,null,null,null,null,null,null,null,null,null,null,null,null,null,null,null,null,null,null,null,null,null,null,null,null,null,null,"14","33","03",2,1400000,33000,30,2,1433032,"KORYTNICA",1836.31]
[1004011,"  Łęczyca..........................................................................................................................................................................................................................................................",895,"↓",9,null,null,null,null,null,null,null,null,null,null,null,null,null,null,null,null,null,null,null,null,null,null,null,null,null,null,"14","33","04",2,1400000,33000,40,2,1433042,"LIW",1715.46]
[1004052,"  Łęczyca..........................................................................................................................................................................................................................................................",15057,"",151,null,null,null,null,null,null,null,null,null,null,null,null,null,null,null,null,null,null,null,null,null,null,null,null,null,null,"14","33","09",2,1400000,33000,90,2,1433092,"WIERZBNO",1567.68]
[1004082,"  Witonia..........................................................................................................................................................................................................................................................",6045,"",60,null,null,null,null,null,null,null,null,null,null,null,null,null,null,null,null,null,null,null,null,null,null,null,null,null,null,"14","34","03",1,1400000,34000,30,1,1434031,"ZĄBKI",2227.0700000000002]
[1005032,"  Chąśno..........................................................................................................................................................................................................................................................",7183,"",72,null,null,null,null,null,null,null,null,null,null,null,null,null,null,null,null,null,null,null,null,null,null,null,null,null,null,"14","34","09",3,1400000,34000,90,3,1434093,"RADZYMIN",2979.33]
[1005042,"  Domaniewice..........................................................................................................................................................................................................................................................",8617,"",86,null,null,null,null,null,null,null,null,null,null,null,null,null,null,null,null,null,null,null,null,null,null,null,null,null,null,"14","34","10",2,1400000,34000,100,2,1434102,"STRACHÓWKA",1384.02]
[1005092,"  Nieborów..........................................................................................................................................................................................................................................................",10390,"",104,null,null,null,null,null,null,null,null,null,null,null,null,null,null,null,null,null,null,null,null,null,null,null,null,null,null,"14","35","03",2,1400000,35000,30,2,1435032,"RZĄŚNIK",1264.78]
[1006022,"  Andrespol..........................................................................................................................................................................................................................................................",2574,"",25,null,null,null,null,null,null,null,null,null,null,null,null,null,null,null,null,null,null,null,null,null,null,null,null,null,null,"14","36","01",2,1400000,36000,10,2,1436012,"KAZANÓW",689.02]
[1006073,"  Koluszki..........................................................................................................................................................................................................................................................",15480,"",155,null,null,null,null,null,null,null,null,null,null,null,null,null,null,null,null,null,null,null,null,null,null,null,null,null,null,"14","36","05",3,1400000,36000,50,3,1436053,"ZWOLEŃ",1437.95]
[1006074,"",990,"",11,null,null,null,null,null,null,null,null,null,null,null,null,null,null,null,null,null,null,null,null,null,null,null,null,null,null,"14","37","01",3,1400000,37000,10,3,1437013,"BIEŻUŃ",1504.6]
[1006113,"  Tuszyn..........................................................................................................................................................................................................................................................",12990,"",130,null,null,null,null,null,null,null,null,null,null,null,null,null,null,null,null,null,null,null,null,null,null,null,null,null,null,"14","37","06",3,1400000,37000,60,3,1437063,"ŻUROMIN",1394.68]
["","Powiat opoczyński  (8 gmin)",null,null,null,null,null,null,null,null,null,null,null,null,null,null,null,null,null,null,null,null,null,null,null,null,null,null,null,null,null,"14","38","03",2,1400000,38000,30,2,1438032,"PUSZCZA MARIAŃSKA",1436.45]
[1007072,"  Sławno..........................................................................................................................................................................................................................................................",12931,"",129,null,null,null,null,null,null,null,null,null,null,null,null,null,null,null,null,null,null,null,null,null,null,null,null,null,null,"14","64","01",1,1400000,64000,10,1,1464011,"Siedlce",2130.2600000000002]
[1007082,"  Żarnów..........................................................................................................................................................................................................................................................",14106,"",141,null,null,null,null,null,null,null,null,null,null,null,null,null,null,null,null,null,null,null,null,null,null,null,null,null,null,"14","65","01",1,1400000,65000,10,1,1465011,"m. st. Warszawa",4354.24]
[1007043,"  Opoczno..........................................................................................................................................................................................................................................................",19064,"",191,null,null,null,null,null,null,null,null,null,null,null,null,null,null,null,null,null,null,null,null,null,null,null,null,null,null,"16","01","05",2,1600000,1000,50,2,1601052,"LUBSZA",1683.04]
["","",null,null,null,null,null,null,null,null,null,null,null,null,null,null,null,null,null,null,null,null,null,null,null,null,null,null,null,null,null,"16","02","03",3,1600000,2000,30,3,1602033,"GŁUBCZYCE",1704.71]
[1008032,"  Dłutów..........................................................................................................................................................................................................................................................",10123,"",101,null,null,null,null,null,null,null,null,null,null,null,null,null,null,null,null,null,null,null,null,null,null,null,null,null,null,"16","03","03",2,1600000,3000,30,2,1603032,"CISEK",1389.33]
[1008042,"  Dobroń..........................................................................................................................................................................................................................................................",9546,"",95,null,null,null,null,null,null,null,null,null,null,null,null,null,null,null,null,null,null,null,null,null,null,null,null,null,null,"16","03","04",2,1600000,3000,40,2,1603042,"PAWŁOWICZKI",1538.42]
["","",null,null,null,null,null,null,null,null,null,null,null,null,null,null,null,null,null,null,null,null,null,null,null,null,null,null,null,null,null,"16","04","03",2,1600000,4000,30,2,1604032,"LASOWICE WIELKIE",1098.45]
[1009052,"  Rząśnia..........................................................................................................................................................................................................................................................",8614,"",86,null,null,null,null,null,null,null,null,null,null,null,null,null,null,null,null,null,null,null,null,null,null,null,null,null,null,"16","05","02",3,1600000,5000,20,3,1605023,"KRAPKOWICE",2012.06]
[1009014,"",494,"",5,null,null,null,null,null,null,null,null,null,null,null,null,null,null,null,null,null,null,null,null,null,null,null,null,null,null,"16","06","03",2,1600000,6000,30,2,1606032,"POKÓJ",1433.74]
[1009015,"",11598,"",116,null,null,null,null,null,null,null,null,null,null,null,null,null,null,null,null,null,null,null,null,null,null,null,null,null,null,"16","06","04",2,1600000,6000,40,2,1606042,"ŚWIERCZÓW",1521.71]
["","",null,null,null,null,null,null,null,null,null,null,null,null,null,null,null,null,null,null,null,null,null,null,null,null,null,null,null,null,null,"16","07","04",2,1600000,7000,40,2,1607042,"ŁAMBINOWICE",1397.35]
[1010042,"  Grabica..........................................................................................................................................................................................................................................................",12762,"",128,null,null,null,null,null,null,null,null,null,null,null,null,null,null,null,null,null,null,null,null,null,null,null,null,null,null,"16","07","08",2,1600000,7000,80,2,1607082,"PAKOSŁAWICE",1542.22]
[1010082,"  Rozprza..........................................................................................................................................................................................................................................................",16308,"",163,null,null,null,null,null,null,null,null,null,null,null,null,null,null,null,null,null,null,null,null,null,null,null,null,null,null,"16","08","03",3,1600000,8000,30,3,1608033,"OLESNO",1601.74]
[1010102,"  Wola Krzysztoporska..........................................................................................................................................................................................................................................................",17075,"",171,null,null,null,null,null,null,null,null,null,null,null,null,null,null,null,null,null,null,null,null,null,null,null,null,null,null,"16","08","04",3,1600000,8000,40,3,1608043,"PRASZKA",1779.48]
[1010113,"  Wolbórz..........................................................................................................................................................................................................................................................",15166,"",152,null,null,null,null,null,null,null,null,null,null,null,null,null,null,null,null,null,null,null,null,null,null,null,null,null,null,"16","09","02",2,1600000,9000,20,2,1609022,"DĄBROWA",1971.85]
["","Powiat poddębicki  (6 gmin)",null,null,null,null,null,null,null,null,null,null,null,null,null,null,null,null,null,null,null,null,null,null,null,null,null,null,null,null,null,"16","09","05",2,1600000,9000,50,2,1609052,"ŁUBNIANY",1759.56]
["","",null,null,null,null,null,null,null,null,null,null,null,null,null,null,null,null,null,null,null,null,null,null,null,null,null,null,null,null,null,"16","09","11",2,1600000,9000,110,2,1609112,"TARNÓW OPOLSKI",1885.75]
[1011033,"  Poddębice..........................................................................................................................................................................................................................................................",22454,"",225,null,null,null,null,null,null,null,null,null,null,null,null,null,null,null,null,null,null,null,null,null,null,null,null,null,null,"16","09","12",3,1600000,9000,120,3,1609123,"TUŁOWICE",1856.18]
[1011045,"",11678,"",117,null,null,null,null,null,null,null,null,null,null,null,null,null,null,null,null,null,null,null,null,null,null,null,null,null,null,"16","10","04",3,1600000,10000,40,3,1610043,"PRUDNIK",1366.38]
["","",null,null,null,null,null,null,null,null,null,null,null,null,null,null,null,null,null,null,null,null,null,null,null,null,null,null,null,null,null,"16","11","04",3,1600000,11000,40,3,1611043,"LEŚNICA",2034.53]
[1012062,"  Kobiele Wielkie..........................................................................................................................................................................................................................................................",10172,"",102,null,null,null,null,null,null,null,null,null,null,null,null,null,null,null,null,null,null,null,null,null,null,null,null,null,null,"16","61","01",1,1600000,61000,10,1,1661011,"Opole",3032.59]
[1012072,"  Kodrąb..........................................................................................................................................................................................................................................................",10583,"",106,null,null,null,null,null,null,null,null,null,null,null,null,null,null,null,null,null,null,null,null,null,null,null,null,null,null,"18","01","03",2,1800000,1000,30,2,1801032,"CZARNA",1410.81]
[1012132,"  Wielgomłyny..........................................................................................................................................................................................................................................................",12315,"",123,null,null,null,null,null,null,null,null,null,null,null,null,null,null,null,null,null,null,null,null,null,null,null,null,null,null,"18","02","03",2,1800000,2000,30,2,1802032,"DYDNIA",924.44]
[1012053,"  Kamieńsk..........................................................................................................................................................................................................................................................",9644,"",96,null,null,null,null,null,null,null,null,null,null,null,null,null,null,null,null,null,null,null,null,null,null,null,null,null,null,"18","02","06",2,1800000,2000,60,2,1802062,"NOZDRZEC",714.75]
["","Powiat rawski  (6 gmin)",null,null,null,null,null,null,null,null,null,null,null,null,null,null,null,null,null,null,null,null,null,null,null,null,null,null,null,null,null,"18","03","06",3,1800000,3000,60,3,1803063,"PILZNO",1584.84]
["","",null,null,null,null,null,null,null,null,null,null,null,null,null,null,null,null,null,null,null,null,null,null,null,null,null,null,null,null,null,"18","03","07",2,1800000,3000,70,2,1803072,"ŻYRAKÓW",1581.84]
[1013052,"  Regnów..........................................................................................................................................................................................................................................................",4635,"",46,null,null,null,null,null,null,null,null,null,null,null,null,null,null,null,null,null,null,null,null,null,null,null,null,null,null,"18","04","05",2,1800000,4000,50,2,1804052,"LASZKI",958.13]
[1013024,"",953,"",9,null,null,null,null,null,null,null,null,null,null,null,null,null,null,null,null,null,null,null,null,null,null,null,null,null,null,"18","04","09",2,1800000,4000,90,2,1804092,"ROKIETNICA",1245.54]
[1014011,"  Sieradz..........................................................................................................................................................................................................................................................",5122,"",51,null,null,null,null,null,null,null,null,null,null,null,null,null,null,null,null,null,null,null,null,null,null,null,null,null,null,"18","05","02",2,1800000,5000,20,2,1805022,"BRZYSKA",772.22]
["","",null,null,null,null,null,null,null,null,null,null,null,null,null,null,null,null,null,null,null,null,null,null,null,null,null,null,null,null,null,"18","05","03",2,1800000,5000,30,2,1805032,"DĘBOWIEC",791.56]
[1014072,"  Klonowa..........................................................................................................................................................................................................................................................",9498,"",95,null,null,null,null,null,null,null,null,null,null,null,null,null,null,null,null,null,null,null,null,null,null,null,null,null,null,"18","05","08",2,1800000,5000,80,2,1805082,"OSIEK JASIELSKI",819.38]
["","",null,null,null,null,null,null,null,null,null,null,null,null,null,null,null,null,null,null,null,null,null,null,null,null,null,null,null,null,null,"18","06","01",2,1800000,6000,10,2,1806012,"CMOLAS",941.37]
[1014095,"",24349,"",243,null,null,null,null,null,null,null,null,null,null,null,null,null,null,null,null,null,null,null,null,null,null,null,null,null,null,"18","07","01",2,1800000,7000,10,2,1807012,"CHORKÓWKA",1122.78]
[1014113,"  Złoczew..........................................................................................................................................................................................................................................................",11726,"",117,null,null,null,null,null,null,null,null,null,null,null,null,null,null,null,null,null,null,null,null,null,null,null,null,null,null,"18","07","02",3,1800000,7000,20,3,1807023,"DUKLA",1133.7]
[1015012,"  Bolimów..........................................................................................................................................................................................................................................................",11171,"",112,null,null,null,null,null,null,null,null,null,null,null,null,null,null,null,null,null,null,null,null,null,null,null,null,null,null,"18","07","07",2,1800000,7000,70,2,1807072,"MIEJSCE PIASTOWE",1095.44]
[1015052,"  Lipce Reymontowskie..........................................................................................................................................................................................................................................................",4291,"",43,null,null,null,null,null,null,null,null,null,null,null,null,null,null,null,null,null,null,null,null,null,null,null,null,null,null,"18","08","01",1,1800000,8000,10,1,1808011,"LEŻAJSK",1705.01]
[1015092,"  Słupia..........................................................................................................................................................................................................................................................",4109,"",41,null,null,null,null,null,null,null,null,null,null,null,null,null,null,null,null,null,null,null,null,null,null,null,null,null,null,"18","08","05",3,{"$f":"AF1416*100000","v":1800000},{"$f":"AG1416*1000","v":8000},{"$f":"AH1416*10","v":50},{"$f":"AI1416*1","v":3},{"$f":"SUM(AJ1416:AM1416)","v":1808053},"NOWA SARZYNA",1202.03]
["","Powiat tomaszowski  (11 gmin)",null,null,null,null,null,null,null,null,null,null,null,null,null,null,null,null,null,null,null,null,null,null,null,null,null,null,null,null,null,"18","09","01",1,1800000,9000,10,1,1809011,"LUBACZÓW",1406.16]
[1016032,"  Budziszewice..........................................................................................................................................................................................................................................................",3017,"",30,null,null,null,null,null,null,null,null,null,null,null,null,null,null,null,null,null,null,null,null,null,null,null,null,null,null,"18","09","06",3,1800000,9000,60,3,1809063,"OLESZYCE",1248.46]
[1016062,"  Lubochnia..........................................................................................................................................................................................................................................................",13137,"",131,null,null,null,null,null,null,null,null,null,null,null,null,null,null,null,null,null,null,null,null,null,null,null,null,null,null,"18","10","01",1,1800000,10000,10,1,1810011,"ŁAŃCUT",2159.85]
["","Powiat wieluński  (10 gmin)",null,null,null,null,null,null,null,null,null,null,null,null,null,null,null,null,null,null,null,null,null,null,null,null,null,null,null,null,null,"18","10","07",2,1800000,10000,70,2,1810072,"ŻOŁYNIA",1266.8800000000001]
["","",null,null,null,null,null,null,null,null,null,null,null,null,null,null,null,null,null,null,null,null,null,null,null,null,null,null,null,null,null,"18","11","01",1,1800000,11000,10,1,1811011,"MIELEC",2406.8000000000002]
[1017052,"  Osjaków..........................................................................................................................................................................................................................................................",10109,"",101,null,null,null,null,null,null,null,null,null,null,null,null,null,null,null,null,null,null,null,null,null,null,null,null,null,null,"18","11","06",2,1800000,11000,60,2,1811062,"PADEW NARODOWA",1202.6300000000001]
[1017102,"  Wierzchlas..........................................................................................................................................................................................................................................................",11895,"",118,null,null,null,null,null,null,null,null,null,null,null,null,null,null,null,null,null,null,null,null,null,null,null,null,null,null,"18","11","10",2,1800000,11000,100,2,1811102,"WADOWICE GÓRNE",1222.47]
[1017095,"",11377,"",114,null,null,null,null,null,null,null,null,null,null,null,null,null,null,null,null,null,null,null,null,null,null,null,null,null,null,"18","12","04",2,1800000,12000,40,2,1812042,"KRZESZÓW",998.62]
["","Powiat wieruszowski  (7 gmin)",null,null,null,null,null,null,null,null,null,null,null,null,null,null,null,null,null,null,null,null,null,null,null,null,null,null,null,null,null,"18","12","05",3,1800000,12000,50,3,1812053,"NISKO",1626.17]
[1018042,"  Lututów..........................................................................................................................................................................................................................................................",7612,"",76,null,null,null,null,null,null,null,null,null,null,null,null,null,null,null,null,null,null,null,null,null,null,null,null,null,null,"18","13","03",2,1800000,13000,30,2,1813032,"FREDROPOL",1007.78]
["","",null,null,null,null,null,null,null,null,null,null,null,null,null,null,null,null,null,null,null,null,null,null,null,null,null,null,null,null,null,"18","13","06",2,1800000,13000,60,2,1813062,"MEDYKA",1145.45]
[1019011,"  Zduńska Wola..........................................................................................................................................................................................................................................................",2457,"",25,null,null,null,null,null,null,null,null,null,null,null,null,null,null,null,null,null,null,null,null,null,null,null,null,null,null,"18","14","02",2,1800000,14000,20,2,1814022,"ADAMÓWKA",936.1]
["","",null,null,null,null,null,null,null,null,null,null,null,null,null,null,null,null,null,null,null,null,null,null,null,null,null,null,null,null,null,"18","14","03",2,1800000,14000,30,2,1814032,"GAĆ",1067.9100000000001]
[1019024,"",1793,"",17,null,null,null,null,null,null,null,null,null,null,null,null,null,null,null,null,null,null,null,null,null,null,null,null,null,null,"18","14","08",2,1800000,14000,80,2,1814082,"TRYŃCZA",1418.12]
[1020011,"  Głowno..........................................................................................................................................................................................................................................................",1984,"",20,null,null,null,null,null,null,null,null,null,null,null,null,null,null,null,null,null,null,null,null,null,null,null,null,null,null,"18","15","03",3,1800000,15000,30,3,1815033,"ROPCZYCE",1542.02]
[1020062,"  Ozorków..........................................................................................................................................................................................................................................................",9551,"",96,null,null,null,null,null,null,null,null,null,null,null,null,null,null,null,null,null,null,null,null,null,null,null,null,null,null,"18","16","03",3,1800000,16000,30,3,1816033,"BOGUCHWAŁA",1606.52]
[1020072,"  Parzęczew..........................................................................................................................................................................................................................................................",10389,"",104,null,null,null,null,null,null,null,null,null,null,null,null,null,null,null,null,null,null,null,null,null,null,null,null,null,null,"18","16","04",2,1800000,16000,40,2,1816042,"CHMIELNIK",1245.78]
[1020044,"",1382,"",14,null,null,null,null,null,null,null,null,null,null,null,null,null,null,null,null,null,null,null,null,null,null,null,null,null,null,"18","16","08",2,{"$f":"AF1480*100000","v":1800000},{"$f":"AG1480*1000","v":16000},{"$f":"AH1480*10","v":80},{"$f":"AI1480*1","v":2},{"$f":"SUM(AJ1480:AM1480)","v":1816082},"KAMIEŃ",1047.3699999999999]
[1020084,"",815,"",8,null,null,null,null,null,null,null,null,null,null,null,null,null,null,null,null,null,null,null,null,null,null,null,null,null,null,"18","16","11",3,1800000,16000,110,3,1816113,"SOKOŁÓW MAŁOPOLSKI",1043.52]
["","WOJ. MAŁOPOLSKIE",null,null,null,null,null,null,null,null,null,null,null,null,null,null,null,null,null,null,null,null,null,null,null,null,null,null,null,null,null,"18","17","03",2,1800000,17000,30,2,1817032,"BUKOWSKO",1110.18]
["","Powiat bocheński  (9 gmin)",null,null,null,null,null,null,null,null,null,null,null,null,null,null,null,null,null,null,null,null,null,null,null,null,null,null,null,null,null,"18","17","04",2,1800000,17000,40,2,1817042,"KOMAŃCZA",1395.36]
[1201032,"  Drwinia..........................................................................................................................................................................................................................................................",10833,"",108,null,null,null,null,null,null,null,null,null,null,null,null,null,null,null,null,null,null,null,null,null,null,null,null,null,null,"18","18","01",1,1800000,18000,10,1,1818011,"STALOWA WOLA",2254.35]
[1201082,"  Trzciana..........................................................................................................................................................................................................................................................",4409,"",44,null,null,null,null,null,null,null,null,null,null,null,null,null,null,null,null,null,null,null,null,null,null,null,null,null,null,"18","18","05",3,1800000,18000,50,3,1818053,"ZAKLIKÓW",1161.67]
[1201065,"",7719,"",77,null,null,null,null,null,null,null,null,null,null,null,null,null,null,null,null,null,null,null,null,null,null,null,null,null,null,"18","19","04",3,1800000,19000,40,3,1819043,"STRZYŻÓW",1091.76]
["","Powiat brzeski  (7 gmin)",null,null,null,null,null,null,null,null,null,null,null,null,null,null,null,null,null,null,null,null,null,null,null,null,null,null,null,null,null,"18","19","05",2,1800000,19000,50,2,1819052,"WIŚNIOWA",833.3]
[1202052,"  Gnojnik..........................................................................................................................................................................................................................................................",5499,"",55,null,null,null,null,null,null,null,null,null,null,null,null,null,null,null,null,null,null,null,null,null,null,null,null,null,null,"18","20","04",3,1800000,20000,40,3,1820043,"NOWA DĘBA",1760.01]
["","",null,null,null,null,null,null,null,null,null,null,null,null,null,null,null,null,null,null,null,null,null,null,null,null,null,null,null,null,null,"18","21","03",3,1800000,21000,30,3,1821033,"LESKO",1165.95]
[1202035,"",5234,"",52,null,null,null,null,null,null,null,null,null,null,null,null,null,null,null,null,null,null,null,null,null,null,null,null,null,null,"18","64","01",1,1800000,64000,10,1,1864011,"Tarnobrzeg",1526.09]
["","Powiat chrzanowski  (5 gmin)",null,null,null,null,null,null,null,null,null,null,null,null,null,null,null,null,null,null,null,null,null,null,null,null,null,null,null,null,null,"20","01","01",1,2000000,1000,10,1,2001011,"AUGUSTÓW",1936.89]
[1203015,"",6529,"",65,null,null,null,null,null,null,null,null,null,null,null,null,null,null,null,null,null,null,null,null,null,null,null,null,null,null,"20","01","07",2,2000000,1000,70,2,2001072,"SZTABIN",894.64]
[1203035,"",4112,"",41,null,null,null,null,null,null,null,null,null,null,null,null,null,null,null,null,null,null,null,null,null,null,null,null,null,null,"20","02","03",2,2000000,2000,30,2,2002032,"DOBRZYNIEWO DUŻE",1511.53]
[1203054,"",3194,"",32,null,null,null,null,null,null,null,null,null,null,null,null,null,null,null,null,null,null,null,null,null,null,null,null,null,null,"20","02","08",2,2000000,2000,80,2,2002082,"POŚWIĘTNE",1297.48]
[1203055,"",7346,"",73,null,null,null,null,null,null,null,null,null,null,null,null,null,null,null,null,null,null,null,null,null,null,null,null,null,null,"20","02","09",3,2000000,2000,90,3,2002093,"SUPRAŚL",2584.4]
[1204032,"  Gręboszów..........................................................................................................................................................................................................................................................",4851,"",49,null,null,null,null,null,null,null,null,null,null,null,null,null,null,null,null,null,null,null,null,null,null,null,null,null,null,"20","02","13",3,2000000,2000,130,3,2002133,"WASILKÓW",2216.84]
[1204062,"  Radgoszcz..........................................................................................................................................................................................................................................................",8810,"",88,null,null,null,null,null,null,null,null,null,null,null,null,null,null,null,null,null,null,null,null,null,null,null,null,null,null,"20","03","01",1,2000000,3000,10,1,2003011,"BIELSK PODLASKI",1936.78]
[1204074,"",685,"",7,null,null,null,null,null,null,null,null,null,null,null,null,null,null,null,null,null,null,null,null,null,null,null,null,null,null,"20","03","07",2,2000000,3000,70,2,2003072,"RUDKA",814.16]
[1204075,"",11263,"",112,null,null,null,null,null,null,null,null,null,null,null,null,null,null,null,null,null,null,null,null,null,null,null,null,null,null,"20","03","08",2,2000000,3000,80,2,2003082,"WYSZKI",958.24]
[1205052,"  Lipinki..........................................................................................................................................................................................................................................................",6646,"",66,null,null,null,null,null,null,null,null,null,null,null,null,null,null,null,null,null,null,null,null,null,null,null,null,null,null,"20","04","06",2,2000000,4000,60,2,2004062,"WĄSOSZ",1085.1099999999999]
[1205082,"  Ropa..........................................................................................................................................................................................................................................................",4911,"",49,null,null,null,null,null,null,null,null,null,null,null,null,null,null,null,null,null,null,null,null,null,null,null,null,null,null,"20","05","03",2,2000000,5000,30,2,2005032,"CZEREMCHA",1322.98]
[1205024,"",1771,"",17,null,null,null,null,null,null,null,null,null,null,null,null,null,null,null,null,null,null,null,null,null,null,null,null,null,null,"20","05","08",2,2000000,5000,80,2,2005082,"NAREW",2328.09]
[1205025,"",8054,"",81,null,null,null,null,null,null,null,null,null,null,null,null,null,null,null,null,null,null,null,null,null,null,null,null,null,null,"20","05","09",2,2000000,5000,90,2,2005092,"NAREWKA",2400.16]
["","Powiat krakowski  (17 gmin)",null,null,null,null,null,null,null,null,null,null,null,null,null,null,null,null,null,null,null,null,null,null,null,null,null,null,null,null,null,"20","06","04",2,2000000,6000,40,2,2006042,"MAŁY PŁOCK",738.84]
[1206022,"  Igołomia-Wawrzeńczyce..........................................................................................................................................................................................................................................................",6279,"",63,null,null,null,null,null,null,null,null,null,null,null,null,null,null,null,null,null,null,null,null,null,null,null,null,null,null,"20","07","01",3,2000000,7000,10,3,2007013,"JEDWABNE",1050.31]
[1206092,"  Mogilany..........................................................................................................................................................................................................................................................",4363,"",44,null,null,null,null,null,null,null,null,null,null,null,null,null,null,null,null,null,null,null,null,null,null,null,null,null,null,"20","07","07",2,2000000,7000,70,2,2007072,"ŚNIADOWO",1111.79]
[1206132,"  Sułoszowa..........................................................................................................................................................................................................................................................",5338,"",53,null,null,null,null,null,null,null,null,null,null,null,null,null,null,null,null,null,null,null,null,null,null,null,null,null,null,"20","07","08",2,2000000,7000,80,2,2007082,"WIZNA",851.03]
[1206064,"",1697,"",18,null,null,null,null,null,null,null,null,null,null,null,null,null,null,null,null,null,null,null,null,null,null,null,null,null,null,"20","08","05",2,2000000,8000,50,2,2008052,"KRYPNO",672.17]
[1206104,"",297,"",3,null,null,null,null,null,null,null,null,null,null,null,null,null,null,null,null,null,null,null,null,null,null,null,null,null,null,"20","09","01",1,2000000,9000,10,1,2009011,"SEJNY",1335.04]
[1206123,"  Słomniki..........................................................................................................................................................................................................................................................",11298,"",113,null,null,null,null,null,null,null,null,null,null,null,null,null,null,null,null,null,null,null,null,null,null,null,null,null,null,"20","10","01",1,2000000,10000,10,1,2010011,"SIEMIATYCZE",1822.09]
[1206124,"",343,"",3,null,null,null,null,null,null,null,null,null,null,null,null,null,null,null,null,null,null,null,null,null,null,null,null,null,null,"20","10","02",3,2000000,10000,20,3,2010023,"DROHICZYN",1194.5999999999999]
[1206145,"",1591,"",16,null,null,null,null,null,null,null,null,null,null,null,null,null,null,null,null,null,null,null,null,null,null,null,null,null,null,"20","10","06",2,2000000,10000,60,2,2010062,"MILEJCZYCE",1177.6600000000001]
[1207021,"  Mszana Dolna..........................................................................................................................................................................................................................................................",2710,"",27,null,null,null,null,null,null,null,null,null,null,null,null,null,null,null,null,null,null,null,null,null,null,null,null,null,null,"20","11","01",3,2000000,11000,10,3,2011013,"DĄBROWA BIAŁOSTOCKA",1006.14]
[1207062,"  Laskowa..........................................................................................................................................................................................................................................................",7248,"",72,null,null,null,null,null,null,null,null,null,null,null,null,null,null,null,null,null,null,null,null,null,null,null,null,null,null,"20","11","06",2,2000000,11000,60,2,2011062,"NOWY DWÓR",663.01]
[1207072,"  Limanowa..........................................................................................................................................................................................................................................................",15223,"",152,null,null,null,null,null,null,null,null,null,null,null,null,null,null,null,null,null,null,null,null,null,null,null,null,null,null,"20","11","07",2,2000000,11000,70,2,2011072,"SIDRA",992.3]
["","Powiat miechowski  (7 gmin)",null,null,null,null,null,null,null,null,null,null,null,null,null,null,null,null,null,null,null,null,null,null,null,null,null,null,null,null,null,"20","12","03",2,2000000,12000,30,2,2012032,"JELENIEWO",1507.72]
[1208022,"  Gołcza..........................................................................................................................................................................................................................................................",9002,"",90,null,null,null,null,null,null,null,null,null,null,null,null,null,null,null,null,null,null,null,null,null,null,null,null,null,null,"20","12","06",2,2000000,12000,60,2,2012062,"RUTKA-TARTAK",897.05]
["","",null,null,null,null,null,null,null,null,null,null,null,null,null,null,null,null,null,null,null,null,null,null,null,null,null,null,null,null,null,"20","13","02",3,2000000,13000,20,3,2013023,"CIECHANOWIEC",1092.68]
[1208053,"  Miechów..........................................................................................................................................................................................................................................................",14836,"",148,null,null,null,null,null,null,null,null,null,null,null,null,null,null,null,null,null,null,null,null,null,null,null,null,null,null,"20","13","03",3,2000000,13000,30,3,2013033,"CZYŻEW",1755.03]
["","",null,null,null,null,null,null,null,null,null,null,null,null,null,null,null,null,null,null,null,null,null,null,null,null,null,null,null,null,null,"20","13","07",2,2000000,13000,70,2,2013072,"NOWE PIEKUTY",1069.6500000000001]
[1209062,"  Siepraw..........................................................................................................................................................................................................................................................",3185,"",32,null,null,null,null,null,null,null,null,null,null,null,null,null,null,null,null,null,null,null,null,null,null,null,null,null,null,"20","14","01",1,2000000,14000,10,1,2014011,"ZAMBRÓW",1396.25]
[1209014,"",1297,"",14,null,null,null,null,null,null,null,null,null,null,null,null,null,null,null,null,null,null,null,null,null,null,null,null,null,null,"20","61","01",1,2000000,61000,10,1,2061011,"Białystok",1993.57]
[1209015,"",5342,"",52,null,null,null,null,null,null,null,null,null,null,null,null,null,null,null,null,null,null,null,null,null,null,null,null,null,null,"20","62","01",1,2000000,62000,10,1,2062011,"Łomża",1729.66]
[1209075,"",4392,"",44,null,null,null,null,null,null,null,null,null,null,null,null,null,null,null,null,null,null,null,null,null,null,null,null,null,null,"22","01","05",2,2200000,1000,50,2,2201052,"LIPNICA",1730.48]
[1210011,"  Grybów..........................................................................................................................................................................................................................................................",1695,"↓",17,null,null,null,null,null,null,null,null,null,null,null,null,null,null,null,null,null,null,null,null,null,null,null,null,null,null,"22","01","08",2,2200000,1000,80,2,2201082,"STUDZIENICE",1878.24]
[1210052,"  Kamionka Wielka..........................................................................................................................................................................................................................................................",6498,"",65,null,null,null,null,null,null,null,null,null,null,null,null,null,null,null,null,null,null,null,null,null,null,null,null,null,null,"22","02","03",2,2200000,2000,30,2,2202032,"CHOJNICE",2508.66]
[1210062,"  Korzenna..........................................................................................................................................................................................................................................................",10695,"",107,null,null,null,null,null,null,null,null,null,null,null,null,null,null,null,null,null,null,null,null,null,null,null,null,null,null,"22","02","04",3,2200000,2000,40,3,2202043,"CZERSK",1332.03]
[1210122,"  Nawojowa..........................................................................................................................................................................................................................................................",5021,"",50,null,null,null,null,null,null,null,null,null,null,null,null,null,null,null,null,null,null,null,null,null,null,null,null,null,null,"22","03","03",2,2200000,3000,30,2,2203032,"CZŁUCHÓW",1463.85]
[1210073,"  Krynica-Zdrój..........................................................................................................................................................................................................................................................",14513,"",145,null,null,null,null,null,null,null,null,null,null,null,null,null,null,null,null,null,null,null,null,null,null,null,null,null,null,"22","03","07",2,2200000,3000,70,2,2203072,"RZECZENICA",1658.05]
[1210115,"",11701,"",117,null,null,null,null,null,null,null,null,null,null,null,null,null,null,null,null,null,null,null,null,null,null,null,null,null,null,"22","04","05",2,2200000,4000,50,2,2204052,"PRZYWIDZ",1379.07]
[1210133,"  Piwniczna-Zdrój..........................................................................................................................................................................................................................................................",12646,"",126,null,null,null,null,null,null,null,null,null,null,null,null,null,null,null,null,null,null,null,null,null,null,null,null,null,null,"22","04","06",2,2200000,4000,60,2,2204062,"PSZCZÓŁKI",1839.41]
["","Powiat nowotarski  (14 gmin)",null,null,null,null,null,null,null,null,null,null,null,null,null,null,null,null,null,null,null,null,null,null,null,null,null,null,null,null,null,"22","05","04",2,2200000,5000,40,2,2205042,"SIERAKOWICE",1322.2]
["","",null,null,null,null,null,null,null,null,null,null,null,null,null,null,null,null,null,null,null,null,null,null,null,null,null,null,null,null,null,"22","05","07",2,2200000,5000,70,2,2205072,"SULĘCZYNO",1536.03]
[1211072,"  Lipnica Wielka..........................................................................................................................................................................................................................................................",6736,"",67,null,null,null,null,null,null,null,null,null,null,null,null,null,null,null,null,null,null,null,null,null,null,null,null,null,null,"22","06","04",2,2200000,6000,40,2,2206042,"KOŚCIERZYNA",2042.81]
[1211082,"  Łapsze Niżne..........................................................................................................................................................................................................................................................",12579,"",126,null,null,null,null,null,null,null,null,null,null,null,null,null,null,null,null,null,null,null,null,null,null,null,null,null,null,"22","06","05",2,2200000,6000,50,2,2206052,"LINIEWO",1367.64]
[1211132,"  Spytkowice..........................................................................................................................................................................................................................................................",3218,"",32,null,null,null,null,null,null,null,null,null,null,null,null,null,null,null,null,null,null,null,null,null,null,null,null,null,null,"22","07","01",1,2200000,7000,10,1,2207011,"KWIDZYN",2514.2199999999998]
[1211124,"",3631,"",36,null,null,null,null,null,null,null,null,null,null,null,null,null,null,null,null,null,null,null,null,null,null,null,null,null,null,"22","07","05",2,2200000,7000,50,2,2207052,"RYJEWO",1002.84]
["","Powiat olkuski  (6 gmin)",null,null,null,null,null,null,null,null,null,null,null,null,null,null,null,null,null,null,null,null,null,null,null,null,null,null,null,null,null,"22","08","04",2,2200000,8000,40,2,2208042,"NOWA WIEŚ LĘBORSKA",1604.41]
["","",null,null,null,null,null,null,null,null,null,null,null,null,null,null,null,null,null,null,null,null,null,null,null,null,null,null,null,null,null,"22","08","05",2,2200000,8000,50,2,2208052,"WICKO",2435.3000000000002]
["","",null,null,null,null,null,null,null,null,null,null,null,null,null,null,null,null,null,null,null,null,null,null,null,null,null,null,null,null,null,"22","09","08",2,2200000,9000,80,2,2209082,"STARE POLE",2262.65]
[1212055,"",12515,"",126,null,null,null,null,null,null,null,null,null,null,null,null,null,null,null,null,null,null,null,null,null,null,null,null,null,null,"22","10","03",2,2200000,10000,30,2,2210032,"OSTASZEWO",1336.21]
["","",null,null,null,null,null,null,null,null,null,null,null,null,null,null,null,null,null,null,null,null,null,null,null,null,null,null,null,null,null,"22","11","03",1,2200000,11000,30,1,2211031,"PUCK",1739.87]
[1213011,"  Oświęcim..........................................................................................................................................................................................................................................................",3000,"",30,null,null,null,null,null,null,null,null,null,null,null,null,null,null,null,null,null,null,null,null,null,null,null,null,null,null,"22","11","04",3,2200000,11000,40,3,2211043,"WŁADYSŁAWOWO",2632.54]
[1213072,"  Polanka Wielka..........................................................................................................................................................................................................................................................",2389,"",24,null,null,null,null,null,null,null,null,null,null,null,null,null,null,null,null,null,null,null,null,null,null,null,null,null,null,"22","12","01",1,2200000,12000,10,1,2212011,"USTKA",1642.73]
[1213024,"",1904,"",19,null,null,null,null,null,null,null,null,null,null,null,null,null,null,null,null,null,null,null,null,null,null,null,null,null,null,"22","12","05",3,2200000,12000,50,3,2212053,"KĘPICE",1111.8]
[1213043,"  Kęty..........................................................................................................................................................................................................................................................",7608,"",76,null,null,null,null,null,null,null,null,null,null,null,null,null,null,null,null,null,null,null,null,null,null,null,null,null,null,"22","12","10",2,2200000,12000,100,2,2212102,"USTKA",3360.34]
[1213044,"",2305,"",23,null,null,null,null,null,null,null,null,null,null,null,null,null,null,null,null,null,null,null,null,null,null,null,null,null,null,"22","13","01",3,2200000,13000,10,3,2213013,"CZARNA WODA",2284.17]
["","",null,null,null,null,null,null,null,null,null,null,null,null,null,null,null,null,null,null,null,null,null,null,null,null,null,null,null,null,null,"22","13","07",2,2200000,13000,70,2,2213072,"OSIECZNA",1252.53]
[1214062,"  Radziemice..........................................................................................................................................................................................................................................................",5797,"",58,null,null,null,null,null,null,null,null,null,null,null,null,null,null,null,null,null,null,null,null,null,null,null,null,null,null,"22","13","10",2,2200000,13000,100,2,2213102,"SKÓRCZ",1277.98]
[1214033,"  Nowe Brzesko..........................................................................................................................................................................................................................................................",5442,"",54,null,null,null,null,null,null,null,null,null,null,null,null,null,null,null,null,null,null,null,null,null,null,null,null,null,null,"22","14","02",3,{"$f":"AF1736*100000","v":2200000},{"$f":"AG1736*1000","v":14000},{"$f":"AH1736*10","v":20},{"$f":"AI1736*1","v":3},{"$f":"SUM(AJ1736:AM1736)","v":2214023},"GNIEW",1338.93]
[1214034,"",726,"",8,null,null,null,null,null,null,null,null,null,null,null,null,null,null,null,null,null,null,null,null,null,null,null,null,null,null,"22","14","03",2,2200000,14000,30,2,2214032,"MORZESZCZYN",1332.99]
[1214055,"",9269,"",93,null,null,null,null,null,null,null,null,null,null,null,null,null,null,null,null,null,null,null,null,null,null,null,null,null,null,"22","15","01",1,2200000,15000,10,1,2215011,"REDA",1622.7]
[1215021,"  Sucha Beskidzka..........................................................................................................................................................................................................................................................",2765,"",28,null,null,null,null,null,null,null,null,null,null,null,null,null,null,null,null,null,null,null,null,null,null,null,null,null,null,"22","15","05",2,2200000,15000,50,2,2215052,"GNIEWINO",3313.39]
[1215072,"  Stryszawa..........................................................................................................................................................................................................................................................",11381,"",114,null,null,null,null,null,null,null,null,null,null,null,null,null,null,null,null,null,null,null,null,null,null,null,null,null,null,"22","15","10",2,2200000,15000,100,2,2215102,"WEJHEROWO",1870.71]
[1215082,"  Zawoja..........................................................................................................................................................................................................................................................",12878,"",128,null,null,null,null,null,null,null,null,null,null,null,null,null,null,null,null,null,null,null,null,null,null,null,null,null,null,"22","16","01",3,2200000,16000,10,3,2216013,"DZIERZGOŃ",1188.8399999999999]
["","Powiat tarnowski  (16 gmin)",null,null,null,null,null,null,null,null,null,null,null,null,null,null,null,null,null,null,null,null,null,null,null,null,null,null,null,null,null,"22","62","01",1,2200000,62000,10,1,2262011,"Gdynia",2529.29]
[1216032,"  Lisia Góra..........................................................................................................................................................................................................................................................",10432,"",105,null,null,null,null,null,null,null,null,null,null,null,null,null,null,null,null,null,null,null,null,null,null,null,null,null,null,"24","01","01",1,2400000,1000,10,1,2401011,"BĘDZIN",2152.8000000000002]
[1216092,"  Tarnów..........................................................................................................................................................................................................................................................",8272,"",83,null,null,null,null,null,null,null,null,null,null,null,null,null,null,null,null,null,null,null,null,null,null,null,null,null,null,"24","01","06",2,2400000,1000,60,2,2401062,"PSARY",2493.35]
[1216112,"  Wierzchosławice..........................................................................................................................................................................................................................................................",7515,"",75,null,null,null,null,null,null,null,null,null,null,null,null,null,null,null,null,null,null,null,null,null,null,null,null,null,null,"24","01","07",3,2400000,1000,70,3,2401073,"SIEWIERZ",2832.16]
[1216014,"",999,"",11,null,null,null,null,null,null,null,null,null,null,null,null,null,null,null,null,null,null,null,null,null,null,null,null,null,null,"24","02","03",2,2400000,2000,30,2,2402032,"BUCZKOWICE",1735.89]
[1216055,"",6936,"",69,null,null,null,null,null,null,null,null,null,null,null,null,null,null,null,null,null,null,null,null,null,null,null,null,null,null,"24","02","07",2,2400000,2000,70,2,2402072,"KOZY",2421.61]
[1216104,"",1810,"",18,null,null,null,null,null,null,null,null,null,null,null,null,null,null,null,null,null,null,null,null,null,null,null,null,null,null,"24","03","02",1,2400000,3000,20,1,2403021,"USTROŃ",2618.13]
[1216105,"",8176,"",82,null,null,null,null,null,null,null,null,null,null,null,null,null,null,null,null,null,null,null,null,null,null,null,null,null,null,"24","03","03",1,2400000,3000,30,1,2403031,"WISŁA",2418.19]
[1216145,"",11804,"",118,null,null,null,null,null,null,null,null,null,null,null,null,null,null,null,null,null,null,null,null,null,null,null,null,null,null,"24","03","09",2,2400000,3000,90,2,2403092,"ISTEBNA",1242.73]
[1216155,"",9043,"",91,null,null,null,null,null,null,null,null,null,null,null,null,null,null,null,null,null,null,null,null,null,null,null,null,null,null,"24","03","12",2,2400000,3000,120,2,2403122,"ZEBRZYDOWICE",1481.64]
[1217022,"  Biały Dunajec..........................................................................................................................................................................................................................................................",3523,"",35,null,null,null,null,null,null,null,null,null,null,null,null,null,null,null,null,null,null,null,null,null,null,null,null,null,null,"24","04","05",2,2400000,4000,50,2,2404052,"KŁOMNICE",1525.32]
[1217032,"  Bukowina Tatrzańska..........................................................................................................................................................................................................................................................",13186,"",132,null,null,null,null,null,null,null,null,null,null,null,null,null,null,null,null,null,null,null,null,null,null,null,null,null,null,"24","04","06",3,2400000,4000,60,3,2404063,"KONIECPOL",1642.3]
["","",null,null,null,null,null,null,null,null,null,null,null,null,null,null,null,null,null,null,null,null,null,null,null,null,null,null,null,null,null,"24","04","10",2,2400000,4000,100,2,2404102,"MSTÓW",1829.98]
[1218062,"  Spytkowice..........................................................................................................................................................................................................................................................",5138,"",52,null,null,null,null,null,null,null,null,null,null,null,null,null,null,null,null,null,null,null,null,null,null,null,null,null,null,"24","04","14",2,2400000,4000,140,2,2404142,"PRZYRÓW",1305.77]
[1218013,"  Andrychów..........................................................................................................................................................................................................................................................",10039,"",100,null,null,null,null,null,null,null,null,null,null,null,null,null,null,null,null,null,null,null,null,null,null,null,null,null,null,"24","05","03",2,2400000,5000,30,2,2405032,"GIERAŁTOWICE",3056.12]
[1218014,"",1033,"",10,null,null,null,null,null,null,null,null,null,null,null,null,null,null,null,null,null,null,null,null,null,null,null,null,null,null,"24","05","04",2,2400000,5000,40,2,2405042,"PILCHOWICE",2142.64]
[1218094,"",1054,"",11,null,null,null,null,null,null,null,null,null,null,null,null,null,null,null,null,null,null,null,null,null,null,null,null,null,null,"24","06","02",3,2400000,6000,20,3,2406023,"KRZEPICE",1784.82]
["","",null,null,null,null,null,null,null,null,null,null,null,null,null,null,null,null,null,null,null,null,null,null,null,null,null,null,null,null,null,"24","06","05",2,2400000,6000,50,2,2406052,"OPATÓW",1234.8]
[1219043,"  Niepołomice..........................................................................................................................................................................................................................................................",9627,"",96,null,null,null,null,null,null,null,null,null,null,null,null,null,null,null,null,null,null,null,null,null,null,null,null,null,null,"24","07","01",1,2400000,7000,10,1,2407011,"LUBLINIEC",2254.0300000000002]
[1219044,"",2740,"",28,null,null,null,null,null,null,null,null,null,null,null,null,null,null,null,null,null,null,null,null,null,null,null,null,null,null,"24","07","02",2,2400000,7000,20,2,2407022,"BORONÓW",2636.42]
[1219055,"",8626,"",87,null,null,null,null,null,null,null,null,null,null,null,null,null,null,null,null,null,null,null,null,null,null,null,null,null,null,"24","07","06",2,2400000,7000,60,2,2407062,"KOSZĘCIN",1412.11]
[1263011,"  Tarnów..........................................................................................................................................................................................................................................................",7238,"",72,null,null,null,null,null,null,null,null,null,null,null,null,null,null,null,null,null,null,null,null,null,null,null,null,null,null,"24","08","02",1,2400000,8000,20,1,2408021,"MIKOŁÓW",2907.88]
[1401032,"  Radzanów..........................................................................................................................................................................................................................................................",8252,"",83,null,null,null,null,null,null,null,null,null,null,null,null,null,null,null,null,null,null,null,null,null,null,null,null,null,null,"24","09","02",3,2400000,9000,20,3,2409023,"KOZIEGŁOWY",1630.8]
[1401042,"  Stara Błotnica..........................................................................................................................................................................................................................................................",9605,"",96,null,null,null,null,null,null,null,null,null,null,null,null,null,null,null,null,null,null,null,null,null,null,null,null,null,null,"24","09","03",2,2400000,9000,30,2,2409032,"NIEGOWA",1149.6600000000001]
[1401063,"  Wyśmierzyce..........................................................................................................................................................................................................................................................",10579,"",106,null,null,null,null,null,null,null,null,null,null,null,null,null,null,null,null,null,null,null,null,null,null,null,null,null,null,"24","10","04",2,2400000,10000,40,2,2410042,"PAWŁOWICE",3125.05]
["","Powiat ciechanowski  (9 gmin)",null,null,null,null,null,null,null,null,null,null,null,null,null,null,null,null,null,null,null,null,null,null,null,null,null,null,null,null,null,"24","11","01",1,2400000,11000,10,1,2411011,"RACIBÓRZ",1844.39]
[1402042,"  Gołymin-Ośrodek..........................................................................................................................................................................................................................................................",11071,"",111,null,null,null,null,null,null,null,null,null,null,null,null,null,null,null,null,null,null,null,null,null,null,null,null,null,null,"24","11","06",2,2400000,11000,60,2,2411062,"NĘDZA",1253.26]
[1402052,"  Grudusk..........................................................................................................................................................................................................................................................",9675,"",97,null,null,null,null,null,null,null,null,null,null,null,null,null,null,null,null,null,null,null,null,null,null,null,null,null,null,"24","11","07",2,2400000,11000,70,2,2411072,"PIETROWICE WIELKIE",2336.1]
[1402092,"  Sońsk..........................................................................................................................................................................................................................................................",15471,"",154,null,null,null,null,null,null,null,null,null,null,null,null,null,null,null,null,null,null,null,null,null,null,null,null,null,null,"24","12","03",2,2400000,12000,30,2,2412032,"JEJKOWICE",1824.43]
[1402035,"",14648,"",147,null,null,null,null,null,null,null,null,null,null,null,null,null,null,null,null,null,null,null,null,null,null,null,null,null,null,"24","13","02",1,2400000,13000,20,1,2413021,"MIASTECZKO ŚLĄSKIE",2689.74]
["","",null,null,null,null,null,null,null,null,null,null,null,null,null,null,null,null,null,null,null,null,null,null,null,null,null,null,null,null,null,"24","13","07",2,2400000,13000,70,2,2413072,"ŚWIERKLANIEC",2248.96]
[1403032,"  Borowie..........................................................................................................................................................................................................................................................",8022,"",80,null,null,null,null,null,null,null,null,null,null,null,null,null,null,null,null,null,null,null,null,null,null,null,null,null,null,"24","13","08",2,2400000,13000,80,2,2413082,"TWORÓG",1595.43]
[1403092,"  Parysów..........................................................................................................................................................................................................................................................",6415,"",64,null,null,null,null,null,null,null,null,null,null,null,null,null,null,null,null,null,null,null,null,null,null,null,null,null,null,"24","14","05",2,2400000,14000,50,2,2414052,"CHEŁM ŚLĄSKI",3272.67]
[1403132,"  Wilga..........................................................................................................................................................................................................................................................",11840,"",118,null,null,null,null,null,null,null,null,null,null,null,null,null,null,null,null,null,null,null,null,null,null,null,null,null,null,"24","15","03",1,2400000,15000,30,1,2415031,"RYDUŁTOWY",1710.47]
[1403143,"  Żelechów..........................................................................................................................................................................................................................................................",8749,"",87,null,null,null,null,null,null,null,null,null,null,null,null,null,null,null,null,null,null,null,null,null,null,null,null,null,null,"24","15","08",2,2400000,15000,80,2,2415082,"MARKLOWICE",2619.46]
[1403144,"",1213,"",12,null,null,null,null,null,null,null,null,null,null,null,null,null,null,null,null,null,null,null,null,null,null,null,null,null,null,"24","15","09",2,2400000,15000,90,2,2415092,"MSZANA",2124.9299999999998]
[1404011,"  Gostynin..........................................................................................................................................................................................................................................................",3240,"",32,null,null,null,null,null,null,null,null,null,null,null,null,null,null,null,null,null,null,null,null,null,null,null,null,null,null,"24","16","04",2,2400000,16000,40,2,2416042,"KROCZYCE",1190.49]
[1404052,"  Szczawin Kościelny..........................................................................................................................................................................................................................................................",12716,"",127,null,null,null,null,null,null,null,null,null,null,null,null,null,null,null,null,null,null,null,null,null,null,null,null,null,null,"24","16","08",3,2400000,16000,80,3,2416083,"SZCZEKOCINY",1608.8]
["","Powiat grodziski  (6 gmin)",null,null,null,null,null,null,null,null,null,null,null,null,null,null,null,null,null,null,null,null,null,null,null,null,null,null,null,null,null,"24","17","03",2,2400000,17000,30,2,2417032,"GILOWICE",1453.72]
["","",null,null,null,null,null,null,null,null,null,null,null,null,null,null,null,null,null,null,null,null,null,null,null,null,null,null,null,null,null,"24","17","04",2,2400000,17000,40,2,2417042,"JELEŚNIA",1441.9]
[1405062,"  Żabia Wola..........................................................................................................................................................................................................................................................",10543,"",106,null,null,null,null,null,null,null,null,null,null,null,null,null,null,null,null,null,null,null,null,null,null,null,null,null,null,"24","17","10",2,2400000,17000,100,2,2417102,"RADZIECHOWY-WIEPRZ",1149.9100000000001]
[1405044,"",1319,"",14,null,null,null,null,null,null,null,null,null,null,null,null,null,null,null,null,null,null,null,null,null,null,null,null,null,null,"24","17","13",2,2400000,17000,130,2,2417132,"ŚWINNA",1215.3599999999999]
[1406022,"  Błędów..........................................................................................................................................................................................................................................................",13405,"",134,null,null,null,null,null,null,null,null,null,null,null,null,null,null,null,null,null,null,null,null,null,null,null,null,null,null,"24","63","01",1,2400000,63000,10,1,2463011,"Chorzów",2060.42]
[1406032,"  Chynów..........................................................................................................................................................................................................................................................",13499,"",135,null,null,null,null,null,null,null,null,null,null,null,null,null,null,null,null,null,null,null,null,null,null,null,null,null,null,"24","64","01",1,2400000,64000,10,1,2464011,"Częstochowa",2075.4499999999998]
["","",null,null,null,null,null,null,null,null,null,null,null,null,null,null,null,null,null,null,null,null,null,null,null,null,null,null,null,null,null,"24","68","01",1,2400000,68000,10,1,2468011,"Jaworzno",2314.39]
[1406074,"",1298,"",13,null,null,null,null,null,null,null,null,null,null,null,null,null,null,null,null,null,null,null,null,null,null,null,null,null,null,"24","73","01",1,2400000,73000,10,1,2473011,"Rybnik",2132.9299999999998]
[1406085,"",14726,"",148,null,null,null,null,null,null,null,null,null,null,null,null,null,null,null,null,null,null,null,null,null,null,null,null,null,null,"24","77","01",1,2400000,77000,10,1,2477011,"Tychy",2777.9]
[1406113,"  Warka..........................................................................................................................................................................................................................................................",20227,"",202,null,null,null,null,null,null,null,null,null,null,null,null,null,null,null,null,null,null,null,null,null,null,null,null,null,null,"24","78","01",1,2400000,78000,10,1,2478011,"Zabrze",1802.32]
[1407022,"  Głowaczów..........................................................................................................................................................................................................................................................",18584,"",186,null,null,null,null,null,null,null,null,null,null,null,null,null,null,null,null,null,null,null,null,null,null,null,null,null,null,"26","01","05",2,2600000,1000,50,2,2601052,"SOLEC-ZDRÓJ",1134.96]
[1407062,"  Magnuszew..........................................................................................................................................................................................................................................................",14106,"",141,null,null,null,null,null,null,null,null,null,null,null,null,null,null,null,null,null,null,null,null,null,null,null,null,null,null,"26","01","08",3,2600000,1000,80,3,2601083,"WIŚLICA",967.74]
[1407055,"",23358,"",234,null,null,null,null,null,null,null,null,null,null,null,null,null,null,null,null,null,null,null,null,null,null,null,null,null,null,"26","02","05",2,2600000,2000,50,2,2602052,"OKSA",776.16]
["","Powiat legionowski  (5 gmin)",null,null,null,null,null,null,null,null,null,null,null,null,null,null,null,null,null,null,null,null,null,null,null,null,null,null,null,null,null,"26","02","06",3,2600000,2000,60,3,2602063,"SĘDZISZÓW",1663.51]
[1408022,"  Jabłonna..........................................................................................................................................................................................................................................................",6480,"",65,null,null,null,null,null,null,null,null,null,null,null,null,null,null,null,null,null,null,null,null,null,null,null,null,null,null,"26","03","01",2,2600000,3000,10,2,2603012,"BEJSCE",858.77]
[1408044,"",1343,"",13,null,null,null,null,null,null,null,null,null,null,null,null,null,null,null,null,null,null,null,null,null,null,null,null,null,null,"26","04","01",2,2600000,4000,10,2,2604012,"BIELINY",857.12]
[1409012,"  Chotcza..........................................................................................................................................................................................................................................................",8982,"",90,null,null,null,null,null,null,null,null,null,null,null,null,null,null,null,null,null,null,null,null,null,null,null,null,null,null,"26","04","05",3,2600000,4000,50,3,2604053,"DALESZYCE",2049.9]
[1409022,"  Ciepielów..........................................................................................................................................................................................................................................................",13477,"",135,null,null,null,null,null,null,null,null,null,null,null,null,null,null,null,null,null,null,null,null,null,null,null,null,null,null,"26","04","06",2,2600000,4000,60,2,2604062,"GÓRNO",1179.3699999999999]
[1409034,"",1570,"",16,null,null,null,null,null,null,null,null,null,null,null,null,null,null,null,null,null,null,null,null,null,null,null,null,null,null,"26","04","12",3,2600000,4000,120,3,2604123,"MORAWICA",2283.15]
["","",null,null,null,null,null,null,null,null,null,null,null,null,null,null,null,null,null,null,null,null,null,null,null,null,null,null,null,null,null,"26","04","15",3,2600000,4000,150,3,2604153,"PIERZCHNICA",1031.25]
[1410062,"  Stara Kornica..........................................................................................................................................................................................................................................................",11884,"",119,null,null,null,null,null,null,null,null,null,null,null,null,null,null,null,null,null,null,null,null,null,null,null,null,null,null,"26","05","01",2,2600000,5000,10,2,2605012,"FAŁKÓW",1019.9]
["","",null,null,null,null,null,null,null,null,null,null,null,null,null,null,null,null,null,null,null,null,null,null,null,null,null,null,null,null,null,"26","05","02",2,2600000,5000,20,2,2605022,"GOWARCZÓW",1064.01]
["","Powiat makowski  (10 gmin)",null,null,null,null,null,null,null,null,null,null,null,null,null,null,null,null,null,null,null,null,null,null,null,null,null,null,null,null,null,"26","05","06",2,2600000,5000,60,2,2605062,"SŁUPIA KONECKA",895.74]
[1411032,"  Karniewo..........................................................................................................................................................................................................................................................",12906,"",129,null,null,null,null,null,null,null,null,null,null,null,null,null,null,null,null,null,null,null,null,null,null,null,null,null,null,"26","06","03",2,2600000,6000,30,2,2606032,"LIPNIK",1130.0999999999999]
[1411082,"  Rzewnie..........................................................................................................................................................................................................................................................",11175,"",112,null,null,null,null,null,null,null,null,null,null,null,null,null,null,null,null,null,null,null,null,null,null,null,null,null,null,"26","06","07",2,2600000,6000,70,2,2606072,"TARŁÓW",892.58]
[1411092,"  Sypniewo..........................................................................................................................................................................................................................................................",12845,"",128,null,null,null,null,null,null,null,null,null,null,null,null,null,null,null,null,null,null,null,null,null,null,null,null,null,null,"26","06","08",2,2600000,6000,80,2,2606082,"WOJCIECHOWICE",1334.69]
["","Powiat miński  (13 gmin)",null,null,null,null,null,null,null,null,null,null,null,null,null,null,null,null,null,null,null,null,null,null,null,null,null,null,null,null,null,"26","07","06",2,2600000,7000,60,2,2607062,"WAŚNIÓW",869.16]
[1412151,"  Sulejówek..........................................................................................................................................................................................................................................................",1931,"",19,null,null,null,null,null,null,null,null,null,null,null,null,null,null,null,null,null,null,null,null,null,null,null,null,null,null,"26","08","03",2,{"$f":"AF1992*100000","v":2600000},{"$f":"AG1992*1000","v":8000},{"$f":"AH1992*10","v":30},{"$f":"AI1992*1","v":2},{"$f":"SUM(AJ1992:AM1992)","v":2608032},"MICHAŁÓW",1061.92]
[1412082,"  Jakubów..........................................................................................................................................................................................................................................................",8698,"",87,null,null,null,null,null,null,null,null,null,null,null,null,null,null,null,null,null,null,null,null,null,null,null,null,null,null,"26","09","03",2,2600000,9000,30,2,2609032,"KLIMONTÓW",848.91]
[1412112,"  Mińsk Mazowiecki..........................................................................................................................................................................................................................................................",11231,"",112,null,null,null,null,null,null,null,null,null,null,null,null,null,null,null,null,null,null,null,null,null,null,null,null,null,null,"26","09","05",2,2600000,9000,50,2,2609052,"ŁONIÓW",1145.9000000000001]
["","",null,null,null,null,null,null,null,null,null,null,null,null,null,null,null,null,null,null,null,null,null,null,null,null,null,null,null,null,null,"26","09","08",2,2600000,9000,80,2,2609082,"WILCZYCE",1031.02]
[1412094,"",1230,"",12,null,null,null,null,null,null,null,null,null,null,null,null,null,null,null,null,null,null,null,null,null,null,null,null,null,null,"26","10","04",2,2600000,10000,40,2,2610042,"SKARŻYSKO-KOŚCIELNE",1187.6300000000001]
[1412125,"",13719,"",137,null,null,null,null,null,null,null,null,null,null,null,null,null,null,null,null,null,null,null,null,null,null,null,null,null,null,"26","11","03",2,2600000,11000,30,2,2611032,"MIRZEC",998.69]
["","Powiat mławski  (10 gmin)",null,null,null,null,null,null,null,null,null,null,null,null,null,null,null,null,null,null,null,null,null,null,null,null,null,null,null,null,null,"26","11","04",2,2600000,11000,40,2,2611042,"PAWŁÓW",961.17]
[1413042,"  Radzanów..........................................................................................................................................................................................................................................................",9886,"",99,null,null,null,null,null,null,null,null,null,null,null,null,null,null,null,null,null,null,null,null,null,null,null,null,null,null,"26","12","05",3,2600000,12000,50,3,2612053,"POŁANIEC",3643.99]
[1413072,"  Szreńsk..........................................................................................................................................................................................................................................................",10939,"",109,null,null,null,null,null,null,null,null,null,null,null,null,null,null,null,null,null,null,null,null,null,null,null,null,null,null,"26","12","08",3,2600000,12000,80,3,2612083,"SZYDŁÓW",1034.76]
["","",null,null,null,null,null,null,null,null,null,null,null,null,null,null,null,null,null,null,null,null,null,null,null,null,null,null,null,null,null,"26","13","05",2,2600000,13000,50,2,2613052,"SECEMIN",1225.98]
["","",null,null,null,null,null,null,null,null,null,null,null,null,null,null,null,null,null,null,null,null,null,null,null,null,null,null,null,null,null,"26","61","01",1,2600000,61000,10,1,2661011,"Kielce",2088.98]
[1414052,"  Pomiechówek..........................................................................................................................................................................................................................................................",10268,"",103,null,null,null,null,null,null,null,null,null,null,null,null,null,null,null,null,null,null,null,null,null,null,null,null,null,null,"28","01","03",2,2800000,1000,30,2,2801032,"BARTOSZYCE",1395.03]
[1414063,"  Zakroczym..........................................................................................................................................................................................................................................................",7170,"",72,null,null,null,null,null,null,null,null,null,null,null,null,null,null,null,null,null,null,null,null,null,null,null,null,null,null,"28","02","02",2,2800000,2000,20,2,2802022,"BRANIEWO",1624.59]
["","",null,null,null,null,null,null,null,null,null,null,null,null,null,null,null,null,null,null,null,null,null,null,null,null,null,null,null,null,null,"28","02","06",2,2800000,2000,60,2,2802062,"PŁOSKINIA",2454.27]
[1415012,"  Baranowo..........................................................................................................................................................................................................................................................",19757,"",197,null,null,null,null,null,null,null,null,null,null,null,null,null,null,null,null,null,null,null,null,null,null,null,null,null,null,"28","02","07",2,2800000,2000,70,2,2802072,"WILCZĘTA",1489.93]
[1415052,"  Kadzidło..........................................................................................................................................................................................................................................................",25888,"",259,null,null,null,null,null,null,null,null,null,null,null,null,null,null,null,null,null,null,null,null,null,null,null,null,null,null,"28","03","04",3,2800000,3000,40,3,2803043,"LIDZBARK",1329.11]
[1415112,"  Troszyn..........................................................................................................................................................................................................................................................",15630,"",156,null,null,null,null,null,null,null,null,null,null,null,null,null,null,null,null,null,null,null,null,null,null,null,null,null,null,"28","04","03",2,2800000,4000,30,2,2804032,"GRONOWO ELBLĄSKIE",1302.22]
["","Powiat ostrowski  (11 gmin)",null,null,null,null,null,null,null,null,null,null,null,null,null,null,null,null,null,null,null,null,null,null,null,null,null,null,null,null,null,"28","04","08",2,2800000,4000,80,2,2804082,"RYCHLIKI",1172.18]
[1416011,"  Ostrów Mazowiecka..........................................................................................................................................................................................................................................................",2227,"",22,null,null,null,null,null,null,null,null,null,null,null,null,null,null,null,null,null,null,null,null,null,null,null,null,null,null,"28","05","01",1,2800000,5000,10,1,2805011,"EŁK",1411.18]
[1416032,"  Boguty-Pianki..........................................................................................................................................................................................................................................................",8909,"",89,null,null,null,null,null,null,null,null,null,null,null,null,null,null,null,null,null,null,null,null,null,null,null,null,null,null,"28","05","04",2,2800000,5000,40,2,2805042,"PROSTKI",1322.19]
[1416092,"  Szulborze Wielkie..........................................................................................................................................................................................................................................................",4672,"",47,null,null,null,null,null,null,null,null,null,null,null,null,null,null,null,null,null,null,null,null,null,null,null,null,null,null,"28","06","06",2,2800000,6000,60,2,2806062,"MIŁKI",1411.66]
[1416043,"  Brok..........................................................................................................................................................................................................................................................",10991,"",110,null,null,null,null,null,null,null,null,null,null,null,null,null,null,null,null,null,null,null,null,null,null,null,null,null,null,"28","07","02",1,2800000,7000,20,1,2807021,"LUBAWA",2321.77]
[1416044,"",2806,"",28,null,null,null,null,null,null,null,null,null,null,null,null,null,null,null,null,null,null,null,null,null,null,null,null,null,null,"28","07","03",2,2800000,7000,30,2,2807032,"IŁAWA",1901.35]
[1417011,"  Józefów..........................................................................................................................................................................................................................................................",2391,"",24,null,null,null,null,null,null,null,null,null,null,null,null,null,null,null,null,null,null,null,null,null,null,null,null,null,null,"28","07","07",3,2800000,7000,70,3,2807073,"ZALEWO",1706.76]
[1417062,"  Osieck..........................................................................................................................................................................................................................................................",6798,"",68,null,null,null,null,null,null,null,null,null,null,null,null,null,null,null,null,null,null,null,null,null,null,null,null,null,null,"28","08","05",3,2800000,8000,50,3,2808053,"RESZEL",1367.11]
[1417044,"",2812,"",28,null,null,null,null,null,null,null,null,null,null,null,null,null,null,null,null,null,null,null,null,null,null,null,null,null,null,"28","09","04",2,2800000,9000,40,2,2809042,"LUBOMINO",1246.99]
["","Powiat piaseczyński  (6 gmin)",null,null,null,null,null,null,null,null,null,null,null,null,null,null,null,null,null,null,null,null,null,null,null,null,null,null,null,null,null,"28","10","01",1,2800000,10000,10,1,2810011,"MRĄGOWO",1843.95]
[1418052,"  Prażmów..........................................................................................................................................................................................................................................................",8647,"",87,null,null,null,null,null,null,null,null,null,null,null,null,null,null,null,null,null,null,null,null,null,null,null,null,null,null,"28","10","04",2,2800000,10000,40,2,2810042,"PIECKI",1506.6]
[1418023,"  Konstancin-Jeziorna..........................................................................................................................................................................................................................................................",7858,"",79,null,null,null,null,null,null,null,null,null,null,null,null,null,null,null,null,null,null,null,null,null,null,null,null,null,null,"28","11","04",3,2800000,11000,40,3,2811043,"NIDZICA",1565.83]
[1418044,"",1622,"",16,null,null,null,null,null,null,null,null,null,null,null,null,null,null,null,null,null,null,null,null,null,null,null,null,null,null,"28","12","04",2,2800000,12000,40,2,2812042,"KURZĘTNIK",1390.75]
[1418045,"",11204,"",112,null,null,null,null,null,null,null,null,null,null,null,null,null,null,null,null,null,null,null,null,null,null,null,null,null,null,"28","12","05",2,2800000,12000,50,2,2812052,"NOWE MIASTO LUBAWSKIE",1140.58]
["","Powiat płocki  (15 gmin)",null,null,null,null,null,null,null,null,null,null,null,null,null,null,null,null,null,null,null,null,null,null,null,null,null,null,null,null,null,"28","13","06",2,2800000,13000,60,2,2813062,"WIELICZKI",1365.08]
[1419042,"  Bulkowo..........................................................................................................................................................................................................................................................",11693,"",117,null,null,null,null,null,null,null,null,null,null,null,null,null,null,null,null,null,null,null,null,null,null,null,null,null,null,"28","14","05",2,2800000,14000,50,2,2814052,"GIETRZWAŁD",2293.02]
[1419112,"  Słubice..........................................................................................................................................................................................................................................................",9582,"",96,null,null,null,null,null,null,null,null,null,null,null,null,null,null,null,null,null,null,null,null,null,null,null,null,null,null,"28","14","10",2,2800000,14000,100,2,2814102,"PURDA",2226.6999999999998]
[1419132,"  Stara Biała..........................................................................................................................................................................................................................................................",11112,"",111,null,null,null,null,null,null,null,null,null,null,null,null,null,null,null,null,null,null,null,null,null,null,null,null,null,null,"28","14","12",2,2800000,14000,120,2,2814122,"ŚWIĄTKI",1332.25]
[1419053,"  Drobin..........................................................................................................................................................................................................................................................",14350,"",144,null,null,null,null,null,null,null,null,null,null,null,null,null,null,null,null,null,null,null,null,null,null,null,null,null,null,"28","15","03",2,2800000,15000,30,2,2815032,"GRUNWALD",1065.79]
[1419065,"",11826,"",118,null,null,null,null,null,null,null,null,null,null,null,null,null,null,null,null,null,null,null,null,null,null,null,null,null,null,"28","15","08",3,2800000,15000,80,3,2815083,"MORĄG",1585.15]
["","Powiat płoński  (12 gmin)",null,null,null,null,null,null,null,null,null,null,null,null,null,null,null,null,null,null,null,null,null,null,null,null,null,null,null,null,null,"28","16","03",3,2800000,16000,30,3,2816033,"PISZ",1469.68]
["","",null,null,null,null,null,null,null,null,null,null,null,null,null,null,null,null,null,null,null,null,null,null,null,null,null,null,null,null,null,"28","16","04",3,2800000,16000,40,3,2816043,"RUCIANE-NIDA",1743.75]
[1420032,"  Baboszewo..........................................................................................................................................................................................................................................................",16223,"",162,null,null,null,null,null,null,null,null,null,null,null,null,null,null,null,null,null,null,null,null,null,null,null,null,null,null,"28","17","04",3,2800000,17000,40,3,2817043,"PASYM",1871.28]
[1420082,"  Nowe Miasto..........................................................................................................................................................................................................................................................",11785,"",118,null,null,null,null,null,null,null,null,null,null,null,null,null,null,null,null,null,null,null,null,null,null,null,null,null,null,"28","18","01",2,2800000,18000,10,2,2818012,"BANIE MAZURSKIE",1064.7]
["","Powiat pruszkowski  (6 gmin)",null,null,null,null,null,null,null,null,null,null,null,null,null,null,null,null,null,null,null,null,null,null,null,null,null,null,null,null,null,"28","19","03",3,2800000,19000,30,3,2819033,"WĘGORZEWO",1506.82]
[1421011,"  Piastów..........................................................................................................................................................................................................................................................",576,"↓",6,null,null,null,null,null,null,null,null,null,null,null,null,null,null,null,null,null,null,null,null,null,null,null,null,null,null,"28","62","01",1,2800000,62000,10,1,2862011,"Olsztyn",2310.58]
[1421042,"  Michałowice..........................................................................................................................................................................................................................................................",3473,"",35,null,null,null,null,null,null,null,null,null,null,null,null,null,null,null,null,null,null,null,null,null,null,null,null,null,null,"30","01","03",2,3000000,1000,30,2,3001032,"CHODZIEŻ",2361.63]
[1421034,"",1010,"",10,null,null,null,null,null,null,null,null,null,null,null,null,null,null,null,null,null,null,null,null,null,null,null,null,null,null,"30","02","03",2,3000000,2000,30,2,3002032,"DRAWSKO",1261.33]
[1422011,"  Przasnysz..........................................................................................................................................................................................................................................................",2516,"",25,null,null,null,null,null,null,null,null,null,null,null,null,null,null,null,null,null,null,null,null,null,null,null,null,null,null,"30","02","07",3,3000000,2000,70,3,3002073,"TRZCIANKA",1625.92]
["","",null,null,null,null,null,null,null,null,null,null,null,null,null,null,null,null,null,null,null,null,null,null,null,null,null,null,null,null,null,"30","02","08",3,3000000,2000,80,3,3002083,"WIELEŃ",1498.01]
[1422062,"  Krzynowłoga Mała..........................................................................................................................................................................................................................................................",18487,"",185,null,null,null,null,null,null,null,null,null,null,null,null,null,null,null,null,null,null,null,null,null,null,null,null,null,null,"30","03","04",2,3000000,3000,40,2,3003042,"KISZKOWO",1982.05]
[1422025,"",35318,"",353,null,null,null,null,null,null,null,null,null,null,null,null,null,null,null,null,null,null,null,null,null,null,null,null,null,null,"30","03","09",3,3000000,3000,90,3,3003093,"TRZEMESZNO",2062.27]
[1423032,"  Klwów..........................................................................................................................................................................................................................................................",8675,"",87,null,null,null,null,null,null,null,null,null,null,null,null,null,null,null,null,null,null,null,null,null,null,null,null,null,null,"30","04","04",2,3000000,4000,40,2,3004042,"PĘPOWO",1882.71]
[1423052,"  Potworów..........................................................................................................................................................................................................................................................",8170,"",82,null,null,null,null,null,null,null,null,null,null,null,null,null,null,null,null,null,null,null,null,null,null,null,null,null,null,"30","04","06",3,3000000,4000,60,3,3004063,"POGORZELA",1583.34]
["","",null,null,null,null,null,null,null,null,null,null,null,null,null,null,null,null,null,null,null,null,null,null,null,null,null,null,null,null,null,"30","05","02",3,3000000,5000,20,3,3005023,"GRODZISK WIELKOPOLSKI",2159.39]
["","",null,null,null,null,null,null,null,null,null,null,null,null,null,null,null,null,null,null,null,null,null,null,null,null,null,null,null,null,null,"30","06","02",3,3000000,6000,20,3,3006023,"JAROCIN",1963.2]
[1424052,"  Świercze..........................................................................................................................................................................................................................................................",9337,"",93,null,null,null,null,null,null,null,null,null,null,null,null,null,null,null,null,null,null,null,null,null,null,null,null,null,null,"30","07","02",2,3000000,7000,20,2,3007022,"BRZEZINY",1135.04]
[1424062,"  Winnica..........................................................................................................................................................................................................................................................",11504,"",115,null,null,null,null,null,null,null,null,null,null,null,null,null,null,null,null,null,null,null,null,null,null,null,null,null,null,"30","07","03",2,3000000,7000,30,2,3007032,"CEKÓW-KOLONIA",1689.93]
[1424044,"",2307,"",23,null,null,null,null,null,null,null,null,null,null,null,null,null,null,null,null,null,null,null,null,null,null,null,null,null,null,"30","07","07",2,3000000,7000,70,2,3007072,"MYCIELIN",907.9]
["","",null,null,null,null,null,null,null,null,null,null,null,null,null,null,null,null,null,null,null,null,null,null,null,null,null,null,null,null,null,"30","08","01",2,3000000,8000,10,2,3008012,"BARANÓW",4894.58]
[1425072,"  Kowala..........................................................................................................................................................................................................................................................",7468,"",75,null,null,null,null,null,null,null,null,null,null,null,null,null,null,null,null,null,null,null,null,null,null,null,null,null,null,"30","08","06",2,3000000,8000,60,2,3008062,"RYCHTAL",1255.18]
[1425092,"  Przytyk..........................................................................................................................................................................................................................................................",13437,"",134,null,null,null,null,null,null,null,null,null,null,null,null,null,null,null,null,null,null,null,null,null,null,null,null,null,null,"30","09","01",1,3000000,9000,10,1,3009011,"KOŁO",2288.79]
[1425132,"  Zakrzew..........................................................................................................................................................................................................................................................",9630,"",96,null,null,null,null,null,null,null,null,null,null,null,null,null,null,null,null,null,null,null,null,null,null,null,null,null,null,"30","09","04",3,3000000,9000,40,3,3009043,"DĄBIE",1062.6500000000001]
[1425103,"  Skaryszew..........................................................................................................................................................................................................................................................",17127,"",171,null,null,null,null,null,null,null,null,null,null,null,null,null,null,null,null,null,null,null,null,null,null,null,null,null,null,"30","09","09",2,3000000,9000,90,2,3009092,"OLSZÓWKA",1031.5899999999999]
["","",null,null,null,null,null,null,null,null,null,null,null,null,null,null,null,null,null,null,null,null,null,null,null,null,null,null,null,null,null,"30","10","02",2,3000000,10000,20,2,3010022,"GRODZIEC",850.82]
[1426012,"  Domanice..........................................................................................................................................................................................................................................................",4697,"",47,null,null,null,null,null,null,null,null,null,null,null,null,null,null,null,null,null,null,null,null,null,null,null,null,null,null,"30","10","03",2,3000000,10000,30,2,3010032,"KAZIMIERZ BISKUPI",2187.64]
[1426062,"  Paprotnia..........................................................................................................................................................................................................................................................",8143,"",81,null,null,null,null,null,null,null,null,null,null,null,null,null,null,null,null,null,null,null,null,null,null,null,null,null,null,"30","10","07",3,3000000,10000,70,3,3010073,"RYCHWAŁ",1065.74]
[1426112,"  Wiśniew..........................................................................................................................................................................................................................................................",12600,"",126,null,null,null,null,null,null,null,null,null,null,null,null,null,null,null,null,null,null,null,null,null,null,null,null,null,null,"30","10","12",3,3000000,10000,120,3,3010123,"ŚLESIN",2029.34]
[1426054,"",454,"",5,null,null,null,null,null,null,null,null,null,null,null,null,null,null,null,null,null,null,null,null,null,null,null,null,null,null,"30","11","03",2,3000000,11000,30,2,3011032,"KOŚCIAN",2526.38]
["","Powiat sierpecki  (7 gmin)",null,null,null,null,null,null,null,null,null,null,null,null,null,null,null,null,null,null,null,null,null,null,null,null,null,null,null,null,null,"30","11","05",3,3000000,11000,50,3,3011053,"ŚMIGIEL",1994.96]
["","",null,null,null,null,null,null,null,null,null,null,null,null,null,null,null,null,null,null,null,null,null,null,null,null,null,null,null,null,null,"30","12","03",3,3000000,12000,30,3,3012033,"KOŹMIN WIELKOPOLSKI",1734.98]
[1427062,"  Szczutowo..........................................................................................................................................................................................................................................................",11268,"",113,null,null,null,null,null,null,null,null,null,null,null,null,null,null,null,null,null,null,null,null,null,null,null,null,null,null,"30","13","02",2,3000000,13000,20,2,3013022,"LIPNO",2300.83]
[1428011,"  Sochaczew..........................................................................................................................................................................................................................................................",2619,"",26,null,null,null,null,null,null,null,null,null,null,null,null,null,null,null,null,null,null,null,null,null,null,null,null,null,null,"30","13","06",2,3000000,13000,60,2,3013062,"WIJEWO",1496.58]
["","",null,null,null,null,null,null,null,null,null,null,null,null,null,null,null,null,null,null,null,null,null,null,null,null,null,null,null,null,null,"30","13","07",2,3000000,13000,70,2,3013072,"WŁOSZAKOWICE",2164.46]
[1428052,"  Nowa Sucha..........................................................................................................................................................................................................................................................",9015,"",90,null,null,null,null,null,null,null,null,null,null,null,null,null,null,null,null,null,null,null,null,null,null,null,null,null,null,"30","14","04",3,{"$f":"AF2248*100000","v":3000000},{"$f":"AG2248*1000","v":14000},{"$f":"AH2248*10","v":40},{"$f":"AI2248*1","v":3},{"$f":"SUM(AJ2248:AM2248)","v":3014043},"SIERAKÓW",2038.26]
["","",null,null,null,null,null,null,null,null,null,null,null,null,null,null,null,null,null,null,null,null,null,null,null,null,null,null,null,null,null,"30","15","05",3,3000000,15000,50,3,3015053,"OPALENICA",2046.14]
[1429042,"  Jabłonna Lacka..........................................................................................................................................................................................................................................................",14927,"",149,null,null,null,null,null,null,null,null,null,null,null,null,null,null,null,null,null,null,null,null,null,null,null,null,null,null,"30","17","01",1,3000000,17000,10,1,3017011,"OSTRÓW WIELKOPOLSKI",2102.92]
[1429072,"  Sabnie..........................................................................................................................................................................................................................................................",10798,"",108,null,null,null,null,null,null,null,null,null,null,null,null,null,null,null,null,null,null,null,null,null,null,null,null,null,null,"30","17","03",3,3000000,17000,30,3,3017033,"ODOLANÓW",2164.64]
["","",null,null,null,null,null,null,null,null,null,null,null,null,null,null,null,null,null,null,null,null,null,null,null,null,null,null,null,null,null,"30","17","06",3,3000000,17000,60,3,3017063,"RASZKÓW",1776.2]
["","",null,null,null,null,null,null,null,null,null,null,null,null,null,null,null,null,null,null,null,null,null,null,null,null,null,null,null,null,null,"30","18","03",3,3000000,18000,30,3,3018033,"GRABÓW NAD PROSNĄ",1492.56]
[1430042,"  Orońsko..........................................................................................................................................................................................................................................................",8195,"",82,null,null,null,null,null,null,null,null,null,null,null,null,null,null,null,null,null,null,null,null,null,null,null,null,null,null,"30","18","07",3,3000000,18000,70,3,3018073,"OSTRZESZÓW",1846.87]
["","",null,null,null,null,null,null,null,null,null,null,null,null,null,null,null,null,null,null,null,null,null,null,null,null,null,null,null,null,null,"30","19","01",1,3000000,19000,10,1,3019011,"PIŁA",2146.5]
["","Powiat warszawski zachodni  (7 gmin)",null,null,null,null,null,null,null,null,null,null,null,null,null,null,null,null,null,null,null,null,null,null,null,null,null,null,null,null,null,"30","19","05",2,3000000,19000,50,2,3019052,"MIASTECZKO KRAJEŃSKIE",1402.93]
[1432072,"  Stare Babice..........................................................................................................................................................................................................................................................",6342,"",63,null,null,null,null,null,null,null,null,null,null,null,null,null,null,null,null,null,null,null,null,null,null,null,null,null,null,"30","20","01",3,3000000,20000,10,3,3020013,"CHOCZ",919.27]
[1432053,"  Łomianki..........................................................................................................................................................................................................................................................",3883,"",39,null,null,null,null,null,null,null,null,null,null,null,null,null,null,null,null,null,null,null,null,null,null,null,null,null,null,"30","20","06",3,3000000,20000,60,3,3020063,"PLESZEW",1789.05]
[1432055,"",3043,"",31,null,null,null,null,null,null,null,null,null,null,null,null,null,null,null,null,null,null,null,null,null,null,null,null,null,null,"30","21","02",1,3000000,21000,20,1,3021021,"PUSZCZYKOWO",3472.57]
[1432065,"",6314,"",63,null,null,null,null,null,null,null,null,null,null,null,null,null,null,null,null,null,null,null,null,null,null,null,null,null,null,"30","21","05",2,3000000,21000,50,2,3021052,"DOPIEWO",3193.06]
[1433022,"  Grębków..........................................................................................................................................................................................................................................................",13076,"",131,null,null,null,null,null,null,null,null,null,null,null,null,null,null,null,null,null,null,null,null,null,null,null,null,null,null,"30","21","10",3,3000000,21000,100,3,3021103,"MOSINA",2281.36]
[1433072,"  Sadowne..........................................................................................................................................................................................................................................................",14473,"",145,null,null,null,null,null,null,null,null,null,null,null,null,null,null,null,null,null,null,null,null,null,null,null,null,null,null,"30","21","14",3,3000000,21000,140,3,3021143,"STĘSZEW",3270.35]
[1433082,"  Stoczek..........................................................................................................................................................................................................................................................",14454,"",145,null,null,null,null,null,null,null,null,null,null,null,null,null,null,null,null,null,null,null,null,null,null,null,null,null,null,"30","21","15",2,3000000,21000,150,2,3021152,"SUCHY LAS",6716.03]
[1433054,"",1339,"",13,null,null,null,null,null,null,null,null,null,null,null,null,null,null,null,null,null,null,null,null,null,null,null,null,null,null,"30","22","02",3,3000000,22000,20,3,3022023,"JUTROSIN",1401.07]
[1434021,"  Marki..........................................................................................................................................................................................................................................................",2615,"",26,null,null,null,null,null,null,null,null,null,null,null,null,null,null,null,null,null,null,null,null,null,null,null,null,null,null,"30","23","02",2,3000000,23000,20,2,3023022,"LĄDEK",1202.67]
[1434062,"  Jadów..........................................................................................................................................................................................................................................................",11658,"",117,null,null,null,null,null,null,null,null,null,null,null,null,null,null,null,null,null,null,null,null,null,null,null,null,null,null,"30","23","07",2,3000000,23000,70,2,3023072,"STRZAŁKOWO",1945.39]
[1434082,"  Poświętne..........................................................................................................................................................................................................................................................",10395,"",104,null,null,null,null,null,null,null,null,null,null,null,null,null,null,null,null,null,null,null,null,null,null,null,null,null,null,"30","24","01",1,3000000,24000,10,1,3024011,"OBRZYCKO",1439.48]
[1434093,"  Radzymin..........................................................................................................................................................................................................................................................",12946,"",129,null,null,null,null,null,null,null,null,null,null,null,null,null,null,null,null,null,null,null,null,null,null,null,null,null,null,"30","24","04",2,3000000,24000,40,2,3024042,"OBRZYCKO",1420.99]
[1434115,"",9510,"",95,null,null,null,null,null,null,null,null,null,null,null,null,null,null,null,null,null,null,null,null,null,null,null,null,null,null,"30","25","01",2,3000000,25000,10,2,3025012,"DOMINOWO",1718.44]
["","Powiat wyszkowski  (6 gmin)",null,null,null,null,null,null,null,null,null,null,null,null,null,null,null,null,null,null,null,null,null,null,null,null,null,null,null,null,null,"30","25","05",2,3000000,25000,50,2,3025052,"ZANIEMYŚL",2074.6]
["","",null,null,null,null,null,null,null,null,null,null,null,null,null,null,null,null,null,null,null,null,null,null,null,null,null,null,null,null,null,"30","26","01",2,3000000,26000,10,2,3026012,"BRODNICA",1444.43]
[1435042,"  Somianka..........................................................................................................................................................................................................................................................",11769,"",118,null,null,null,null,null,null,null,null,null,null,null,null,null,null,null,null,null,null,null,null,null,null,null,null,null,null,"30","27","01",1,3000000,27000,10,1,3027011,"TUREK",1992.87]
[1435055,"",14440,"",144,null,null,null,null,null,null,null,null,null,null,null,null,null,null,null,null,null,null,null,null,null,null,null,null,null,null,"30","27","06",2,3000000,27000,60,2,3027062,"PRZYKONA",3822.57]
[1436032,"  Przyłęk..........................................................................................................................................................................................................................................................",13157,"",131,null,null,null,null,null,null,null,null,null,null,null,null,null,null,null,null,null,null,null,null,null,null,null,null,null,null,"30","28","02",2,3000000,28000,20,2,3028022,"DAMASŁAWEK",1288.8900000000001]
["","",null,null,null,null,null,null,null,null,null,null,null,null,null,null,null,null,null,null,null,null,null,null,null,null,null,null,null,null,null,"30","28","04",2,3000000,28000,40,2,3028042,"MIEŚCISKO",1913.73]
[1436055,"",14623,"",146,null,null,null,null,null,null,null,null,null,null,null,null,null,null,null,null,null,null,null,null,null,null,null,null,null,null,"30","28","07",2,3000000,28000,70,2,3028072,"WĄGROWIEC",1375.63]
[1437052,"  Siemiątkowo..........................................................................................................................................................................................................................................................",11340,"",113,null,null,null,null,null,null,null,null,null,null,null,null,null,null,null,null,null,null,null,null,null,null,null,null,null,null,"30","30","02",3,3000000,30000,20,3,3030023,"MIŁOSŁAW",1483.04]
[1437015,"",10939,"",109,null,null,null,null,null,null,null,null,null,null,null,null,null,null,null,null,null,null,null,null,null,null,null,null,null,null,"30","31","01",1,3000000,31000,10,1,3031011,"ZŁOTÓW",1926.23]
[1437033,"  Lubowidz..........................................................................................................................................................................................................................................................",19078,"",192,null,null,null,null,null,null,null,null,null,null,null,null,null,null,null,null,null,null,null,null,null,null,null,null,null,null,"30","31","02",3,3000000,31000,20,3,3031023,"JASTROWIE",1550.68]
[1437065,"",12174,"",122,null,null,null,null,null,null,null,null,null,null,null,null,null,null,null,null,null,null,null,null,null,null,null,null,null,null,"30","31","07",2,3000000,31000,70,2,3031072,"ZAKRZEWO",1369.02]
["","",null,null,null,null,null,null,null,null,null,null,null,null,null,null,null,null,null,null,null,null,null,null,null,null,null,null,null,null,null,"30","63","01",1,3000000,63000,10,1,3063011,"Leszno",2364.14]
[1438023,"  Mszczonów..........................................................................................................................................................................................................................................................",15185,"",152,null,null,null,null,null,null,null,null,null,null,null,null,null,null,null,null,null,null,null,null,null,null,null,null,null,null,"32","01","04",3,3200000,1000,40,3,3201043,"TYCHOWO",1555.47]
[1438025,"",14329,"",143,null,null,null,null,null,null,null,null,null,null,null,null,null,null,null,null,null,null,null,null,null,null,null,null,null,null,"32","02","02",3,{"$f":"AF2376*100000","v":3200000},{"$f":"AG2376*1000","v":2000},{"$f":"AH2376*10","v":20},{"$f":"AI2376*1","v":3},{"$f":"SUM(AJ2376:AM2376)","v":3202023},"CHOSZCZNO",1454.27]
[1462011,"  Płock..........................................................................................................................................................................................................................................................",8804,"",88,null,null,null,null,null,null,null,null,null,null,null,null,null,null,null,null,null,null,null,null,null,null,null,null,null,null,"32","02","05",3,3200000,2000,50,3,3202053,"PEŁCZYCE",1596.09]
[1465028,"  Bemowo..........................................................................................................................................................................................................................................................",2495,"",25,null,null,null,null,null,null,null,null,null,null,null,null,null,null,null,null,null,null,null,null,null,null,null,null,null,null,"32","03","05",2,3200000,3000,50,2,3203052,"WIERZCHOWO",1575.72]
[1465068,"  Ochota..........................................................................................................................................................................................................................................................",972,"",10,null,null,null,null,null,null,null,null,null,null,null,null,null,null,null,null,null,null,null,null,null,null,null,null,null,null,"32","04","04",3,3200000,4000,40,3,3204043,"NOWOGARD",1501.34]
[1465078,"  Praga-Południe..........................................................................................................................................................................................................................................................",2238,"",22,null,null,null,null,null,null,null,null,null,null,null,null,null,null,null,null,null,null,null,null,null,null,null,null,null,null,"32","04","05",2,3200000,4000,50,2,3204052,"OSINA",1548.49]
[1465128,"  Ursus..........................................................................................................................................................................................................................................................",936,"",9,null,null,null,null,null,null,null,null,null,null,null,null,null,null,null,null,null,null,null,null,null,null,null,null,null,null,"32","05","03",2,3200000,5000,30,2,3205032,"KARNICE",1793.6]
[1465168,"  Wilanów..........................................................................................................................................................................................................................................................",3673,"",37,null,null,null,null,null,null,null,null,null,null,null,null,null,null,null,null,null,null,null,null,null,null,null,null,null,null,"32","06","01",2,3200000,6000,10,2,3206012,"BANIE",1301.67]
["","Powiat brzeski  (6 gmin)",null,null,null,null,null,null,null,null,null,null,null,null,null,null,null,null,null,null,null,null,null,null,null,null,null,null,null,null,null,"32","06","06",3,3200000,6000,60,3,3206063,"MORYŃ",1380.22]
[1601011,"  Brzeg..........................................................................................................................................................................................................................................................",1461,"↓",15,null,null,null,null,null,null,null,null,null,null,null,null,null,null,null,null,null,null,null,null,null,null,null,null,null,null,"32","06","08",3,3200000,6000,80,3,3206083,"TRZCIŃSKO-ZDRÓJ",1264.55]
[1601062,"  Olszanka..........................................................................................................................................................................................................................................................",9276,"",93,null,null,null,null,null,null,null,null,null,null,null,null,null,null,null,null,null,null,null,null,null,null,null,null,null,null,"32","07","02",3,3200000,7000,20,3,3207023,"GOLCZEWO",1720.31]
[1601035,"",27607,"",277,null,null,null,null,null,null,null,null,null,null,null,null,null,null,null,null,null,null,null,null,null,null,null,null,null,null,"32","08","01",1,3200000,8000,10,1,3208011,"KOŁOBRZEG",2117.56]
["","Powiat głubczycki  (4 gminy)",null,null,null,null,null,null,null,null,null,null,null,null,null,null,null,null,null,null,null,null,null,null,null,null,null,null,null,null,null,"32","08","05",2,3200000,8000,50,2,3208052,"RYMAŃ",2249.04]
["","",null,null,null,null,null,null,null,null,null,null,null,null,null,null,null,null,null,null,null,null,null,null,null,null,null,null,null,null,null,"32","08","06",2,3200000,8000,60,2,3208062,"SIEMYŚL",1953.67]
[1602015,"",10517,"",105,null,null,null,null,null,null,null,null,null,null,null,null,null,null,null,null,null,null,null,null,null,null,null,null,null,null,"32","09","04",2,3200000,9000,40,2,3209042,"MANOWO",1755.24]
[1602043,"  Kietrz..........................................................................................................................................................................................................................................................",13963,"",140,null,null,null,null,null,null,null,null,null,null,null,null,null,null,null,null,null,null,null,null,null,null,null,null,null,null,"32","09","08",2,3200000,9000,80,2,3209082,"ŚWIESZYNO",2238.96]
[1603011,"  Kędzierzyn-Koźle..........................................................................................................................................................................................................................................................",12371,"",124,null,null,null,null,null,null,null,null,null,null,null,null,null,null,null,null,null,null,null,null,null,null,null,null,null,null,"32","10","05",2,3200000,10000,50,2,3210052,"NOWOGRÓDEK POMORSKI",1391.64]
[1603022,"  Bierawa..........................................................................................................................................................................................................................................................",11856,"",119,null,null,null,null,null,null,null,null,null,null,null,null,null,null,null,null,null,null,null,null,null,null,null,null,null,null,"32","11","02",2,3200000,11000,20,2,3211022,"KOŁBASKOWO",3383.71]
[1603052,"  Polska Cerekiew..........................................................................................................................................................................................................................................................",6012,"",60,null,null,null,null,null,null,null,null,null,null,null,null,null,null,null,null,null,null,null,null,null,null,null,null,null,null,"32","12","01",2,3200000,12000,10,2,3212012,"BIELICE",1421.72]
["","",null,null,null,null,null,null,null,null,null,null,null,null,null,null,null,null,null,null,null,null,null,null,null,null,null,null,null,null,null,"32","12","06",2,3200000,12000,60,2,3212062,"WARNICE",1364.62]
[1604014,"",579,"",6,null,null,null,null,null,null,null,null,null,null,null,null,null,null,null,null,null,null,null,null,null,null,null,null,null,null,"32","13","02",1,3200000,13000,20,1,3213021,"SŁAWNO",1474.41]
[1604024,"",1235,"",12,null,null,null,null,null,null,null,null,null,null,null,null,null,null,null,null,null,null,null,null,null,null,null,null,null,null,"32","13","05",2,3200000,13000,50,2,3213052,"POSTOMINO",3458.62]
["","Powiat krapkowicki  (5 gmin)",null,null,null,null,null,null,null,null,null,null,null,null,null,null,null,null,null,null,null,null,null,null,null,null,null,null,null,null,null,"32","14","04",2,3200000,14000,40,2,3214042,"DOLICE",1184.74]
["","",null,null,null,null,null,null,null,null,null,null,null,null,null,null,null,null,null,null,null,null,null,null,null,null,null,null,null,null,null,"32","14","09",2,3200000,14000,90,2,3214092,"STARA DĄBROWA",1702.4]
[1605024,"",2101,"",21,null,null,null,null,null,null,null,null,null,null,null,null,null,null,null,null,null,null,null,null,null,null,null,null,null,null,"32","15","03",3,3200000,15000,30,3,3215033,"BIAŁY BÓR",2115.79]
[1605053,"  Zdzieszowice..........................................................................................................................................................................................................................................................",5744,"",57,null,null,null,null,null,null,null,null,null,null,null,null,null,null,null,null,null,null,null,null,null,null,null,null,null,null,"32","15","05",2,3200000,15000,50,2,3215052,"GRZMIĄCA",1393.08]
["","Powiat namysłowski  (5 gmin)",null,null,null,null,null,null,null,null,null,null,null,null,null,null,null,null,null,null,null,null,null,null,null,null,null,null,null,null,null,"32","16","02",2,3200000,16000,20,2,3216022,"BRZEŻNO",1422.43]
[1606052,"  Wilków..........................................................................................................................................................................................................................................................",10074,"",101,null,null,null,null,null,null,null,null,null,null,null,null,null,null,null,null,null,null,null,null,null,null,null,null,null,null,"32","17","01",1,3200000,17000,10,1,3217011,"WAŁCZ",1828.57]
[1606023,"  Namysłów..........................................................................................................................................................................................................................................................",29015,"",290,null,null,null,null,null,null,null,null,null,null,null,null,null,null,null,null,null,null,null,null,null,null,null,null,null,null,"32","17","03",3,3200000,17000,30,3,3217033,"MIROSŁAWIEC",2126.27]
["","Powiat nyski  (9 gmin)",null,null,null,null,null,null,null,null,null,null,null,null,null,null,null,null,null,null,null,null,null,null,null,null,null,null,null,null,null,"32","18","01",3,3200000,18000,10,3,3218013,"DOBRA",1169.79]
[1607092,"  Skoroszyce..........................................................................................................................................................................................................................................................",10386,"",104,null,null,null,null,null,null,null,null,null,null,null,null,null,null,null,null,null,null,null,null,null,null,null,null,null,null,"32","61","01",1,3200000,61000,10,1,3261011,"Koszalin",2135.5300000000002]
[1607015,"",16124,"",162,null,null,null,null,null,null,null,null,null,null,null,null,null,null,null,null,null,null,null,null,null,null,null,null,null,null,null,null,null,null,null,null,null,null,null,"Wskaźnik Gg dla kraju",2098.2199999999998]
[1607054,"",2751,"",28,null,null,null,null,null,null,null,null,null,null,null,null,null,null,null,null,null,null,null,null,null,null,null,null,null,null,null,null,null,null,null,null,null,null,null,"POTOK GÓRNY",485.66]
[1607063,"  Otmuchów..........................................................................................................................................................................................................................................................",18740,"",187,null,null,null,null,null,null,null,null,null,null,null,null,null,null,null,null,null,null,null,null,null,null,null,null,null,null,null,null,null,null,null,null,null,null,null,"KLESZCZÓW",29808.1]
[1607073,"  Paczków..........................................................................................................................................................................................................................................................",7998,"",80]
[1608052,"  Radłów..........................................................................................................................................................................................................................................................",11687,"",116]
[1608072,"  Zębowice..........................................................................................................................................................................................................................................................",9565,"",96]
[1608014,"",1953,"",19]
[1608033,"  Olesno..........................................................................................................................................................................................................................................................",24090,"",241]
[1608044,"",935,"",9]
[1609022,"  Dąbrowa..........................................................................................................................................................................................................................................................",11411,"",114]
[1609052,"  Łubniany..........................................................................................................................................................................................................................................................",12605,"",126]
[1609092,"  Popielów..........................................................................................................................................................................................................................................................",17549,"",176]
[1609074,"",1311,"",13]
[1609083,"  Ozimek..........................................................................................................................................................................................................................................................",12567,"",126]
[1609103,"  Prószków..........................................................................................................................................................................................................................................................",11826,"",118]
[1609125,"",7202,"",72]
["",""]
[1610024,"",2206,"",22]
[1610044,"",2050,"",20]
["","Powiat strzelecki  (7 gmin)"]
[1611033,"  Kolonowskie..........................................................................................................................................................................................................................................................",8357,"",84]
[1611035,"",2787,"",28]
[1611045,"",8025,"",80]
[1611064,"",1476,"",15]
[1611075,"",6568,"",66]
["",""]
["",""]
[1801084,"",1679,"",17]
[1802032,"  Dydnia..........................................................................................................................................................................................................................................................",13029,"",130]
[1802052,"  Jasienica Rosielna..........................................................................................................................................................................................................................................................",5706,"",57]
[1802013,"  Brzozów..........................................................................................................................................................................................................................................................",10307,"",103]
[1803011,"  Dębica..........................................................................................................................................................................................................................................................",3383,"",34]
[1803052,"  Jodłowa..........................................................................................................................................................................................................................................................",5992,"",60]
[1803025,"",11357,"",113]
[1803065,"",14909,"",149]
["",""]
[1804042,"  Jarosław..........................................................................................................................................................................................................................................................",11348,"",113]
[1804062,"  Pawłosiów..........................................................................................................................................................................................................................................................",4742,"",47]
[1804102,"  Roźwienica..........................................................................................................................................................................................................................................................",6875,"",69]
[1804075,"",6044,"",60]
["",""]
[1805072,"  Nowy Żmigród..........................................................................................................................................................................................................................................................",10359,"",104]
[1805112,"  Tarnowiec..........................................................................................................................................................................................................................................................",6250,"",62]
[1805053,"  Kołaczyce..........................................................................................................................................................................................................................................................",6110,"",61]
[1806012,"  Cmolas..........................................................................................................................................................................................................................................................",13399,"",134]
[1806032,"  Majdan Królewski..........................................................................................................................................................................................................................................................",15526,"",155]
["",""]
["",""]
[1807062,"  Krościenko Wyżne..........................................................................................................................................................................................................................................................",1631,"",16]
[1807024,"",548,"",5]
[1807034,"",589,"",6]
[1807043,"  Jedlicze..........................................................................................................................................................................................................................................................",5857,"",59]
[1807085,"",15424,"",155]
["",""]
[1821042,"  Olszanica..........................................................................................................................................................................................................................................................",9354,"",94]
[1821035,"",9606,"",96]
["",""]
[1808053,"  Nowa Sarzyna..........................................................................................................................................................................................................................................................",14373,"",144]
["","Powiat lubaczowski  (8 gmin)"]
[1809011,"  Lubaczów..........................................................................................................................................................................................................................................................",2573,"",26]
[1809082,"  Wielkie Oczy..........................................................................................................................................................................................................................................................",14624,"",146]
[1809023,"  Cieszanów..........................................................................................................................................................................................................................................................",21944,"",219]
[1809053,"  Narol..........................................................................................................................................................................................................................................................",20347,"",203]
[1809065,"",14676,"",147]
["",""]
[1810062,"  Rakszawa..........................................................................................................................................................................................................................................................",6646,"",66]
["",""]
["",""]
[1811062,"  Padew Narodowa..........................................................................................................................................................................................................................................................",7125,"",71]
[1811102,"  Wadowice Górne..........................................................................................................................................................................................................................................................",8690,"",87]
[1811074,"",1604,"",16]
["","Powiat niżański  (7 gmin)"]
[1812032,"  Jeżowe..........................................................................................................................................................................................................................................................",12393,"",124]
[1812055,"",8141,"",81]
[1812065,"",4209,"",42]
[1812074,"",820,"",8]
[1813022,"  Dubiecko..........................................................................................................................................................................................................................................................",15425,"",154]
[1813042,"  Krasiczyn..........................................................................................................................................................................................................................................................",12436,"",124]
[1813072,"  Orły..........................................................................................................................................................................................................................................................",7047,"",70]
["",""]
[1814032,"  Gać..........................................................................................................................................................................................................................................................",3596,"",36]
["",""]
[1814055,"",9743,"",97]
[1814074,"",674,"",7]
[1815022,"  Ostrów..........................................................................................................................................................................................................................................................",9619,"",96]
["",""]
[1815035,"",9198,"",92]
["",""]
[1816052,"  Dynów..........................................................................................................................................................................................................................................................",11902,"",118]
[1816122,"  Świlcza..........................................................................................................................................................................................................................................................",10818,"",108]
[1816132,"  Trzebownisko (a) ..........................................................................................................................................................................................................................................................",9028,"",90]
[1816034,"",911,"",8]
[1816064,"",1371,"",14]
[1816113,"  Sokołów Małopolski..........................................................................................................................................................................................................................................................",13420,"",134]
[1816143,"  Tyczyn..........................................................................................................................................................................................................................................................",5372,"",54]
[1817011,"  Sanok..........................................................................................................................................................................................................................................................",3808,"",38]
[1817042,"  Komańcza..........................................................................................................................................................................................................................................................",38770,"",388]
[1817073,"  Zagórz..........................................................................................................................................................................................................................................................",15989,"",160]
[1817074,"",2229,"",22]
[1818011,"  Stalowa Wola..........................................................................................................................................................................................................................................................",8252,"",83]
[1818062,"  Zaleszany..........................................................................................................................................................................................................................................................",8717,"",87]
[1818053,"  Zaklików..........................................................................................................................................................................................................................................................",20213,"",202]
["","Powiat strzyżowski  (5 gmin)"]
[1819052,"  Wiśniowa..........................................................................................................................................................................................................................................................",8338,"",83]
[1819045,"",12643,"",126]
["",""]
[1820013,"  Baranów Sandomierski..........................................................................................................................................................................................................................................................",12155,"",122]
[1820044,"",1670,"",17]
[1863011,"  Rzeszów ..........................................................................................................................................................................................................................................................",12661,"",126]
["","WOJ. PODLASKIE"]
[2001011,"  Augustów..........................................................................................................................................................................................................................................................",8090,"",81]
[2001062,"  Płaska (c)..........................................................................................................................................................................................................................................................",37267,"",372]
[2001045,"",17923,"",179]
[2002042,"  Gródek (c)..........................................................................................................................................................................................................................................................",42970,"",429]
[2002052,"  Juchnowiec Kościelny..........................................................................................................................................................................................................................................................",17177,"",171]
["",""]
[2002024,"",1428,"",14]
[2002063,"  Łapy..........................................................................................................................................................................................................................................................",12765,"",128]
[2002073,"  Michałowo..........................................................................................................................................................................................................................................................",41002,"",409]
[2002095,"",18287,"",183]
[2002124,"",2897,"",29]
[2002135,"",9886,"",99]
[2002143,"  Zabłudów..........................................................................................................................................................................................................................................................",33974,"",340]
["",""]
[2003042,"  Boćki..........................................................................................................................................................................................................................................................",23189,"",232]
[2003062,"  Orla..........................................................................................................................................................................................................................................................",15990,"",160]
["","Powiat grajewski  (6 gmin)"]
[2004032,"  Radziłów..........................................................................................................................................................................................................................................................",19954,"",200]
[2004045,"",17198,"",172]
["","Powiat hajnowski  (9 gmin)"]
["",""]
[2005032,"  Czeremcha (c)..........................................................................................................................................................................................................................................................",9682,"",97]
[2005092,"  Narewka (c)..........................................................................................................................................................................................................................................................",33898,"",339]
[2005074,"",4671,"",47]
["","Powiat kolneński  (6 gmin)"]
[2006032,"  Kolno..........................................................................................................................................................................................................................................................",28228,"",281]
[2006054,"",1324,"",13]
[2007022,"  Łomża..........................................................................................................................................................................................................................................................",20695,"",207]
[2007032,"  Miastkowo..........................................................................................................................................................................................................................................................",11485,"",115]
[2007082,"  Wizna..........................................................................................................................................................................................................................................................",13338,"",133]
[2007015,"",15467,"",155]
[2007045,"",8066,"",80]
["",""]
["",""]
[2008044,"",2368,"",24]
[2008065,"",15389,"",154]
["","Powiat sejneński  (5 gmin)"]
[2009022,"  Giby..........................................................................................................................................................................................................................................................",32320,"",323]
["",""]
[2010032,"  Dziadkowice..........................................................................................................................................................................................................................................................",11611,"",116]
[2010052,"  Mielnik..........................................................................................................................................................................................................................................................",19639,"",196]
["",""]
["",""]
[2011062,"  Nowy Dwór..........................................................................................................................................................................................................................................................",12114,"",121]
[2011072,"  Sidra..........................................................................................................................................................................................................................................................",17409,"",174]
[2011014,"",2264,"",23]
[2011083,"  Sokółka..........................................................................................................................................................................................................................................................",31356,"",314]
[2011093,"  Suchowola..........................................................................................................................................................................................................................................................",25570,"",256]
[2011095,"",22975,"",230]
[2012032,"  Jeleniewo..........................................................................................................................................................................................................................................................",13137,"",131]
[2012082,"  Szypliszki..........................................................................................................................................................................................................................................................",15643,"",156]
[2013011,"  Wysokie Mazowieckie..........................................................................................................................................................................................................................................................",1524,"",15]
["",""]
[2013072,"  Nowe Piekuty..........................................................................................................................................................................................................................................................",10970,"",110]
[2013024,"",1953,"",20]
[2013034,"",523,"",5]
[2013093,"  Szepietowo..........................................................................................................................................................................................................................................................",15172,"",152]
[2014011,"  Zambrów..........................................................................................................................................................................................................................................................",1902,"",19]
[2014052,"  Zambrów..........................................................................................................................................................................................................................................................",29940,"",299]
[2063011,"  Suwałki..........................................................................................................................................................................................................................................................",6551,"",66]
["","WOJ. POMORSKIE"]
[2201032,"  Czarna Dąbrówka..........................................................................................................................................................................................................................................................",29806,"",298]
[2201092,"  Trzebielino..........................................................................................................................................................................................................................................................",22597,"",226]
[2201023,"  Bytów..........................................................................................................................................................................................................................................................",19692,"",197]
[2201025,"",18820,"",188]
["",""]
["",""]
[2202043,"  Czersk..........................................................................................................................................................................................................................................................",38011,"",380]
[2202044,"",973,"",10]
[2203011,"  Człuchów..........................................................................................................................................................................................................................................................",1278,"",13]
[2203072,"  Rzeczenica..........................................................................................................................................................................................................................................................",27480,"",275]
[2203024,"",4643,"",46]
[2203043,"  Debrzno..........................................................................................................................................................................................................................................................",22403,"",224]
[2204011,"  Pruszcz Gdański..........................................................................................................................................................................................................................................................",1647,"",16]
[2204052,"  Przywidz..........................................................................................................................................................................................................................................................",12934,"",129]
["","Powiat kartuski  (8 gmin)"]
["",""]
[2205052,"  Somonino..........................................................................................................................................................................................................................................................",11211,"",112]
[2205024,"",735,"",7]
[2205084,"",473,"",5]
["","Powiat kościerski  (8 gmin)"]
[2206032,"  Karsin..........................................................................................................................................................................................................................................................",16943,"",169]
[2206082,"  Stara Kiszewa..........................................................................................................................................................................................................................................................",21273,"",213]
["",""]
[2207022,"  Gardeja..........................................................................................................................................................................................................................................................",19270,"",193]
["",""]
["",""]
["",""]
[2208042,"  Nowa Wieś Lęborska..........................................................................................................................................................................................................................................................",27045,"",270]
["",""]
["",""]
["","Powiat nowodworski  (5 gmin)"]
["",""]
[2210042,"  Stegna..........................................................................................................................................................................................................................................................",17009,"",170]
[2210025,"",20813,"",208]
[2211011,"  Hel (b)..........................................................................................................................................................................................................................................................",2295,"",23]
["",""]
[2211023,"  Jastarnia..........................................................................................................................................................................................................................................................",998,"",10]
[2211045,"",2852,"",29]
["",""]
[2212022,"  Damnica..........................................................................................................................................................................................................................................................",16766,"",168]
[2212072,"  Potęgowo..........................................................................................................................................................................................................................................................",22846,"",228]
[2212053,"  Kępice..........................................................................................................................................................................................................................................................",29305,"",293]
["","Powiat starogardzki  (13 gmin)"]
[2213021,"  Skórcz..........................................................................................................................................................................................................................................................",363,"↓",4]
[2213062,"  Lubichowo..........................................................................................................................................................................................................................................................",16090,"",160]
[2213122,"  Starogard Gdański..........................................................................................................................................................................................................................................................",19621,"",195]
[2213014,"",994,"",10]
[2213015,"",1779,"",18]
["","Powiat sztumski  (5 gmin)"]
["",""]
[2216054,"",459,"",5]
["",""]
["",""]
[2214023,"  Gniew..........................................................................................................................................................................................................................................................",19412,"",194]
[2214044,"",442,"",4]
[2214045,"",13660,"",137]
[2215021,"  Rumia..........................................................................................................................................................................................................................................................",3010,"",30]
[2215062,"  Linia..........................................................................................................................................................................................................................................................",11981,"",120]
["",""]
[2263011,"  Słupsk..........................................................................................................................................................................................................................................................",4315,"",43]
["","WOJ. ŚLĄSKIE"]
[2401081,"  Sławków..........................................................................................................................................................................................................................................................",3667,"",37]
[2401052,"  Mierzęcice..........................................................................................................................................................................................................................................................",4943,"",49]
[2401062,"  Psary..........................................................................................................................................................................................................................................................",4616,"",46]
[2401075,"",7519,"",75]
[2402022,"  Bestwina..........................................................................................................................................................................................................................................................",3792,"",38]
[2402082,"  Porąbka..........................................................................................................................................................................................................................................................",6443,"",65]
[2402043,"  Czechowice-Dziedzice..........................................................................................................................................................................................................................................................",6648,"",66]
[2402045,"",3357,"",33]
["",""]
["",""]
[2414042,"  Bojszowy..........................................................................................................................................................................................................................................................",3469,"",35]
[2403021,"  Ustroń..........................................................................................................................................................................................................................................................",5903,"",59]
[2403052,"  Chybie..........................................................................................................................................................................................................................................................",3175,"",32]
[2403122,"  Zebrzydowice..........................................................................................................................................................................................................................................................",4142,"",41]
[2403104,"",985,"",10]
[2403113,"  Strumień..........................................................................................................................................................................................................................................................",5854,"",59]
[2404022,"  Dąbrowa Zielona..........................................................................................................................................................................................................................................................",10021,"",100]
[2404072,"  Konopiska..........................................................................................................................................................................................................................................................",7851,"",79]
[2404082,"  Kruszyna..........................................................................................................................................................................................................................................................",9355,"",94]
[2404132,"  Poczesna..........................................................................................................................................................................................................................................................",5998,"",60]
["",""]
[2404064,"",3692,"",37]
["",""]
[2405021,"  Pyskowice..........................................................................................................................................................................................................................................................",3089,"",31]
[2405042,"  Pilchowice..........................................................................................................................................................................................................................................................",6983,"",70]
[2405065,"",10483,"",105]
[2405073,"  Toszek..........................................................................................................................................................................................................................................................",9982,"",100]
[2406032,"  Lipie..........................................................................................................................................................................................................................................................",9905,"",99]
[2406072,"  Popów..........................................................................................................................................................................................................................................................",10229,"",102]
[2406014,"",4746,"",47]
[2406024,"",2766,"",28]
["","Powiat lubliniecki  (8 gmin)"]
["",""]
[2407072,"  Pawonków..........................................................................................................................................................................................................................................................",11893,"",119]
["",""]
["",""]
["",""]
[2409011,"  Myszków..........................................................................................................................................................................................................................................................",7359,"",74]
[2409042,"  Poraj..........................................................................................................................................................................................................................................................",5706,"",57]
[2409023,"  Koziegłowy..........................................................................................................................................................................................................................................................",15964,"",160]
[2409053,"  Żarki..........................................................................................................................................................................................................................................................",10100,"",101]
[2410022,"  Kobiór..........................................................................................................................................................................................................................................................",4819,"",48]
[2410032,"  Miedźna..........................................................................................................................................................................................................................................................",5009,"",50]
[2410054,"",2249,"",22]
[2411011,"  Racibórz..........................................................................................................................................................................................................................................................",7501,"",75]
[2411072,"  Pietrowice Wielkie..........................................................................................................................................................................................................................................................",6793,"",68]
[2411033,"  Krzanowice..........................................................................................................................................................................................................................................................",4720,"",47]
[2411035,"",4412,"",43]
[2411055,"",9513,"",96]
[2412052,"  Świerklany..........................................................................................................................................................................................................................................................",2417,"",24]
["",""]
["",""]
[2413041,"  Tarnowskie Góry..........................................................................................................................................................................................................................................................",8388,"",84]
[2413082,"  Tworóg..........................................................................................................................................................................................................................................................",12504,"",125]
["",""]
[2415021,"  Radlin..........................................................................................................................................................................................................................................................",1253,"",13]
["",""]
["","Powiat zawierciański  (10 gmin)"]
["",""]
[2416042,"  Kroczyce..........................................................................................................................................................................................................................................................",11005,"",110]
[2416053,"  Łazy..........................................................................................................................................................................................................................................................",13293,"",133]
[2416065,"",5617,"",56]
[2416075,"",13454,"",135]
[2416084,"",1803,"",18]
["",""]
[2417052,"  Koszarawa..........................................................................................................................................................................................................................................................",3156,"",32]
[2417062,"  Lipowa..........................................................................................................................................................................................................................................................",5872,"",59]
[2417112,"  Rajcza..........................................................................................................................................................................................................................................................",13142,"",131]
[2417152,"  Węgierska Górka..........................................................................................................................................................................................................................................................",7647,"",76]
[2464011,"  Częstochowa..........................................................................................................................................................................................................................................................",15971,"",160]
[2467011,"  Jastrzębie-Zdrój..........................................................................................................................................................................................................................................................",8533,"",85]
[2469011,"  Katowice ..........................................................................................................................................................................................................................................................",16464,"",165]
[2472011,"  Ruda Śląska..........................................................................................................................................................................................................................................................",7773,"",78]
[2478011,"  Zabrze..........................................................................................................................................................................................................................................................",8040,"",80]
[2479011,"  Żory..........................................................................................................................................................................................................................................................",6464,"",65]
[2601052,"  Solec-Zdrój..........................................................................................................................................................................................................................................................",8504,"",85]
[2601014,"",1228,"",12]
[2601043,"  Pacanów..........................................................................................................................................................................................................................................................",12458,"",125]
[2601063,"  Stopnica..........................................................................................................................................................................................................................................................",12596,"",125]
[2601065,"",12141,"",121]
[2601085,"",9561,"",95]
[2602072,"  Słupia..........................................................................................................................................................................................................................................................",10842,"",108]
[2602082,"  Sobków..........................................................................................................................................................................................................................................................",14431,"",144]
[2602025,"",21525,"",216]
[2602063,"  Sędziszów..........................................................................................................................................................................................................................................................",14565,"",146]
[2603012,"  Bejsce..........................................................................................................................................................................................................................................................",5748,"",57]
[2603033,"  Kazimierza Wielka..........................................................................................................................................................................................................................................................",13986,"",140]
[2603035,"",13453,"",135]
[2603045,"",6311,"",63]
[2604012,"  Bieliny..........................................................................................................................................................................................................................................................",8822,"",88]
[2604062,"  Górno..........................................................................................................................................................................................................................................................",8316,"",83]
[2604142,"  Piekoszów..........................................................................................................................................................................................................................................................",10297,"",103]
[2604192,"  Zagnańsk..........................................................................................................................................................................................................................................................",12487,"",125]
[2604033,"  Chęciny..........................................................................................................................................................................................................................................................",12739,"",127]
[2604043,"  Chmielnik..........................................................................................................................................................................................................................................................",14219,"",142]
[2604045,"",13439,"",134]
[2604055,"",20689,"",206]
[2604125,"",13600,"",136]
[2604133,"  Nowa Słupia..........................................................................................................................................................................................................................................................",8576,"",86]
[2604155,"",9777,"",98]
[2605022,"  Gowarczów..........................................................................................................................................................................................................................................................",10096,"",101]
[2605033,"  Końskie..........................................................................................................................................................................................................................................................",25014,"",250]
[2605043,"  Radoszyce..........................................................................................................................................................................................................................................................",14664,"",146]
[2605045,"",12947,"",129]
[2605085,"",22073,"",221]
[2606062,"  Sadowie..........................................................................................................................................................................................................................................................",8181,"",82]
[2606072,"  Tarłów..........................................................................................................................................................................................................................................................",16335,"",164]
[2606045,"",10416,"",105]
["","Powiat ostrowiecki  (6 gmin)"]
[2607032,"  Bodzechów..........................................................................................................................................................................................................................................................",12219,"",122]
[2607043,"  Ćmielów..........................................................................................................................................................................................................................................................",11791,"",118]
[2607045,"",10457,"",104]
["",""]
[2608052,"  Złota..........................................................................................................................................................................................................................................................",8201,"",82]
[2608013,"  Działoszyce..........................................................................................................................................................................................................................................................",10576,"",106]
[2608045,"",19849,"",199]
["",""]
[2609072,"  Samborzec..........................................................................................................................................................................................................................................................",8524,"",85]
[2609043,"  Koprzywnica..........................................................................................................................................................................................................................................................",6933,"",69]
[2609045,"",5143,"",51]
["",""]
[2610022,"  Bliżyn..........................................................................................................................................................................................................................................................",14120,"",141]
[2610042,"  Skarżysko Kościelne..........................................................................................................................................................................................................................................................",5324,"",53]
["","Powiat starachowicki  (5 gmin)"]
[2611022,"  Brody..........................................................................................................................................................................................................................................................",16127,"",161]
[2611054,"",1602,"",16]
["",""]
[2612022,"  Łubnice..........................................................................................................................................................................................................................................................",8414,"",84]
[2612035,"",4334,"",43]
[2612045,"",11187,"",111]
[2612054,"",1741,"",17]
[2612083,"  Szydłów..........................................................................................................................................................................................................................................................",10790,"",108]
["",""]
[2613052,"  Secemin..........................................................................................................................................................................................................................................................",16260,"",163]
["",""]
["",""]
[2801011,"  Bartoszyce..........................................................................................................................................................................................................................................................",1179,"",11]
[2801032,"  Bartoszyce (c)..........................................................................................................................................................................................................................................................",42721,"",428]
["",""]
[2801064,"",463,"",5]
[2802011,"  Braniewo..........................................................................................................................................................................................................................................................",1241,"",12]
[2802072,"  Wilczęta..........................................................................................................................................................................................................................................................",14785,"",148]
["",""]
[2802053,"  Pieniężno..........................................................................................................................................................................................................................................................",24294,"",243]
[2803011,"  Działdowo..........................................................................................................................................................................................................................................................",1147,"",11]
[2803032,"  Iłowo-Osada..........................................................................................................................................................................................................................................................",10377,"",104]
[2803062,"  Rybno..........................................................................................................................................................................................................................................................",14841,"",148]
["","Powiat elbląski  (9 gmin)"]
[2804032,"  Gronowo Elbląskie..........................................................................................................................................................................................................................................................",8915,"",89]
[2804063,"  Młynary..........................................................................................................................................................................................................................................................",15841,"",158]
[2804064,"",276,"",3]
[2804075,"",25328,"",253]
["",""]
[2805022,"  Ełk..........................................................................................................................................................................................................................................................",37918,"",380]
[2805042,"  Prostki..........................................................................................................................................................................................................................................................",23108,"",231]
[2806042,"  Giżycko..........................................................................................................................................................................................................................................................",29706,"",296]
[2806102,"  Wydminy..........................................................................................................................................................................................................................................................",23299,"",233]
["","Powiat gołdapski  (3 gminy)"]
["",""]
[2818033,"  Gołdap..........................................................................................................................................................................................................................................................",36204,"",362]
[2807011,"  Iława..........................................................................................................................................................................................................................................................",2188,"",22]
[2807032,"  Iława..........................................................................................................................................................................................................................................................",42421,"",424]
["",""]
[2807065,"",25238,"",252]
[2807075,"",24571,"",246]
[2808022,"  Barciany (c)..........................................................................................................................................................................................................................................................",29408,"",295]
[2808032,"  Kętrzyn..........................................................................................................................................................................................................................................................",28536,"",285]
[2808044,"",403,"",4]
["","Powiat lidzbarski  (5 gmin)"]
["",""]
[2809032,"  Lidzbark Warmiński..........................................................................................................................................................................................................................................................",37212,"",373]
["","Powiat mrągowski  (5 gmin)"]
["",""]
[2810023,"  Mikołajki..........................................................................................................................................................................................................................................................",25630,"",256]
[2810024,"",932,"",9]
[2811012,"  Janowiec Kościelny..........................................................................................................................................................................................................................................................",13592,"",136]
[2811044,"",686,"",7]
["",""]
["",""]
["",""]
[2813062,"  Wieliczki..........................................................................................................................................................................................................................................................",14080,"",141]
["","Powiat olsztyński  (12 gmin)"]
["",""]
[2814082,"  Kolno..........................................................................................................................................................................................................................................................",17859,"",179]
[2814013,"  Barczewo..........................................................................................................................................................................................................................................................",32001,"",320]
[2814023,"  Biskupiec..........................................................................................................................................................................................................................................................",29041,"",290]
[2814025,"",28541,"",285]
[2814065,"",20808,"",208]
[2814095,"",36382,"",364]
[2815022,"  Dąbrówno..........................................................................................................................................................................................................................................................",16574,"",166]
[2815032,"  Grunwald..........................................................................................................................................................................................................................................................",17994,"",180]
["",""]
[2815074,"",1238,"",12]
[2815084,"",611,"",6]
["","Powiat piski  (4 gminy)"]
[2816024,"",817,"",8]
[2816034,"",1008,"",10]
["","Powiat szczycieński  (8 gmin)"]
["",""]
[2817032,"  Jedwabno..........................................................................................................................................................................................................................................................",31190,"",312]
[2817043,"  Pasym..........................................................................................................................................................................................................................................................",14920,"",149]
[2817083,"  Wielbark..........................................................................................................................................................................................................................................................",34795,"",348]
[2817085,"",32953,"",330]
[2819033,"  Węgorzewo..........................................................................................................................................................................................................................................................",34147,"",341]
["",""]
["",""]
[3001011,"  Chodzież..........................................................................................................................................................................................................................................................",1277,"",13]
["",""]
[3001054,"",467,"",5]
["",""]
["",""]
[3002043,"  Krzyż Wielkopolski..........................................................................................................................................................................................................................................................",17428,"",174]
[3002073,"  Trzcianka..........................................................................................................................................................................................................................................................",37398,"",374]
[3002085,"",42563,"",426]
["","Powiat gnieźnieński  (10 gmin)"]
[3003032,"  Gniezno..........................................................................................................................................................................................................................................................",17816,"",178]
["",""]
[3003025,"",10175,"",102]
[3003054,"",962,"",10]
[3003104,"",831,"",8]
["",""]
[3004014,"",629,"",7]
[3004015,"",12135,"",121]
[3004033,"  Krobia..........................................................................................................................................................................................................................................................",12954,"",130]
[3004065,"",9218,"",93]
[3004075,"",12845,"",129]
["",""]
[3005025,"",11438,"",115]
[3005045,"",19764,"",198]
["",""]
[3006032,"  Kotlin..........................................................................................................................................................................................................................................................",8392,"",84]
[3006015,"",12302,"",123]
[3006044,"",216,"",2]
["",""]
[3007022,"  Brzeziny..........................................................................................................................................................................................................................................................",12695,"",127]
[3007072,"  Mycielin..........................................................................................................................................................................................................................................................",11089,"",111]
[3007084,"",868,"",9]
[3007095,"",7751,"",77]
["","Powiat kępiński  (7 gmin)"]
[3008042,"  Łęka Opatowska..........................................................................................................................................................................................................................................................",7771,"",78]
[3008033,"  Kępno..........................................................................................................................................................................................................................................................",12387,"",124]
["","Powiat kolski  (11 gmin)"]
[3009011,"  Koło..........................................................................................................................................................................................................................................................",1385,"",14]
[3009072,"  Koło..........................................................................................................................................................................................................................................................",10258,"",103]
[3009102,"  Osiek Mały..........................................................................................................................................................................................................................................................",8732,"",87]
[3009064,"",431,"",4]
[3009065,"",12462,"",125]
["","Powiat koniński  (14 gmin)"]
[3010062,"  Krzymów..........................................................................................................................................................................................................................................................",9250,"",92]
[3010112,"  Stare Miasto..........................................................................................................................................................................................................................................................",9773,"",98]
[3010142,"  Wilczyn..........................................................................................................................................................................................................................................................",8320,"",83]
[3010043,"  Kleczew..........................................................................................................................................................................................................................................................",11028,"",110]
[3010073,"  Rychwał..........................................................................................................................................................................................................................................................",11790,"",118]
[3010123,"  Ślesin..........................................................................................................................................................................................................................................................",14563,"",146]
[3010124,"",718,"",7]
[3011011,"  Kościan..........................................................................................................................................................................................................................................................",901,"",9]
[3011024,"",332,"",3]
[3011045,"",17668,"",177]
[3011053,"  Śmigiel..........................................................................................................................................................................................................................................................",18977,"",190]
[3012011,"  Sulmierzyce..........................................................................................................................................................................................................................................................",2929,"",29]
["",""]
[3012035,"",14653,"",146]
[3012043,"  Krotoszyn..........................................................................................................................................................................................................................................................",25580,"",256]
[3012064,"",620,"",6]
[3013022,"  Lipno..........................................................................................................................................................................................................................................................",10385,"",104]
["",""]
[3013033,"  Osieczna..........................................................................................................................................................................................................................................................",12864,"",129]
[3013045,"",13340,"",134]
[3014012,"  Chrzypsko Wielkie..........................................................................................................................................................................................................................................................",8452,"",85]
[3014043,"  Sieraków..........................................................................................................................................................................................................................................................",20312,"",203]
[3014044,"",1408,"",14]
[3015012,"  Kuślin..........................................................................................................................................................................................................................................................",10648,"",106]
[3015025,"",18038,"",181]
[3015053,"  Opalenica..........................................................................................................................................................................................................................................................",14891,"",149]
[3015054,"",642,"",6]
["","Powiat obornicki  (3 gminy)"]
["",""]
[3016025,"",20500,"",205]
["",""]
[3017042,"  Ostrów Wielkopolski..........................................................................................................................................................................................................................................................",20786,"",208]
[3017023,"  Nowe Skalmierzyce..........................................................................................................................................................................................................................................................",12542,"",125]
[3017034,"",476,"",5]
[3017035,"",13133,"",131]
["",""]
[3018042,"  Kobyla Góra..........................................................................................................................................................................................................................................................",12921,"",130]
[3018063,"  Mikstat..........................................................................................................................................................................................................................................................",8718,"",87]
[3018065,"",8466,"",84]
[3018075,"",17526,"",175]
[3019022,"  Białośliwie..........................................................................................................................................................................................................................................................",7557,"",76]
["",""]
[3019043,"  Łobżenica..........................................................................................................................................................................................................................................................",19078,"",191]
[3019075,"",12235,"",122]
[3019085,"",15493,"",155]
[3020022,"  Czermin..........................................................................................................................................................................................................................................................",9809,"",98]
[3020052,"  Gołuchów..........................................................................................................................................................................................................................................................",13588,"",136]
[3020014,"",688,"",7]
[3020063,"  Pleszew..........................................................................................................................................................................................................................................................",18033,"",180]
["",""]
[3021011,"  Luboń..........................................................................................................................................................................................................................................................",1351,"",14]
[3021062,"  Kleszczewo..........................................................................................................................................................................................................................................................",7446,"",74]
[3021152,"  Suchy Las..........................................................................................................................................................................................................................................................",11601,"",117]
[3021083,"  Kostrzyn..........................................................................................................................................................................................................................................................",15481,"",155]
[3021085,"",14683,"",147]
[3021095,"",18013,"",180]
[3021114,"",862,"",9]
[3021125,"",17934,"",179]
[3021143,"  Stęszew..........................................................................................................................................................................................................................................................",17502,"",175]
[3021165,"",9355,"",93]
[3022042,"  Pakosław..........................................................................................................................................................................................................................................................",7750,"",78]
[3022024,"",162,"",2]
[3022033,"  Miejska Górka..........................................................................................................................................................................................................................................................",10348,"",103]
[3022053,"  Rawicz..........................................................................................................................................................................................................................................................",13417,"",134]
[3023011,"  Słupca..........................................................................................................................................................................................................................................................",1030,"",10]
[3023042,"  Ostrowite..........................................................................................................................................................................................................................................................",10355,"",104]
[3023052,"  Powidz..........................................................................................................................................................................................................................................................",8069,"",81]
[3023084,"",344,"",4]
["",""]
["",""]
[3024054,"",125,"",1]
[3024064,"",932,"",9]
[3024083,"  Wronki..........................................................................................................................................................................................................................................................",30172,"",302]
["",""]
[3025012,"  Dominowo..........................................................................................................................................................................................................................................................",7936,"",79]
[3025043,"  Środa Wielkopolska..........................................................................................................................................................................................................................................................",20716,"",207]
["","Powiat śremski  (4 gminy)"]
[3026025,"",11828,"",118]
[3026034,"",196,"",2]
[3026044,"",1237,"",12]
["",""]
[3027062,"  Przykona..........................................................................................................................................................................................................................................................",11092,"",111]
[3027082,"  Turek..........................................................................................................................................................................................................................................................",10925,"",109]
[3027035,"",12996,"",130]
[3027075,"",14266,"",143]
[3028042,"  Mieścisko..........................................................................................................................................................................................................................................................",13506,"",135]
[3028072,"  Wągrowiec..........................................................................................................................................................................................................................................................",34785,"",348]
[3028034,"",1264,"",13]
["","Powiat wolsztyński  (3 gminy)"]
["",""]
[3029033,"  Wolsztyn..........................................................................................................................................................................................................................................................",24995,"",250]
[3030012,"  Kołaczkowo..........................................................................................................................................................................................................................................................",11592,"",116]
[3030024,"",407,"",4]
[3030044,"",1216,"",12]
[3030053,"  Września..........................................................................................................................................................................................................................................................",22185,"",222]
["","Powiat złotowski  (8 gmin)"]
[3031062,"  Tarnówka..........................................................................................................................................................................................................................................................",13245,"",132]
[3031023,"  Jastrowie..........................................................................................................................................................................................................................................................",35312,"",353]
[3031024,"",7230,"",72]
[3031053,"  Okonek..........................................................................................................................................................................................................................................................",32599,"",326]
["",""]
["","Powiat białogardzki  (4 gminy)"]
[3201011,"  Białogard..........................................................................................................................................................................................................................................................",2573,"",26]
["",""]
[3201044,"",396,"",4]
[3202012,"  Bierzwnik..........................................................................................................................................................................................................................................................",23906,"",240]
[3202042,"  Krzęcin..........................................................................................................................................................................................................................................................",14026,"",140]
[3202033,"  Drawno..........................................................................................................................................................................................................................................................",32091,"",321]
[3202053,"  Pełczyce..........................................................................................................................................................................................................................................................",20072,"",201]
["","Powiat drawski  (5 gmin)"]
["",""]
[3203014,"",1362,"",14]
[3203015,"",35122,"",351]
[3203023,"  Drawsko Pomorskie..........................................................................................................................................................................................................................................................",40949,"",409]
[3203024,"",2233,"",22]
[3203025,"",38716,"",387]
[3203033,"  Kalisz Pomorski..........................................................................................................................................................................................................................................................",48087,"",481]
[3203034,"",1196,"",12]
[3203035,"",46891,"",469]
[3203063,"  Złocieniec..........................................................................................................................................................................................................................................................",27985,"",280]
[3203064,"",3228,"",32]
[3203065,"",24757,"",248]
["","Powiat goleniowski  (6 gmin)"]
["",""]
[3204052,"  Osina..........................................................................................................................................................................................................................................................",10166,"",102]
[3204062,"  Przybiernów..........................................................................................................................................................................................................................................................",22887,"",229]
["",""]
[3204023,"  Goleniów..........................................................................................................................................................................................................................................................",44280,"",443]
[3204024,"",1178,"",12]
[3204025,"",43102,"",431]
[3204033,"  Maszewo..........................................................................................................................................................................................................................................................",21035,"",210]
[3204034,"",554,"",6]
[3204035,"",20481,"",204]
[3204043,"  Nowogard..........................................................................................................................................................................................................................................................",33867,"",339]
[3204044,"",1257,"",13]
[3204045,"",32610,"",326]
[3204073,"  Stepnica..........................................................................................................................................................................................................................................................",29313,"",293]
[3204074,"",340,"",3]
[3204075,"",28973,"",290]
["","Powiat gryficki  (6 gmin)"]
["",""]
[3205012,"  Brojce..........................................................................................................................................................................................................................................................",11797,"",118]
[3205032,"  Karnice..........................................................................................................................................................................................................................................................",13312,"",133]
[3205072,"  Rewal..........................................................................................................................................................................................................................................................",4270,"",43]
["",""]
[3205023,"  Gryfice..........................................................................................................................................................................................................................................................",26130,"",261]
[3205024,"",1240,"",12]
[3205025,"",24890,"",249]
[3205043,"  Płoty..........................................................................................................................................................................................................................................................",23919,"",239]
[3205044,"",412,"",4]
[3205045,"",23507,"",235]
[3205083,"  Trzebiatów..........................................................................................................................................................................................................................................................",22677,"",227]
[3205084,"",1025,"",10]
[3205085,"",21652,"",217]
["","Powiat gryfiński  (9 gmin)"]
["",""]
[3206012,"  Banie..........................................................................................................................................................................................................................................................",20630,"",206]
[3206072,"  Stare Czarnowo..........................................................................................................................................................................................................................................................",15288,"",153]
[3206092,"  Widuchowa..........................................................................................................................................................................................................................................................",20945,"",210]
["",""]
[3206023,"  Cedynia..........................................................................................................................................................................................................................................................",18061,"",181]
[3206024,"",167,"",2]
[3206025,"",17894,"",179]
[3206033,"  Chojna..........................................................................................................................................................................................................................................................",33230,"",332]
[3206034,"",1258,"",12]
[3206035,"",31972,"",320]
[3206043,"  Gryfino..........................................................................................................................................................................................................................................................",25390,"",254]
[3206044,"",1181,"",12]
[3206045,"",24209,"",242]
[3206053,"  Mieszkowice..........................................................................................................................................................................................................................................................",23865,"",239]
[3206054,"",525,"",5]
[3206055,"",23340,"",234]
[3206063,"  Moryń..........................................................................................................................................................................................................................................................",12457,"",125]
[3206064,"",554,"",6]
[3206065,"",11903,"",119]
[3206083,"  Trzcińsko-Zdrój..........................................................................................................................................................................................................................................................",17045,"",170]
[3206084,"",233,"",2]
[3206085,"",16812,"",168]
["","Powiat kamieński  (6 gmin)"]
["",""]
[3207052,"  Świerzno..........................................................................................................................................................................................................................................................",14013,"",140]
["",""]
[3207013,"  Dziwnów..........................................................................................................................................................................................................................................................",3949,"",40]
[3207014,"",652,"",7]
[3207015,"",3297,"",33]
[3207023,"  Golczewo..........................................................................................................................................................................................................................................................",17531,"",175]
[3207024,"",742,"",7]
[3207025,"",16789,"",168]
[3207033,"  Kamień Pomorski..........................................................................................................................................................................................................................................................",20854,"",209]
[3207034,"",1074,"",11]
[3207035,"",19780,"",198]
[3207043,"  Międzyzdroje..........................................................................................................................................................................................................................................................",11607,"",116]
[3207044,"",516,"",5]
[3207045,"",11091,"",111]
[3207063,"  Wolin..........................................................................................................................................................................................................................................................",32762,"",327]
[3207064,"",1447,"",14]
[3207065,"",31315,"",313]
["","Powiat kołobrzeski  (7 gmin)"]
["",""]
[3208011,"  Kołobrzeg (b)..........................................................................................................................................................................................................................................................",2567,"",26]
["",""]
[3208022,"  Dygowo..........................................................................................................................................................................................................................................................",12852,"",129]
[3208042,"  Kołobrzeg..........................................................................................................................................................................................................................................................",14403,"",144]
[3208052,"  Rymań..........................................................................................................................................................................................................................................................",14615,"",146]
[3208062,"  Siemyśl..........................................................................................................................................................................................................................................................",10731,"",107]
[3208072,"  Ustronie Morskie..........................................................................................................................................................................................................................................................",5698,"",57]
["",""]
[3208033,"  Gościno..........................................................................................................................................................................................................................................................",11600,"",116]
[3208034,"",570,"",6]
[3208035,"",11030,"",110]
["","Powiat koszaliński  (8 gmin)"]
["",""]
[3209012,"  Będzino..........................................................................................................................................................................................................................................................",16619,"",166]
[3209022,"  Biesiekierz..........................................................................................................................................................................................................................................................",11660,"",116]
[3209042,"  Manowo..........................................................................................................................................................................................................................................................",18831,"",188]
[3209082,"  Świeszyno..........................................................................................................................................................................................................................................................",13256,"",133]
["",""]
[3209033,"  Bobolice..........................................................................................................................................................................................................................................................",36756,"",368]
[3209034,"",477,"",5]
[3209035,"",36279,"",363]
[3209053,"  Mielno..........................................................................................................................................................................................................................................................",6213,"",62]
[3209054,"",3345,"",33]
[3209055,"",2868,"",29]
[3209063,"  Polanów..........................................................................................................................................................................................................................................................",39335,"",393]
[3209064,"",737,"",7]
[3209065,"",38598,"",386]
[3209073,"  Sianów..........................................................................................................................................................................................................................................................",22676,"",227]
[3209074,"",1588,"",16]
[3209075,"",21088,"",211]
["","Powiat łobeski  (5 gmin)"]
["",""]
[3218032,"  Radowo Małe..........................................................................................................................................................................................................................................................",18046,"",181]
["",""]
[3218013,"  Dobra..........................................................................................................................................................................................................................................................",11590,"",116]
[3218014,"",237,"",2]
[3218015,"",11353,"",114]
[3218023,"  Łobez..........................................................................................................................................................................................................................................................",22739,"",227]
[3218024,"",1284,"",13]
[3218025,"",21455,"",214]
[3218043,"  Resko..........................................................................................................................................................................................................................................................",28520,"",285]
[3218044,"",449,"",4]
[3218045,"",28071,"",281]
[3218053,"  Węgorzyno..........................................................................................................................................................................................................................................................",25618,"",256]
[3218054,"",685,"",7]
[3218055,"",24933,"",249]
["","Powiat myśliborski  (5 gmin)"]
["",""]
[3210022,"  Boleszkowice..........................................................................................................................................................................................................................................................",13049,"",130]
[3210052,"  Nowogródek Pomorski..........................................................................................................................................................................................................................................................",14590,"",146]
["",""]
[3210013,"  Barlinek..........................................................................................................................................................................................................................................................",25872,"",259]
[3210014,"",1755,"",18]
[3210015,"",24117,"",241]
[3210033,"  Dębno..........................................................................................................................................................................................................................................................",31843,"",318]
[3210034,"",1951,"",20]
[3210035,"",29892,"",298]
[3210043,"  Myślibórz..........................................................................................................................................................................................................................................................",32886,"",329]
[3210044,"",1504,"",15]
[3210045,"",31382,"",314]
["","Powiat policki  (4 gminy)"]
["",""]
[3211012,"  Dobra (Szczecińska)..........................................................................................................................................................................................................................................................",11028,"",110]
[3211022,"  Kołbaskowo..........................................................................................................................................................................................................................................................",10546,"",105]
["",""]
[3211033,"  Nowe Warpno..........................................................................................................................................................................................................................................................",19788,"",198]
[3211034,"",2451,"",25]
[3211035,"",17337,"",173]
[3211043,"  Police..........................................................................................................................................................................................................................................................",25171,"",252]
[3211044,"",3731,"",37]
[3211045,"",21440,"",215]
["","Powiat pyrzycki  (6 gmin)"]
["",""]
[3212012,"  Bielice..........................................................................................................................................................................................................................................................",8419,"",84]
[3212022,"  Kozielice..........................................................................................................................................................................................................................................................",9453,"",95]
[3212042,"  Przelewice..........................................................................................................................................................................................................................................................",16201,"",162]
[3212062,"  Warnice..........................................................................................................................................................................................................................................................",8614,"",86]
["",""]
[3212033,"  Lipiany..........................................................................................................................................................................................................................................................",9491,"",95]
[3212034,"",554,"",6]
[3212035,"",8937,"",89]
[3212053,"  Pyrzyce..........................................................................................................................................................................................................................................................",20422,"",204]
[3212054,"",3879,"",39]
[3212055,"",16543,"",165]
["","Powiat sławieński  (6 gmin)"]
["",""]
[3213011,"  Darłowo (b)..........................................................................................................................................................................................................................................................",2021,"",20]
[3213021,"  Sławno..........................................................................................................................................................................................................................................................",1583,"↓",16]
["",""]
[3213032,"  Darłowo..........................................................................................................................................................................................................................................................",26945,"",269]
[3213042,"  Malechowo..........................................................................................................................................................................................................................................................",22646,"",227]
[3213052,"  Postomino..........................................................................................................................................................................................................................................................",22686,"",227]
[3213062,"  Sławno..........................................................................................................................................................................................................................................................",28439,"",284]
["","Powiat stargardzki  (10 gmin)"]
["",""]
[3214011,"  Stargard..........................................................................................................................................................................................................................................................",4808,"",48]
["",""]
[3214042,"  Dolice..........................................................................................................................................................................................................................................................",23717,"",237]
[3214062,"  Kobylanka..........................................................................................................................................................................................................................................................",12168,"",122]
[3214082,"  Marianowo..........................................................................................................................................................................................................................................................",10194,"",102]
[3214092,"  Stara Dąbrowa..........................................................................................................................................................................................................................................................",11259,"",113]
[3214102,"  Stargard..........................................................................................................................................................................................................................................................",31888,"",318]
["",""]
[3214023,"  Chociwel..........................................................................................................................................................................................................................................................",16082,"",161]
[3214024,"",367,"",4]
[3214025,"",15715,"",157]
[3214033,"  Dobrzany..........................................................................................................................................................................................................................................................",13472,"",135]
[3214034,"",534,"",5]
[3214035,"",12938,"",130]
[3214053,"  Ińsko..........................................................................................................................................................................................................................................................",15101,"",151]
[3214054,"",748,"",7]
[3214055,"",14353,"",144]
[3214113,"  Suchań..........................................................................................................................................................................................................................................................",13305,"",133]
[3214114,"",357,"",4]
[3214115,"",12948,"",129]
["","Powiat szczecinecki  (6 gmin)"]
["",""]
[3215011,"  Szczecinek..........................................................................................................................................................................................................................................................",4848,"",48]
["",""]
[3215052,"  Grzmiąca..........................................................................................................................................................................................................................................................",20512,"",205]
[3215062,"  Szczecinek..........................................................................................................................................................................................................................................................",49887,"",500]
["",""]
[3215023,"  Barwice..........................................................................................................................................................................................................................................................",25852,"",259]
[3215024,"",752,"",8]
[3215025,"",25100,"",251]
[3215033,"  Biały Bór..........................................................................................................................................................................................................................................................",26993,"",270]
[3215034,"",1282,"",13]
[3215035,"",25711,"",257]
[3215043,"  Borne Sulinowo..........................................................................................................................................................................................................................................................",48450,"",484]
[3215044,"",1815,"",18]
[3215045,"",46635,"",466]
["","Powiat świdwiński  (6 gmin)"]
["",""]
[3216011,"  Świdwin..........................................................................................................................................................................................................................................................",2238,"",22]
["",""]
[3216022,"  Brzeżno..........................................................................................................................................................................................................................................................",11081,"",111]
[3216042,"  Rąbino..........................................................................................................................................................................................................................................................",17968,"",180]
[3216052,"  Sławoborze..........................................................................................................................................................................................................................................................",18866,"",189]
[3216062,"  Świdwin..........................................................................................................................................................................................................................................................",24725,"",247]
["",""]
[3216033,"  Połczyn-Zdrój..........................................................................................................................................................................................................................................................",34428,"",344]
[3216034,"",721,"",8]
[3216035,"",33707,"",336]
["","Powiat wałecki  (5 gmin)"]
["",""]
[3217011,"  Wałcz..........................................................................................................................................................................................................................................................",3817,"",38]
["",""]
[3217052,"  Wałcz..........................................................................................................................................................................................................................................................",57491,"↑",575]
["",""]
[3217023,"  Człopa..........................................................................................................................................................................................................................................................",34905,"",349]
[3217024,"",627,"",6]
[3217025,"",34278,"",343]
[3217033,"  Mirosławiec..........................................................................................................................................................................................................................................................",20335,"",203]
[3217034,"",241,"",2]
[3217035,"",20094,"",201]
[3217043,"  Tuczno..........................................................................................................................................................................................................................................................",24950,"",250]
[3217044,"",921,"",9]
[3217045,"",24029,"",241]
["",""]
[3261011,"  Koszalin..........................................................................................................................................................................................................................................................",9834,"",98]
[3262011,"  Szczecin (b)..........................................................................................................................................................................................................................................................",30060,"",301]
[3263011,"  Świnoujście (b)..........................................................................................................................................................................................................................................................",20207,"",202]